{"text_format":"1","workbook":"xlsx","n_sheets":16,"sheets":["Adaptations","Instructions","Site1","Site2","Site3","Site4","Site5","Site6","Site7","Site8","Site9","Site10","AWG and LOS Calculation Aid","Lists","Admin","dataextraction"],"not_rendered":{"charts":0,"images":2,"macros":0,"external_links":0,"defined_names":36,"comments":0,"pivot_tables":0},"unopened":[],"bounds":{"document_bytes":16777216,"sheet_cells":100000,"rows_first":2000,"rows_last":500,"rows_between":2000,"halvings":0,"cell_chars":16384,"cell_head_chars":4096},"cells_cut":0,"cells_raw":0,"read":"whole","date_system":"1900"}

{"sheet":"Adaptations","index":0,"n_rows":19,"n_cols":2,"rows_kept":19,"cut":false,"hidden":false,"merged":[[18,1,19,3],[16,1,16,3],[6,1,6,3],[8,1,8,3],[10,1,10,3],[11,1,11,3],[12,1,12,3],[13,1,13,3],[14,1,14,3],[15,1,15,3]]}
[]
[]
[]
[]
[]
[]
[null,"GUIA PARA LA ADAPTACIÓN DE LA HERRAMIENTA A NIVEL NACIONAL. ELIMINAR U OCULTAR DESPUÉS DE LA ADAPTACIÓN"]
[]
[null,"¡ NO OLVIDAR OCULTAR TODAS LAS HOJAS DE ADMINISTRACIÓN Y PROTEGER LA CONTRASEÑA DE LA LISTA DE CONTACTO ANTES DE COMPARTIRLA CON LOS SOCIOS!"]
[]
[null,"Eliminar los bloques en las hojas \"reporting form\" e \"instruccions\" que el Clúster de Nutrición no vaya a utilizar;"]
[null,"Ajustar los niveles de administración, en las hojas de \"Pcode\" y \"lists\" , renombar las células \"Admin 1\", etc. en la hoja \"reporting form\""]
[null,"Bloquear y ocultar las hojas \"Lists\" y \"admin\";"]
[null,"Bloquear la hoja \"dataextraction\";"]
[null,"Eliminar la hoja \"Adaptation\" antes de la distribución;"]
[null,"Proteger con una contraseña la hoja \"reportingform\""]
[null,"Por favor, no cambie el nombre de las hojas ya que algunas fórmulas podrían no funcionar"]
[]
[null,"Nota: todas las intervenciones para las personas mayores se dan siguiendo la guía \"Intervenciones de nutrición de las personas mayores en situaciones de emergencia\": http://www.helpage.org/download/5181155ea9b5c"]

{"sheet":"Instructions","index":1,"n_rows":333,"n_cols":20,"rows_kept":333,"cut":false,"hidden":false,"merged":[[331,0,331,1],[262,0,262,1],[291,0,291,1],[300,0,300,1],[319,0,319,1],[221,0,221,1],[35,0,35,1],[36,0,36,1],[37,0,37,1],[38,0,38,1],[41,0,41,1],[56,0,56,1],[101,0,101,1],[143,0,143,1],[172,0,172,1],[173,0,173,1],[220,0,220,1],[34,0,34,1],[0,0,0,1],[6,0,6,1],[7,0,7,1],[8,0,8,1],[13,0,13,1],[28,0,28,1],[29,0,29,1],[30,0,30,1],[31,0,31,1],[32,0,32,1],[33,0,33,1],[25,0,25,1]]}
[null,null,null,null,null,null,null,null,"Localidad","Nilo Alto","Jonglei","Unidad","Warrap","Bahr_el_Ghazal_norte","Western_Bahr_el_Ghazal","Lagos","Ecuatoria Occidental","Ecuatoria Central","Ecuatoria oriental","Mes"]
[]
[]
[]
[]
[]
["Formulario para la presentación informes por los socios"]
["Versión 1.0 "]
["Instrucciones"]
[]
[]
["Por favor, informar en la siguiente hoja de todas las actividades de nutrición en la que haya participado su organización en el mes previo (Del 1 al 30/31)"]
["esto incluye información selecionada por el Clúster de Nutrición (por ejemplo, actividades regulares de nutrición y / o actividades de nutrición de respuesta a emergencias)"]
["2. Las actividades realizadas en el nivel administrativo seleccionado cubiertas por su organización, han de comunicarse en un formulario separado (documento aparte).  ATENCIÓN: Si el sitio no está operativo un cierto período de información solo tiene que rellenar la sección general. Se recomienda utilizar la sección de comentarios al final del formulario para explicar por qué un sitio no está operativo."]
["3. Rellenar todos los apartados correspondientes (las respectivas áreas de color) de la herramienta. Deje los otros sectores en blanco. Ver más abajo para una visión general de las secciones."]
["4. Sólo deben llenarse las celdas de color blanco con un borde rojo (la mayoria en la columna E)"]
["5. El uso de la hoja \"AWG and LOS Calculation Aid\" es opcional. Sirve para ayudarnos a calcular la media diaria de aumento de peso y el tiempo promedio de la estancia"]
[" No es necesario hacer nada con la hoja de \"admin\" y \"training\""]
["6. Nomenclatura: Es necesario cambiar el principio del nombre de archivo en cuatro lugares, como se indica con letras mayúsculas. "]
["PARTNER (nombre del socio implementador), SITE (Sitio / nombre del lugar del que se presentan informes), YEAR (año de referencia) y MOTH (mes del informe)"]
["por ejemplo: ACF_Malualkon_2014_08_nutrition_report_v6.3.xlsx"]
["Los informes deberán presentarse mensualmente a las personas a las que se informa normalmente, con copia a"]
["Esta dirección de correo reenviará automáticamente sus informes al Ministerio de Salud, el PMA, UNICEF y el Clúster de Nutrición"]
["8. Fecha límite para la presentación de informes: A confirmar por el Clúster de Nutrición"]
["9. Para cualquier pregunta o ayuda que necesite, por favor no dude en ponerse en contacto con el administrador de información del Clúster de Nutrición (para detalles de contacto, véase el sitio web)"]
[]
[]
["Visión general de las secciones de presentación de informes"]
["Información general"]
["Revisiones y derivaciones"]
["Gestión de la desnutrición aguda grave, para pacientes hospitalizados"]
["Gestión de la desnutrición aguda grave, para pacientes ambulatorios"]
["Programas de alimentación suplementaria selectiva"]
["Programas de alimentación suplementaria general"]
["Suplementación de micronutrientes"]
["Desparasitación"]
["Alimentación de lactantes y niños pequeños"]
["Desarrollo de capacidades"]
["Comentarios"]
[]
["Instrucciones detalladas para todos los elementos de información"]
["Información general"]
["Socio / agencia implementadora (acrónimo que se selecciona en el menú desplegable)","El acrónimo de la agencia implementadora de los servicios de nutrición de los que se informa en este formulario"]
["Socio / agencia implementadora ( el nombre completo se le asignará automáticamente)","El nombre completo de la agencia implementadora de los servicios de nutrición de los que se informa en este formulario se le asignará automáticamente."]
["Mes del informe:","(Período de tiempo) en el que los servicios de nutrición se llevaron a cabo según lo informado en este formulario"]
["Año del informe","El año en que los servicios de nutrición se llevaron a cabo según lo informado en este formulario"]
["Fecha de presentación del informe (dd-mm-aaaa)","La fecha en que se envía este formulario a nutritionreporting.southsudan@gmail.com. Instalar y utilizar el siguiente complemento: http://www.rondebruin.nl/win/addins/datepicker.htm"]
["Niveles de administración","Adaptar la terminología Niveles de administración de acuerdo con el contexto nacional"]
["Pcode","Los Pcodes se asignarán automáticamente"]
["Se ha utilizado criterios expandidos (Sí / No)?","La indicación sobre la utilización de criterios de admisión expandidos."]
["Centros de estabilización (SC)","Elija Sí o No en el menú desplegable, si existe este servicio"]
["OTP","Elija Sí o No en el menú desplegable, si existe este servicio"]
["Sitios de tratamiento a nivel comunitario (BSFP)","Elija Sí o No en el menú desplegable, si existe este servicio"]
["Sitios de alimentación suplementaria (TSFP)","Elija Sí o No en el menú desplegable, si existe este servicio"]
["Estado del sitio","Especificar si el sitio / servicio está en funcionamiento o no (Use el menú desplegable)"]
[]
["Diagnóstico y derivaciones"]
["Niños 6-59 meses"]
["Número examinados","Número total de niños 6-59m examinados con MUAC (excluir niños examinados para alimentación suplementaria si éstos han sido reportados en la sección anterior) se calculará de forma automática "]
["Número edema","El edema bilateral de miembros inferiores puede verificarse si al aplicar presión con el pulgar en la parte superior de los dos pies por 3 segundos deja un hoyo (sangrado) en el pie después de levantar el pulgar. El hoyo debe durar varios segundo en ambos pies."]
["Nº de niños 6-59m con MUAC rojo (<11.5 cm)","Número de niños 6-59m con MUAC <11.5 cm (rojo)"]
["Nº de niños 6-59m con MUAC amarillo (≥ 11,5 cm a <12,5 cm)","Número de niños 6-59m con MUAC ≥11.5 cm a <12,5 cm (amarillo)"]
["Nº de niños 6-59m con MUAC verde (≥ 12,5 cm)","Número de niños 6-59m con  MUAC ≥ 12,5 cm (verde)"]
["Nº de niños 6-59m derivados a OTP","Número de niños 6-59m con desnutrición aguda severa (MUAC <11,5) cm o edema bilateral de miembros inferiores y derivados a OTP. La derivación siempre será primero a OTP y de allí a los centro de estabilización, según proceda."]
["Nº de niños 6-59m derivados para TSFP","Número de niños 6-59m con desnutrición aguda moderada (MUAC ≥11.5 cm a <12,5 cm) cm y derivados a TSFP"]
[]
["Niñas 6-59 meses"]
["Número examinadas","Número total de niñas 6-59m examinadass con MUAC (excluir niñas examinadas para alimentación suplementaria si éstas han sido reportados en la sección anterior) se calculará de forma automática"]
["Número edema","El edema bilateral de miembros inferiores puede verificarse si al aplicar presión con el pulgar en la parte superior de los dos pies por 3 segundos deja un hoyo (sangrado) en el pie después de levantar el pulgar. El hoyo debe durar varios segundo en ambos pies."]
["Nº de niñas 6-59m con MUAC rojo (<11.5 cm)","Número de niñas 6-59m con MUAC <11.5 cm (rojo)"]
["Nº de niñas 6-59m con MUAC amarillo (≥ 11,5 cm a <12,5 cm)","Número de niñas 6-59m con MUAC ≥11.5 cm a <12,5 cm (amarillo)"]
["Nº de niñas 6-59m con MUAC verde (≥ 12,5 cm)","Número de niñas 6-59m con  MUAC ≥ 12,5 cm (verde)"]
["Nº de niñas 6-59m derivadas a OTP","Número de niñas 6-59m con desnutrición aguda severa (MUAC <11,5) cm o edema bilateral de miembros inferiores y derivadas a OTP. La derivación siempre será primero a OTP y de allí a los centro de estabilización, según proceda."]
["Nº de niñas 6-59m derivadas a TSFP","Número de niñas 6-59m con desnutrición aguda moderada (MUAC ≥11.5 cm a <12,5 cm) cm y derivadas a TSFP"]
[]
["Mujeres embarazadas y lactantes"]
["Número examinadas","Número total de mujeres embarazadas y lactantes examinadas con MUAC (excluir mujeres embarazadas y lactantes examinadas para alimentación suplementaria si éstas han sido reportadas en la sección anterior) se calculará de forma automática"]
["Número de mujeres embarazadas y lactantes con MUAC <21.0 cm","Número de mujeres embarazadas y lactantes con MUAC <21.0 cm"]
["Número de mujeres embarazadas y lactantes con MUAC ≥21.0 cm a 23.0 cm <","Número de mujeres embarazadas y lactantes con MUAC ≥21.0 cm a 23.0 cm <"]
["Número de mujeres embarazadas y lactantes con MUAC ≥23.0 cm","Número de mujeres embarazadas y lactantes con MUAC ≥23.0 cm"]
["Número de mujeres embarazadas y lactantes derivadas a OTP","Número de mujeres embarazadas y lactantes derivadas a OTP"]
["Número de mujeres embarazadas y lactantes derivadas a TSFP","Número de mujeres embarazadas y lactantes derivadas a TSFP"]
[]
["Personas mayores\nhombres\n(definición de país de \"persona mayor\" o ≥ 60años)"]
["Número examinados","Número total de hombres examinados con MUAC (excluir hombres examinados para alimentación suplementaria si éstos han sido reportadas en la sección anterior) se calculará de forma automática"]
["Número edema","El edema bilateral de miembros inferiores puede verificarse si al aplicar presión con el pulgar en la parte superior de los dos pies por 3 segundos deja un hoyo (sangrado) en el pie después de levantar el pulgar. El hoyo debe durar varios segundo en ambos pies."]
["Nº de hombres mayores con MUAC <18,5 cm","N ° de hombres con MUAC <18,5 cm"]
["Nº de hombres mayores con MUAC ≥18.5 cm a 21.0 cm <","N ° de hombres con MUAC ≥18.5 cm a 21.0 cm <"]
["Núm. de hombres mayores con MUAC ≥21.0 cm","N ° de hombres con MUAC ≥21.0 cm"]
["Nº de hombres mayores derivados a OTP","Número de hombres con desnutrición aguda severa (MUAC <18.5.0) cm o edema bilateral de miembros inferiores derivados a OTP. La derivación siempre será primero a OTP y de allí a los centro de estabilización, según proceda."]
["Nº de hombres mayoures derivados a TSFP","Número de niños 6-59m con desnutrición aguda moderada (≥18.5 cm a <21,0 cm) derivados a TSFP"]
[]
["Personas mayores\nMujeres\n (definición de país de \"persona mayor\" o ≥ 60años)"]
["Número examinadas","Número total de mujeres examinadas con MUAC (excluir mujeres examinadas para alimentación suplementaria si éstas han sido reportadas en la sección anterior)"]
["Número edema","El edema bilateral de miembros inferiores puede verificarse si al aplicar presión con el pulgar en la parte superior de los dos pies por 3 segundos deja un hoyo (sangrado) en el pie después de levantar el pulgar. El hoyo debe durar varios segundo en ambos pies."]
["Nº de mujeres mayores con MUAC <18,5 cm","Nº de mujeres con el MUAC <18,5 cm"]
["Nº de mujeres mayores con MUAC ≥18.5 cm a <21.0 cm","N ° de mujeres con MUAC ≥18.5 cm a <21.0 cm"]
["Núm. de mujeres mayores con MUAC ≥21.0 cm","Nº de mujeres con MUAC ≥21.0 cm"]
["Nº de mujeres mayores derivadas a OTP","Número de hombres con desnutrición aguda severa (MUAC <18.5.0) cm o edema bilateral de miembros inferiores derivados a OTP. La derivación siempre será primero a OTP y de allí a los centro de estabilización, según proceda."]
["Nº de mujeres mayores derivadas a TSFP","Número de niños 6-59m con desnutrición aguda moderada (≥18.5 cm a <21,0 cm) derivados a TSFP"]
[]
["La gestión de la desnutrición aguda grave, para pacientes hospitalizados"]
["Niños/as 6-59 meses"]
["Total final del último período de tiempo (A)","Total de niños/as 6-59m a finales del mes pasado, lo que equivale al total al comienzo de este período de tiempo"]
["Nuevas admisiones en este período de tiempo (B)","Edema bilateral de miembros inferiores +++ o Cualquier grado de edema bilateral en miembros inferiores con desnutrición aguda severa o SAM (MUAC <11.5 cm o WHZ <-3 o edema + o ++  ) con complicaciones médicas o Recaída después de la curación"]
["Nuevas admisiones: niños (B1)","Todas las nuevas admisiones 6-59m con las especificaciones anteriores que eran niños"]
["Nuevas admisiones: niñas (B2)","Todas las nuevas admisiones 6-59m como se especifica anteriormente que eran niñas"]
["Casos antiguos (derivados de OTP, personas que retoman el tratamiento, translados de otro centro de estabilización) (C)","Derivados desde atención ambulatoria, según el protocolo de acción o Retoman el tratamiento después de haberlo abandonado o Translados de otro sitio de atención hospitalaria"]
["Pacientes hospitalizados que se estabilizaron y se derivaron a OTP (E)","La condición del niño/a se ha estabilizado, el niño/a vuelve a tener apetito, la complicación médica se está resolviendo y se deriva al niño/a  a atención ambulatoria para continuar el tratamiento"]
["Altas por curación (casos especiales finalizando el tratamiento) (F1)","Solo casos especiales de niños/as 6-59m que reúnen todos los siguientes criterios para el alta: aumento de peso del 15 por ciento mantenido durante dos días consecutivos y sin edema durante dos semanas consecutivas y Niño/a clínicamente bien y alerta"]
["Alta por muerte (F2)","Niños/as 6-59m que murieron mientras estaban en atención hospitalaria"]
["Alta por abandono (F3)","Niños/as 6-59m ausentes durante dos días"]
["Alta sin recuperación (F4)","Niños/as 6-59m que permanecieron en atención hospitalaria y no alcanzaron los criterios de alta después de dos meses de tratamiento"]
["Otras transferencias (G)","Cualquier otra transferencia, a otra atención hospitalaria o a un hospital / sala de pediatría"]
[]
["Niños/as <6 meses"]
["Total final del mes pasado (A)","Total de niños/as 6-59m a finales del mes pasado, lo que equivale al total al comienzo de este período de tiempo"]
["Nuevas admisiones en este período de tiempo (B)","Edema bilateral de miembros inferiores o desnutrición aguda severa visible"]
["Nuevas admisiones: niños (B1)","Todas las nuevas admisiones <6m como se especifica anteriormente que eran niños"]
["Nuevas admisiones: niñas (B2)","Todas las nuevas admisiones <6m como se especifica anteriormente que eran niñas"]
["Casos antiguos (derivados de OTP, personas que retoman el tratamiento, translados de otro centro de estabilización) (C)","Retoman el tratamiento después de haberlo abandonado o Translados de otro sitio de atención hospitalaria"]
["Alta por curación (F1)","Si tiene éxito la re-lactancia y se mantiene un aumento de peso apropiado (mínimo 20 g por día con lactancia materna exclusiva durante cinco días) y el niño/a esat clínicamente bien y alerta"]
["Alta por muerte (F2)","Niños/as <6m que murieron mientras estaban en atención hospitalaria"]
["Alta por abandono (F3)","Niños/as <6 m ausentes durante dos días"]
["Alta sin recuperación (F4)","Niños/as 6-59m que permanecieron en atención hospitalaria y no alcanzaron los criterios de alta después de dos meses de tratamiento"]
["Otras transferencias (G)","Cualquier otra transferencia, a otra atención hospitalaria o a un hospital / sala de pediatría"]
[]
["Personas mayores"]
["Total final del mes pasado (A)","Total de ≥ 5 años a finales del mes pasado, lo que equivale al total al comienzo de este período de tiempo"]
["Nuevas admisiones en este período de tiempo (B)","Niños/as de 5-9 años: edema bilateral en miembros inferiores o desnutrición aguda severa\nAdolescentes 10-18 años y adultos: edema bilateral en miembros inferiores o desnutrición aguda severa (pérdida de peso aguda) en función de su historial y examen minucioso para excluir la desnutrición secundaria"]
["Nuevas admisiones: Hombres (B1)","Todas las nuevas admisiones ≥ 5 años como se especifica anteriormente que fueran hombres"]
["Nuevas admisiones: Mujeres (B2)","Todas las nuevas admisiones ≥ 5 años como se especifica anteriormente que eran mujeres"]
["Grupos de edad nuevas admisiones: niños/as de 5-9 años (B3)","Todos las nuevas adminisiones como se especifica en \"B\" que tenían 5-9 años de edad"]
["Grupos de edad nuevas admisiones: adolescentes de 10-18 años (B4)","Todos las nuevas admisiones como se especifica en \"B\" que tenían 10-18 años de edad"]
["Grupos de edad nuevas admisiones: adultos> 18 años (B5)","Todos las nuevas admisiones como se especifica en \"B\" que tenían > 18 años de edad"]
["Casos antiguos (derivados de OTP, personas que retoman el tratamiento, translados de otro centro de estabilización) (C)","Derivados desde la atención ambulatoria o Retoman el tratamiento después de haberlo abandonado o Translados de otro sitio de atención hospitalaria"]
["Pacientes hospitalizados que se estabilizaron y se derivaron a OTP (E)","Pacientes hospitalizados que se estabilizaron y se derivaron a OTP (E)"]
["Altas por curación (casos especiales finalizando el tratamiento) (F1)","Niños/as 5-9yrs con aumento de peso del 15% mantenido durante 2 días consecutivos y sin edema durante dos semanas consecutivas y Niño/a clínicamente bien y alerta\nAdolescentes y adultos que están comiendo bien y con aumento de peso sostenido."]
["Alta por muerte (F2)","Los pacientes ≥ 5 años que murieron mientras estaban en atención hospitalaria"]
["Alta por abandono (F3)","Pacientes ≥ 5 años que han abandonado el tratamiento"]
["Alta sin recuperación (F4)","Pacientes mayores de 5 años que han sido dados de alta, pero no se recuperaron"]
["Otras transferencias (G)","Cualquier otra transferencia, a otra atención hospitalaria u hospital / sala de pediatría Adultos y adolescentes deben ser derivados  para el tratamiento de cualquier otro problema de salud que hubiera sido diagnosticado antes del alta."]
[]
["Gestión de la desnutrición aguda grave, para pacientes ambulatorios"]
["Niños/as 6-59 meses"]
["Total final del mes pasado (A)","Total de niños/as 6-59m a finales del mes pasado, lo que equivale al total al comienzo de este período de tiempo"]
["Nuevas admisiones en este período de tiempo (B)","Edema bilateral de miembros inferiores + y ++ o Desnutrición aguda severa (MUAC <118,5 cm o WFH <-3 z-score) y 1) Pasar la prueba de apetito, 2) Sin complicación médica, 3) Persona mayor bien y alerta"]
["Nuevas admisiones: niños (B1)","Todas las nuevas admisiones 6-59m con las especificaciones anteriores que eran niños"]
["Nuevas admisiones: niñas (B2)","Todas las nuevas admisiones 6-59m como se especifica anteriormente que eran niñas"]
["Casos antiguos (derivados de OTP, personas que retoman el tratamiento, translados de otro centro de estabilización) (C)","Derivado de la atención hospitalaria después de estabilizarse para continuar el tratamiento en atención ambulatoria o Retoman el tratamiento después de haberlo abandonado o Movido desde otro sitio la atención ambulatoria"]
["Alta por curación (E1)","Aumento de peso del 15 por ciento sostenido durante dos visitas consecutivas (respecto del peso en el momento de la admisión o del peso sin edema) y Sin edema durante dos visitas consecutivas y Niño/a clínicamente bien y alerta"]
["Alta por muerte (E2)","Niños/as 6-59m que murieron mientras estaban en atención ambulatoria"]
["Alta por abandono (E3)","Niños/as 6-59m ausentes durante tres visitas consecutivas en la atención ambulatoria"]
["Alta sin recuperación (E4)","Niños/as 6-59m que no alcanzaron los criterios de alta después de cuatro meses de tratamiento"]
["Derivaciones a centros de estabilización (F)","Deterioro en la condición del niño/a o falta de respuesta del niño/a al tratamiento (por el protocolo de actuación), y se deriva al niño/a a atención hospitalaria"]
["Otros traslados:","Transferencias a otro tipo de atención ambulatoria"]
["Ganancia media diaria de peso para altas por curación (en gramos / kg / día)","ver la hoja \"AWG and LOS calculation\" para ayuda sobre cómo calcular el promedio diario de ganancia de peso"]
["Duración media de la estancia para altas por curación (en días)","Ver hoja \"AWG and LOS calculation\" para ayuda sobre cómo calcular la media de duración de la estancia"]
[]
["Personas mayores\n (definición de país de \"persona mayor\" o ≥60años)"]
["Total final del mes pasado (A)","Total de personas mayojres a finales del mes pasado, lo que equivale al total al comienzo de este período de tiempo"]
["Nuevas admisiones en este período de tiempo (B)","Edema bilateral de miembros inferiores + y ++ o Desnutrición aguda severa (MUAC <118,5 cm o WFH <-3 z-score) y 1) Pasar la prueba de apetito, 2) Sin complicación médica, 3) Niño/a clínicamente bien y alerta"]
["Nuevas admisiones: hombres mayores (B1)","Todas las nuevas admisiones de personas mayores como se especifica anteriormente que eran hombres"]
["Nuevas admisiones: mujeres mayores (B2)","Todas las nuevas admisiones de personas mayores como se especifica anteriormente que eran mujeres"]
["Casos antiguos (derivados de OTP, personas que retoman el tratamiento, translados de otro centro de estabilización) (C)","Derivado de la atención hospitalaria después de estabilizarse para continuar el tratamiento en atención ambulatoria o Retoman el tratamiento después de haberlo abandonado o Movido desde otro sitio la atención ambulatoria"]
["Alta por curación (E1)","MUAC ≥ 21 cm y sin edema bilateral durante 2 visitas / sesiones consecutivas "]
["Alta por muerte (E2)","Personas mayores que murieron mientras que en atención ambulatoria"]
["Alta por abandono (E3)","Personas mayores ausentes durante tres visitas consecutivas en la atención ambulatoria"]
["Alta sin recuperación (E4)","Personas mayores que no alcanzaron los criterios de alta después de cuatro meses de tratamiento"]
["Derivaciones a centros de estabilización (F)","Deterioro en la condición de la persona mayor o falta de respuesta del niño/a al tratamiento (por el protocolo de actuación), y se deriva al niño/a a atención hospitalaria"]
["Otros traslados:","Transferencias a otro tipo de atención ambulatoria"]
[]
["Programas de alimentación suplementaria selectiva"]
["Estas instrucciones se han desarrollado de acuerdo con las nuevas directrices de MAM, sin embargo podría haber más cambios después de probar las directrices. "]
["Niños/as 6-59 meses"]
["Total final del mes pasado (A)","Pacientes del mes anterior que continúan con el tratamiento durante el mes en curso"]
["Nuevas admisiones en este período de tiempo (B)","Niños/as recién incorporados en el mes en curso"]
["Nuevas admisiones: niños (B1)","Niños recién incorporados en el mes en curso"]
["Nuevas admisiones: niñas (B2)","Niñas recién incorporadas en el mes en curso"]
["Casos antiguos (derivados de OTP, personas que retoman el tratamiento, translados de otro centro de estabilización) (C)","Niños/as que vuelven al programa en un plazo de dos meses desde que se curaron o lo abandonaron"]
["Alta por curación (E)","MUAC ≥12.5cm durante 2 visitas / sesiones consecutivas y una estancia mínima de 6 semanas en TSFP"]
["Alta por muerte (F)","Niños/as que murieron mientras todavía estaban registrados en el programa"]
["Alta por abandono (G)","Niños/as ausentes durante dos sesiones consecutivas en un periodo de 12 semanas, asumiendo que el programa funciona cada 2 semanas"]
["Alta sin recuperación (E)","Niños/as 6-59m que no alcanzaron los criterios de alta después de 12 meses de tratamiento"]
["Derivaciones a OTP / centros de estabilización (E)","Niños/as que no alcanzaron los criterios de curación después de 12 semanas en el programa de alimentación. Todos los niños/as que no alcanzan los criterios de alta dentro de las 12 semanas deben ser derivados a un profesional de la salud para un diagnóstico apropiado."]
["Duración media de la estancia para altas por curación (en días)","La media de duración de la estancia se calcula sobre una muestra de altas por curación, como la suma de las duraciones individuales de estancia dividido por el número de altas por curación en la muestra."]
["Valor kcal de la ración suplementaria diaria (kcal / día)"]
["Producto provisto"]
[]
["Mujeres embarazadas y lactantes"]
["Total final del mes pasado (A)","Pacientes del mes anterior que continúan con el tratamiento durante el mes en curso"]
["Nuevas admisiones en este período de tiempo (B)","Mujeres embarazadas y lactantes recién incorporadas en el mes en curso"]
["Casos antiguos (derivados de OTP, personas que retoman el tratamiento, translados de otro TSFP) (C)","Mujeres embarazada y lactantes que vuelven al programa en un plazo de dos meses después de que se curaran o abandonaran el programa"]
["Alta por curación (E)","Mujeres embarazadas y lactantes totalmente recuperadas al cabo de 12 semanas en el programa"]
["Alta por muerte (F)","Mujeres embarazadas y lactantes que murieron mientras todavía estaban registradas en el programa"]
["Altas por abandono (F)","Mujeres embarazadas y lactantes ausentes durante dos sesiones consecutivas en un periodo de 12 semanas, asumiendo que el programa funciona cada 2 semanas"]
["Altas sin recuperación","Mujeres embarazadas y lactantes que no alcanzaron los criterios de curación después de 12 semanas en el programa de alimentación. Todas las mujeres embarazadas y lactantes que no alcanzan los criterios de alta dentro de las 12 semanas deben ser derivados a un profesional de la salud para un diagnóstico apropiado."]
["Derivaciones a OTP / centros de estabilización (F)","Mujeres embarazadas y lactantes transferidas desde TSFP a OTP o desde TSFP al centro médico para recibir atención médica"]
["Falta de respuesta (I)","Mujeres embarazadas y lactantes que no alcanzaron los criterios de curación después de 12 semanas en el programa de alimentación. Todas las mujeres embarazadas y lactantes que no alcanzan los criterios de alta dentro de las 12 semanas deben ser derivados a un profesional de la salud para un diagnóstico apropiado."]
["Otras transferencias (G)","Transferencia a otros programas de alimentación suplementaria "]
["Duración media de la estancia para altas por curación (en días) (C)","La media de duración de la estancia se calcula sobre una muestra de altas por curación, como la suma de las duraciones individuales de estancia dividido por el número de altas por curación en la muestra."]
["Valor kcal de la ración suplementaria diaria (kcal / día)"]
["Producto provisto"]
[]
["Personas mayores\n (definición de país de \"persona mayor\" o ≥60años)"]
["Total final del mes pasado (A)","Pacientes del mes anterior que continúan con el tratamiento durante el mes en curso"]
["Nuevas admisiones en este período de tiempo (B)","Número de personas mayores recién incorporadas en el mes en curso"]
["Nuevas admisiones: hombres mayores (B1)","Hombres recién incorporados en el mes en curso"]
["Nuevas admisiones: mujeres mayores (B2)","Mujeres recién incorporadas en el mes en curso"]
["Casos antiguos (curados derivados de OTP, personas que retoman el tratamiento, translados de otro TSFP) en (periodo de tiempo) (C)","Personas mayores que vuelven al programa en un plazo de dos meses después de que se curaran o abandonaran el programa"]
["Alta por curación (E)","MUAC ≥ 21cm durante 2 visitas / sesiones consecutivas"]
["Alta por muerte (F)","Persona mayores que murieron mientras aún estaban registradas en el programa"]
["Alta por abandono (G)","Personas mayores ausentes durante dos sesiones consecutivas en un periodo de 12 semanas, asumiendo que el programa funciona cada 2 semanas"]
["Alta sin recuperación (E)","Personas mayores que no alcanzaron los criterios de curación después de 12 semanas en el programa de alimentación. Todas las personas mayores que no alcanzan los criterios de alta dentro de las 12 semanas deben ser derivados a un profesional de la salud para un diagnóstico apropiado."]
["Derivaciones a OTP / centros de estabilización (E)","Personas mayores transferidas desde TSFP a OTP o desde TSFP al centro médico para recibir atención médica"]
["Otras transferencias (G)","Transferencia a otros programas de alimentación suplementaria "]
["Duración media de la estancia para altas por curación (en días)","La media de duración de la estancia se calcula sobre una muestra de altas por curación, como la suma de las duraciones individuales de estancia dividido por el número de altas por curación en la muestra."]
["Valor kcal de la ración suplementaria diaria (kcal / día)"]
["Producto provisto"]
[]
["Programas de alimentación suplementaria general"]
["Estas instrucciones se han desarrollado de acuerdo con las nuevas directrices de MAM, sin embargo podría haber más cambios después de probar las directrices. "]
["Niños/as 6-23 meses"]
["No. de niños/as 6-23m de nuevo ingreso en el programa durante (período de tiempo)","Al menos el 20% de los beneficiarios de nuevo ingreso durante (período de tiempo) en BSFP deben medirse en cada distribución. El número total se calculará automáticamente."]
["Niños","Niños 6-23m de nuevo ingreso en BSFP."]
["Niñas","Niñas 6-23m de nuevo ingreso en BSFP."]
["Número total de niños/as 6-23m que asistieron a la distribución en este (periodo de tiempo) ","Número total de niños/as de 6-23 meses que asistieron a distribuciones generales de alimentación suplementaria. El número total se calculará automáticamente."]
["Hombres","Número total de niños de 6-23 meses que asistieron a distribuciones generales de alimentación suplementaria."]
["Mujeres","Número total de niñas de 6-23 meses que asistieron a distribuciones generales de alimentación suplementaria."]
["Número de distribuciones durante este (periodo de tiempo) ","Número de distribuciones dirigida a niños/as de 6-23 meses"]
["Valor kcal de la ración suplementaria diaria (kcal / día)","Valor kcal de la ración suplementaria diaria BSFP proporcionada por la organización (necesario para comparar entre diferentes programas)"]
["Producto provisto","Producto provisto como ración de BSFP Plumpy'Nut, CSB+, CSB++, etc. (necesario para comparar entre diferentes programas)"]
[]
["Niños/as 6-59 meses"]
["No. de niños/as 6-59m de nuevo ingreso en el programa durante (período de tiempo)","Al menos el 20% de los beneficiarios de nuevo ingreso durante (período de tiempo) en BSFP deben medirse en cada distribución. El número total se calculará automáticamente."]
["Niños","Beneficiarios hombres 6-59m recién inscritos en BSFP."]
["Niñas","Beneficiarias mujeres 6-59m recién inscritas en BSFP."]
["Número total de niños/as 6-59m que asistieron a la distribución en este (periodo de tiempo) ","Número total de niños/as de 6-59 meses que asistieron a distribuciones generales de alimentación suplementaria. El número total se calculará automáticamente."]
["Niños","Número total de niños de 6-59 meses que asistieron a distribuciones generales de alimentación suplementaria."]
["Niñas","Número total de niñas de 6-59 meses que asistieron a distribuciones generales de alimentación suplementaria."]
["Número de distribuciones durante este (periodo de tiempo) ","Número de distribuciones dirigida a niños/as de 6-59 meses"]
["Valor kcal de la ración suplementaria diaria (kcal / día)","Valor kcal de la ración suplementaria diaria BSFP proporcionada por la organización (necesario para comparar entre diferentes programas)"]
["Producto provisto","Producto provisto como ración de BSFP Plumpy'Nut, CSB+, CSB++, etc. (necesario para comparar entre diferentes programas)"]
[]
["Mujeres embarazadas y lactantes"]
["Número de mujeres embarazadas y lactantes recién inscritas durante (período de tiempo)","Al menos el 20% de los beneficiarios de nuevo ingreso durante (período de tiempo) en BSFP deben medirse en cada distribución."]
["Número total de mujeres embarazadas y lactantes que asistieron a la distribución en este (periodo de tiempo)","Número total de mujeres embarazadas y lactantes que asistieron a las distribuciones generales de alimentación suplementaria"]
["Número de distribuciones durante este (periodo de tiempo)","Número de distribuciones dirigidas a mujeres embarazadas y lactantes"]
["Valor kcal de la ración suplementaria diaria (kcal / día)","Valor kcal de la ración suplementaria diaria BSFP proporcionada por la organización (necesario para comparar entre diferentes programas)"]
["Producto provisto","Producto provisto como ración de BSFP Plumpy'Nut, CSB+, CSB++, etc. (necesario para comparar entre diferentes programas)"]
[]
["Personas mayores\n (definición de país de \"persona mayor\" o ≥60años)"]
["Nº de personas mayores de nuevo ingreso durante el (período de tiempo)","Nº de beneficiarios BSFP (personas mayores) de nuevo ingreso durante (período de tiempo). El número total se calculará automáticamente."]
["Hombres","Beneficiarios hombres mayores recién ingresados en BSFP."]
["Mujeres","Beneficiarias mujeres mayores recién ingresadas en BSFP."]
["Número total de personas mayores que asistieron a la distribución en este (periodo de tiempo) ","Número total de personas mayores que asistieron a distribuciones generales de alimentación suplementaria. El número total se calculará automáticamente."]
["Hombres","Número total de personas mayores que asistieron a las distribuciones generales de alimentación suplementaria"]
["Mujeres","Número total de personas mayores que asistieron a las distribuciones generales de alimentación suplementaria"]
["Número de distribuciones durante este (periodo de tiempo) ","Número de distribuciones dirigidas a las personas mayores"]
["Valor kcal de la ración suplementaria diaria (kcal / día)","Valor kcal de la ración suplementaria diaria BSFP proporcionada por la organización (necesario para comparar entre diferentes programas)"]
["Producto provisto","Producto provisto como ración de BSFP Plumpy'Nut, CSB+, CSB++, etc. (necesario para comparar entre diferentes programas)"]
[]
["Suplementación de micronutrientes"]
["Vitamina A"]
["Niños/as 6-11 meses","Número de niños/as 6-11m que reciben suplementos de vitamina A durante el tratamiento de rutina para pacientes hospitalarios / ambulatorios. No incluir datos de campañas. El número total se calculará automáticamente."]
["Niños","Número de niños (6-11m) que recibieron suplementos de vitamina A"]
["Niñas","Número de niñas (6-11m) que recibieron suplementos de vitamina A"]
["Niños/as 12-59 meses ","Número de niños/as 12-59m que recibieron suplementos de vitamina A durante el tratamiento de rutina para pacientes hospitalarios / ambulatorios. No incluir datos de campañas. El número total se calculará automáticamente."]
["Niños","Número de niños (12-59m) que recibieron suplementos de vitamina A"]
["Niñas","Número de niñas (12-59m) que recibieron suplementos de vitamina A"]
["Mujeres embarazadas y lactantes","Número de mujeres embarazadas y lactantes que recibieron suplementos de vitamina A durante el tratamiento de rutina para pacientes hospitalarios / ambulatorios. No incluir datos de campañas. El número total se calculará automáticamente."]
["Embarazadas ","Número de mujeres embarazadas que recibieron suplementos de vitamina A"]
["Lactantes","Número de mujeres en periodo de lactancia que recibieron suplementos de vitamina A"]
["Personas mayores","Número de personas mayores que recibieron suplementos de vitamina A durante el tratamiento de rutina para pacientes hospitalarios / ambulatorios. No incluir datos de campañas. El número total se calculará automáticamente."]
["Hombres mayores","Número de hombres mayores que recibieron suplementos de vitamina A"]
["Mujeres mayores","Número de mujeres mayores que recibieron suplementos de vitamina A"]
[]
["Suplementación con micronutrientes en polvo"]
["Niños/as 6-24 meses","Número de niños/as (6-24m) que recibieron suplementos de micronutrientes en polvo. El número total se calculará automáticamente."]
["Niños","Número de niños (6-24m) que recibiron suplementos de micronutrientes en polvo"]
["Niñas","Número de niñas (6-24m) que recibieron suplementos de micronutrientes en polvo"]
["Mujeres embarazadas y lactantes","Número de mujeres embarazadas y lactantes que recibieron suplementos de tabletas de micronutrientes en función de los suministros disponibles en el país. El número total se calculará automáticamente."]
["Personas mayores","Número de personas mayores que recibieron suplementos de micronutrientes en polvo "]
["Hombres mayores ","Número de hombres mayores que recibieron suplementos de micronutrientes en polvo "]
["Mujeres mayores","Número de mujeres mayores que recibieron suplementos de micronutrientes en polvo "]
[]
["Hierro y folato "]
["Mujeres embarazadas y lactantes","Número de mujeres embarazadas y lactantes que recibieron suplementos de hierro y ácido fólico "]
["Personas mayores ","Número de personas mayores que recibieron suplementos de hierro y ácido fólico. El número total se calculará automáticamente."]
["Hombres mayores","Hombre mayoures que recibieron suplementos de hierro y ácido fólico "]
["Mujeres mayores","Mujeres mayores que recibieron suplementos de hierro y ácido fólico "]
["Desparasitación"]
["Niños/as 12-59 meses","Número de niños/as 12-59m desparasitados durante el tratamiento de rutina para pacientes hospitalizados / ambulatorios. No incluir datos de campañas. El número total se calculará automáticamente."]
["Niños","Niños desparasitados"]
["Niñas","Niñas desparasitadas durante"]
["Mujeres embarazadas y lactantes","Número de mujeres embarazadas y lactantes desparasitadas durante el tratamiento de rutina para pacientes hospitalizados / ambulatorios. No incluir datos de campañas."]
["Personas mayores ","Número de personas mayores desparasitados durante la rutina hospitalaria / ambulatoria. No incluir datos de campañas. El número total se calculará automáticamente."]
["Hombres mayores","Hombre mayores desparasitados"]
["Mujeres mayores","Mujeres mayores desparasitadas"]
[]
["Alimentación de lactantes y niños pequeños"]
["Mujeres embarazadas que asistieron a sesiones de asesoramiento individual","Número de mujeres embarazadas que han recibido educación sanitaria sobre las prácticas de ALNP"]
["Mujeres lactantes y cuidadores de niños <6 meses que asistieron a sesiones de asesoramiento individual","Mujeres lactantes y cuidadores de niños <6 meses que recibieron educación sanitaria sobre las prácticas de ALNP"]
["Mujeres lactantes y cuidadores de niños de 6-24 meses que asistieron a sesiones de asesoramiento individual","Mujeres lactantes y cuidadores de niños de 6-24 que han recibido educación sanitaria sobre las prácticas de ALNP"]
["Número de grupos de ALNP (incluidos los grupos de apoyo de madres) en funcionamiento durante el (período de tiempo)","Número de grupos de ALNP operativos durante el período de tiempo"]
["Número total de sesiones de grupo (incluidos los grupos de apoyo de madres) mantenidos en el (período de tiempo)","Número total de sesiones de grupo durante el período de tiempo"]
["Nuevas admisiones de mujeres embarazadas y lactantes y cuidadores en grupos ALNP (incluidos los grupos de apoyo de madres) durante el (período de tiempo)","Nuevas admisiones de mujeres embarazadas y lactantes y cuidadores en grupos ALNP durante el período de tiempo. El número total se calculará automáticamente."]
["Hombres","Nuevas admisiones de hombres en grupos de ALNP durante el período de tiempo"]
["Mujeres","Nuevas admisiones de mujeres en los grupos de ALNP durante el período de tiempo"]
["Número total de mujeres embarazadas y lactantes y cuidadores que asistieron a grupos de ALNP (incluidos los grupos de apoyo de madres) durante el (período de tiempo)","Número total de mujeres embarazadas y lactantes y cuidadores que asistieron a grupos de ALNP durante el período de tiempo. El número total se calculará automáticamente."]
["Hombres","Número total de hombres que asistieron a grupos de ALNP durante el período de tiempo"]
["Mujeres","Total de mujeres que asistieron a grupos de ALNP durante el período de tiempo"]
["Número total de lactantes de 0-6 meses que requieren alimentación artificial que han recibido BMS y apoyo apropiado durante el (período de tiempo)","Número total de lactantes de 0-6 meses que requieren alimentación artificial que han recibido BMS y apoyo apropiado durante el (período de tiempo)"]
["Número total de lactantes de 6-24 meses de edad que requieren alimentación artificial que han recibido BMS y apoyo apropiado durante el (período de tiempo)","Número total de lactantes de 6-24 meses de edad que requieren alimentación artificial que han recibido BMS y apoyo apropiado durante el (período de tiempo)"]
["Número total de rincones para la lactancia materna / espacios que promueven la lactancia materna abiertos durante el (período de tiempo)","Número total de rincones para la lactancia materna / espacios que promueven la lactancia materna abiertos durante el período de tiempo"]
["Número de rincones para la lactancia materna / espacios que promueven la lactancia materna en funcionamiento durante el (período de tiempo)","Número de rincones para la lactancia materna / espacios que promueven la lactancia materna en funcionamiento durante el período de tiempo"]
["Nuevas admisiones de madres lactantes durante el (período de tiempo)","Número de mujeres lactantes que utilizaron por primera vez los rincones para la lactancia materna / espacios que promueven la lactancia materna"]
["Número total de mujeres lactantes que asistieron a los rincones para la lactancia materna / espacios que promueven la lactancia materna durante el (período de tiempo)","Número de mujeres lactantes que asistieron a los rincones para la lactancia materna / espacios que promueven la lactancia materna durante el período de referencia"]
[]
["Desarrollo de capacidades"]
["Todos los títulos de formación"]
["Tipo de formación","Tipo de formación si es nueva o de actualización"]
["Nº de formaciones","Número de formaciones realizadas"]
["Categoría principal del personal capacitado","Ccategoría principal del personal capacitado en este tipo / tema"]
["De qué agencia / s","Agencia / s de las cuales se capacitó al personal"]
["Número de días","Número de días de formación"]
["Hombres","Número de hombres formados"]
["Mujeres","Número de mujeres formadas"]
["Comentarios","Cualquier comentario sobre la formación"]
[]
[]
["Comentarios"]
["Cualquier comentario sobre programas, lagunas o preocupaciones","Cualquier comentario sobre programas, lagunas o preocupaciones, tales como: a) Análisis de los sitios de bajo rendimiento, b) Barreras para el acceso, c) Las razones de las asuencias, abandonos, faltas de respuesta y recaídas, d) Las causas más comunes de muerte, y e) Cambios según el contexto en la seguridad alimentaria, WASH, salud e inseguridad f) Explicación de días de desabastecimiento."]

{"sheet":"Site1","index":2,"n_rows":369,"n_cols":26,"rows_kept":369,"cut":false,"hidden":false,"merged":[[368,1,385,1],[368,2,385,8],[355,1,359,2],[355,6,355,7],[356,6,356,7],[357,6,357,7],[359,4,359,8],[361,1,365,2],[361,6,361,7],[362,6,362,7],[363,6,363,7],[365,4,365,8],[343,1,347,2],[343,6,343,7],[344,6,344,7],[345,6,345,7],[347,4,347,8],[349,1,353,2],[349,6,349,7],[350,6,350,7],[351,6,351,7],[353,4,353,8],[336,2,336,3],[336,6,336,7],[337,1,341,2],[337,6,337,7],[338,6,338,7],[339,6,339,7],[341,4,341,8],[329,2,329,3],[329,6,329,7],[330,1,334,2],[330,6,330,7],[331,6,331,7],[332,6,332,7],[334,4,334,8],[322,2,322,3],[322,6,322,7],[323,1,327,2],[323,6,323,7],[324,6,324,7],[325,6,325,7],[327,4,327,8],[314,0,314,3],[315,2,315,3],[316,1,320,2],[316,6,316,7],[317,6,317,7],[318,6,318,7],[320,4,320,8],[307,1,308,1],[307,2,307,3],[307,6,308,8],[308,2,308,3],[309,1,312,1],[309,2,309,3],[310,2,310,3],[311,2,311,3],[312,2,312,3],[299,1,306,1],[299,2,299,3],[300,2,300,3],[301,2,301,3],[301,6,301,7],[306,2,306,3],[295,0,295,3],[296,1,298,1],[296,2,296,3],[297,2,297,3],[297,6,297,7],[298,2,298,3],[284,0,284,3],[285,1,287,2],[285,6,285,7],[289,1,289,2],[291,1,293,2],[291,6,291,7],[272,1,272,2],[274,1,276,2],[274,6,274,7],[278,1,278,2],[280,1,282,2],[280,6,280,7],[260,1,262,2],[260,6,260,7],[264,1,266,2],[264,6,264,7],[268,1,270,2],[268,6,268,7],[248,2,248,3],[249,2,249,3],[250,2,250,3],[252,0,252,3],[253,1,258,2],[253,6,253,7],[256,6,256,7],[239,2,239,3],[240,2,240,3],[242,1,248,1],[242,2,242,3],[242,6,242,7],[243,2,243,3],[244,2,244,3],[245,2,245,3],[246,2,246,3],[247,2,247,3],[233,2,233,3],[234,2,234,3],[236,1,238,1],[236,2,236,3],[236,6,236,7],[237,2,237,3],[223,2,223,3],[224,2,224,3],[226,1,234,1],[226,2,226,3],[226,6,226,7],[227,2,227,3],[228,2,228,3],[229,2,229,3],[230,2,230,3],[231,2,231,3],[215,0,215,3],[216,1,224,1],[216,2,216,3],[216,6,216,7],[217,2,217,3],[218,2,218,3],[219,2,219,3],[220,2,220,3],[221,2,221,3],[222,2,222,3],[193,1,213,1],[193,2,193,3],[194,2,194,3],[194,6,194,7],[195,2,198,2],[199,2,210,2],[211,2,211,3],[212,2,212,3],[213,2,213,3],[180,1,191,1],[180,2,180,3],[180,6,180,7],[181,2,182,2],[183,2,188,2],[189,2,189,3],[190,2,190,3],[191,2,191,3],[157,0,157,3],[158,1,178,1],[158,2,158,3],[158,6,158,7],[159,2,159,3],[160,2,163,2],[164,2,175,2],[176,2,176,3],[177,2,177,3],[178,2,178,3],[135,1,136,1],[135,2,135,3],[136,2,136,3],[138,1,155,1],[138,2,138,3],[138,6,138,7],[139,2,139,3],[140,2,143,2],[144,2,155,2],[116,0,116,3],[117,1,134,1],[117,2,117,3],[117,6,117,7],[118,2,118,3],[119,2,122,2],[123,2,134,2],[81,1,96,1],[81,2,81,3],[81,6,81,7],[87,2,96,2],[98,1,115,1],[98,2,98,3],[98,6,98,7],[99,2,99,3],[100,2,103,2],[104,2,115,2],[52,1,58,1],[52,2,56,2],[61,0,61,3],[62,1,79,1],[62,2,62,3],[62,6,62,7],[63,2,63,3],[64,2,67,2],[68,2,79,2],[28,1,34,1],[28,2,32,2],[37,1,42,1],[37,2,40,2],[37,6,37,7],[44,1,50,1],[44,2,48,2],[44,6,44,7],[15,1,15,3],[17,1,17,3],[19,0,19,3],[20,1,26,1],[20,2,24,2],[20,6,20,7],[8,1,8,3],[9,1,9,3],[10,1,10,3],[13,1,13,3],[13,6,13,8],[14,1,14,3],[0,0,0,3],[1,0,1,2],[2,1,2,3],[5,1,5,3],[6,1,6,3],[7,1,7,3]]}
["Formulario para la presentación de informes por los socios",null,null,null,null,null,null,null,null,null,null,null,"Localidad","Nilo Alto","Jonglei","Unidad","Warrap","Bahr el Ghazal norte","Bahr el Ghazal Occidental","Lagos","Ecuatoria occidental","Equatoria central","Equatoria Oriental","Mes","Temas de la formación","Tipo de formación"]
["Información general",null,null,null,null,null,null,null,null,null,null,null,"Nilo Alto","Renk","Fangak","Pariang","Abyei","Aweil_Norte","Raga","Cueibet","Tambura","Terekeka","Torit","Enero","Examen con MUAC y derivaciones","Nuevo"]
[null,"Acrónimo de la agencia",null,null,null,null,null,null,null,null,null,null,"Jonglei","Manyo","Canal_Khor_Fulus","Abiemnhom","Twic","Aweil_este","Jur_River","Rumbek_Norte","Nagero","Juba","Lapon","Febrero","Protocolos para pacientes ambulatorios","Repaso"]
[null,null,null,"Nombre de la agencia",{"$f":"VLOOKUP(E3,Lists!A2:B200,2,FALSE)","v":{"$error":"#N/A"}}]
[null,null,null,"Semana del informe "]
[null,"Mes del informe:",null,null,null,null,null,null,null,null,null,null,"Unidad","Fashoda","Ayod","Mayom","Gogrial_occidental","Aweil_Sur","Wau","Rumbek_Centro","Nzara","Lainya","Kapoeta_Norte","Marzo","Protocolos para pacientes hospitalizados"]
[null,"Año del informe",null,null,null,null," ",null,null,null,null,null,"Warrap","Melut","Duk","Rubkona","Gogrial_este","Aweil_oeste",null,"Wulu","Ezo","Yei","Kapoeta_este","Abril","Protocolos para programas de alimentación suplementaria"]
[null,"Fecha de presentación del informe (DD / MM / AA)",null,null,null,null,null,null,null,null,null,null,"Bahr_el_Ghazal_norte","Maban","Uror","Guit","Tonj_Norte","Aweil_Centro",null,"Rumbek_este","Yambio","Morobo","Kapoeta_Sur","Mayo","Movilización comunitaria"]
[null,"Nivel administrativo 1",null,"Nivel administrativo 1",null,null,"P-Code Nivel Admin 1",{"$f":"INDEX(admin1pcode,MATCH(E9,admin1,0))","v":{"$error":"#N/A"}}]
[null,"Nivel administrativo 2",null,null,null,null,"P-Code nivel admin 2",{"$f":"INDEX(admin2pcode,MATCH(E10,admin2,0))","v":{"$error":"#N/A"}},null,null,null,null,"Lagos","Luakpiny_Nasir","Akobo","Leer","Tonj_Sur",null,null,"Yirol_este","Maridi",null,"Ikotos","Julio","Otros (por favor, especificar en la sección de comentarios)"]
[null,"Nivel administrativo 3",null,null,null,null,"P-Code nivel Admin 3",{"$f":"INDEX(admin3pcode,MATCH(E11,admin3,0))","v":{"$error":"#N/A"}},null,null,null,null,"Ecuatoria Occidental","Longochuk","Pochalla","Mayendit",null,null,null,"Awerial","Mvolo",null,"Magwi","Agosto"]
[null,null,null,"Nivel administrativo 4",null,null,"P-Code nivel admin 4",{"$f":"INDEX(admin4pcode,MATCH(E12,admin4,0))","v":{"$error":"#N/A"}}]
[null,null,null,"Nivel administrativo 5",null,null,"P-Code nivel administrativo 5",{"$f":"INDEX(admin5pcode,MATCH(E13,admin5,0))","v":{"$error":"#N/A"}}]
[null,"¿Se ha utilizado criterios expandidos de admisión ?",null,null,null,null,null,null,null,null,null,null,"Ecuatoria Central","Ulang","Pibor","Panyijar",null,"N/A","Operacional","No operacional","Mundri_oeste",null,null,"Septiembre"]
[null,"Centros de estabilización (SC)",null,null,null,null,"Estado del sitio",null,null,null,null,null,"Ecuatoria oriental","Baliet","Twic_este",null,null,null,null,"Sí","No",null,null,"Octubre"]
[null,"Pacientes ambulatorios centros terapéuticos (OTP)",null,null,null,null,"Estado del sitio",null,null,null,null,null,null,"Malakal","Bor_Sur",null,null,null,null,null,null,null,null,"Noviembre"]
[null,null,null,"Sitios de tratamiento a nivel comunitario (BSFPs)",null,null,"Estado del sitio",null,null,null,null,null,null,"Panyikang",null,null,null,null,null,null,null,null,null,"Diciembre"]
[null,"Sitios de alimentación suplementaria (TSFPs)",null,null,null,null,"Estado del sitio"]
[]
["Diagnóstico y derivaciones"]
[null,"Niños 6-59 meses","Revisión \n(mediciones MUAC)","Número examinados",{"$f":"SUM(E22:E25)","v":0},null,"Cálculo automático exámen y derivaciones"]
[null,null,null,"Nº de niños con edema bilateral",null,null,"No. total. (Niños+Niñas) examinados",{"$f":"IF(ISBLANK(E21),(IF(ISBLANK(E29),\"\",E21+E29)),E21+E29)","v":0}]
[null,null,null,"Nº de niños con MUAC rojo (<11.5 cm)",null,null,"No. total. (Niños+niñas) edema",{"$f":"IF(ISBLANK(E22),(IF(ISBLANK(E30),\"\",E22+E30)),E22+E30)","v":""}]
[null,null,null,"Nº de niños 6-59m con MUAC amarillo (≥ 11,5 cm a <12,5 cm)",null,null,"No. total. (Niños+Niñas) Rojo",{"$f":"IF(ISBLANK(E23),(IF(ISBLANK(E31),\"\",E23+E31)),E23+E31)","v":""}]
[null,null,null,"Nº de niños 6-59m con MUAC verde (≥ 12,5 cm)",null,null,"No. total. (Niños+Niñas) Amarillo",""]
[null,null,"Derivaciones","Nº de niños 6-59m derivados a OTP",null,null,"No. total. (Niños+Niñas) Verde",""]
[null,null,null,"Nº de niños 6-59m derivados a TSFP",null,null,"No. total. (Niños+Niñas) derivados a OTP",{"$f":"IF(ISBLANK(E26),(IF(ISBLANK(E34),\"\",E26+E34)),E26+E34)","v":""}]
[null,null,null,null,null,null,"No. total. (Niños+ niñas) derivados a TSFP",""]
[null,"Niñas 6-59 meses","Revisión \n(mediciones MUAC)","Número examinadas",{"$f":"SUM(E30:E33)","v":0},null,"% de niños+niñas con edema",{"$f":"IF(ISBLANK(E21),(IF(ISBLANK(E29),\"\",H23/H22)),H23/H22)","v":{"$error":"#VALUE!"}}]
[null,null,null,"Nº de niñas con edema bilateral",null,null,"% de (Niños+Niñas) Rojo",{"$f":"IF(ISBLANK(E21),(IF(ISBLANK(E29),\"\",H24/H22)),H24/H22)","v":{"$error":"#VALUE!"}}]
[null,null,null,"Nº de niñas 6-59m con MUAC rojo (<11.5 cm)",null,null,"(% De los muchachos de las muchachas  ) Amarillo",{"$f":"IF(ISBLANK(E21),(IF(ISBLANK(E29),\"\",H25/H22)),H25/H22)","v":{"$error":"#VALUE!"}}]
[null,null,null,"Nº de niñas 6-59m con MUAC amarillo (≥ 11,5 cm a <12,5 cm)",null,null,"(% De los muchachos de las muchachas  ) verde",{"$f":"IF(ISBLANK(E21),(IF(ISBLANK(E29),\"\",H26/H22)),H26/H22)","v":{"$error":"#VALUE!"}}]
[null,null,null,"Nº de niñas 6-59m con MUAC verde (≥ 12,5 cm)",null,null,"(% De los muchachos   Girls) se refirió a la PTF",{"$f":"IF(ISBLANK(E21),(IF(ISBLANK(E29),\"\",H27/H22)),H27/H22)","v":{"$error":"#VALUE!"}}]
[null,null,"Derivaciones","Nº de Niñas 6-59m derivadas a OTP",null,null,"% De los muchachos ( ) Las niñas que se refiere TSFP",{"$f":"IF(ISBLANK(E21),(IF(ISBLANK(E29),\"\",H28/H22)),H28/H22)","v":{"$error":"#VALUE!"}}]
[null,null,null,"Nº de niñas 6-59m derivadas a TSFP"]
[]
[]
[null,"Mujeres embarazadas y lactantes","Revisión \n(mediciones MUAC)","Número examinadas",{"$f":"SUM(E39:E41)","v":0},null,"Cálculos automáticos MEL"]
[null,null,null,"Número de mujeres embarazadas y lactantes con MUAC <21.0 cm",null,null,"% MUAC <21.0 cm",{"$f":"IF(ISBLANK(E39),\"\",E39/E38)","v":""}]
[null,null,null,"Número de mujeres embarazadas y lactantes con MUAC ≥21.0 cm a 23.0 cm <",null,null,"MUAC% ≥21.0 cm a <23,0 cm",{"$f":"IF(ISBLANK(E40),\"\",E40/E38)","v":""}]
[null,null,null,"Número de mujeres embarazadas y lactantes con MUAC ≥23.0 cm",null,null,"MUAC% ≥23.0 cm",{"$f":"IF(ISBLANK(E41),\"\",E41/E38)","v":""}]
[null,null,"Derivaciones","Número de mujeres embarazadas y lactantes derivadas a OTP",null,null,"%  mujeres embarzadas y lactantes derivadas a OTP",{"$f":"IF(ISBLANK(E42),\"\",E42/E38)","v":""}]
[null,null,null,"Número de mujeres embarazadas y lactantes derivadas a TSFP",null,null,"% mujeres embarazadas  y lactantes derivadas a TSFP",{"$f":"IF(ISBLANK(E43),\"\",E43/E38)","v":""}]
[]
[null,"Personas mayores\nhombres\n(definición de país de \"persona mayor\" o ≥ 60años)","Revisión \n(mediciones MUAC)","Número examinados: Hombres",{"$f":"SUM(E46:E49)","v":0},null,"Cálculo automático exámen y derivaciones"]
[null,null,null,"Nº de hombres mayoures con edema bilateral",null,null,"No. total. (Hombres mayores+mujeres mayores) examinados",{"$f":"IF(ISBLANK(E45),(IF(ISBLANK(E53),\"\",E45+E53)),E45+E53)","v":0}]
[null,null,null,"Nº de hombres mayores con MUAC <18,5 cm",null,null,"No. total. (Hombres mayores+mujers mayores) edema",{"$f":"IF(ISBLANK(E46),(IF(ISBLANK(E54),\"\",E46+E54)),E46+E54)","v":""}]
[null,null,null,"Nº de hombres mayoures con MUAC ≥18.5 cm a 21.0 cm <",null,null,"No. total. (hombres mayores+mujeres mayores ) con MUAC <18,5 cm",""]
[null,null,null,"Nº de hombres mayores con MUAC ≥21.0 cm",null,null,"No. total. (hombres mayores+mujeres mayores) con MUAC ≥18.5 cm a <21,0 cm",""]
[null,null,"Derivaciones","Nº de hombres mayores derivados a OTP",null,null,"Nº total de (hombres mayores+mujeres mayores) con MUAC ≥21.0 cm",""]
[null,null,null,"Nº de hombres mayores derivados a TSFP",null,null,"No. total. (hombres mayores+mujeres mayores) derivados a OTP",""]
[null,null,null,null,null,null,"No. total. ((hombres mayores+mujeres mayores) derivados a TSFP",""]
[null,"Personas mayores\nMujeres\n (definición de país de \"persona mayor\" o ≥ 60y)","Revisión \n(mediciones MUAC)","Número examinadas: Mujeres",{"$f":"SUM(E54:E57)","v":0},null,"% De edema (hombres mayores+mujeres mayores)",{"$f":"IF(ISBLANK(E45),(IF(ISBLANK(E53),\"\",H47/H46)),H47/H46)","v":{"$error":"#VALUE!"}}]
[null,null,null,"Nº mujeres mayores con edema bilateral",null,null,"% De (  hombres mayores+mujeres mayores) con MUAC <18,5 cm",{"$f":"IF(ISBLANK(E45),(IF(ISBLANK(E53),\"\",H48/H46)),H48/H46)","v":{"$error":"#VALUE!"}}]
[null,null,null,"Nº mujeres mayores con MUAC <18,5 cm",null,null,"% De ( hombres mayores+mujeres mayores) con MUAC ≥18.5 cm a <21.0 cm ",{"$f":"IF(ISBLANK(E45),(IF(ISBLANK(E53),\"\",H49/H46)),H49/H46)","v":{"$error":"#VALUE!"}}]
[null,null,null,"Nº  mujeres mayores con MUAC ≥18.5 cm a <21.0 cm ",null,null,"% De ( hombres mayores+mujeres mayores) con MUAC ≥21.0 cm",{"$f":"IF(ISBLANK(E45),(IF(ISBLANK(E53),\"\",H50/H46)),H50/H46)","v":{"$error":"#VALUE!"}}]
[null,null,null,"Nº mujeres mayoures con MUAC ≥21.0 cm",null,null,"% De (hombres mayores+mujeres mayores) derivados a OTP",{"$f":"IF(ISBLANK(E45),(IF(ISBLANK(E53),\"\",H51/H46)),H51/H46)","v":{"$error":"#VALUE!"}}]
[null,null,"Derivaciones","Nº mujeres mayores derivadas a OTP",null,null,"% De (hombres mayores+mujeres mayores) derivados a TSFP",{"$f":"IF(ISBLANK(E45),(IF(ISBLANK(E53),\"\",H52/H46)),H52/H46)","v":{"$error":"#VALUE!"}}]
[null,null,null,"Nº mujeres mayores derivadas a TSFP"]
[]
[]
["Gestión de la desnutrición aguda grave, para pacientes hospitalizados"]
[null,"Niños 6-59 meses","Final total del último período de tiempo: Niños (A1)",null,null,null,"Cálculo automático Niños/as 6-59m"]
[null,null,"Final total del último período de tiempo: Niñas (A2)",null,null,null,"Total admisión niños (D = B   C)",{"$f":"SUM(E65,E67)","v":0}]
[null,null,"categorías de entrada","Nuevas admisiones: niños (B1)",null,null,"Total admisión niñas (D = B   C)",{"$f":"SUM(E66,E68)","v":0}]
[null,null,null,"Nuevas admisiones: niñas (B2)",null,null,"Total Salidas Boys (H = E   F   G)",{"$f":"SUM(E69+E71+E73+E75+E77+E79)","v":0}]
[null,null,null,"Casos antiguos (derivados de OTP, personas que retoman el tratamiento, translados de otro centro de estabilización) : Niños (C1)",null,null,"Total Salidas niñas (H = E   F   G)",{"$f":"SUM(E70+E72+E74+E76+E78+E80)","v":0}]
[null,null,null,"Casos antiguos (derivados de OTP, personas que retoman el tratamiento, translados de otro centro de estabilización): Niñas (C2)",null,null,"Total al final del (periodo de tiempo) Niños (I = A   DH)",{"$f":"E63+H64-H66","v":0}]
[null,null,"categorías de salida","Pacientes hospitalizados estabilizados y referidos a OTP: niños (E1)",null,null,"Total al final del (periodo de tiempo) Niñas (I = A   DH)",{"$f":"SUM(E64+H65-H67)","v":0}]
[null,null,null,"Pacientes hospitalizados estabilizados y referidos a OTP: niñas (E2)",null,null,"tasa de altas por curación",{"$f":"IF(ISBLANK(E70),\"\",(E71+E72)/(H73))","v":""},"(Min  Normas ESFERA. > 75%)"]
[null,null,null,"Alta por curación (casos especiales que terminan tratamiento): niños (F1)",null,null,"tasa de altas por muerte",{"$f":"IF(ISBLANK(E71),\"\",(E73 + E74)/(H73))","v":""},"(Min  Normas ESFERA.  <10%)"]
[null,null,null,"Alta por curación (casos especiales que terminan tratamiento): niñas (F2)",null,null,"tasa de alta por abandono",{"$f":"IF(ISBLANK(E73),\"\",(E75 + E76)/(H73))","v":""},"(Min  Normas ESFERA. <15%)"]
[null,null,null,"Altas por muerte: niños (F3)",null,null,"salidas totales (J = E   F   G)",{"$f":"IF(ISBLANK(E69:E80),\"\",SUM(H66,H67))","v":""}]
[null,null,null,"Altas por muerte: niñas (F4)",null,null,"Total al final del (período de tiempo) (K = A   DJ)",{"$f":"IF(ISBLANK(E63),\"\",E63+E64+H64+H65-H73)","v":""}]
[null,null,null,"Altas por abandono: niños (F5)"]
[null,null,null,"Altas por abandono: niñas (F6)"]
[null,null,null,"Altas sin curación: niños (F7)"]
[null,null,null,"Altas sin curación: niñas (F8)"]
[null,null,null,"Otras transferencias: niños (G1)"]
[null,null,null,"Otras transferencias: niñas (G2)"]
[]
[null,"Niños <6 meses","Final total del útimo (período de tiempo): niños (A1)",null,null,null,"Cálculo automático niños/as <6m"]
[null,null,null,"Final total del último (período de tiempo): niñas (A2)",null,null,"Total admisiones niños (D = B   C)",{"$f":"SUM(E84,E86)","v":0}]
[null,null,"categorías de entrada","Nuevas admisiones: niños (B1)",null,null,"Total admisiones niñas (D = B   C)",{"$f":"SUM(E85,E87)","v":0}]
[null,null,null,"Nuevas admisiones: niñas (B2)",null,null," Total salidas niños (H = F   G)",{"$f":"SUM(E88+E90+E92+E94+E96+E98)","v":0}]
[null,null,null,"Casos antiguos (derivados de OTP, personas que retoman el tratamiento, translados de otro centro de estabilización) : Niños (C1)",null,null,"Total salidas niñas (H = F   G)",{"$f":"SUM(E89+E91+E93+E95+E97)","v":0}]
[null,null,null,"Casos antiguos (derivados de OTP, personas que retoman el tratamiento, translados de otro centro de estabilización): Niñas (C2)",null,null,"Total niños al final del (periodo de tiempo) (I = A   DH)",{"$f":"E82+H83-H85","v":0}]
[null,null,"categorías de salida","Alta por curación (casos especiales que terminan tratamiento): niños (F1)",null,null,"Total niñas al final del (periodo de tiempo) (I = A   DH)",{"$f":"SUM(E83+H84-H86)","v":0}]
[null,null,null,"Alta por curación (casos especiales que terminan tratamiento): niñas (F2)",null,null,"tasas altas por curación",{"$f":"IF(ISBLANK(E89),\"\",(E89+E88)/(H92))","v":""},"(Min  Normas ESFERA. > 75%)",null,null,null,0.13043478260869565]
[null,null,null,"Altas por muerte: niños (F3)",null,null,"tasa alta por muerte",{"$f":"IF(ISBLANK(E90),\"\",(E90 + E91)/(H92))","v":""},"(Min  Normas ESFERA. <10%)"]
[null,null,null,"Altas por muerte: niñas (F4)",null,null,"tasa alta por abandono",{"$f":"IF(ISBLANK(E92),\"\",(E92 + E93)/(H92))","v":""},"(Min  Normas ESFERA.  <15%)"]
[null,null,null,"Altas por abandono: niños (F5)",null,null,"salidas totales (J = F   G)",{"$f":"IF(ISBLANK(E88:F99),\"\",SUM(H85,H86))","v":0}]
[null,null,null,"Altas por abandono: niñas (F6)",null,null,"Total al final del (período de tiempo) (K = A   DJ)",{"$f":"IF(ISBLANK(E82),\"\",E82+E83+H83+H84-H92)","v":""}]
[null,null,null,"Altas sin curación: niños (F7)"]
[null,null,null,"Altas sin curación: niñas (F8)"]
[null,null,null,"Otras transferencias: niños (G1)"]
[null,null,null,"Otras transferencias: niñas (G2)"]
[]
[null,"Personas mayores (definición de país de \"persona mayor\" o  ≥60años)","Final total del último (período de tiempo): hombres mayores (A1)",null,null,null,"Cálculo automático Personas Mayores"]
[null,null,"Final total del último (período de tiempo): mujeres mayores (A2)",null,null,null,"admisiones totales hombres mayores (D = B   C)",{"$f":"SUM(E101+E103)","v":0}]
[null,null,"categorías de entrada","Nuevas admisiones: Hombres Mayores (B1)",null,null,"Admisiones totales mujeres mayores (D = B   C)",{"$f":"SUM(E102+E104)","v":0}]
[null,null,null,"Nuevas admisiones: mujeres mayores (B2)",null,null,"salidas totales hombres mayores (H = E   F   G)",{"$f":"E105+E107+E109+E111+E113+E115","v":0}]
[null,null,null,"Casos antiguos (derivados de OTP, personas que retoman el tratamiento, translados de otro centro de estabilización): hombres mayores (C1)",null,null,"salidas totales Mayor femenino (H = E   F   G)",{"$f":"E106+E108+E110+E112+E114+E116","v":0}]
[null,null,null,"Casos antiguos (derivados de OTP, personas que retoman el tratamiento, translados de otro centro de estabilización): mujeres mayores (C2)",null,null,"Total al final del (periodo de tiempo) varones de más edad (I = A   DH)",{"$f":"IF(ISBLANK(E99),\"\",E99+H100-H102)","v":""}]
[null,null,"categorías de salida","Pacientes hospitalizados estabilizados y referidos a OTP: hombres mayores (E1)",null,null,"Total al final del (periodo de tiempo) Mayor Femenino (I = A   DH)",{"$f":"IF(ISBLANK(E100),\"\",E100+H101-H103)","v":""}]
[null,null,null,"Pacientes hospitalizados estabilizados y referidos a OTP: mujeres mayores (E2)",null,null,"tasas curados descargadas",{"$f":"IF(ISBLANK(E106),\"\",(E107+E108)/(H109))","v":""},"(Min  Normas ESFERA. > 75%)"]
[null,null,null,"Alta por curación (casos especiales que terminan tratamiento): hombres mayores (F1)",null,null,"tasa muerto descargada",{"$f":"IF(ISBLANK(E107),\"\",(E109 + E110)/(H109))","v":""},"(Min  Normas ESFERA. <10%)"]
[null,null,null,"Alta por curación (casos especiales que terminan tratamiento): mujeres mayores (F2)",null,null,"tasa omitido descargada",{"$f":"IF(ISBLANK(E109),\"\",(E111 + E111)/(H103+H102))","v":""},"(Min  Normas ESFERA. <15%)"]
[null,null,null,"Altas por muerte: hombres mayores (F3)",null,null,"salidas totales (J = E   F   G)",{"$f":"IF(ISBLANK(E105:F116),\"\",SUM(H102,H103))","v":0}]
[null,null,null,"Altas por muerte: mujeres mayores (F4)",null,null,"Total al final del (período de tiempo) (K = A   DJ)",{"$f":"IF(ISBLANK(E99),\"\",E99+E100+H100+H101-H109)","v":""}]
[null,null,null,"Altas por abandono:hombres mayores (F5)"]
[null,null,null,"Altas por abandono: mujeres mayores (F6)"]
[null,null,null,"Altas sin curación: hombres mayores (F7)"]
[null,null,null,"Altas sin curación: mujeres mayores (F8)"]
[null,null,null,"Otras transferencias: hombres mayores (G1)"]
[null,null,null,"Otras transferencias: mujeres mayores (G2)"]
["Gestión de la desnutrición aguda grave, para pacientes ambulatorios"]
[null,"Niños 6-59 meses","Final total del último (período de tiempo): niños (A1)",null,null,null,"Cálculo automático Niños/as 6-59m"]
[null,null,"Final total del último (período de tiempo): niñas (A2)",null,null,null,"Total admisiones  niños (D = B   C)",{"$f":"SUM(E122+E120)","v":0}]
[null,null,"categorías de entrada","Nuevas admisiones: niños(B1)",null,null,"Total admisiones niñas (D = B   C)",{"$f":"SUM(E121+E123)","v":0}]
[null,null,null,"Nuevas admisiones: niñas (B2)",null,null,"Total salidas niños (H = F   G)",{"$f":"SUM(E124+E126+E128+E130+E132+E134)","v":0}]
[null,null,null,"Casos antiguos (derivados de OTP, personas que retoman el tratamiento, translados de otro centro de estabilización) : Niños (C1)",null,null,"Total salidas niñas (H = F   G)",{"$f":"SUM(E125+E127+E129+E131+E133+E135)","v":0}]
[null,null,null,"Casos antiguos (derivados de OTP, personas que retoman el tratamiento, translados de otro centro de estabilización): Niñas (C2)",null,null,"Total niños al final del (periodo de tiempo) (I = A   DH)",{"$f":"IF(ISBLANK(E118),\"\",E118+H119-H121)","v":""}]
[null,null,"categorías de salida","Alta por curación: niños (F1)",null,null,"Total niñas al final del (periodo de tiempo) (I = A   DH)",{"$f":"IF(ISBLANK(E119),\"\",E119+H120-H122)","v":""}]
[null,null,null,"Altas por curación: niñas (F1)",null,null,"tasas altas por curación",{"$f":"IF(ISBLANK(E124),\"\",(E124+E125)/(H128))","v":""},"(Min Normas ESFERA. > 75%)"]
[null,null,null,"Altas por muerte: niños (F2)",null,null,"tasa altas por muerte",{"$f":"IF(ISBLANK(E126),\"\",(E126 + E127)/(H128))","v":""},"(Min Normas ESFERA. <10%)"]
[null,null,null,"Altas por muerte: niñas (F2)",null,null,"tasa altas por abandono",{"$f":"IF(ISBLANK(E128),\"\",(E128 + E129)/(H122+H121))","v":""},"(Min Normas ESFERA.  <15%)"]
[null,null,null,"Altas por abandono: niños (F3)",null,null,"salidas totales (J = F   G)",{"$f":"IF(ISBLANK(E124:E135),\"\",SUM(H121,H122))","v":""}]
[null,null,null,"Altas por abandono: niñas (F3)",null,null,"Total al final del (período de tiempo) (K = A   DJ)",{"$f":"IF(ISBLANK(E118),\"\",E118+E119+H119+H120-H128)","v":""}]
[null,null,null,"Altas sin curación: niños (F4)"]
[null,null,null,"Altas sin curación: niñas (F4)"]
[null,null,null,"Derivaciones a centros de estabilización: niños (F5)"]
[null,null,null,"Derivaciones a centros de estabilización: niñas (F6)"]
[null,null,null,"Otras transferencias: niños (G1)"]
[null,null,null,"Otras transferencias: niñas (G2)"]
[null,null,"Ganancia media diaria de peso (AWG) para el alta por curación (en gramos / kg / día)",null,null,null,"(Recomendado> 4 g / kg / día)"]
[null,null,"Duración media de la estancia (LOS) para el alta por curación (en días)",null,null,null,"(Recomendado <60 días)"]
[]
[null,"Personas mayores (definición de país de \"persona mayor\" o  ≥60años)","fin total de la última (período de tiempo): Hombres Mayor (A1)",null,null,null,"Cálculo automático Personas Mayores"]
[null,null,"fin total de la última (período de tiempo): Mayor femenino (A2)",null,null,null,"admisiones totales hombres mayores (D = B   C)",{"$f":"E141+E143","v":0}]
[null,null,"categorías de entrada","Nuevas admisiones: hombres mayores (B1)",null,null,"Admisiones totales mujeres mayores (D = B   C)",{"$f":"E142+E144","v":0}]
[null,null,null,"Nuevas admisiones: mujeres mayores (B2)",null,null,"salidas totales hombres mayores (H = F   G)",{"$f":"SUM(E145+E147+E149+E151+E153+E155)","v":0}]
[null,null,null,"Casos antiguos (derivados de OTP, personas que retoman el tratamiento, translados de otro centro de estabilización) : hombres mayores (C1)",null,null,"salidas totales mujeres mayores (H = F   G)",{"$f":"SUM(E146+E148+E150+E152+E154+E156)","v":0}]
[null,null,null,"Casos antiguos (derivados de OTP, personas que retoman el tratamiento, translados de otro centro de estabilización) : mujeres mayores (C2)",null,null,"Total hombres mayores al final del (periodo de tiempo) (I = A   DH)",{"$f":"IF(ISBLANK(E139),\"\",E139+H140-H142)","v":""}]
[null,null,"categorías de salida","Altas por curación: hombres mayores (F1)",null,null,"Total mujeres mayores al final del (periodo de tiempo) (I = A   DH)",{"$f":"IF(ISBLANK(E140),\"\",E140+H141-H143)","v":""}]
[null,null,null,"Altas por curación: mujeres mayores (F1)",null,null,"tasa altas por curación",{"$f":"IF(ISBLANK(E145),\"\",(E145+E146)/(H149))","v":""},"(Min Normas ESFERA.> 75%)"]
[null,null,null,"Altas por muerte: hombres mayores (F2)",null,null,"tasa altas por muerte",{"$f":"IF(ISBLANK(E147),\"\",(E147 + E148)/(H149))","v":""},"(Min Normas ESFERA. <10%)"]
[null,null,null,"Altas por muerte: mujeres mayores (F2)",null,null,"tasa altas por abandono",{"$f":"IF(ISBLANK(E149),\"\",(E149 + E150)/(H143+H142))","v":""},"(Min Normas ESFERA. <15%)"]
[null,null,null,"Altas por abandono: hombres mayores (F3)",null,null,"salidas totales (J = F   G)",{"$f":"IF(ISBLANK(E145:F156),\"\",SUM(E145:E154))","v":0}]
[null,null,null,"Altas por abandono: mujers mayores (F3)",null,null,"Total al final del (período de tiempo) (K = A   DJ)",{"$f":"IF(ISBLANK(E139),\"\",E139+E140+H140+H141-H149)","v":""}]
[null,null,null,"Altas sin curación: hombre mayores (F4)"]
[null,null,null,"Altas sin curación: mujeres mayores (F4)"]
[null,null,null,"Derivaciones a centros de estabilización: hombres mayores (F5)"]
[null,null,null,"Derivaciones a centros de estabilización: mujeres mayores (F6)"]
[null,null,null,"Otras transferencias: hombre mayores (G1)"]
[null,null,null,"Otras transferencias: mujeres mayores (G2)"]
[]
["Programas de alimentación suplementaria selectiva"]
[null,"Niños/as 6-59 meses","fin total del último (período de tiempo): Niños (A1)",null,null,null,"Cálculo automático Niños/as 6-59m"]
[null,null,"fin total del último (período de tiempo): niñas (A1)",null,null,null,"Total admisión niños (D = B   C)",{"$f":"SUM(E163+E161)","v":0}]
[null,null,"categorías de entrada","Nuevas admisiones: niños (B1)",null,null,"Total admisión niñas (D = B   C)",{"$f":"SUM(E162+E164)","v":0}]
[null,null,null,"Nuevas admisiones: niñas(B2)",null,null,"Total salidas niños (H = E   G)",{"$f":"SUM(E165+E167+E169+E171+E173+E175)","v":0}]
[null,null,null,"Casos antiguos (derivados de OTP, personas que retoman el tratamiento, translados de otro centro de estabilización): Niños (C1)",null,null,"Total salidas niñas (H = E   G)",{"$f":"SUM(E166+E168+E170+E172+E174+E176)","v":0}]
[null,null,null,"Casos antiguos (derivados de OTP, personas que retoman el tratamiento, translados de otro centro de estabilización): niñas (C2)",null,null,"Total niños al final del (periodo de tiempo) (I = A   DH)",{"$f":"IF(ISBLANK(E159),\"\",E159+H160-H162)","v":""}]
[null,null,"categorías de salida","Altas por curación: Niños (E1)",null,null,"Total niñas al final del (periodo de tiempo) (I = A   DH)",{"$f":"IF(ISBLANK(E160),\"\",E160+H161-H163)","v":""}]
[null,null,null,"Altas por curación: niñas (E2)",null,null,"tasa altas por curación",{"$f":"IF(ISBLANK(E166),\"\",(E166+E165)/(H169))","v":""},"(Min  Normas ESFERA.> 75%)"]
[null,null,null,"Altas por muerte: Niños (E3)",null,null,"tasa altas por muerte",{"$f":"IF(ISBLANK(E167),\"\",(E167 + E168)/(H169))","v":""},"(Las normas de Esfera min. <3%)"]
[null,null,null,"Altas por muerte: niñas (E4)",null,null,"tasa altas por abandono",{"$f":"IF(ISBLANK(E169),\"\",(E169 + E170)/(H169))","v":""},"(Min Normas ESFERA.  <15%)"]
[null,null,null,"Altas por abandono: Niños (E5)",null,null,"salidas totales (J = E   G)",{"$f":"IF(ISBLANK(E165),\"\",SUM(H162:H163))","v":""}]
[null,null,null,"Altas por abandono: niñas (E6)",null,null,"Total al final del (período de tiempo) (K = A   DJ)",{"$f":"IF(ISBLANK(E159),\"\",E159+E160+H160+H161-H169)","v":""}]
[null,null,null,"Alta sin curación: Niños (E7)"]
[null,null,null,"Altas sin curación: niñas (E8)"]
[null,null,null,"Derivados a OTP / SC: niños (E9)"]
[null,null,null,"Derivados a OTP / SC: niñas (E10)"]
[null,null,null,"Otras transferencias niños (G1)"]
[null,null,null,"Otras transferencias niñas (G2)"]
[null,null,"Duración media de la estancia para altas por curación (en días)"]
[null,null,"Valor kcal de la ración suplementaria diaria (kcal / día)"]
[null,null,"Producto provisto"]
[]
[null,"Embarazadas y mujeres lactantes (MEL)","fin total del último (período de tiempo): MEL (A)",null,null,null,"Cálculo automático MEL"]
[null,null,"categorías de entrada","Nuevas admisiones en este (periodo de tiempo): MEL (B)",null,null,"Total admisiones MEL (D = B   C)",{"$f":"IF(ISBLANK(E182),\"\",E182+E183)","v":""}]
[null,null,null,"Casos antiguos (derivados de OTP, personas que retoman el tratamiento, translados de otro centro de estabilización): MEL (C1)",null,null,"tasa de alta por curación",{"$f":"IF(ISBLANK(E184),\"\",E184/(H186))","v":""},"(Min  Normas ESFERA. > 75%)"]
[null,null,"categorías de salida","Alta por curación: MEL (F1)",null,null,"tasa alta por muerte",{"$f":"IF(ISBLANK(E185),\"\",E185/(H186))","v":""},"(Las normas de Esfera min. <3%)"]
[null,null,null,"Alta por muerteo: MEL (F2)",null,null,"tasa alta por abandono",{"$f":"IF(ISBLANK(E187),\"\",E186/(H186))","v":""},"(Min Normas ESFERA. <15%)"]
[null,null,null,"Alta por abandono: MEL (F3)",null,null,"salidas totales (J = F   G)",{"$f":"IF(ISBLANK(E184),\"\",SUM(E184:E189))","v":""}]
[null,null,null,"Alta sin recuperación: MEL (F4)",null,null,"Total al final del (período de tiempo) (K = A   DJ)",{"$f":"IF(ISBLANK(E181),\"\",E181+H182-H186)","v":""}]
[null,null,null,"Derivadas a OTP / SC: MEL (F5)"]
[null,null,null,"Otras transferencias: MEL (G)"]
[null,null,"Duración media de la estancia para altas por curación (en días)"]
[null,null,"Valor kcal de la ración suplementaria diaria (kcal / día)"]
[null,null,"Producto provisto"]
[]
[null,"Personas mayores (definición de país de \"personas mayores\" o  ≥60años)","fin total del último (período de tiempo): Hombres Mayores (A1)"]
[null,null,"fin total del último (período de tiempo): Mujeres mayores (A2)",null,null,null,"Cálculo automático Personas Mayores"]
[null,null,"categorías de entrada","Nuevas admisiones: Hombres Mayor (B1)",null,null,"Admisiones totales hombres mayores (D = B   C)",{"$f":"SUM(E196+E198)","v":0}]
[null,null,null,"Nuevas admisiones: Mayor Femenino (B2)",null,null,"Admisiones totales mujeres mayores (D = B   C)",{"$f":"SUM(E197+E199)","v":0}]
[null,null,null,"Casos antiguos (derivados de OTP, personas que retoman el tratamiento, translados de otro centro de estabilización): hombres mayores (C1)",null,null,"salidas totales hombres mayores (H = E   G)",{"$f":"SUM(E200+E202+E204+E206+E208+E210)","v":0}]
[null,null,null,"Casos antiguos (derivados de OTP, personas que retoman el tratamiento, translados de otro centro de estabilización): Mujeres mayores (C2)",null,null,"salidas totales mujeres mayores (H = E   G)",{"$f":"SUM(E201,E203,E205,E207,E209,E211)","v":0}]
[null,null,"categorías de salida","Alta por curación: hombres mayores (E1)",null,null,"Total hombres mayores al final del (periodo de tiempo) (I = A   DH)",{"$f":"IF(ISBLANK(E194),\"\",E194+H196-H198)","v":""}]
[null,null,null,"Alta por curación: mujres mayores (E2)",null,null,"Total mujeres mayores al final del (periodo de tiempo) (I = A   DH)",{"$f":"IF(ISBLANK(E195),\"\",E195+H197-H199)","v":""}]
[null,null,null,"Altas por muerte: hombres mayores (E3)",null,null,"tasa altas por curación",{"$f":"IF(ISBLANK(E202),\"\",(E200+E201)/(H205))","v":""},"(Min Normas ESFERA.  75%)"]
[null,null,null,"Altas por muerte: mujeres mayores (E4)",null,null,"tasa altas por muerte",{"$f":"IF(ISBLANK(E203),\"\",(E202+ E203)/(H205))","v":""},"(Las normas de Esfera min. <3%)"]
[null,null,null,"Altas por abandano: hombres mayores (E5)",null,null,"tasa altas por abandono",{"$f":"IF(ISBLANK(E205),\"\",(E204+E205)/(H205))","v":""},"(Min Normas ESFERA. <15%)"]
[null,null,null,"Altas por abandono: mujeres mayores (E6)",null,null,"salidas totales (J = E   G)",{"$f":"IF(ISBLANK(E200),\"\",SUM(H198:H199))","v":""}]
[null,null,null,"Altas sin recuperación: hombres mayores (E7)",null,null,"Total al final del (período de tiempo) (K = A   DJ)",{"$f":"IF(ISBLANK(E194),\"\",E194+E195+H196+H197-H205)","v":""}]
[null,null,null,"Altas sin recuperación: mujeres mayores (E8)"]
[null,null,null,"Derivados a OTP / SC: hombres mayores (E9)"]
[null,null,null,"Derivados a OTP / SC: mujeres mayores (E10)"]
[null,null,null,"Otras transferencias: hombres mayores (G1)"]
[null,null,null,"Otras transferencias: mujeres mayores (G2)"]
[null,null,"Duración media de la estancia para altas por curación (en días)"]
[null,null,"Valor kcal de la ración suplementaria diaria (kcal / día)"]
[null,null,"Producto provisto"]
[]
["Programas de alimentación suplementaria general"]
[null,"Niños/as 6-23 meses","No. de niños 6-23m nuevos en el programa durante el (período de tiempo)",null,{"$f":"SUM(E218,E219)","v":0},null,"Cálculo automático Niños/as 6-23m"]
[null,null,"Niños",null,null,null,"Número medio de niños/as  6-23m  que participaron en la distribución durante el (periodo de tiempo) ",{"$f":"E220/E223","v":{"$error":"#DIV/0!"}}]
[null,null,"Niñas"]
[null,null,"Número total de niños/as 6-23m que asistieron a la distribución en este (periodo de tiempo) ",null,{"$f":"SUM(E221,E222)","v":0}]
[null,null,"Niños"]
[null,null,"Niñas"]
[null,null,"Número de distribuciones durante este (periodo de tiempo) "]
[null,null,"valor kcal de ración suplementaria diaria (kcal / día)"]
[null,null,"Producto provisto"]
[]
[null,"Niños/as 6-59 meses","No. de niños 6-59m nuevos en el programa durante el (período de tiempo)",null,{"$f":"SUM(E228,E229)","v":0},null,"Cálculo automático Niños/as 6-59m"]
[null,null,"Niños",null,null,null,"Número medio de niños/as 6-59m que participaron en la distribución durante el (periodo de tiempo) ",{"$f":"(E230/E233)","v":{"$error":"#DIV/0!"}}]
[null,null,"Niñas"]
[null,null,"Número total de niños/as 6-23m que asistieron a la distribución en este (periodo de tiempo) ",null,{"$f":"SUM(E231,E232)","v":0}]
[null,null,"Niños"]
[null,null,"Niñas"]
[null,null,null,"Número de distribuciones durante este (periodo de tiempo) "]
[null,null,"valor kcal de ración suplementaria diaria (kcal / día)"]
[null,null,"Producto provisto"]
[]
[null,"Mujeres embarazadas y lactantes","Número de mujeres embarazadas y lactantes recién inscritas durante el (período de tiempo)",null,null,null,"Cálculo automático MEL"]
[null,null,"Número total de mujeres embarazadas y lactantes que asistieron a la distribución en este (periodo de tiempo)",null,null,null,"Promedio de MEL que participaron en la distribución durante el (periodo de tiempo) ",{"$f":"(E238/E239)","v":{"$error":"#DIV/0!"}}]
[null,null,null,"Número de distribuciones durante este (periodo de tiempo)"]
[null,null,"valor kcal de ración suplementaria diaria (kcal / día)"]
[null,null,"Producto provisto"]
[]
[null,"Personas mayores (definición de país de \"persona mayor\" o ≥60 años) ","Nº de personas mayores de nuevo ingreso durante el (período de tiempo)",null,{"$f":"SUM(E244,E245)","v":0},null,"Cálculo automático Personas Mayores"]
[null,null,"Hombres mayores",null,null,null,"Promedio de personas mayores que participaron en la distribución durante el  (periodo de tiempo) ",{"$f":"(E246/E249)","v":{"$error":"#DIV/0!"}}]
[null,null,"Mujeres mayores"]
[null,null,"Número total de personas mayores que asistieron a la distribución en este (periodo de tiempo) ",null,{"$f":"SUM(E247,E248)","v":0}]
[null,null,"Hombres mayores"]
[null,null,"Mujeres mayores"]
[null,null,"Número de distribuciones durante este (periodo de tiempo) "]
[null,null,"valor kcal de ración suplementaria diaria (kcal / día)"]
[null,null,"Producto provisto"]
[]
["Suplementación de micronutrientes"]
[null,"Suplementos de vitamina A administrada a niños de 6-11 meses y 12-59 meses ",null,"Número total de niños/as de 6-11 meses que han recibido  Vit-A durante el (período de tiempo)",{"$f":"SUM(E255:E256)","v":0},null,"Cálculo automático niños/a s 6-11 meses que recibieron vit-A"]
[null,null,null,"Niños",null,null,"% niños ",{"$f":"IF(ISBLANK(E255),\"\",E255/E254)","v":""}]
[null,null,null,"Niñas",null,null,"% niñas",{"$f":"IF(ISBLANK(E256),\"\",E256/E254)","v":""}]
[null,null,null,"Número total de niños/as  de 12-59 meses que han recibido Vit-A durante el (período de tiempo)",{"$f":"SUM(E258:E259)","v":0},null,"Cálculos automático niños/as 12-59 meses que recibieron vit-A"]
[null,null,null,"Niños ",null,null,"% niños ",{"$f":"IF(ISBLANK(E258),\"\",E258/E257)","v":""}]
[null,null,null,"Niñas",null,null,"% niñas",{"$f":"IF(ISBLANK(E259),\"\",E259/E257)","v":""}]
[]
[null,"Suplementos de vitamina A administados a MEL",null,"Número total de mujeres embarazadas y  lactantes que han recibido  Vit-A durante el (período de tiempo)",{"$f":"SUM(E262:E263)","v":0},null,"Cálculo automático MEL que recibieron vit-A"]
[null,null,null,"Embarazadas",null,null,"% mujeres embarazadas",{"$f":"IF(ISBLANK(E262),\"\",E262/E261)","v":""}]
[null,null,null,"Lactantes",null,null,"% mujeres lactantes",{"$f":"IF(ISBLANK(E263),\"\",E263/E261)","v":""}]
[]
[null,"Suplementos de vitamina A administrados a personas mayores (definición de país de \"persona mayor\" o ≥ 60años)",null,"Número total de personas mayores que han recibido  Vit-A durante el (período de tiempo)",{"$f":"SUM(E266:E267)","v":0},null,"Cálculo automático personas mayores que recibieron vit-A"]
[null,null,null,"Hombres mayores",null,null,"% hombres mayores",{"$f":"IF(ISBLANK(E266),\"\",E266/E265)","v":""}]
[null,null,null,"Mujeres mayores",null,null,"% mujeres mayores",{"$f":"IF(ISBLANK(E267),\"\",E267/E265)","v":""}]
[]
[null,"Micronutrientes en Polvo (MNP) administrados a  niños/as de 6-24 meses (polvos)",null,"Número total de niños/as 6-24meses que han recibido  MNP durante el (período de tiempo)",{"$f":"SUM(E270:E271)","v":0},null,"Cálculo automático niños/as  6-24 meses que recibieron MNP"]
[null,null,null,"Niños",null,null,"% niños ",{"$f":"IF(ISBLANK(E270),\"\",E270/E269)","v":""}]
[null,null,null,"Niñas",null,null,"% niñas",{"$f":"IF(ISBLANK(E271),\"\",E271/E269)","v":""}]
[]
[null,"Comprimidos de micronutrientes (MNT) administrados a MEL",null,"Número total de mujeres embarazadas y lactantes que han recibido  MNT durante el (período de tiempo)"]
[]
[null,"Micronutrientes en Polvo / Espolvorear (MNP) dado a las personas mayores ",null,"Número total de personas mayores que han recibido  MNP durante el (período de tiempo)",{"$f":"SUM(E276:E277)","v":0},null,"Cálculo automático personas mayores que recibieron MNP"]
[null,null,null,"Hombres mayores",null,null,"% hombres mayores",{"$f":"IF(ISBLANK(E276),\"\",E276/E275)","v":""}]
[null,null,null,"Mujeres mayores",null,null,"% mujeres mayores",{"$f":"IF(ISBLANK(E277),\"\",E277/E275)","v":""}]
[]
[null,"Hierro y ácido fólico administrado a MEL",null,"Número total de mujeres embarazadas y lactantes que han recibido hierro y ácido fólico durante el (período de tiempo)"]
[]
[null,"Hierro y ácido fólico administrado a  personas mayores",null,"Número total de personas mayores que han recibido hierro y ácido fólico durante el (período de tiempo) ",{"$f":"SUM(E282,E283)","v":0},null,"Cálculo automático personas mayores suplementadas con hierro y ácido fólico"]
[null,null,null,"Hombres mayores",null,null,"% hombres mayores",{"$f":"IF(ISBLANK(E282),\"\",E282/E281)","v":""}]
[null,null,null,"Mujeres mayores",null,null,"% mujeres mayores",{"$f":"IF(ISBLANK(E283),\"\",E283/E281)","v":""}]
[]
["Desparasitación"]
[null,"Nº de niños de 12-59 meses desparasitados",null,"Número total de niños 12-59meses desparasitados durante el (período de tiempo)",{"$f":"SUM(E287:E288)","v":0},null," Cálculo automático niños/as 12-59meses desparasitados"]
[null,null,null,"Niños ",null,null,"% niños ",{"$f":"IF(ISBLANK(E287),\"\",E287/E286)","v":""}]
[null,null,null,"Niñas",null,null,"% niñas",{"$f":"IF(ISBLANK(E288),\"\",E288/E286)","v":""}]
[]
[null,"Número de mujeres embarazadas  y lactantes desparasitadas",null,"Número total de mujeres embarazadas y lactantes desparasitadas durante el (período de tiempo)"]
[]
[null,"Número de personas mayores desparasitadas",null,"Número total de personas mayores desparasitadas durante el (período de tiempo)",{"$f":"SUM(E293:E294)","v":0},null,"Cálculo automático personas mayores desparasitadas"]
[null,null,null,"Hombres mayores",null,null,"% hombres mayores",{"$f":"IF(ISBLANK(E293),\"\",E293/E292)","v":""}]
[null,null,null,"Mujeres mayores",null,null,"% mujeres mayores",{"$f":"IF(ISBLANK(E294),\"\",E294/E292)","v":""}]
[]
["Alimentación de lactantes y niños pequeños"]
[null,"Sesiones individuales (uno a uno)","Mujeres embarazadas que asistieron a sesiones de asesoramiento individual"]
[null,null,"Mujeres lactantes y cuidadores de niños/as <6 meses que asistieron a sesiones de asesoramiento individual",null,null,null,"Cálculo automático MEL y cuidadores que asistieron a la orientación individual"]
[null,null,"Mujeres lactantes y cuidadores de niños/as de 6-24 meses que asistieron a sesiones de asesoramiento individual",null,null,null,"Total",{"$f":"IF(ISBLANK(E298),\"\",SUM(E297:E299))","v":""}]
[null,"ALNP asesoramiento - Las sesiones de grupo","Número de grupos de ALNP (incluidos los grupos de apoyo de madres) en funcionamiento durante el (período de tiempo)"]
[null,null,"Número total de sesiones de grupo (incluidos los grupos de apoyo de madres) mantenidos en el (período de tiempo)"]
[null,null,"Nuevas admisiones de mujeres embarazadas y lactantes y cuidadores en grupos ALNP (incluidos los grupos de apoyo de madres) durante el (período de tiempo)",null,{"$f":"SUM(E303,E304)","v":0},null,"Cálculo automático MEL y cuidadores admitidos en grupos ALNP"]
[null,null,null,"Hombres",null,null,"% hombres ",{"$f":"IF(ISBLANK(E303),\"\",E303/E302)","v":""}]
[null,null,null,"Mujeres",null,null,"% mujeres",{"$f":"IF(ISBLANK(E303),\"\",E304/E302)","v":""}]
[null,null,null,"Número total de mujeres embarazadas y lactantes y cuidadores que asistieron a grupos de ALNP (incluidos los grupos de apoyo de madres) durante el (período de tiempo)",{"$f":"SUM(E306,E307)","v":0}]
[null,null,null,"Hombres"]
[null,null,"Mujeres"]
[null,"alimentación artificial","Número total de lactantes de 0-6 meses que requieren alimentación artificial que han recibido BMS y apoyo apropiado durante el (período de tiempo)",null,null,null,"Nota: las sesiones de asesoramiento ALNP incluyen el inicio temprano de la lactancia materna exclusiva, el contacto piel a piel, relaction, alimentación complementaria, los suplementos de micronutrientes, el VIH y la alimentación infantil, el uso apropiado de BMS, etc ..."]
[null,null,"Número total de lactantes de 6-24 meses de edad que requieren alimentación artificial que han recibido BMS y apoyo apropiado durante el (período de tiempo)"]
[null,"La lactancia materna esquinas / espacios amigos de los niños","Número total de rincones para la lactancia materna / espacios que promueven la lactancia materna abiertos durante el (período de tiempo)"]
[null,null,"Número de rincones para la lactancia materna / espacios que promueven la lactancia materna en funcionamiento durante el (período de tiempo)"]
[null,null,"Nuevas admisiones de madres lactantes durante el (período de tiempo)"]
[null,null,"Número total de mujeres lactantes que asistieron a los rincones para la lactancia materna / espacios que promueven la lactancia materna durante el (período de tiempo)"]
[]
["Desarrollo de capacidades"]
[null,null,"Type/Topic of Training"]
[null,"Entrenamiento en MUAC,  detección, derivación y movilización de la comunidad",null,"Tipo de formación",null,null,"Nº de formaciones"]
[null,null,null,"Categoría principal del personal formado",null,null,"De qué agencia / s"]
[null,null,null,"Hombres",null,null,"Número de días"]
[null,null,null,"Mujeres"]
[null,null,null,"Comentarios"]
[]
[null,null,"Type/Topic of Training",null,null,null,"Automatic calculations Training 2"]
[null,"Formación sobre la gestión integrada de la desnutrición aguda (IMAM): SAM / TF (pacientes hospitalizados)",null,"Tipo de formación",null,null,"Nº de formaciones"]
[null,null,null,"Categoría principal del personal formado",null,null,"De qué agencia / s"]
[null,null,null,"Hombres",null,null,"Número de días"]
[null,null,null,"Mujeres"]
[null,null,null,"Comentarios"]
[]
[null,null,"Type/Topic of Training",null,null,null,"Automatic calculations Training 3"]
[null,"Formación sobre la gestión integrada de la desnutrición aguda (IMAM): SAM / TF (pacientes ambulatorios)",null,"Tipo de formación",null,null,"Nº de formaciones"]
[null,null,null,"Categoría principal del personal formado",null,null,"De qué agencia / s"]
[null,null,null,"Hombres",null,null,"Número de días"]
[null,null,null,"Mujeres"]
[null,null,null,"Comentarios"]
[]
[null,null,"Type/Topic of Training",null,null,null,"Automatic calculations Training 4"]
[null,"Formación sobre la gestión integrada de la desnutrición aguda (IMAM): MAM / TSFP",null,"Tipo de formación",null,null,"Nº de formaciones"]
[null,null,null,"Categoría principal del personal formado",null,null,"De qué agencia / s"]
[null,null,null,"Hombres",null,null,"Número de días"]
[null,null,null,"Mujeres"]
[null,null,null,"Comentarios"]
[]
[null,"Formación sobre alimentación infantil",null,"Tipo de formación",null,null,"Nº de formaciones"]
[null,null,null,"Categoría principal del personal capacitado",null,null,"De qué agencia / s"]
[null,null,null,"Hombres",null,null,"Número de días"]
[null,null,null,"Mujeres"]
[null,null,null,"Comentarios"]
[]
[null,"Formación sobre encuesta de SMART",null,"Tipo de formación",null,null,"Nº de formaciones"]
[null,null,null,"Categoría principal del personal formado",null,null,"De qué agencia / s"]
[null,null,null,"Hombres",null,null,"Número de días"]
[null,null,null,"Mujeres"]
[null,null,null,"Comentarios"]
[]
[null,"Formación de preparación y respuesta a emergencias",null,"Tipo de formación",null,null,"Nº de formaciones"]
[null,null,null,"Categoría principal del personal formado",null,null,"De qué agencia / s"]
[null,null,null,"Hombres",null,null,"Número de días"]
[null,null,null,"Mujeres"]
[null,null,null,"Comentarios"]
[]
[null,"Formación sobre el enfoque de clústeres",null,"Tipo de formación",null,null,"Nº de formaciones"]
[null,null,null,"Categoría principal del personal formado",null,null,"De qué agencia / s"]
[null,null,null,"Hombres",null,null,"Número de días"]
[null,null,null,"Mujeres"]
[null,null,null,"Comentarios"]
[]
["Comentarios"]
[null,"Cualquier comentario sobre programas, lagunas o preocupaciones"]

{"sheet":"Site2","index":3,"n_rows":369,"n_cols":26,"rows_kept":369,"cut":false,"hidden":false,"merged":[[368,1,385,1],[368,2,385,8],[355,1,359,2],[355,6,355,7],[356,6,356,7],[357,6,357,7],[359,4,359,8],[361,1,365,2],[361,6,361,7],[362,6,362,7],[363,6,363,7],[365,4,365,8],[343,1,347,2],[343,6,343,7],[344,6,344,7],[345,6,345,7],[347,4,347,8],[349,1,353,2],[349,6,349,7],[350,6,350,7],[351,6,351,7],[353,4,353,8],[336,2,336,3],[336,6,336,7],[337,1,341,2],[337,6,337,7],[338,6,338,7],[339,6,339,7],[341,4,341,8],[329,2,329,3],[329,6,329,7],[330,1,334,2],[330,6,330,7],[331,6,331,7],[332,6,332,7],[334,4,334,8],[322,2,322,3],[322,6,322,7],[323,1,327,2],[323,6,323,7],[324,6,324,7],[325,6,325,7],[327,4,327,8],[314,0,314,3],[315,2,315,3],[316,1,320,2],[316,6,316,7],[317,6,317,7],[318,6,318,7],[320,4,320,8],[307,1,308,1],[307,2,307,3],[307,6,308,8],[308,2,308,3],[309,1,312,1],[309,2,309,3],[310,2,310,3],[311,2,311,3],[312,2,312,3],[299,1,306,1],[299,2,299,3],[300,2,300,3],[301,2,301,3],[301,6,301,7],[306,2,306,3],[295,0,295,3],[296,1,298,1],[296,2,296,3],[297,2,297,3],[297,6,297,7],[298,2,298,3],[284,0,284,3],[285,1,287,2],[285,6,285,7],[289,1,289,2],[291,1,293,2],[291,6,291,7],[272,1,272,2],[274,1,276,2],[274,6,274,7],[278,1,278,2],[280,1,282,2],[280,6,280,7],[260,1,262,2],[260,6,260,7],[264,1,266,2],[264,6,264,7],[268,1,270,2],[268,6,268,7],[248,2,248,3],[249,2,249,3],[250,2,250,3],[252,0,252,3],[253,1,258,2],[253,6,253,7],[256,6,256,7],[239,2,239,3],[240,2,240,3],[242,1,248,1],[242,2,242,3],[242,6,242,7],[243,2,243,3],[244,2,244,3],[245,2,245,3],[246,2,246,3],[247,2,247,3],[233,2,233,3],[234,2,234,3],[236,1,238,1],[236,2,236,3],[236,6,236,7],[237,2,237,3],[223,2,223,3],[224,2,224,3],[226,1,234,1],[226,2,226,3],[226,6,226,7],[227,2,227,3],[228,2,228,3],[229,2,229,3],[230,2,230,3],[231,2,231,3],[215,0,215,3],[216,1,224,1],[216,2,216,3],[216,6,216,7],[217,2,217,3],[218,2,218,3],[219,2,219,3],[220,2,220,3],[221,2,221,3],[222,2,222,3],[193,1,213,1],[193,2,193,3],[194,2,194,3],[194,6,194,7],[195,2,198,2],[199,2,210,2],[211,2,211,3],[212,2,212,3],[213,2,213,3],[180,1,191,1],[180,2,180,3],[180,6,180,7],[181,2,182,2],[183,2,188,2],[189,2,189,3],[190,2,190,3],[191,2,191,3],[157,0,157,3],[158,1,178,1],[158,2,158,3],[158,6,158,7],[159,2,159,3],[160,2,163,2],[164,2,175,2],[176,2,176,3],[177,2,177,3],[178,2,178,3],[135,1,136,1],[135,2,135,3],[136,2,136,3],[138,1,155,1],[138,2,138,3],[138,6,138,7],[139,2,139,3],[140,2,143,2],[144,2,155,2],[116,0,116,3],[117,1,134,1],[117,2,117,3],[117,6,117,7],[118,2,118,3],[119,2,122,2],[123,2,134,2],[81,1,96,1],[81,2,81,3],[81,6,81,7],[87,2,96,2],[98,1,115,1],[98,2,98,3],[98,6,98,7],[99,2,99,3],[100,2,103,2],[104,2,115,2],[52,1,58,1],[52,2,56,2],[61,0,61,3],[62,1,79,1],[62,2,62,3],[62,6,62,7],[63,2,63,3],[64,2,67,2],[68,2,79,2],[28,1,34,1],[28,2,32,2],[37,1,42,1],[37,2,40,2],[37,6,37,7],[44,1,50,1],[44,2,48,2],[44,6,44,7],[15,1,15,3],[17,1,17,3],[19,0,19,3],[20,1,26,1],[20,2,24,2],[20,6,20,7],[8,1,8,3],[9,1,9,3],[10,1,10,3],[13,1,13,3],[13,6,13,8],[14,1,14,3],[0,0,0,3],[1,0,1,2],[2,1,2,3],[5,1,5,3],[6,1,6,3],[7,1,7,3]]}
["Formulario para la presentación de informes por los socios",null,null,null,null,null,null,null,null,null,null,null,"Localidad","Nilo Alto","Jonglei","Unidad","Warrap","Bahr el Ghazal norte","Bahr el Ghazal Occidental","Lagos","Ecuatoria occidental","Equatoria central","Equatoria Oriental","Mes","Temas de la formación","Tipo de formación"]
["Información general",null,null,null,null,null,null,null,null,null,null,null,"Nilo Alto","Renk","Fangak","Pariang","Abyei","Aweil_Norte","Raga","Cueibet","Tambura","Terekeka","Torit","Enero","Examen con MUAC y derivaciones","Nuevo"]
[null,"Acrónimo de la agencia",null,null,null,null,null,null,null,null,null,null,"Jonglei","Manyo","Canal_Khor_Fulus","Abiemnhom","Twic","Aweil_este","Jur_River","Rumbek_Norte","Nagero","Juba","Lapon","Febrero","Protocolos para pacientes ambulatorios","Repaso"]
[null,null,null,"Nombre de la agencia",{"$f":"VLOOKUP(E3,Lists!A2:B200,2,FALSE)","v":{"$error":"#N/A"}}]
[null,null,null,"Semana del informe "]
[null,"Mes del informe:",null,null,null,null,null,null,null,null,null,null,"Unidad","Fashoda","Ayod","Mayom","Gogrial_occidental","Aweil_Sur","Wau","Rumbek_Centro","Nzara","Lainya","Kapoeta_Norte","Marzo","Protocolos para pacientes hospitalizados"]
[null,"Año del informe",null,null,null,null," ",null,null,null,null,null,"Warrap","Melut","Duk","Rubkona","Gogrial_este","Aweil_oeste",null,"Wulu","Ezo","Yei","Kapoeta_este","Abril","Protocolos para programas de alimentación suplementaria"]
[null,"Fecha de presentación del informe (DD / MM / AA)",null,null,null,null,null,null,null,null,null,null,"Bahr_el_Ghazal_norte","Maban","Uror","Guit","Tonj_Norte","Aweil_Centro",null,"Rumbek_este","Yambio","Morobo","Kapoeta_Sur","Mayo","Movilización comunitaria"]
[null,"Nivel administrativo 1",null,"Nivel administrativo 1",null,null,"P-Code Nivel Admin 1",{"$f":"INDEX(admin1pcode,MATCH(E9,admin1,0))","v":{"$error":"#N/A"}}]
[null,"Nivel administrativo 2",null,null,null,null,"P-Code nivel admin 2",{"$f":"INDEX(admin2pcode,MATCH(E10,admin2,0))","v":{"$error":"#N/A"}},null,null,null,null,"Lagos","Luakpiny_Nasir","Akobo","Leer","Tonj_Sur",null,null,"Yirol_este","Maridi",null,"Ikotos","Julio","Otros (por favor, especificar en la sección de comentarios)"]
[null,"Nivel administrativo 3",null,null,null,null,"P-Code nivel Admin 3",{"$f":"INDEX(admin3pcode,MATCH(E11,admin3,0))","v":{"$error":"#N/A"}},null,null,null,null,"Ecuatoria Occidental","Longochuk","Pochalla","Mayendit",null,null,null,"Awerial","Mvolo",null,"Magwi","Agosto"]
[null,null,null,"Nivel administrativo 4",null,null,"P-Code nivel admin 4",{"$f":"INDEX(admin4pcode,MATCH(E12,admin4,0))","v":{"$error":"#N/A"}}]
[null,null,null,"Nivel administrativo 5",null,null,"P-Code nivel administrativo 5",{"$f":"INDEX(admin5pcode,MATCH(E13,admin5,0))","v":{"$error":"#N/A"}}]
[null,"¿Se ha utilizado criterios expandidos de admisión ?",null,null,null,null,null,null,null,null,null,null,"Ecuatoria Central","Ulang","Pibor","Panyijar",null,"N/A","Operacional","No operacional","Mundri_oeste",null,null,"Septiembre"]
[null,"Centros de estabilización (SC)",null,null,null,null,"Estado del sitio",null,null,null,null,null,"Ecuatoria oriental","Baliet","Twic_este",null,null,null,null,"Sí","No",null,null,"Octubre"]
[null,"Pacientes ambulatorios centros terapéuticos (OTP)",null,null,null,null,"Estado del sitio",null,null,null,null,null,null,"Malakal","Bor_Sur",null,null,null,null,null,null,null,null,"Noviembre"]
[null,null,null,"Sitios de tratamiento a nivel comunitario (BSFPs)",null,null,"Estado del sitio",null,null,null,null,null,null,"Panyikang",null,null,null,null,null,null,null,null,null,"Diciembre"]
[null,"Sitios de alimentación suplementaria (TSFPs)",null,null,null,null,"Estado del sitio"]
[]
["Diagnóstico y derivaciones"]
[null,"Niños 6-59 meses","Revisión \n(mediciones MUAC)","Número examinados",{"$f":"SUM(E22:E25)","v":0},null,"Cálculo automático exámen y derivaciones"]
[null,null,null,"Nº de niños con edema bilateral",null,null,"No. total. (Niños+Niñas) examinados",{"$f":"IF(ISBLANK(E21),(IF(ISBLANK(E29),\"\",E21+E29)),E21+E29)","v":0}]
[null,null,null,"Nº de niños con MUAC rojo (<11.5 cm)",null,null,"No. total. (Niños+niñas) edema",{"$f":"IF(ISBLANK(E22),(IF(ISBLANK(E30),\"\",E22+E30)),E22+E30)","v":""}]
[null,null,null,"Nº de niños 6-59m con MUAC amarillo (≥ 11,5 cm a <12,5 cm)",null,null,"No. total. (Niños+Niñas) Rojo",{"$f":"IF(ISBLANK(E23),(IF(ISBLANK(E31),\"\",E23+E31)),E23+E31)","v":""}]
[null,null,null,"Nº de niños 6-59m con MUAC verde (≥ 12,5 cm)",null,null,"No. total. (Niños+Niñas) Amarillo",""]
[null,null,"Derivaciones","Nº de niños 6-59m derivados a OTP",null,null,"No. total. (Niños+Niñas) Verde",""]
[null,null,null,"Nº de niños 6-59m derivados a TSFP",null,null,"No. total. (Niños+Niñas) derivados a OTP",{"$f":"IF(ISBLANK(E26),(IF(ISBLANK(E34),\"\",E26+E34)),E26+E34)","v":""}]
[null,null,null,null,null,null,"No. total. (Niños+ niñas) derivados a TSFP",""]
[null,"Niñas 6-59 meses","Revisión \n(mediciones MUAC)","Número examinadas",{"$f":"SUM(E30:E33)","v":0},null,"% de niños+niñas con edema",{"$f":"IF(ISBLANK(E21),(IF(ISBLANK(E29),\"\",H23/H22)),H23/H22)","v":{"$error":"#VALUE!"}}]
[null,null,null,"Nº de niñas con edema bilateral",null,null,"% de (Niños+Niñas) Rojo",{"$f":"IF(ISBLANK(E21),(IF(ISBLANK(E29),\"\",H24/H22)),H24/H22)","v":{"$error":"#VALUE!"}}]
[null,null,null,"Nº de niñas 6-59m con MUAC rojo (<11.5 cm)",null,null,"(% De los muchachos de las muchachas  ) Amarillo",{"$f":"IF(ISBLANK(E21),(IF(ISBLANK(E29),\"\",H25/H22)),H25/H22)","v":{"$error":"#VALUE!"}}]
[null,null,null,"Nº de niñas 6-59m con MUAC amarillo (≥ 11,5 cm a <12,5 cm)",null,null,"(% De los muchachos de las muchachas  ) verde",{"$f":"IF(ISBLANK(E21),(IF(ISBLANK(E29),\"\",H26/H22)),H26/H22)","v":{"$error":"#VALUE!"}}]
[null,null,null,"Nº de niñas 6-59m con MUAC verde (≥ 12,5 cm)",null,null,"(% De los muchachos   Girls) se refirió a la PTF",{"$f":"IF(ISBLANK(E21),(IF(ISBLANK(E29),\"\",H27/H22)),H27/H22)","v":{"$error":"#VALUE!"}}]
[null,null,"Derivaciones","Nº de Niñas 6-59m derivadas a OTP",null,null,"% De los muchachos ( ) Las niñas que se refiere TSFP",{"$f":"IF(ISBLANK(E21),(IF(ISBLANK(E29),\"\",H28/H22)),H28/H22)","v":{"$error":"#VALUE!"}}]
[null,null,null,"Nº de niñas 6-59m derivadas a TSFP"]
[]
[]
[null,"Mujeres embarazadas y lactantes","Revisión \n(mediciones MUAC)","Número examinadas",{"$f":"SUM(E39:E41)","v":0},null,"Cálculos automáticos MEL"]
[null,null,null,"Número de mujeres embarazadas y lactantes con MUAC <21.0 cm",null,null,"% MUAC <21.0 cm",{"$f":"IF(ISBLANK(E39),\"\",E39/E38)","v":""}]
[null,null,null,"Número de mujeres embarazadas y lactantes con MUAC ≥21.0 cm a 23.0 cm <",null,null,"MUAC% ≥21.0 cm a <23,0 cm",{"$f":"IF(ISBLANK(E40),\"\",E40/E38)","v":""}]
[null,null,null,"Número de mujeres embarazadas y lactantes con MUAC ≥23.0 cm",null,null,"MUAC% ≥23.0 cm",{"$f":"IF(ISBLANK(E41),\"\",E41/E38)","v":""}]
[null,null,"Derivaciones","Número de mujeres embarazadas y lactantes derivadas a OTP",null,null,"%  mujeres embarzadas y lactantes derivadas a OTP",{"$f":"IF(ISBLANK(E42),\"\",E42/E38)","v":""}]
[null,null,null,"Número de mujeres embarazadas y lactantes derivadas a TSFP",null,null,"% mujeres embarazadas  y lactantes derivadas a TSFP",{"$f":"IF(ISBLANK(E43),\"\",E43/E38)","v":""}]
[]
[null,"Personas mayores\nhombres\n(definición de país de \"persona mayor\" o ≥ 60años)","Revisión \n(mediciones MUAC)","Número examinados: Hombres",{"$f":"SUM(E46:E49)","v":0},null,"Cálculo automático exámen y derivaciones"]
[null,null,null,"Nº de hombres mayoures con edema bilateral",null,null,"No. total. (Hombres mayores+mujeres mayores) examinados",{"$f":"IF(ISBLANK(E45),(IF(ISBLANK(E53),\"\",E45+E53)),E45+E53)","v":0}]
[null,null,null,"Nº de hombres mayores con MUAC <18,5 cm",null,null,"No. total. (Hombres mayores+mujers mayores) edema",{"$f":"IF(ISBLANK(E46),(IF(ISBLANK(E54),\"\",E46+E54)),E46+E54)","v":""}]
[null,null,null,"Nº de hombres mayoures con MUAC ≥18.5 cm a 21.0 cm <",null,null,"No. total. (hombres mayores+mujeres mayores ) con MUAC <18,5 cm",""]
[null,null,null,"Nº de hombres mayores con MUAC ≥21.0 cm",null,null,"No. total. (hombres mayores+mujeres mayores) con MUAC ≥18.5 cm a <21,0 cm",""]
[null,null,"Derivaciones","Nº de hombres mayores derivados a OTP",null,null,"Nº total de (hombres mayores+mujeres mayores) con MUAC ≥21.0 cm",""]
[null,null,null,"Nº de hombres mayores derivados a TSFP",null,null,"No. total. (hombres mayores+mujeres mayores) derivados a OTP",""]
[null,null,null,null,null,null,"No. total. ((hombres mayores+mujeres mayores) derivados a TSFP",""]
[null,"Personas mayores\nMujeres\n (definición de país de \"persona mayor\" o ≥ 60y)","Revisión \n(mediciones MUAC)","Número examinadas: Mujeres",{"$f":"SUM(E54:E57)","v":0},null,"% De edema (hombres mayores+mujeres mayores)",{"$f":"IF(ISBLANK(E45),(IF(ISBLANK(E53),\"\",H47/H46)),H47/H46)","v":{"$error":"#VALUE!"}}]
[null,null,null,"Nº mujeres mayores con edema bilateral",null,null,"% De (  hombres mayores+mujeres mayores) con MUAC <18,5 cm",{"$f":"IF(ISBLANK(E45),(IF(ISBLANK(E53),\"\",H48/H46)),H48/H46)","v":{"$error":"#VALUE!"}}]
[null,null,null,"Nº mujeres mayores con MUAC <18,5 cm",null,null,"% De ( hombres mayores+mujeres mayores) con MUAC ≥18.5 cm a <21.0 cm ",{"$f":"IF(ISBLANK(E45),(IF(ISBLANK(E53),\"\",H49/H46)),H49/H46)","v":{"$error":"#VALUE!"}}]
[null,null,null,"Nº  mujeres mayores con MUAC ≥18.5 cm a <21.0 cm ",null,null,"% De ( hombres mayores+mujeres mayores) con MUAC ≥21.0 cm",{"$f":"IF(ISBLANK(E45),(IF(ISBLANK(E53),\"\",H50/H46)),H50/H46)","v":{"$error":"#VALUE!"}}]
[null,null,null,"Nº mujeres mayoures con MUAC ≥21.0 cm",null,null,"% De (hombres mayores+mujeres mayores) derivados a OTP",{"$f":"IF(ISBLANK(E45),(IF(ISBLANK(E53),\"\",H51/H46)),H51/H46)","v":{"$error":"#VALUE!"}}]
[null,null,"Derivaciones","Nº mujeres mayores derivadas a OTP",null,null,"% De (hombres mayores+mujeres mayores) derivados a TSFP",{"$f":"IF(ISBLANK(E45),(IF(ISBLANK(E53),\"\",H52/H46)),H52/H46)","v":{"$error":"#VALUE!"}}]
[null,null,null,"Nº mujeres mayores derivadas a TSFP"]
[]
[]
["Gestión de la desnutrición aguda grave, para pacientes hospitalizados"]
[null,"Niños 6-59 meses","Final total del último período de tiempo: Niños (A1)",null,null,null,"Cálculo automático Niños/as 6-59m"]
[null,null,"Final total del último período de tiempo: Niñas (A2)",null,null,null,"Total admisión niños (D = B   C)",{"$f":"SUM(E65,E67)","v":0}]
[null,null,"categorías de entrada","Nuevas admisiones: niños (B1)",null,null,"Total admisión niñas (D = B   C)",{"$f":"SUM(E66,E68)","v":0}]
[null,null,null,"Nuevas admisiones: niñas (B2)",null,null,"Total Salidas Boys (H = E   F   G)",{"$f":"SUM(E69+E71+E73+E75+E77+E79)","v":0}]
[null,null,null,"Casos antiguos (derivados de OTP, personas que retoman el tratamiento, translados de otro centro de estabilización) : Niños (C1)",null,null,"Total Salidas niñas (H = E   F   G)",{"$f":"SUM(E70+E72+E74+E76+E78+E80)","v":0}]
[null,null,null,"Casos antiguos (derivados de OTP, personas que retoman el tratamiento, translados de otro centro de estabilización): Niñas (C2)",null,null,"Total al final del (periodo de tiempo) Niños (I = A   DH)",{"$f":"E63+H64-H66","v":0}]
[null,null,"categorías de salida","Pacientes hospitalizados estabilizados y referidos a OTP: niños (E1)",null,null,"Total al final del (periodo de tiempo) Niñas (I = A   DH)",{"$f":"SUM(E64+H65-H67)","v":0}]
[null,null,null,"Pacientes hospitalizados estabilizados y referidos a OTP: niñas (E2)",null,null,"tasa de altas por curación",{"$f":"IF(ISBLANK(E70),\"\",(E71+E72)/(H73))","v":""},"(Min  Normas ESFERA. > 75%)"]
[null,null,null,"Alta por curación (casos especiales que terminan tratamiento): niños (F1)",null,null,"tasa de altas por muerte",{"$f":"IF(ISBLANK(E71),\"\",(E73 + E74)/(H73))","v":""},"(Min  Normas ESFERA.  <10%)"]
[null,null,null,"Alta por curación (casos especiales que terminan tratamiento): niñas (F2)",null,null,"tasa de alta por abandono",{"$f":"IF(ISBLANK(E73),\"\",(E75 + E76)/(H73))","v":""},"(Min  Normas ESFERA. <15%)"]
[null,null,null,"Altas por muerte: niños (F3)",null,null,"salidas totales (J = E   F   G)",{"$f":"IF(ISBLANK(E69:E80),\"\",SUM(H66,H67))","v":""}]
[null,null,null,"Altas por muerte: niñas (F4)",null,null,"Total al final del (período de tiempo) (K = A   DJ)",{"$f":"IF(ISBLANK(E63),\"\",E63+E64+H64+H65-H73)","v":""}]
[null,null,null,"Altas por abandono: niños (F5)"]
[null,null,null,"Altas por abandono: niñas (F6)"]
[null,null,null,"Altas sin curación: niños (F7)"]
[null,null,null,"Altas sin curación: niñas (F8)"]
[null,null,null,"Otras transferencias: niños (G1)"]
[null,null,null,"Otras transferencias: niñas (G2)"]
[]
[null,"Niños <6 meses","Final total del útimo (período de tiempo): niños (A1)",null,null,null,"Cálculo automático niños/as <6m"]
[null,null,null,"Final total del último (período de tiempo): niñas (A2)",null,null,"Total admisiones niños (D = B   C)",{"$f":"SUM(E84,E86)","v":0}]
[null,null,"categorías de entrada","Nuevas admisiones: niños (B1)",null,null,"Total admisiones niñas (D = B   C)",{"$f":"SUM(E85,E87)","v":0}]
[null,null,null,"Nuevas admisiones: niñas (B2)",null,null," Total salidas niños (H = F   G)",{"$f":"SUM(E88+E90+E92+E94+E96+E98)","v":0}]
[null,null,null,"Casos antiguos (derivados de OTP, personas que retoman el tratamiento, translados de otro centro de estabilización) : Niños (C1)",null,null,"Total salidas niñas (H = F   G)",{"$f":"SUM(E89+E91+E93+E95+E97)","v":0}]
[null,null,null,"Casos antiguos (derivados de OTP, personas que retoman el tratamiento, translados de otro centro de estabilización): Niñas (C2)",null,null,"Total niños al final del (periodo de tiempo) (I = A   DH)",{"$f":"E82+H83-H85","v":0}]
[null,null,"categorías de salida","Alta por curación (casos especiales que terminan tratamiento): niños (F1)",null,null,"Total niñas al final del (periodo de tiempo) (I = A   DH)",{"$f":"SUM(E83+H84-H86)","v":0}]
[null,null,null,"Alta por curación (casos especiales que terminan tratamiento): niñas (F2)",null,null,"tasas altas por curación",{"$f":"IF(ISBLANK(E89),\"\",(E89+E88)/(H92))","v":""},"(Min  Normas ESFERA. > 75%)",null,null,null,0.13043478260869565]
[null,null,null,"Altas por muerte: niños (F3)",null,null,"tasa alta por muerte",{"$f":"IF(ISBLANK(E90),\"\",(E90 + E91)/(H92))","v":""},"(Min  Normas ESFERA. <10%)"]
[null,null,null,"Altas por muerte: niñas (F4)",null,null,"tasa alta por abandono",{"$f":"IF(ISBLANK(E92),\"\",(E92 + E93)/(H92))","v":""},"(Min  Normas ESFERA.  <15%)"]
[null,null,null,"Altas por abandono: niños (F5)",null,null,"salidas totales (J = F   G)",{"$f":"IF(ISBLANK(E88:F99),\"\",SUM(H85,H86))","v":0}]
[null,null,null,"Altas por abandono: niñas (F6)",null,null,"Total al final del (período de tiempo) (K = A   DJ)",{"$f":"IF(ISBLANK(E82),\"\",E82+E83+H83+H84-H92)","v":""}]
[null,null,null,"Altas sin curación: niños (F7)"]
[null,null,null,"Altas sin curación: niñas (F8)"]
[null,null,null,"Otras transferencias: niños (G1)"]
[null,null,null,"Otras transferencias: niñas (G2)"]
[]
[null,"Personas mayores (definición de país de \"persona mayor\" o  ≥60años)","Final total del último (período de tiempo): hombres mayores (A1)",null,null,null,"Cálculo automático Personas Mayores"]
[null,null,"Final total del último (período de tiempo): mujeres mayores (A2)",null,null,null,"admisiones totales hombres mayores (D = B   C)",{"$f":"SUM(E101+E103)","v":0}]
[null,null,"categorías de entrada","Nuevas admisiones: Hombres Mayores (B1)",null,null,"Admisiones totales mujeres mayores (D = B   C)",{"$f":"SUM(E102+E104)","v":0}]
[null,null,null,"Nuevas admisiones: mujeres mayores (B2)",null,null,"salidas totales hombres mayores (H = E   F   G)",{"$f":"E105+E107+E109+E111+E113+E115","v":0}]
[null,null,null,"Casos antiguos (derivados de OTP, personas que retoman el tratamiento, translados de otro centro de estabilización): hombres mayores (C1)",null,null,"salidas totales Mayor femenino (H = E   F   G)",{"$f":"E106+E108+E110+E112+E114+E116","v":0}]
[null,null,null,"Casos antiguos (derivados de OTP, personas que retoman el tratamiento, translados de otro centro de estabilización): mujeres mayores (C2)",null,null,"Total al final del (periodo de tiempo) varones de más edad (I = A   DH)",{"$f":"IF(ISBLANK(E99),\"\",E99+H100-H102)","v":""}]
[null,null,"categorías de salida","Pacientes hospitalizados estabilizados y referidos a OTP: hombres mayores (E1)",null,null,"Total al final del (periodo de tiempo) Mayor Femenino (I = A   DH)",{"$f":"IF(ISBLANK(E100),\"\",E100+H101-H103)","v":""}]
[null,null,null,"Pacientes hospitalizados estabilizados y referidos a OTP: mujeres mayores (E2)",null,null,"tasas curados descargadas",{"$f":"IF(ISBLANK(E106),\"\",(E107+E108)/(H109))","v":""},"(Min  Normas ESFERA. > 75%)"]
[null,null,null,"Alta por curación (casos especiales que terminan tratamiento): hombres mayores (F1)",null,null,"tasa muerto descargada",{"$f":"IF(ISBLANK(E107),\"\",(E109 + E110)/(H109))","v":""},"(Min  Normas ESFERA. <10%)"]
[null,null,null,"Alta por curación (casos especiales que terminan tratamiento): mujeres mayores (F2)",null,null,"tasa omitido descargada",{"$f":"IF(ISBLANK(E109),\"\",(E111 + E111)/(H103+H102))","v":""},"(Min  Normas ESFERA. <15%)"]
[null,null,null,"Altas por muerte: hombres mayores (F3)",null,null,"salidas totales (J = E   F   G)",{"$f":"IF(ISBLANK(E105:F116),\"\",SUM(H102,H103))","v":0}]
[null,null,null,"Altas por muerte: mujeres mayores (F4)",null,null,"Total al final del (período de tiempo) (K = A   DJ)",{"$f":"IF(ISBLANK(E99),\"\",E99+E100+H100+H101-H109)","v":""}]
[null,null,null,"Altas por abandono:hombres mayores (F5)"]
[null,null,null,"Altas por abandono: mujeres mayores (F6)"]
[null,null,null,"Altas sin curación: hombres mayores (F7)"]
[null,null,null,"Altas sin curación: mujeres mayores (F8)"]
[null,null,null,"Otras transferencias: hombres mayores (G1)"]
[null,null,null,"Otras transferencias: mujeres mayores (G2)"]
["Gestión de la desnutrición aguda grave, para pacientes ambulatorios"]
[null,"Niños 6-59 meses","Final total del último (período de tiempo): niños (A1)",null,null,null,"Cálculo automático Niños/as 6-59m"]
[null,null,"Final total del último (período de tiempo): niñas (A2)",null,null,null,"Total admisiones  niños (D = B   C)",{"$f":"SUM(E122+E120)","v":0}]
[null,null,"categorías de entrada","Nuevas admisiones: niños(B1)",null,null,"Total admisiones niñas (D = B   C)",{"$f":"SUM(E121+E123)","v":0}]
[null,null,null,"Nuevas admisiones: niñas (B2)",null,null,"Total salidas niños (H = F   G)",{"$f":"SUM(E124+E126+E128+E130+E132+E134)","v":0}]
[null,null,null,"Casos antiguos (derivados de OTP, personas que retoman el tratamiento, translados de otro centro de estabilización) : Niños (C1)",null,null,"Total salidas niñas (H = F   G)",{"$f":"SUM(E125+E127+E129+E131+E133+E135)","v":0}]
[null,null,null,"Casos antiguos (derivados de OTP, personas que retoman el tratamiento, translados de otro centro de estabilización): Niñas (C2)",null,null,"Total niños al final del (periodo de tiempo) (I = A   DH)",{"$f":"IF(ISBLANK(E118),\"\",E118+H119-H121)","v":""}]
[null,null,"categorías de salida","Alta por curación: niños (F1)",null,null,"Total niñas al final del (periodo de tiempo) (I = A   DH)",{"$f":"IF(ISBLANK(E119),\"\",E119+H120-H122)","v":""}]
[null,null,null,"Altas por curación: niñas (F1)",null,null,"tasas altas por curación",{"$f":"IF(ISBLANK(E124),\"\",(E124+E125)/(H128))","v":""},"(Min Normas ESFERA. > 75%)"]
[null,null,null,"Altas por muerte: niños (F2)",null,null,"tasa altas por muerte",{"$f":"IF(ISBLANK(E126),\"\",(E126 + E127)/(H128))","v":""},"(Min Normas ESFERA. <10%)"]
[null,null,null,"Altas por muerte: niñas (F2)",null,null,"tasa altas por abandono",{"$f":"IF(ISBLANK(E128),\"\",(E128 + E129)/(H122+H121))","v":""},"(Min Normas ESFERA.  <15%)"]
[null,null,null,"Altas por abandono: niños (F3)",null,null,"salidas totales (J = F   G)",{"$f":"IF(ISBLANK(E124:E135),\"\",SUM(H121,H122))","v":""}]
[null,null,null,"Altas por abandono: niñas (F3)",null,null,"Total al final del (período de tiempo) (K = A   DJ)",{"$f":"IF(ISBLANK(E118),\"\",E118+E119+H119+H120-H128)","v":""}]
[null,null,null,"Altas sin curación: niños (F4)"]
[null,null,null,"Altas sin curación: niñas (F4)"]
[null,null,null,"Derivaciones a centros de estabilización: niños (F5)"]
[null,null,null,"Derivaciones a centros de estabilización: niñas (F6)"]
[null,null,null,"Otras transferencias: niños (G1)"]
[null,null,null,"Otras transferencias: niñas (G2)"]
[null,null,"Ganancia media diaria de peso (AWG) para el alta por curación (en gramos / kg / día)",null,null,null,"(Recomendado> 4 g / kg / día)"]
[null,null,"Duración media de la estancia (LOS) para el alta por curación (en días)",null,null,null,"(Recomendado <60 días)"]
[]
[null,"Personas mayores (definición de país de \"persona mayor\" o  ≥60años)","fin total de la última (período de tiempo): Hombres Mayor (A1)",null,null,null,"Cálculo automático Personas Mayores"]
[null,null,"fin total de la última (período de tiempo): Mayor femenino (A2)",null,null,null,"admisiones totales hombres mayores (D = B   C)",{"$f":"E141+E143","v":0}]
[null,null,"categorías de entrada","Nuevas admisiones: hombres mayores (B1)",null,null,"Admisiones totales mujeres mayores (D = B   C)",{"$f":"E142+E144","v":0}]
[null,null,null,"Nuevas admisiones: mujeres mayores (B2)",null,null,"salidas totales hombres mayores (H = F   G)",{"$f":"SUM(E145+E147+E149+E151+E153+E155)","v":0}]
[null,null,null,"Casos antiguos (derivados de OTP, personas que retoman el tratamiento, translados de otro centro de estabilización) : hombres mayores (C1)",null,null,"salidas totales mujeres mayores (H = F   G)",{"$f":"SUM(E146+E148+E150+E152+E154+E156)","v":0}]
[null,null,null,"Casos antiguos (derivados de OTP, personas que retoman el tratamiento, translados de otro centro de estabilización) : mujeres mayores (C2)",null,null,"Total hombres mayores al final del (periodo de tiempo) (I = A   DH)",{"$f":"IF(ISBLANK(E139),\"\",E139+H140-H142)","v":""}]
[null,null,"categorías de salida","Altas por curación: hombres mayores (F1)",null,null,"Total mujeres mayores al final del (periodo de tiempo) (I = A   DH)",{"$f":"IF(ISBLANK(E140),\"\",E140+H141-H143)","v":""}]
[null,null,null,"Altas por curación: mujeres mayores (F1)",null,null,"tasa altas por curación",{"$f":"IF(ISBLANK(E145),\"\",(E145+E146)/(H149))","v":""},"(Min Normas ESFERA.> 75%)"]
[null,null,null,"Altas por muerte: hombres mayores (F2)",null,null,"tasa altas por muerte",{"$f":"IF(ISBLANK(E147),\"\",(E147 + E148)/(H149))","v":""},"(Min Normas ESFERA. <10%)"]
[null,null,null,"Altas por muerte: mujeres mayores (F2)",null,null,"tasa altas por abandono",{"$f":"IF(ISBLANK(E149),\"\",(E149 + E150)/(H143+H142))","v":""},"(Min Normas ESFERA. <15%)"]
[null,null,null,"Altas por abandono: hombres mayores (F3)",null,null,"salidas totales (J = F   G)",{"$f":"IF(ISBLANK(E145:F156),\"\",SUM(E145:E154))","v":0}]
[null,null,null,"Altas por abandono: mujers mayores (F3)",null,null,"Total al final del (período de tiempo) (K = A   DJ)",{"$f":"IF(ISBLANK(E139),\"\",E139+E140+H140+H141-H149)","v":""}]
[null,null,null,"Altas sin curación: hombre mayores (F4)"]
[null,null,null,"Altas sin curación: mujeres mayores (F4)"]
[null,null,null,"Derivaciones a centros de estabilización: hombres mayores (F5)"]
[null,null,null,"Derivaciones a centros de estabilización: mujeres mayores (F6)"]
[null,null,null,"Otras transferencias: hombre mayores (G1)"]
[null,null,null,"Otras transferencias: mujeres mayores (G2)"]
[]
["Programas de alimentación suplementaria selectiva"]
[null,"Niños/as 6-59 meses","fin total del último (período de tiempo): Niños (A1)",null,null,null,"Cálculo automático Niños/as 6-59m"]
[null,null,"fin total del último (período de tiempo): niñas (A1)",null,null,null,"Total admisión niños (D = B   C)",{"$f":"SUM(E163+E161)","v":0}]
[null,null,"categorías de entrada","Nuevas admisiones: niños (B1)",null,null,"Total admisión niñas (D = B   C)",{"$f":"SUM(E162+E164)","v":0}]
[null,null,null,"Nuevas admisiones: niñas(B2)",null,null,"Total salidas niños (H = E   G)",{"$f":"SUM(E165+E167+E169+E171+E173+E175)","v":0}]
[null,null,null,"Casos antiguos (derivados de OTP, personas que retoman el tratamiento, translados de otro centro de estabilización): Niños (C1)",null,null,"Total salidas niñas (H = E   G)",{"$f":"SUM(E166+E168+E170+E172+E174+E176)","v":0}]
[null,null,null,"Casos antiguos (derivados de OTP, personas que retoman el tratamiento, translados de otro centro de estabilización): niñas (C2)",null,null,"Total niños al final del (periodo de tiempo) (I = A   DH)",{"$f":"IF(ISBLANK(E159),\"\",E159+H160-H162)","v":""}]
[null,null,"categorías de salida","Altas por curación: Niños (E1)",null,null,"Total niñas al final del (periodo de tiempo) (I = A   DH)",{"$f":"IF(ISBLANK(E160),\"\",E160+H161-H163)","v":""}]
[null,null,null,"Altas por curación: niñas (E2)",null,null,"tasa altas por curación",{"$f":"IF(ISBLANK(E166),\"\",(E166+E165)/(H169))","v":""},"(Min  Normas ESFERA.> 75%)"]
[null,null,null,"Altas por muerte: Niños (E3)",null,null,"tasa altas por muerte",{"$f":"IF(ISBLANK(E167),\"\",(E167 + E168)/(H169))","v":""},"(Las normas de Esfera min. <3%)"]
[null,null,null,"Altas por muerte: niñas (E4)",null,null,"tasa altas por abandono",{"$f":"IF(ISBLANK(E169),\"\",(E169 + E170)/(H169))","v":""},"(Min Normas ESFERA.  <15%)"]
[null,null,null,"Altas por abandono: Niños (E5)",null,null,"salidas totales (J = E   G)",{"$f":"IF(ISBLANK(E165),\"\",SUM(H162:H163))","v":""}]
[null,null,null,"Altas por abandono: niñas (E6)",null,null,"Total al final del (período de tiempo) (K = A   DJ)",{"$f":"IF(ISBLANK(E159),\"\",E159+E160+H160+H161-H169)","v":""}]
[null,null,null,"Alta sin curación: Niños (E7)"]
[null,null,null,"Altas sin curación: niñas (E8)"]
[null,null,null,"Derivados a OTP / SC: niños (E9)"]
[null,null,null,"Derivados a OTP / SC: niñas (E10)"]
[null,null,null,"Otras transferencias niños (G1)"]
[null,null,null,"Otras transferencias niñas (G2)"]
[null,null,"Duración media de la estancia para altas por curación (en días)"]
[null,null,"Valor kcal de la ración suplementaria diaria (kcal / día)"]
[null,null,"Producto provisto"]
[]
[null,"Embarazadas y mujeres lactantes (MEL)","fin total del último (período de tiempo): MEL (A)",null,null,null,"Cálculo automático MEL"]
[null,null,"categorías de entrada","Nuevas admisiones en este (periodo de tiempo): MEL (B)",null,null,"Total admisiones MEL (D = B   C)",{"$f":"IF(ISBLANK(E182),\"\",E182+E183)","v":""}]
[null,null,null,"Casos antiguos (derivados de OTP, personas que retoman el tratamiento, translados de otro centro de estabilización): MEL (C1)",null,null,"tasa de alta por curación",{"$f":"IF(ISBLANK(E184),\"\",E184/(H186))","v":""},"(Min  Normas ESFERA. > 75%)"]
[null,null,"categorías de salida","Alta por curación: MEL (F1)",null,null,"tasa alta por muerte",{"$f":"IF(ISBLANK(E185),\"\",E185/(H186))","v":""},"(Las normas de Esfera min. <3%)"]
[null,null,null,"Alta por muerteo: MEL (F2)",null,null,"tasa alta por abandono",{"$f":"IF(ISBLANK(E187),\"\",E186/(H186))","v":""},"(Min Normas ESFERA. <15%)"]
[null,null,null,"Alta por abandono: MEL (F3)",null,null,"salidas totales (J = F   G)",{"$f":"IF(ISBLANK(E184),\"\",SUM(E184:E189))","v":""}]
[null,null,null,"Alta sin recuperación: MEL (F4)",null,null,"Total al final del (período de tiempo) (K = A   DJ)",{"$f":"IF(ISBLANK(E181),\"\",E181+H182-H186)","v":""}]
[null,null,null,"Derivadas a OTP / SC: MEL (F5)"]
[null,null,null,"Otras transferencias: MEL (G)"]
[null,null,"Duración media de la estancia para altas por curación (en días)"]
[null,null,"Valor kcal de la ración suplementaria diaria (kcal / día)"]
[null,null,"Producto provisto"]
[]
[null,"Personas mayores (definición de país de \"personas mayores\" o  ≥60años)","fin total del último (período de tiempo): Hombres Mayores (A1)"]
[null,null,"fin total del último (período de tiempo): Mujeres mayores (A2)",null,null,null,"Cálculo automático Personas Mayores"]
[null,null,"categorías de entrada","Nuevas admisiones: Hombres Mayor (B1)",null,null,"Admisiones totales hombres mayores (D = B   C)",{"$f":"SUM(E196+E198)","v":0}]
[null,null,null,"Nuevas admisiones: Mayor Femenino (B2)",null,null,"Admisiones totales mujeres mayores (D = B   C)",{"$f":"SUM(E197+E199)","v":0}]
[null,null,null,"Casos antiguos (derivados de OTP, personas que retoman el tratamiento, translados de otro centro de estabilización): hombres mayores (C1)",null,null,"salidas totales hombres mayores (H = E   G)",{"$f":"SUM(E200+E202+E204+E206+E208+E210)","v":0}]
[null,null,null,"Casos antiguos (derivados de OTP, personas que retoman el tratamiento, translados de otro centro de estabilización): Mujeres mayores (C2)",null,null,"salidas totales mujeres mayores (H = E   G)",{"$f":"SUM(E201,E203,E205,E207,E209,E211)","v":0}]
[null,null,"categorías de salida","Alta por curación: hombres mayores (E1)",null,null,"Total hombres mayores al final del (periodo de tiempo) (I = A   DH)",{"$f":"IF(ISBLANK(E194),\"\",E194+H196-H198)","v":""}]
[null,null,null,"Alta por curación: mujres mayores (E2)",null,null,"Total mujeres mayores al final del (periodo de tiempo) (I = A   DH)",{"$f":"IF(ISBLANK(E195),\"\",E195+H197-H199)","v":""}]
[null,null,null,"Altas por muerte: hombres mayores (E3)",null,null,"tasa altas por curación",{"$f":"IF(ISBLANK(E202),\"\",(E200+E201)/(H205))","v":""},"(Min Normas ESFERA.  75%)"]
[null,null,null,"Altas por muerte: mujeres mayores (E4)",null,null,"tasa altas por muerte",{"$f":"IF(ISBLANK(E203),\"\",(E202+ E203)/(H205))","v":""},"(Las normas de Esfera min. <3%)"]
[null,null,null,"Altas por abandano: hombres mayores (E5)",null,null,"tasa altas por abandono",{"$f":"IF(ISBLANK(E205),\"\",(E204+E205)/(H205))","v":""},"(Min Normas ESFERA. <15%)"]
[null,null,null,"Altas por abandono: mujeres mayores (E6)",null,null,"salidas totales (J = E   G)",{"$f":"IF(ISBLANK(E200),\"\",SUM(H198:H199))","v":""}]
[null,null,null,"Altas sin recuperación: hombres mayores (E7)",null,null,"Total al final del (período de tiempo) (K = A   DJ)",{"$f":"IF(ISBLANK(E194),\"\",E194+E195+H196+H197-H205)","v":""}]
[null,null,null,"Altas sin recuperación: mujeres mayores (E8)"]
[null,null,null,"Derivados a OTP / SC: hombres mayores (E9)"]
[null,null,null,"Derivados a OTP / SC: mujeres mayores (E10)"]
[null,null,null,"Otras transferencias: hombres mayores (G1)"]
[null,null,null,"Otras transferencias: mujeres mayores (G2)"]
[null,null,"Duración media de la estancia para altas por curación (en días)"]
[null,null,"Valor kcal de la ración suplementaria diaria (kcal / día)"]
[null,null,"Producto provisto"]
[]
["Programas de alimentación suplementaria general"]
[null,"Niños/as 6-23 meses","No. de niños 6-23m nuevos en el programa durante el (período de tiempo)",null,{"$f":"SUM(E218,E219)","v":0},null,"Cálculo automático Niños/as 6-23m"]
[null,null,"Niños",null,null,null,"Número medio de niños/as  6-23m  que participaron en la distribución durante el (periodo de tiempo) ",{"$f":"E220/E223","v":{"$error":"#DIV/0!"}}]
[null,null,"Niñas"]
[null,null,"Número total de niños/as 6-23m que asistieron a la distribución en este (periodo de tiempo) ",null,{"$f":"SUM(E221,E222)","v":0}]
[null,null,"Niños"]
[null,null,"Niñas"]
[null,null,"Número de distribuciones durante este (periodo de tiempo) "]
[null,null,"valor kcal de ración suplementaria diaria (kcal / día)"]
[null,null,"Producto provisto"]
[]
[null,"Niños/as 6-59 meses","No. de niños 6-59m nuevos en el programa durante el (período de tiempo)",null,{"$f":"SUM(E228,E229)","v":0},null,"Cálculo automático Niños/as 6-59m"]
[null,null,"Niños",null,null,null,"Número medio de niños/as 6-59m que participaron en la distribución durante el (periodo de tiempo) ",{"$f":"(E230/E233)","v":{"$error":"#DIV/0!"}}]
[null,null,"Niñas"]
[null,null,"Número total de niños/as 6-23m que asistieron a la distribución en este (periodo de tiempo) ",null,{"$f":"SUM(E231,E232)","v":0}]
[null,null,"Niños"]
[null,null,"Niñas"]
[null,null,null,"Número de distribuciones durante este (periodo de tiempo) "]
[null,null,"valor kcal de ración suplementaria diaria (kcal / día)"]
[null,null,"Producto provisto"]
[]
[null,"Mujeres embarazadas y lactantes","Número de mujeres embarazadas y lactantes recién inscritas durante el (período de tiempo)",null,null,null,"Cálculo automático MEL"]
[null,null,"Número total de mujeres embarazadas y lactantes que asistieron a la distribución en este (periodo de tiempo)",null,null,null,"Promedio de MEL que participaron en la distribución durante el (periodo de tiempo) ",{"$f":"(E238/E239)","v":{"$error":"#DIV/0!"}}]
[null,null,null,"Número de distribuciones durante este (periodo de tiempo)"]
[null,null,"valor kcal de ración suplementaria diaria (kcal / día)"]
[null,null,"Producto provisto"]
[]
[null,"Personas mayores (definición de país de \"persona mayor\" o ≥60 años) ","Nº de personas mayores de nuevo ingreso durante el (período de tiempo)",null,{"$f":"SUM(E244,E245)","v":0},null,"Cálculo automático Personas Mayores"]
[null,null,"Hombres mayores",null,null,null,"Promedio de personas mayores que participaron en la distribución durante el  (periodo de tiempo) ",{"$f":"(E246/E249)","v":{"$error":"#DIV/0!"}}]
[null,null,"Mujeres mayores"]
[null,null,"Número total de personas mayores que asistieron a la distribución en este (periodo de tiempo) ",null,{"$f":"SUM(E247,E248)","v":0}]
[null,null,"Hombres mayores"]
[null,null,"Mujeres mayores"]
[null,null,"Número de distribuciones durante este (periodo de tiempo) "]
[null,null,"valor kcal de ración suplementaria diaria (kcal / día)"]
[null,null,"Producto provisto"]
[]
["Suplementación de micronutrientes"]
[null,"Suplementos de vitamina A administrada a niños de 6-11 meses y 12-59 meses ",null,"Número total de niños/as de 6-11 meses que han recibido  Vit-A durante el (período de tiempo)",{"$f":"SUM(E255:E256)","v":0},null,"Cálculo automático niños/a s 6-11 meses que recibieron vit-A"]
[null,null,null,"Niños",null,null,"% niños ",{"$f":"IF(ISBLANK(E255),\"\",E255/E254)","v":""}]
[null,null,null,"Niñas",null,null,"% niñas",{"$f":"IF(ISBLANK(E256),\"\",E256/E254)","v":""}]
[null,null,null,"Número total de niños/as  de 12-59 meses que han recibido Vit-A durante el (período de tiempo)",{"$f":"SUM(E258:E259)","v":0},null,"Cálculos automático niños/as 12-59 meses que recibieron vit-A"]
[null,null,null,"Niños ",null,null,"% niños ",{"$f":"IF(ISBLANK(E258),\"\",E258/E257)","v":""}]
[null,null,null,"Niñas",null,null,"% niñas",{"$f":"IF(ISBLANK(E259),\"\",E259/E257)","v":""}]
[]
[null,"Suplementos de vitamina A administados a MEL",null,"Número total de mujeres embarazadas y  lactantes que han recibido  Vit-A durante el (período de tiempo)",{"$f":"SUM(E262:E263)","v":0},null,"Cálculo automático MEL que recibieron vit-A"]
[null,null,null,"Embarazadas",null,null,"% mujeres embarazadas",{"$f":"IF(ISBLANK(E262),\"\",E262/E261)","v":""}]
[null,null,null,"Lactantes",null,null,"% mujeres lactantes",{"$f":"IF(ISBLANK(E263),\"\",E263/E261)","v":""}]
[]
[null,"Suplementos de vitamina A administrados a personas mayores (definición de país de \"persona mayor\" o ≥ 60años)",null,"Número total de personas mayores que han recibido  Vit-A durante el (período de tiempo)",{"$f":"SUM(E266:E267)","v":0},null,"Cálculo automático personas mayores que recibieron vit-A"]
[null,null,null,"Hombres mayores",null,null,"% hombres mayores",{"$f":"IF(ISBLANK(E266),\"\",E266/E265)","v":""}]
[null,null,null,"Mujeres mayores",null,null,"% mujeres mayores",{"$f":"IF(ISBLANK(E267),\"\",E267/E265)","v":""}]
[]
[null,"Micronutrientes en Polvo (MNP) administrados a  niños/as de 6-24 meses (polvos)",null,"Número total de niños/as 6-24meses que han recibido  MNP durante el (período de tiempo)",{"$f":"SUM(E270:E271)","v":0},null,"Cálculo automático niños/as  6-24 meses que recibieron MNP"]
[null,null,null,"Niños",null,null,"% niños ",{"$f":"IF(ISBLANK(E270),\"\",E270/E269)","v":""}]
[null,null,null,"Niñas",null,null,"% niñas",{"$f":"IF(ISBLANK(E271),\"\",E271/E269)","v":""}]
[]
[null,"Comprimidos de micronutrientes (MNT) administrados a MEL",null,"Número total de mujeres embarazadas y lactantes que han recibido  MNT durante el (período de tiempo)"]
[]
[null,"Micronutrientes en Polvo / Espolvorear (MNP) dado a las personas mayores ",null,"Número total de personas mayores que han recibido  MNP durante el (período de tiempo)",{"$f":"SUM(E276:E277)","v":0},null,"Cálculo automático personas mayores que recibieron MNP"]
[null,null,null,"Hombres mayores",null,null,"% hombres mayores",{"$f":"IF(ISBLANK(E276),\"\",E276/E275)","v":""}]
[null,null,null,"Mujeres mayores",null,null,"% mujeres mayores",{"$f":"IF(ISBLANK(E277),\"\",E277/E275)","v":""}]
[]
[null,"Hierro y ácido fólico administrado a MEL",null,"Número total de mujeres embarazadas y lactantes que han recibido hierro y ácido fólico durante el (período de tiempo)"]
[]
[null,"Hierro y ácido fólico administrado a  personas mayores",null,"Número total de personas mayores que han recibido hierro y ácido fólico durante el (período de tiempo) ",{"$f":"SUM(E282,E283)","v":0},null,"Cálculo automático personas mayores suplementadas con hierro y ácido fólico"]
[null,null,null,"Hombres mayores",null,null,"% hombres mayores",{"$f":"IF(ISBLANK(E282),\"\",E282/E281)","v":""}]
[null,null,null,"Mujeres mayores",null,null,"% mujeres mayores",{"$f":"IF(ISBLANK(E283),\"\",E283/E281)","v":""}]
[]
["Desparasitación"]
[null,"Nº de niños de 12-59 meses desparasitados",null,"Número total de niños 12-59meses desparasitados durante el (período de tiempo)",{"$f":"SUM(E287:E288)","v":0},null," Cálculo automático niños/as 12-59meses desparasitados"]
[null,null,null,"Niños ",null,null,"% niños ",{"$f":"IF(ISBLANK(E287),\"\",E287/E286)","v":""}]
[null,null,null,"Niñas",null,null,"% niñas",{"$f":"IF(ISBLANK(E288),\"\",E288/E286)","v":""}]
[]
[null,"Número de mujeres embarazadas  y lactantes desparasitadas",null,"Número total de mujeres embarazadas y lactantes desparasitadas durante el (período de tiempo)"]
[]
[null,"Número de personas mayores desparasitadas",null,"Número total de personas mayores desparasitadas durante el (período de tiempo)",{"$f":"SUM(E293:E294)","v":0},null,"Cálculo automático personas mayores desparasitadas"]
[null,null,null,"Hombres mayores",null,null,"% hombres mayores",{"$f":"IF(ISBLANK(E293),\"\",E293/E292)","v":""}]
[null,null,null,"Mujeres mayores",null,null,"% mujeres mayores",{"$f":"IF(ISBLANK(E294),\"\",E294/E292)","v":""}]
[]
["Alimentación de lactantes y niños pequeños"]
[null,"Sesiones individuales (uno a uno)","Mujeres embarazadas que asistieron a sesiones de asesoramiento individual"]
[null,null,"Mujeres lactantes y cuidadores de niños/as <6 meses que asistieron a sesiones de asesoramiento individual",null,null,null,"Cálculo automático MEL y cuidadores que asistieron a la orientación individual"]
[null,null,"Mujeres lactantes y cuidadores de niños/as de 6-24 meses que asistieron a sesiones de asesoramiento individual",null,null,null,"Total",{"$f":"IF(ISBLANK(E298),\"\",SUM(E297:E299))","v":""}]
[null,"ALNP asesoramiento - Las sesiones de grupo","Número de grupos de ALNP (incluidos los grupos de apoyo de madres) en funcionamiento durante el (período de tiempo)"]
[null,null,"Número total de sesiones de grupo (incluidos los grupos de apoyo de madres) mantenidos en el (período de tiempo)"]
[null,null,"Nuevas admisiones de mujeres embarazadas y lactantes y cuidadores en grupos ALNP (incluidos los grupos de apoyo de madres) durante el (período de tiempo)",null,{"$f":"SUM(E303,E304)","v":0},null,"Cálculo automático MEL y cuidadores admitidos en grupos ALNP"]
[null,null,null,"Hombres",null,null,"% hombres ",{"$f":"IF(ISBLANK(E303),\"\",E303/E302)","v":""}]
[null,null,null,"Mujeres",null,null,"% mujeres",{"$f":"IF(ISBLANK(E303),\"\",E304/E302)","v":""}]
[null,null,null,"Número total de mujeres embarazadas y lactantes y cuidadores que asistieron a grupos de ALNP (incluidos los grupos de apoyo de madres) durante el (período de tiempo)",{"$f":"SUM(E306,E307)","v":0}]
[null,null,null,"Hombres"]
[null,null,"Mujeres"]
[null,"alimentación artificial","Número total de lactantes de 0-6 meses que requieren alimentación artificial que han recibido BMS y apoyo apropiado durante el (período de tiempo)",null,null,null,"Nota: las sesiones de asesoramiento ALNP incluyen el inicio temprano de la lactancia materna exclusiva, el contacto piel a piel, relaction, alimentación complementaria, los suplementos de micronutrientes, el VIH y la alimentación infantil, el uso apropiado de BMS, etc ..."]
[null,null,"Número total de lactantes de 6-24 meses de edad que requieren alimentación artificial que han recibido BMS y apoyo apropiado durante el (período de tiempo)"]
[null,"La lactancia materna esquinas / espacios amigos de los niños","Número total de rincones para la lactancia materna / espacios que promueven la lactancia materna abiertos durante el (período de tiempo)"]
[null,null,"Número de rincones para la lactancia materna / espacios que promueven la lactancia materna en funcionamiento durante el (período de tiempo)"]
[null,null,"Nuevas admisiones de madres lactantes durante el (período de tiempo)"]
[null,null,"Número total de mujeres lactantes que asistieron a los rincones para la lactancia materna / espacios que promueven la lactancia materna durante el (período de tiempo)"]
[]
["Desarrollo de capacidades"]
[null,null,"Type/Topic of Training"]
[null,"Entrenamiento en MUAC,  detección, derivación y movilización de la comunidad",null,"Tipo de formación",null,null,"Nº de formaciones"]
[null,null,null,"Categoría principal del personal formado",null,null,"De qué agencia / s"]
[null,null,null,"Hombres",null,null,"Número de días"]
[null,null,null,"Mujeres"]
[null,null,null,"Comentarios"]
[]
[null,null,"Type/Topic of Training",null,null,null,"Automatic calculations Training 2"]
[null,"Formación sobre la gestión integrada de la desnutrición aguda (IMAM): SAM / TF (pacientes hospitalizados)",null,"Tipo de formación",null,null,"Nº de formaciones"]
[null,null,null,"Categoría principal del personal formado",null,null,"De qué agencia / s"]
[null,null,null,"Hombres",null,null,"Número de días"]
[null,null,null,"Mujeres"]
[null,null,null,"Comentarios"]
[]
[null,null,"Type/Topic of Training",null,null,null,"Automatic calculations Training 3"]
[null,"Formación sobre la gestión integrada de la desnutrición aguda (IMAM): SAM / TF (pacientes ambulatorios)",null,"Tipo de formación",null,null,"Nº de formaciones"]
[null,null,null,"Categoría principal del personal formado",null,null,"De qué agencia / s"]
[null,null,null,"Hombres",null,null,"Número de días"]
[null,null,null,"Mujeres"]
[null,null,null,"Comentarios"]
[]
[null,null,"Type/Topic of Training",null,null,null,"Automatic calculations Training 4"]
[null,"Formación sobre la gestión integrada de la desnutrición aguda (IMAM): MAM / TSFP",null,"Tipo de formación",null,null,"Nº de formaciones"]
[null,null,null,"Categoría principal del personal formado",null,null,"De qué agencia / s"]
[null,null,null,"Hombres",null,null,"Número de días"]
[null,null,null,"Mujeres"]
[null,null,null,"Comentarios"]
[]
[null,"Formación sobre alimentación infantil",null,"Tipo de formación",null,null,"Nº de formaciones"]
[null,null,null,"Categoría principal del personal capacitado",null,null,"De qué agencia / s"]
[null,null,null,"Hombres",null,null,"Número de días"]
[null,null,null,"Mujeres"]
[null,null,null,"Comentarios"]
[]
[null,"Formación sobre encuesta de SMART",null,"Tipo de formación",null,null,"Nº de formaciones"]
[null,null,null,"Categoría principal del personal formado",null,null,"De qué agencia / s"]
[null,null,null,"Hombres",null,null,"Número de días"]
[null,null,null,"Mujeres"]
[null,null,null,"Comentarios"]
[]
[null,"Formación de preparación y respuesta a emergencias",null,"Tipo de formación",null,null,"Nº de formaciones"]
[null,null,null,"Categoría principal del personal formado",null,null,"De qué agencia / s"]
[null,null,null,"Hombres",null,null,"Número de días"]
[null,null,null,"Mujeres"]
[null,null,null,"Comentarios"]
[]
[null,"Formación sobre el enfoque de clústeres",null,"Tipo de formación",null,null,"Nº de formaciones"]
[null,null,null,"Categoría principal del personal formado",null,null,"De qué agencia / s"]
[null,null,null,"Hombres",null,null,"Número de días"]
[null,null,null,"Mujeres"]
[null,null,null,"Comentarios"]
[]
["Comentarios"]
[null,"Cualquier comentario sobre programas, lagunas o preocupaciones"]

{"sheet":"Site3","index":4,"n_rows":369,"n_cols":26,"rows_kept":369,"cut":false,"hidden":false,"merged":[[368,1,385,1],[368,2,385,8],[355,1,359,2],[355,6,355,7],[356,6,356,7],[357,6,357,7],[359,4,359,8],[361,1,365,2],[361,6,361,7],[362,6,362,7],[363,6,363,7],[365,4,365,8],[343,1,347,2],[343,6,343,7],[344,6,344,7],[345,6,345,7],[347,4,347,8],[349,1,353,2],[349,6,349,7],[350,6,350,7],[351,6,351,7],[353,4,353,8],[336,2,336,3],[336,6,336,7],[337,1,341,2],[337,6,337,7],[338,6,338,7],[339,6,339,7],[341,4,341,8],[329,2,329,3],[329,6,329,7],[330,1,334,2],[330,6,330,7],[331,6,331,7],[332,6,332,7],[334,4,334,8],[322,2,322,3],[322,6,322,7],[323,1,327,2],[323,6,323,7],[324,6,324,7],[325,6,325,7],[327,4,327,8],[314,0,314,3],[315,2,315,3],[316,1,320,2],[316,6,316,7],[317,6,317,7],[318,6,318,7],[320,4,320,8],[307,1,308,1],[307,2,307,3],[307,6,308,8],[308,2,308,3],[309,1,312,1],[309,2,309,3],[310,2,310,3],[311,2,311,3],[312,2,312,3],[299,1,306,1],[299,2,299,3],[300,2,300,3],[301,2,301,3],[301,6,301,7],[306,2,306,3],[295,0,295,3],[296,1,298,1],[296,2,296,3],[297,2,297,3],[297,6,297,7],[298,2,298,3],[284,0,284,3],[285,1,287,2],[285,6,285,7],[289,1,289,2],[291,1,293,2],[291,6,291,7],[272,1,272,2],[274,1,276,2],[274,6,274,7],[278,1,278,2],[280,1,282,2],[280,6,280,7],[260,1,262,2],[260,6,260,7],[264,1,266,2],[264,6,264,7],[268,1,270,2],[268,6,268,7],[248,2,248,3],[249,2,249,3],[250,2,250,3],[252,0,252,3],[253,1,258,2],[253,6,253,7],[256,6,256,7],[239,2,239,3],[240,2,240,3],[242,1,248,1],[242,2,242,3],[242,6,242,7],[243,2,243,3],[244,2,244,3],[245,2,245,3],[246,2,246,3],[247,2,247,3],[233,2,233,3],[234,2,234,3],[236,1,238,1],[236,2,236,3],[236,6,236,7],[237,2,237,3],[223,2,223,3],[224,2,224,3],[226,1,234,1],[226,2,226,3],[226,6,226,7],[227,2,227,3],[228,2,228,3],[229,2,229,3],[230,2,230,3],[231,2,231,3],[215,0,215,3],[216,1,224,1],[216,2,216,3],[216,6,216,7],[217,2,217,3],[218,2,218,3],[219,2,219,3],[220,2,220,3],[221,2,221,3],[222,2,222,3],[193,1,213,1],[193,2,193,3],[194,2,194,3],[194,6,194,7],[195,2,198,2],[199,2,210,2],[211,2,211,3],[212,2,212,3],[213,2,213,3],[180,1,191,1],[180,2,180,3],[180,6,180,7],[181,2,182,2],[183,2,188,2],[189,2,189,3],[190,2,190,3],[191,2,191,3],[157,0,157,3],[158,1,178,1],[158,2,158,3],[158,6,158,7],[159,2,159,3],[160,2,163,2],[164,2,175,2],[176,2,176,3],[177,2,177,3],[178,2,178,3],[135,1,136,1],[135,2,135,3],[136,2,136,3],[138,1,155,1],[138,2,138,3],[138,6,138,7],[139,2,139,3],[140,2,143,2],[144,2,155,2],[116,0,116,3],[117,1,134,1],[117,2,117,3],[117,6,117,7],[118,2,118,3],[119,2,122,2],[123,2,134,2],[81,1,96,1],[81,2,81,3],[81,6,81,7],[87,2,96,2],[98,1,115,1],[98,2,98,3],[98,6,98,7],[99,2,99,3],[100,2,103,2],[104,2,115,2],[52,1,58,1],[52,2,56,2],[61,0,61,3],[62,1,79,1],[62,2,62,3],[62,6,62,7],[63,2,63,3],[64,2,67,2],[68,2,79,2],[28,1,34,1],[28,2,32,2],[37,1,42,1],[37,2,40,2],[37,6,37,7],[44,1,50,1],[44,2,48,2],[44,6,44,7],[15,1,15,3],[17,1,17,3],[19,0,19,3],[20,1,26,1],[20,2,24,2],[20,6,20,7],[8,1,8,3],[9,1,9,3],[10,1,10,3],[13,1,13,3],[13,6,13,8],[14,1,14,3],[0,0,0,3],[1,0,1,2],[2,1,2,3],[5,1,5,3],[6,1,6,3],[7,1,7,3]]}
["Formulario para la presentación de informes por los socios",null,null,null,null,null,null,null,null,null,null,null,"Localidad","Nilo Alto","Jonglei","Unidad","Warrap","Bahr el Ghazal norte","Bahr el Ghazal Occidental","Lagos","Ecuatoria occidental","Equatoria central","Equatoria Oriental","Mes","Temas de la formación","Tipo de formación"]
["Información general",null,null,null,null,null,null,null,null,null,null,null,"Nilo Alto","Renk","Fangak","Pariang","Abyei","Aweil_Norte","Raga","Cueibet","Tambura","Terekeka","Torit","Enero","Examen con MUAC y derivaciones","Nuevo"]
[null,"Acrónimo de la agencia",null,null,null,null,null,null,null,null,null,null,"Jonglei","Manyo","Canal_Khor_Fulus","Abiemnhom","Twic","Aweil_este","Jur_River","Rumbek_Norte","Nagero","Juba","Lapon","Febrero","Protocolos para pacientes ambulatorios","Repaso"]
[null,null,null,"Nombre de la agencia",{"$f":"VLOOKUP(E3,Lists!A2:B200,2,FALSE)","v":{"$error":"#N/A"}}]
[null,null,null,"Semana del informe "]
[null,"Mes del informe:",null,null,null,null,null,null,null,null,null,null,"Unidad","Fashoda","Ayod","Mayom","Gogrial_occidental","Aweil_Sur","Wau","Rumbek_Centro","Nzara","Lainya","Kapoeta_Norte","Marzo","Protocolos para pacientes hospitalizados"]
[null,"Año del informe",null,null,null,null," ",null,null,null,null,null,"Warrap","Melut","Duk","Rubkona","Gogrial_este","Aweil_oeste",null,"Wulu","Ezo","Yei","Kapoeta_este","Abril","Protocolos para programas de alimentación suplementaria"]
[null,"Fecha de presentación del informe (DD / MM / AA)",null,null,null,null,null,null,null,null,null,null,"Bahr_el_Ghazal_norte","Maban","Uror","Guit","Tonj_Norte","Aweil_Centro",null,"Rumbek_este","Yambio","Morobo","Kapoeta_Sur","Mayo","Movilización comunitaria"]
[null,"Nivel administrativo 1",null,"Nivel administrativo 1",null,null,"P-Code Nivel Admin 1",{"$f":"INDEX(admin1pcode,MATCH(E9,admin1,0))","v":{"$error":"#N/A"}}]
[null,"Nivel administrativo 2",null,null,null,null,"P-Code nivel admin 2",{"$f":"INDEX(admin2pcode,MATCH(E10,admin2,0))","v":{"$error":"#N/A"}},null,null,null,null,"Lagos","Luakpiny_Nasir","Akobo","Leer","Tonj_Sur",null,null,"Yirol_este","Maridi",null,"Ikotos","Julio","Otros (por favor, especificar en la sección de comentarios)"]
[null,"Nivel administrativo 3",null,null,null,null,"P-Code nivel Admin 3",{"$f":"INDEX(admin3pcode,MATCH(E11,admin3,0))","v":{"$error":"#N/A"}},null,null,null,null,"Ecuatoria Occidental","Longochuk","Pochalla","Mayendit",null,null,null,"Awerial","Mvolo",null,"Magwi","Agosto"]
[null,null,null,"Nivel administrativo 4",null,null,"P-Code nivel admin 4",{"$f":"INDEX(admin4pcode,MATCH(E12,admin4,0))","v":{"$error":"#N/A"}}]
[null,null,null,"Nivel administrativo 5",null,null,"P-Code nivel administrativo 5",{"$f":"INDEX(admin5pcode,MATCH(E13,admin5,0))","v":{"$error":"#N/A"}}]
[null,"¿Se ha utilizado criterios expandidos de admisión ?",null,null,null,null,null,null,null,null,null,null,"Ecuatoria Central","Ulang","Pibor","Panyijar",null,"N/A","Operacional","No operacional","Mundri_oeste",null,null,"Septiembre"]
[null,"Centros de estabilización (SC)",null,null,null,null,"Estado del sitio",null,null,null,null,null,"Ecuatoria oriental","Baliet","Twic_este",null,null,null,null,"Sí","No",null,null,"Octubre"]
[null,"Pacientes ambulatorios centros terapéuticos (OTP)",null,null,null,null,"Estado del sitio",null,null,null,null,null,null,"Malakal","Bor_Sur",null,null,null,null,null,null,null,null,"Noviembre"]
[null,null,null,"Sitios de tratamiento a nivel comunitario (BSFPs)",null,null,"Estado del sitio",null,null,null,null,null,null,"Panyikang",null,null,null,null,null,null,null,null,null,"Diciembre"]
[null,"Sitios de alimentación suplementaria (TSFPs)",null,null,null,null,"Estado del sitio"]
[]
["Diagnóstico y derivaciones"]
[null,"Niños 6-59 meses","Revisión \n(mediciones MUAC)","Número examinados",{"$f":"SUM(E22:E25)","v":0},null,"Cálculo automático exámen y derivaciones"]
[null,null,null,"Nº de niños con edema bilateral",null,null,"No. total. (Niños+Niñas) examinados",{"$f":"IF(ISBLANK(E21),(IF(ISBLANK(E29),\"\",E21+E29)),E21+E29)","v":0}]
[null,null,null,"Nº de niños con MUAC rojo (<11.5 cm)",null,null,"No. total. (Niños+niñas) edema",{"$f":"IF(ISBLANK(E22),(IF(ISBLANK(E30),\"\",E22+E30)),E22+E30)","v":""}]
[null,null,null,"Nº de niños 6-59m con MUAC amarillo (≥ 11,5 cm a <12,5 cm)",null,null,"No. total. (Niños+Niñas) Rojo",{"$f":"IF(ISBLANK(E23),(IF(ISBLANK(E31),\"\",E23+E31)),E23+E31)","v":""}]
[null,null,null,"Nº de niños 6-59m con MUAC verde (≥ 12,5 cm)",null,null,"No. total. (Niños+Niñas) Amarillo",""]
[null,null,"Derivaciones","Nº de niños 6-59m derivados a OTP",null,null,"No. total. (Niños+Niñas) Verde",""]
[null,null,null,"Nº de niños 6-59m derivados a TSFP",null,null,"No. total. (Niños+Niñas) derivados a OTP",{"$f":"IF(ISBLANK(E26),(IF(ISBLANK(E34),\"\",E26+E34)),E26+E34)","v":""}]
[null,null,null,null,null,null,"No. total. (Niños+ niñas) derivados a TSFP",""]
[null,"Niñas 6-59 meses","Revisión \n(mediciones MUAC)","Número examinadas",{"$f":"SUM(E30:E33)","v":0},null,"% de niños+niñas con edema",{"$f":"IF(ISBLANK(E21),(IF(ISBLANK(E29),\"\",H23/H22)),H23/H22)","v":{"$error":"#VALUE!"}}]
[null,null,null,"Nº de niñas con edema bilateral",null,null,"% de (Niños+Niñas) Rojo",{"$f":"IF(ISBLANK(E21),(IF(ISBLANK(E29),\"\",H24/H22)),H24/H22)","v":{"$error":"#VALUE!"}}]
[null,null,null,"Nº de niñas 6-59m con MUAC rojo (<11.5 cm)",null,null,"(% De los muchachos de las muchachas  ) Amarillo",{"$f":"IF(ISBLANK(E21),(IF(ISBLANK(E29),\"\",H25/H22)),H25/H22)","v":{"$error":"#VALUE!"}}]
[null,null,null,"Nº de niñas 6-59m con MUAC amarillo (≥ 11,5 cm a <12,5 cm)",null,null,"(% De los muchachos de las muchachas  ) verde",{"$f":"IF(ISBLANK(E21),(IF(ISBLANK(E29),\"\",H26/H22)),H26/H22)","v":{"$error":"#VALUE!"}}]
[null,null,null,"Nº de niñas 6-59m con MUAC verde (≥ 12,5 cm)",null,null,"(% De los muchachos   Girls) se refirió a la PTF",{"$f":"IF(ISBLANK(E21),(IF(ISBLANK(E29),\"\",H27/H22)),H27/H22)","v":{"$error":"#VALUE!"}}]
[null,null,"Derivaciones","Nº de Niñas 6-59m derivadas a OTP",null,null,"% De los muchachos ( ) Las niñas que se refiere TSFP",{"$f":"IF(ISBLANK(E21),(IF(ISBLANK(E29),\"\",H28/H22)),H28/H22)","v":{"$error":"#VALUE!"}}]
[null,null,null,"Nº de niñas 6-59m derivadas a TSFP"]
[]
[]
[null,"Mujeres embarazadas y lactantes","Revisión \n(mediciones MUAC)","Número examinadas",{"$f":"SUM(E39:E41)","v":0},null,"Cálculos automáticos MEL"]
[null,null,null,"Número de mujeres embarazadas y lactantes con MUAC <21.0 cm",null,null,"% MUAC <21.0 cm",{"$f":"IF(ISBLANK(E39),\"\",E39/E38)","v":""}]
[null,null,null,"Número de mujeres embarazadas y lactantes con MUAC ≥21.0 cm a 23.0 cm <",null,null,"MUAC% ≥21.0 cm a <23,0 cm",{"$f":"IF(ISBLANK(E40),\"\",E40/E38)","v":""}]
[null,null,null,"Número de mujeres embarazadas y lactantes con MUAC ≥23.0 cm",null,null,"MUAC% ≥23.0 cm",{"$f":"IF(ISBLANK(E41),\"\",E41/E38)","v":""}]
[null,null,"Derivaciones","Número de mujeres embarazadas y lactantes derivadas a OTP",null,null,"%  mujeres embarzadas y lactantes derivadas a OTP",{"$f":"IF(ISBLANK(E42),\"\",E42/E38)","v":""}]
[null,null,null,"Número de mujeres embarazadas y lactantes derivadas a TSFP",null,null,"% mujeres embarazadas  y lactantes derivadas a TSFP",{"$f":"IF(ISBLANK(E43),\"\",E43/E38)","v":""}]
[]
[null,"Personas mayores\nhombres\n(definición de país de \"persona mayor\" o ≥ 60años)","Revisión \n(mediciones MUAC)","Número examinados: Hombres",{"$f":"SUM(E46:E49)","v":0},null,"Cálculo automático exámen y derivaciones"]
[null,null,null,"Nº de hombres mayoures con edema bilateral",null,null,"No. total. (Hombres mayores+mujeres mayores) examinados",{"$f":"IF(ISBLANK(E45),(IF(ISBLANK(E53),\"\",E45+E53)),E45+E53)","v":0}]
[null,null,null,"Nº de hombres mayores con MUAC <18,5 cm",null,null,"No. total. (Hombres mayores+mujers mayores) edema",{"$f":"IF(ISBLANK(E46),(IF(ISBLANK(E54),\"\",E46+E54)),E46+E54)","v":""}]
[null,null,null,"Nº de hombres mayoures con MUAC ≥18.5 cm a 21.0 cm <",null,null,"No. total. (hombres mayores+mujeres mayores ) con MUAC <18,5 cm",""]
[null,null,null,"Nº de hombres mayores con MUAC ≥21.0 cm",null,null,"No. total. (hombres mayores+mujeres mayores) con MUAC ≥18.5 cm a <21,0 cm",""]
[null,null,"Derivaciones","Nº de hombres mayores derivados a OTP",null,null,"Nº total de (hombres mayores+mujeres mayores) con MUAC ≥21.0 cm",""]
[null,null,null,"Nº de hombres mayores derivados a TSFP",null,null,"No. total. (hombres mayores+mujeres mayores) derivados a OTP",""]
[null,null,null,null,null,null,"No. total. ((hombres mayores+mujeres mayores) derivados a TSFP",""]
[null,"Personas mayores\nMujeres\n (definición de país de \"persona mayor\" o ≥ 60y)","Revisión \n(mediciones MUAC)","Número examinadas: Mujeres",{"$f":"SUM(E54:E57)","v":0},null,"% De edema (hombres mayores+mujeres mayores)",{"$f":"IF(ISBLANK(E45),(IF(ISBLANK(E53),\"\",H47/H46)),H47/H46)","v":{"$error":"#VALUE!"}}]
[null,null,null,"Nº mujeres mayores con edema bilateral",null,null,"% De (  hombres mayores+mujeres mayores) con MUAC <18,5 cm",{"$f":"IF(ISBLANK(E45),(IF(ISBLANK(E53),\"\",H48/H46)),H48/H46)","v":{"$error":"#VALUE!"}}]
[null,null,null,"Nº mujeres mayores con MUAC <18,5 cm",null,null,"% De ( hombres mayores+mujeres mayores) con MUAC ≥18.5 cm a <21.0 cm ",{"$f":"IF(ISBLANK(E45),(IF(ISBLANK(E53),\"\",H49/H46)),H49/H46)","v":{"$error":"#VALUE!"}}]
[null,null,null,"Nº  mujeres mayores con MUAC ≥18.5 cm a <21.0 cm ",null,null,"% De ( hombres mayores+mujeres mayores) con MUAC ≥21.0 cm",{"$f":"IF(ISBLANK(E45),(IF(ISBLANK(E53),\"\",H50/H46)),H50/H46)","v":{"$error":"#VALUE!"}}]
[null,null,null,"Nº mujeres mayoures con MUAC ≥21.0 cm",null,null,"% De (hombres mayores+mujeres mayores) derivados a OTP",{"$f":"IF(ISBLANK(E45),(IF(ISBLANK(E53),\"\",H51/H46)),H51/H46)","v":{"$error":"#VALUE!"}}]
[null,null,"Derivaciones","Nº mujeres mayores derivadas a OTP",null,null,"% De (hombres mayores+mujeres mayores) derivados a TSFP",{"$f":"IF(ISBLANK(E45),(IF(ISBLANK(E53),\"\",H52/H46)),H52/H46)","v":{"$error":"#VALUE!"}}]
[null,null,null,"Nº mujeres mayores derivadas a TSFP"]
[]
[]
["Gestión de la desnutrición aguda grave, para pacientes hospitalizados"]
[null,"Niños 6-59 meses","Final total del último período de tiempo: Niños (A1)",null,null,null,"Cálculo automático Niños/as 6-59m"]
[null,null,"Final total del último período de tiempo: Niñas (A2)",null,null,null,"Total admisión niños (D = B   C)",{"$f":"SUM(E65,E67)","v":0}]
[null,null,"categorías de entrada","Nuevas admisiones: niños (B1)",null,null,"Total admisión niñas (D = B   C)",{"$f":"SUM(E66,E68)","v":0}]
[null,null,null,"Nuevas admisiones: niñas (B2)",null,null,"Total Salidas Boys (H = E   F   G)",{"$f":"SUM(E69+E71+E73+E75+E77+E79)","v":0}]
[null,null,null,"Casos antiguos (derivados de OTP, personas que retoman el tratamiento, translados de otro centro de estabilización) : Niños (C1)",null,null,"Total Salidas niñas (H = E   F   G)",{"$f":"SUM(E70+E72+E74+E76+E78+E80)","v":0}]
[null,null,null,"Casos antiguos (derivados de OTP, personas que retoman el tratamiento, translados de otro centro de estabilización): Niñas (C2)",null,null,"Total al final del (periodo de tiempo) Niños (I = A   DH)",{"$f":"E63+H64-H66","v":0}]
[null,null,"categorías de salida","Pacientes hospitalizados estabilizados y referidos a OTP: niños (E1)",null,null,"Total al final del (periodo de tiempo) Niñas (I = A   DH)",{"$f":"SUM(E64+H65-H67)","v":0}]
[null,null,null,"Pacientes hospitalizados estabilizados y referidos a OTP: niñas (E2)",null,null,"tasa de altas por curación",{"$f":"IF(ISBLANK(E70),\"\",(E71+E72)/(H73))","v":""},"(Min  Normas ESFERA. > 75%)"]
[null,null,null,"Alta por curación (casos especiales que terminan tratamiento): niños (F1)",null,null,"tasa de altas por muerte",{"$f":"IF(ISBLANK(E71),\"\",(E73 + E74)/(H73))","v":""},"(Min  Normas ESFERA.  <10%)"]
[null,null,null,"Alta por curación (casos especiales que terminan tratamiento): niñas (F2)",null,null,"tasa de alta por abandono",{"$f":"IF(ISBLANK(E73),\"\",(E75 + E76)/(H73))","v":""},"(Min  Normas ESFERA. <15%)"]
[null,null,null,"Altas por muerte: niños (F3)",null,null,"salidas totales (J = E   F   G)",{"$f":"IF(ISBLANK(E69:E80),\"\",SUM(H66,H67))","v":""}]
[null,null,null,"Altas por muerte: niñas (F4)",null,null,"Total al final del (período de tiempo) (K = A   DJ)",{"$f":"IF(ISBLANK(E63),\"\",E63+E64+H64+H65-H73)","v":""}]
[null,null,null,"Altas por abandono: niños (F5)"]
[null,null,null,"Altas por abandono: niñas (F6)"]
[null,null,null,"Altas sin curación: niños (F7)"]
[null,null,null,"Altas sin curación: niñas (F8)"]
[null,null,null,"Otras transferencias: niños (G1)"]
[null,null,null,"Otras transferencias: niñas (G2)"]
[]
[null,"Niños <6 meses","Final total del útimo (período de tiempo): niños (A1)",null,null,null,"Cálculo automático niños/as <6m"]
[null,null,null,"Final total del último (período de tiempo): niñas (A2)",null,null,"Total admisiones niños (D = B   C)",{"$f":"SUM(E84,E86)","v":0}]
[null,null,"categorías de entrada","Nuevas admisiones: niños (B1)",null,null,"Total admisiones niñas (D = B   C)",{"$f":"SUM(E85,E87)","v":0}]
[null,null,null,"Nuevas admisiones: niñas (B2)",null,null," Total salidas niños (H = F   G)",{"$f":"SUM(E88+E90+E92+E94+E96+E98)","v":0}]
[null,null,null,"Casos antiguos (derivados de OTP, personas que retoman el tratamiento, translados de otro centro de estabilización) : Niños (C1)",null,null,"Total salidas niñas (H = F   G)",{"$f":"SUM(E89+E91+E93+E95+E97)","v":0}]
[null,null,null,"Casos antiguos (derivados de OTP, personas que retoman el tratamiento, translados de otro centro de estabilización): Niñas (C2)",null,null,"Total niños al final del (periodo de tiempo) (I = A   DH)",{"$f":"E82+H83-H85","v":0}]
[null,null,"categorías de salida","Alta por curación (casos especiales que terminan tratamiento): niños (F1)",null,null,"Total niñas al final del (periodo de tiempo) (I = A   DH)",{"$f":"SUM(E83+H84-H86)","v":0}]
[null,null,null,"Alta por curación (casos especiales que terminan tratamiento): niñas (F2)",null,null,"tasas altas por curación",{"$f":"IF(ISBLANK(E89),\"\",(E89+E88)/(H92))","v":""},"(Min  Normas ESFERA. > 75%)",null,null,null,0.13043478260869565]
[null,null,null,"Altas por muerte: niños (F3)",null,null,"tasa alta por muerte",{"$f":"IF(ISBLANK(E90),\"\",(E90 + E91)/(H92))","v":""},"(Min  Normas ESFERA. <10%)"]
[null,null,null,"Altas por muerte: niñas (F4)",null,null,"tasa alta por abandono",{"$f":"IF(ISBLANK(E92),\"\",(E92 + E93)/(H92))","v":""},"(Min  Normas ESFERA.  <15%)"]
[null,null,null,"Altas por abandono: niños (F5)",null,null,"salidas totales (J = F   G)",{"$f":"IF(ISBLANK(E88:F99),\"\",SUM(H85,H86))","v":0}]
[null,null,null,"Altas por abandono: niñas (F6)",null,null,"Total al final del (período de tiempo) (K = A   DJ)",{"$f":"IF(ISBLANK(E82),\"\",E82+E83+H83+H84-H92)","v":""}]
[null,null,null,"Altas sin curación: niños (F7)"]
[null,null,null,"Altas sin curación: niñas (F8)"]
[null,null,null,"Otras transferencias: niños (G1)"]
[null,null,null,"Otras transferencias: niñas (G2)"]
[]
[null,"Personas mayores (definición de país de \"persona mayor\" o  ≥60años)","Final total del último (período de tiempo): hombres mayores (A1)",null,null,null,"Cálculo automático Personas Mayores"]
[null,null,"Final total del último (período de tiempo): mujeres mayores (A2)",null,null,null,"admisiones totales hombres mayores (D = B   C)",{"$f":"SUM(E101+E103)","v":0}]
[null,null,"categorías de entrada","Nuevas admisiones: Hombres Mayores (B1)",null,null,"Admisiones totales mujeres mayores (D = B   C)",{"$f":"SUM(E102+E104)","v":0}]
[null,null,null,"Nuevas admisiones: mujeres mayores (B2)",null,null,"salidas totales hombres mayores (H = E   F   G)",{"$f":"E105+E107+E109+E111+E113+E115","v":0}]
[null,null,null,"Casos antiguos (derivados de OTP, personas que retoman el tratamiento, translados de otro centro de estabilización): hombres mayores (C1)",null,null,"salidas totales Mayor femenino (H = E   F   G)",{"$f":"E106+E108+E110+E112+E114+E116","v":0}]
[null,null,null,"Casos antiguos (derivados de OTP, personas que retoman el tratamiento, translados de otro centro de estabilización): mujeres mayores (C2)",null,null,"Total al final del (periodo de tiempo) varones de más edad (I = A   DH)",{"$f":"IF(ISBLANK(E99),\"\",E99+H100-H102)","v":""}]
[null,null,"categorías de salida","Pacientes hospitalizados estabilizados y referidos a OTP: hombres mayores (E1)",null,null,"Total al final del (periodo de tiempo) Mayor Femenino (I = A   DH)",{"$f":"IF(ISBLANK(E100),\"\",E100+H101-H103)","v":""}]
[null,null,null,"Pacientes hospitalizados estabilizados y referidos a OTP: mujeres mayores (E2)",null,null,"tasas curados descargadas",{"$f":"IF(ISBLANK(E106),\"\",(E107+E108)/(H109))","v":""},"(Min  Normas ESFERA. > 75%)"]
[null,null,null,"Alta por curación (casos especiales que terminan tratamiento): hombres mayores (F1)",null,null,"tasa muerto descargada",{"$f":"IF(ISBLANK(E107),\"\",(E109 + E110)/(H109))","v":""},"(Min  Normas ESFERA. <10%)"]
[null,null,null,"Alta por curación (casos especiales que terminan tratamiento): mujeres mayores (F2)",null,null,"tasa omitido descargada",{"$f":"IF(ISBLANK(E109),\"\",(E111 + E111)/(H103+H102))","v":""},"(Min  Normas ESFERA. <15%)"]
[null,null,null,"Altas por muerte: hombres mayores (F3)",null,null,"salidas totales (J = E   F   G)",{"$f":"IF(ISBLANK(E105:F116),\"\",SUM(H102,H103))","v":0}]
[null,null,null,"Altas por muerte: mujeres mayores (F4)",null,null,"Total al final del (período de tiempo) (K = A   DJ)",{"$f":"IF(ISBLANK(E99),\"\",E99+E100+H100+H101-H109)","v":""}]
[null,null,null,"Altas por abandono:hombres mayores (F5)"]
[null,null,null,"Altas por abandono: mujeres mayores (F6)"]
[null,null,null,"Altas sin curación: hombres mayores (F7)"]
[null,null,null,"Altas sin curación: mujeres mayores (F8)"]
[null,null,null,"Otras transferencias: hombres mayores (G1)"]
[null,null,null,"Otras transferencias: mujeres mayores (G2)"]
["Gestión de la desnutrición aguda grave, para pacientes ambulatorios"]
[null,"Niños 6-59 meses","Final total del último (período de tiempo): niños (A1)",null,null,null,"Cálculo automático Niños/as 6-59m"]
[null,null,"Final total del último (período de tiempo): niñas (A2)",null,null,null,"Total admisiones  niños (D = B   C)",{"$f":"SUM(E122+E120)","v":0}]
[null,null,"categorías de entrada","Nuevas admisiones: niños(B1)",null,null,"Total admisiones niñas (D = B   C)",{"$f":"SUM(E121+E123)","v":0}]
[null,null,null,"Nuevas admisiones: niñas (B2)",null,null,"Total salidas niños (H = F   G)",{"$f":"SUM(E124+E126+E128+E130+E132+E134)","v":0}]
[null,null,null,"Casos antiguos (derivados de OTP, personas que retoman el tratamiento, translados de otro centro de estabilización) : Niños (C1)",null,null,"Total salidas niñas (H = F   G)",{"$f":"SUM(E125+E127+E129+E131+E133+E135)","v":0}]
[null,null,null,"Casos antiguos (derivados de OTP, personas que retoman el tratamiento, translados de otro centro de estabilización): Niñas (C2)",null,null,"Total niños al final del (periodo de tiempo) (I = A   DH)",{"$f":"IF(ISBLANK(E118),\"\",E118+H119-H121)","v":""}]
[null,null,"categorías de salida","Alta por curación: niños (F1)",null,null,"Total niñas al final del (periodo de tiempo) (I = A   DH)",{"$f":"IF(ISBLANK(E119),\"\",E119+H120-H122)","v":""}]
[null,null,null,"Altas por curación: niñas (F1)",null,null,"tasas altas por curación",{"$f":"IF(ISBLANK(E124),\"\",(E124+E125)/(H128))","v":""},"(Min Normas ESFERA. > 75%)"]
[null,null,null,"Altas por muerte: niños (F2)",null,null,"tasa altas por muerte",{"$f":"IF(ISBLANK(E126),\"\",(E126 + E127)/(H128))","v":""},"(Min Normas ESFERA. <10%)"]
[null,null,null,"Altas por muerte: niñas (F2)",null,null,"tasa altas por abandono",{"$f":"IF(ISBLANK(E128),\"\",(E128 + E129)/(H122+H121))","v":""},"(Min Normas ESFERA.  <15%)"]
[null,null,null,"Altas por abandono: niños (F3)",null,null,"salidas totales (J = F   G)",{"$f":"IF(ISBLANK(E124:E135),\"\",SUM(H121,H122))","v":""}]
[null,null,null,"Altas por abandono: niñas (F3)",null,null,"Total al final del (período de tiempo) (K = A   DJ)",{"$f":"IF(ISBLANK(E118),\"\",E118+E119+H119+H120-H128)","v":""}]
[null,null,null,"Altas sin curación: niños (F4)"]
[null,null,null,"Altas sin curación: niñas (F4)"]
[null,null,null,"Derivaciones a centros de estabilización: niños (F5)"]
[null,null,null,"Derivaciones a centros de estabilización: niñas (F6)"]
[null,null,null,"Otras transferencias: niños (G1)"]
[null,null,null,"Otras transferencias: niñas (G2)"]
[null,null,"Ganancia media diaria de peso (AWG) para el alta por curación (en gramos / kg / día)",null,null,null,"(Recomendado> 4 g / kg / día)"]
[null,null,"Duración media de la estancia (LOS) para el alta por curación (en días)",null,null,null,"(Recomendado <60 días)"]
[]
[null,"Personas mayores (definición de país de \"persona mayor\" o  ≥60años)","fin total de la última (período de tiempo): Hombres Mayor (A1)",null,null,null,"Cálculo automático Personas Mayores"]
[null,null,"fin total de la última (período de tiempo): Mayor femenino (A2)",null,null,null,"admisiones totales hombres mayores (D = B   C)",{"$f":"E141+E143","v":0}]
[null,null,"categorías de entrada","Nuevas admisiones: hombres mayores (B1)",null,null,"Admisiones totales mujeres mayores (D = B   C)",{"$f":"E142+E144","v":0}]
[null,null,null,"Nuevas admisiones: mujeres mayores (B2)",null,null,"salidas totales hombres mayores (H = F   G)",{"$f":"SUM(E145+E147+E149+E151+E153+E155)","v":0}]
[null,null,null,"Casos antiguos (derivados de OTP, personas que retoman el tratamiento, translados de otro centro de estabilización) : hombres mayores (C1)",null,null,"salidas totales mujeres mayores (H = F   G)",{"$f":"SUM(E146+E148+E150+E152+E154+E156)","v":0}]
[null,null,null,"Casos antiguos (derivados de OTP, personas que retoman el tratamiento, translados de otro centro de estabilización) : mujeres mayores (C2)",null,null,"Total hombres mayores al final del (periodo de tiempo) (I = A   DH)",{"$f":"IF(ISBLANK(E139),\"\",E139+H140-H142)","v":""}]
[null,null,"categorías de salida","Altas por curación: hombres mayores (F1)",null,null,"Total mujeres mayores al final del (periodo de tiempo) (I = A   DH)",{"$f":"IF(ISBLANK(E140),\"\",E140+H141-H143)","v":""}]
[null,null,null,"Altas por curación: mujeres mayores (F1)",null,null,"tasa altas por curación",{"$f":"IF(ISBLANK(E145),\"\",(E145+E146)/(H149))","v":""},"(Min Normas ESFERA.> 75%)"]
[null,null,null,"Altas por muerte: hombres mayores (F2)",null,null,"tasa altas por muerte",{"$f":"IF(ISBLANK(E147),\"\",(E147 + E148)/(H149))","v":""},"(Min Normas ESFERA. <10%)"]
[null,null,null,"Altas por muerte: mujeres mayores (F2)",null,null,"tasa altas por abandono",{"$f":"IF(ISBLANK(E149),\"\",(E149 + E150)/(H143+H142))","v":""},"(Min Normas ESFERA. <15%)"]
[null,null,null,"Altas por abandono: hombres mayores (F3)",null,null,"salidas totales (J = F   G)",{"$f":"IF(ISBLANK(E145:F156),\"\",SUM(E145:E154))","v":0}]
[null,null,null,"Altas por abandono: mujers mayores (F3)",null,null,"Total al final del (período de tiempo) (K = A   DJ)",{"$f":"IF(ISBLANK(E139),\"\",E139+E140+H140+H141-H149)","v":""}]
[null,null,null,"Altas sin curación: hombre mayores (F4)"]
[null,null,null,"Altas sin curación: mujeres mayores (F4)"]
[null,null,null,"Derivaciones a centros de estabilización: hombres mayores (F5)"]
[null,null,null,"Derivaciones a centros de estabilización: mujeres mayores (F6)"]
[null,null,null,"Otras transferencias: hombre mayores (G1)"]
[null,null,null,"Otras transferencias: mujeres mayores (G2)"]
[]
["Programas de alimentación suplementaria selectiva"]
[null,"Niños/as 6-59 meses","fin total del último (período de tiempo): Niños (A1)",null,null,null,"Cálculo automático Niños/as 6-59m"]
[null,null,"fin total del último (período de tiempo): niñas (A1)",null,null,null,"Total admisión niños (D = B   C)",{"$f":"SUM(E163+E161)","v":0}]
[null,null,"categorías de entrada","Nuevas admisiones: niños (B1)",null,null,"Total admisión niñas (D = B   C)",{"$f":"SUM(E162+E164)","v":0}]
[null,null,null,"Nuevas admisiones: niñas(B2)",null,null,"Total salidas niños (H = E   G)",{"$f":"SUM(E165+E167+E169+E171+E173+E175)","v":0}]
[null,null,null,"Casos antiguos (derivados de OTP, personas que retoman el tratamiento, translados de otro centro de estabilización): Niños (C1)",null,null,"Total salidas niñas (H = E   G)",{"$f":"SUM(E166+E168+E170+E172+E174+E176)","v":0}]
[null,null,null,"Casos antiguos (derivados de OTP, personas que retoman el tratamiento, translados de otro centro de estabilización): niñas (C2)",null,null,"Total niños al final del (periodo de tiempo) (I = A   DH)",{"$f":"IF(ISBLANK(E159),\"\",E159+H160-H162)","v":""}]
[null,null,"categorías de salida","Altas por curación: Niños (E1)",null,null,"Total niñas al final del (periodo de tiempo) (I = A   DH)",{"$f":"IF(ISBLANK(E160),\"\",E160+H161-H163)","v":""}]
[null,null,null,"Altas por curación: niñas (E2)",null,null,"tasa altas por curación",{"$f":"IF(ISBLANK(E166),\"\",(E166+E165)/(H169))","v":""},"(Min  Normas ESFERA.> 75%)"]
[null,null,null,"Altas por muerte: Niños (E3)",null,null,"tasa altas por muerte",{"$f":"IF(ISBLANK(E167),\"\",(E167 + E168)/(H169))","v":""},"(Las normas de Esfera min. <3%)"]
[null,null,null,"Altas por muerte: niñas (E4)",null,null,"tasa altas por abandono",{"$f":"IF(ISBLANK(E169),\"\",(E169 + E170)/(H169))","v":""},"(Min Normas ESFERA.  <15%)"]
[null,null,null,"Altas por abandono: Niños (E5)",null,null,"salidas totales (J = E   G)",{"$f":"IF(ISBLANK(E165),\"\",SUM(H162:H163))","v":""}]
[null,null,null,"Altas por abandono: niñas (E6)",null,null,"Total al final del (período de tiempo) (K = A   DJ)",{"$f":"IF(ISBLANK(E159),\"\",E159+E160+H160+H161-H169)","v":""}]
[null,null,null,"Alta sin curación: Niños (E7)"]
[null,null,null,"Altas sin curación: niñas (E8)"]
[null,null,null,"Derivados a OTP / SC: niños (E9)"]
[null,null,null,"Derivados a OTP / SC: niñas (E10)"]
[null,null,null,"Otras transferencias niños (G1)"]
[null,null,null,"Otras transferencias niñas (G2)"]
[null,null,"Duración media de la estancia para altas por curación (en días)"]
[null,null,"Valor kcal de la ración suplementaria diaria (kcal / día)"]
[null,null,"Producto provisto"]
[]
[null,"Embarazadas y mujeres lactantes (MEL)","fin total del último (período de tiempo): MEL (A)",null,null,null,"Cálculo automático MEL"]
[null,null,"categorías de entrada","Nuevas admisiones en este (periodo de tiempo): MEL (B)",null,null,"Total admisiones MEL (D = B   C)",{"$f":"IF(ISBLANK(E182),\"\",E182+E183)","v":""}]
[null,null,null,"Casos antiguos (derivados de OTP, personas que retoman el tratamiento, translados de otro centro de estabilización): MEL (C1)",null,null,"tasa de alta por curación",{"$f":"IF(ISBLANK(E184),\"\",E184/(H186))","v":""},"(Min  Normas ESFERA. > 75%)"]
[null,null,"categorías de salida","Alta por curación: MEL (F1)",null,null,"tasa alta por muerte",{"$f":"IF(ISBLANK(E185),\"\",E185/(H186))","v":""},"(Las normas de Esfera min. <3%)"]
[null,null,null,"Alta por muerteo: MEL (F2)",null,null,"tasa alta por abandono",{"$f":"IF(ISBLANK(E187),\"\",E186/(H186))","v":""},"(Min Normas ESFERA. <15%)"]
[null,null,null,"Alta por abandono: MEL (F3)",null,null,"salidas totales (J = F   G)",{"$f":"IF(ISBLANK(E184),\"\",SUM(E184:E189))","v":""}]
[null,null,null,"Alta sin recuperación: MEL (F4)",null,null,"Total al final del (período de tiempo) (K = A   DJ)",{"$f":"IF(ISBLANK(E181),\"\",E181+H182-H186)","v":""}]
[null,null,null,"Derivadas a OTP / SC: MEL (F5)"]
[null,null,null,"Otras transferencias: MEL (G)"]
[null,null,"Duración media de la estancia para altas por curación (en días)"]
[null,null,"Valor kcal de la ración suplementaria diaria (kcal / día)"]
[null,null,"Producto provisto"]
[]
[null,"Personas mayores (definición de país de \"personas mayores\" o  ≥60años)","fin total del último (período de tiempo): Hombres Mayores (A1)"]
[null,null,"fin total del último (período de tiempo): Mujeres mayores (A2)",null,null,null,"Cálculo automático Personas Mayores"]
[null,null,"categorías de entrada","Nuevas admisiones: Hombres Mayor (B1)",null,null,"Admisiones totales hombres mayores (D = B   C)",{"$f":"SUM(E196+E198)","v":0}]
[null,null,null,"Nuevas admisiones: Mayor Femenino (B2)",null,null,"Admisiones totales mujeres mayores (D = B   C)",{"$f":"SUM(E197+E199)","v":0}]
[null,null,null,"Casos antiguos (derivados de OTP, personas que retoman el tratamiento, translados de otro centro de estabilización): hombres mayores (C1)",null,null,"salidas totales hombres mayores (H = E   G)",{"$f":"SUM(E200+E202+E204+E206+E208+E210)","v":0}]
[null,null,null,"Casos antiguos (derivados de OTP, personas que retoman el tratamiento, translados de otro centro de estabilización): Mujeres mayores (C2)",null,null,"salidas totales mujeres mayores (H = E   G)",{"$f":"SUM(E201,E203,E205,E207,E209,E211)","v":0}]
[null,null,"categorías de salida","Alta por curación: hombres mayores (E1)",null,null,"Total hombres mayores al final del (periodo de tiempo) (I = A   DH)",{"$f":"IF(ISBLANK(E194),\"\",E194+H196-H198)","v":""}]
[null,null,null,"Alta por curación: mujres mayores (E2)",null,null,"Total mujeres mayores al final del (periodo de tiempo) (I = A   DH)",{"$f":"IF(ISBLANK(E195),\"\",E195+H197-H199)","v":""}]
[null,null,null,"Altas por muerte: hombres mayores (E3)",null,null,"tasa altas por curación",{"$f":"IF(ISBLANK(E202),\"\",(E200+E201)/(H205))","v":""},"(Min Normas ESFERA.  75%)"]
[null,null,null,"Altas por muerte: mujeres mayores (E4)",null,null,"tasa altas por muerte",{"$f":"IF(ISBLANK(E203),\"\",(E202+ E203)/(H205))","v":""},"(Las normas de Esfera min. <3%)"]
[null,null,null,"Altas por abandano: hombres mayores (E5)",null,null,"tasa altas por abandono",{"$f":"IF(ISBLANK(E205),\"\",(E204+E205)/(H205))","v":""},"(Min Normas ESFERA. <15%)"]
[null,null,null,"Altas por abandono: mujeres mayores (E6)",null,null,"salidas totales (J = E   G)",{"$f":"IF(ISBLANK(E200),\"\",SUM(H198:H199))","v":""}]
[null,null,null,"Altas sin recuperación: hombres mayores (E7)",null,null,"Total al final del (período de tiempo) (K = A   DJ)",{"$f":"IF(ISBLANK(E194),\"\",E194+E195+H196+H197-H205)","v":""}]
[null,null,null,"Altas sin recuperación: mujeres mayores (E8)"]
[null,null,null,"Derivados a OTP / SC: hombres mayores (E9)"]
[null,null,null,"Derivados a OTP / SC: mujeres mayores (E10)"]
[null,null,null,"Otras transferencias: hombres mayores (G1)"]
[null,null,null,"Otras transferencias: mujeres mayores (G2)"]
[null,null,"Duración media de la estancia para altas por curación (en días)"]
[null,null,"Valor kcal de la ración suplementaria diaria (kcal / día)"]
[null,null,"Producto provisto"]
[]
["Programas de alimentación suplementaria general"]
[null,"Niños/as 6-23 meses","No. de niños 6-23m nuevos en el programa durante el (período de tiempo)",null,{"$f":"SUM(E218,E219)","v":0},null,"Cálculo automático Niños/as 6-23m"]
[null,null,"Niños",null,null,null,"Número medio de niños/as  6-23m  que participaron en la distribución durante el (periodo de tiempo) ",{"$f":"E220/E223","v":{"$error":"#DIV/0!"}}]
[null,null,"Niñas"]
[null,null,"Número total de niños/as 6-23m que asistieron a la distribución en este (periodo de tiempo) ",null,{"$f":"SUM(E221,E222)","v":0}]
[null,null,"Niños"]
[null,null,"Niñas"]
[null,null,"Número de distribuciones durante este (periodo de tiempo) "]
[null,null,"valor kcal de ración suplementaria diaria (kcal / día)"]
[null,null,"Producto provisto"]
[]
[null,"Niños/as 6-59 meses","No. de niños 6-59m nuevos en el programa durante el (período de tiempo)",null,{"$f":"SUM(E228,E229)","v":0},null,"Cálculo automático Niños/as 6-59m"]
[null,null,"Niños",null,null,null,"Número medio de niños/as 6-59m que participaron en la distribución durante el (periodo de tiempo) ",{"$f":"(E230/E233)","v":{"$error":"#DIV/0!"}}]
[null,null,"Niñas"]
[null,null,"Número total de niños/as 6-23m que asistieron a la distribución en este (periodo de tiempo) ",null,{"$f":"SUM(E231,E232)","v":0}]
[null,null,"Niños"]
[null,null,"Niñas"]
[null,null,null,"Número de distribuciones durante este (periodo de tiempo) "]
[null,null,"valor kcal de ración suplementaria diaria (kcal / día)"]
[null,null,"Producto provisto"]
[]
[null,"Mujeres embarazadas y lactantes","Número de mujeres embarazadas y lactantes recién inscritas durante el (período de tiempo)",null,null,null,"Cálculo automático MEL"]
[null,null,"Número total de mujeres embarazadas y lactantes que asistieron a la distribución en este (periodo de tiempo)",null,null,null,"Promedio de MEL que participaron en la distribución durante el (periodo de tiempo) ",{"$f":"(E238/E239)","v":{"$error":"#DIV/0!"}}]
[null,null,null,"Número de distribuciones durante este (periodo de tiempo)"]
[null,null,"valor kcal de ración suplementaria diaria (kcal / día)"]
[null,null,"Producto provisto"]
[]
[null,"Personas mayores (definición de país de \"persona mayor\" o ≥60 años) ","Nº de personas mayores de nuevo ingreso durante el (período de tiempo)",null,{"$f":"SUM(E244,E245)","v":0},null,"Cálculo automático Personas Mayores"]
[null,null,"Hombres mayores",null,null,null,"Promedio de personas mayores que participaron en la distribución durante el  (periodo de tiempo) ",{"$f":"(E246/E249)","v":{"$error":"#DIV/0!"}}]
[null,null,"Mujeres mayores"]
[null,null,"Número total de personas mayores que asistieron a la distribución en este (periodo de tiempo) ",null,{"$f":"SUM(E247,E248)","v":0}]
[null,null,"Hombres mayores"]
[null,null,"Mujeres mayores"]
[null,null,"Número de distribuciones durante este (periodo de tiempo) "]
[null,null,"valor kcal de ración suplementaria diaria (kcal / día)"]
[null,null,"Producto provisto"]
[]
["Suplementación de micronutrientes"]
[null,"Suplementos de vitamina A administrada a niños de 6-11 meses y 12-59 meses ",null,"Número total de niños/as de 6-11 meses que han recibido  Vit-A durante el (período de tiempo)",{"$f":"SUM(E255:E256)","v":0},null,"Cálculo automático niños/a s 6-11 meses que recibieron vit-A"]
[null,null,null,"Niños",null,null,"% niños ",{"$f":"IF(ISBLANK(E255),\"\",E255/E254)","v":""}]
[null,null,null,"Niñas",null,null,"% niñas",{"$f":"IF(ISBLANK(E256),\"\",E256/E254)","v":""}]
[null,null,null,"Número total de niños/as  de 12-59 meses que han recibido Vit-A durante el (período de tiempo)",{"$f":"SUM(E258:E259)","v":0},null,"Cálculos automático niños/as 12-59 meses que recibieron vit-A"]
[null,null,null,"Niños ",null,null,"% niños ",{"$f":"IF(ISBLANK(E258),\"\",E258/E257)","v":""}]
[null,null,null,"Niñas",null,null,"% niñas",{"$f":"IF(ISBLANK(E259),\"\",E259/E257)","v":""}]
[]
[null,"Suplementos de vitamina A administados a MEL",null,"Número total de mujeres embarazadas y  lactantes que han recibido  Vit-A durante el (período de tiempo)",{"$f":"SUM(E262:E263)","v":0},null,"Cálculo automático MEL que recibieron vit-A"]
[null,null,null,"Embarazadas",null,null,"% mujeres embarazadas",{"$f":"IF(ISBLANK(E262),\"\",E262/E261)","v":""}]
[null,null,null,"Lactantes",null,null,"% mujeres lactantes",{"$f":"IF(ISBLANK(E263),\"\",E263/E261)","v":""}]
[]
[null,"Suplementos de vitamina A administrados a personas mayores (definición de país de \"persona mayor\" o ≥ 60años)",null,"Número total de personas mayores que han recibido  Vit-A durante el (período de tiempo)",{"$f":"SUM(E266:E267)","v":0},null,"Cálculo automático personas mayores que recibieron vit-A"]
[null,null,null,"Hombres mayores",null,null,"% hombres mayores",{"$f":"IF(ISBLANK(E266),\"\",E266/E265)","v":""}]
[null,null,null,"Mujeres mayores",null,null,"% mujeres mayores",{"$f":"IF(ISBLANK(E267),\"\",E267/E265)","v":""}]
[]
[null,"Micronutrientes en Polvo (MNP) administrados a  niños/as de 6-24 meses (polvos)",null,"Número total de niños/as 6-24meses que han recibido  MNP durante el (período de tiempo)",{"$f":"SUM(E270:E271)","v":0},null,"Cálculo automático niños/as  6-24 meses que recibieron MNP"]
[null,null,null,"Niños",null,null,"% niños ",{"$f":"IF(ISBLANK(E270),\"\",E270/E269)","v":""}]
[null,null,null,"Niñas",null,null,"% niñas",{"$f":"IF(ISBLANK(E271),\"\",E271/E269)","v":""}]
[]
[null,"Comprimidos de micronutrientes (MNT) administrados a MEL",null,"Número total de mujeres embarazadas y lactantes que han recibido  MNT durante el (período de tiempo)"]
[]
[null,"Micronutrientes en Polvo / Espolvorear (MNP) dado a las personas mayores ",null,"Número total de personas mayores que han recibido  MNP durante el (período de tiempo)",{"$f":"SUM(E276:E277)","v":0},null,"Cálculo automático personas mayores que recibieron MNP"]
[null,null,null,"Hombres mayores",null,null,"% hombres mayores",{"$f":"IF(ISBLANK(E276),\"\",E276/E275)","v":""}]
[null,null,null,"Mujeres mayores",null,null,"% mujeres mayores",{"$f":"IF(ISBLANK(E277),\"\",E277/E275)","v":""}]
[]
[null,"Hierro y ácido fólico administrado a MEL",null,"Número total de mujeres embarazadas y lactantes que han recibido hierro y ácido fólico durante el (período de tiempo)"]
[]
[null,"Hierro y ácido fólico administrado a  personas mayores",null,"Número total de personas mayores que han recibido hierro y ácido fólico durante el (período de tiempo) ",{"$f":"SUM(E282,E283)","v":0},null,"Cálculo automático personas mayores suplementadas con hierro y ácido fólico"]
[null,null,null,"Hombres mayores",null,null,"% hombres mayores",{"$f":"IF(ISBLANK(E282),\"\",E282/E281)","v":""}]
[null,null,null,"Mujeres mayores",null,null,"% mujeres mayores",{"$f":"IF(ISBLANK(E283),\"\",E283/E281)","v":""}]
[]
["Desparasitación"]
[null,"Nº de niños de 12-59 meses desparasitados",null,"Número total de niños 12-59meses desparasitados durante el (período de tiempo)",{"$f":"SUM(E287:E288)","v":0},null," Cálculo automático niños/as 12-59meses desparasitados"]
[null,null,null,"Niños ",null,null,"% niños ",{"$f":"IF(ISBLANK(E287),\"\",E287/E286)","v":""}]
[null,null,null,"Niñas",null,null,"% niñas",{"$f":"IF(ISBLANK(E288),\"\",E288/E286)","v":""}]
[]
[null,"Número de mujeres embarazadas  y lactantes desparasitadas",null,"Número total de mujeres embarazadas y lactantes desparasitadas durante el (período de tiempo)"]
[]
[null,"Número de personas mayores desparasitadas",null,"Número total de personas mayores desparasitadas durante el (período de tiempo)",{"$f":"SUM(E293:E294)","v":0},null,"Cálculo automático personas mayores desparasitadas"]
[null,null,null,"Hombres mayores",null,null,"% hombres mayores",{"$f":"IF(ISBLANK(E293),\"\",E293/E292)","v":""}]
[null,null,null,"Mujeres mayores",null,null,"% mujeres mayores",{"$f":"IF(ISBLANK(E294),\"\",E294/E292)","v":""}]
[]
["Alimentación de lactantes y niños pequeños"]
[null,"Sesiones individuales (uno a uno)","Mujeres embarazadas que asistieron a sesiones de asesoramiento individual"]
[null,null,"Mujeres lactantes y cuidadores de niños/as <6 meses que asistieron a sesiones de asesoramiento individual",null,null,null,"Cálculo automático MEL y cuidadores que asistieron a la orientación individual"]
[null,null,"Mujeres lactantes y cuidadores de niños/as de 6-24 meses que asistieron a sesiones de asesoramiento individual",null,null,null,"Total",{"$f":"IF(ISBLANK(E298),\"\",SUM(E297:E299))","v":""}]
[null,"ALNP asesoramiento - Las sesiones de grupo","Número de grupos de ALNP (incluidos los grupos de apoyo de madres) en funcionamiento durante el (período de tiempo)"]
[null,null,"Número total de sesiones de grupo (incluidos los grupos de apoyo de madres) mantenidos en el (período de tiempo)"]
[null,null,"Nuevas admisiones de mujeres embarazadas y lactantes y cuidadores en grupos ALNP (incluidos los grupos de apoyo de madres) durante el (período de tiempo)",null,{"$f":"SUM(E303,E304)","v":0},null,"Cálculo automático MEL y cuidadores admitidos en grupos ALNP"]
[null,null,null,"Hombres",null,null,"% hombres ",{"$f":"IF(ISBLANK(E303),\"\",E303/E302)","v":""}]
[null,null,null,"Mujeres",null,null,"% mujeres",{"$f":"IF(ISBLANK(E303),\"\",E304/E302)","v":""}]
[null,null,null,"Número total de mujeres embarazadas y lactantes y cuidadores que asistieron a grupos de ALNP (incluidos los grupos de apoyo de madres) durante el (período de tiempo)",{"$f":"SUM(E306,E307)","v":0}]
[null,null,null,"Hombres"]
[null,null,"Mujeres"]
[null,"alimentación artificial","Número total de lactantes de 0-6 meses que requieren alimentación artificial que han recibido BMS y apoyo apropiado durante el (período de tiempo)",null,null,null,"Nota: las sesiones de asesoramiento ALNP incluyen el inicio temprano de la lactancia materna exclusiva, el contacto piel a piel, relaction, alimentación complementaria, los suplementos de micronutrientes, el VIH y la alimentación infantil, el uso apropiado de BMS, etc ..."]
[null,null,"Número total de lactantes de 6-24 meses de edad que requieren alimentación artificial que han recibido BMS y apoyo apropiado durante el (período de tiempo)"]
[null,"La lactancia materna esquinas / espacios amigos de los niños","Número total de rincones para la lactancia materna / espacios que promueven la lactancia materna abiertos durante el (período de tiempo)"]
[null,null,"Número de rincones para la lactancia materna / espacios que promueven la lactancia materna en funcionamiento durante el (período de tiempo)"]
[null,null,"Nuevas admisiones de madres lactantes durante el (período de tiempo)"]
[null,null,"Número total de mujeres lactantes que asistieron a los rincones para la lactancia materna / espacios que promueven la lactancia materna durante el (período de tiempo)"]
[]
["Desarrollo de capacidades"]
[null,null,"Type/Topic of Training"]
[null,"Entrenamiento en MUAC,  detección, derivación y movilización de la comunidad",null,"Tipo de formación",null,null,"Nº de formaciones"]
[null,null,null,"Categoría principal del personal formado",null,null,"De qué agencia / s"]
[null,null,null,"Hombres",null,null,"Número de días"]
[null,null,null,"Mujeres"]
[null,null,null,"Comentarios"]
[]
[null,null,"Type/Topic of Training",null,null,null,"Automatic calculations Training 2"]
[null,"Formación sobre la gestión integrada de la desnutrición aguda (IMAM): SAM / TF (pacientes hospitalizados)",null,"Tipo de formación",null,null,"Nº de formaciones"]
[null,null,null,"Categoría principal del personal formado",null,null,"De qué agencia / s"]
[null,null,null,"Hombres",null,null,"Número de días"]
[null,null,null,"Mujeres"]
[null,null,null,"Comentarios"]
[]
[null,null,"Type/Topic of Training",null,null,null,"Automatic calculations Training 3"]
[null,"Formación sobre la gestión integrada de la desnutrición aguda (IMAM): SAM / TF (pacientes ambulatorios)",null,"Tipo de formación",null,null,"Nº de formaciones"]
[null,null,null,"Categoría principal del personal formado",null,null,"De qué agencia / s"]
[null,null,null,"Hombres",null,null,"Número de días"]
[null,null,null,"Mujeres"]
[null,null,null,"Comentarios"]
[]
[null,null,"Type/Topic of Training",null,null,null,"Automatic calculations Training 4"]
[null,"Formación sobre la gestión integrada de la desnutrición aguda (IMAM): MAM / TSFP",null,"Tipo de formación",null,null,"Nº de formaciones"]
[null,null,null,"Categoría principal del personal formado",null,null,"De qué agencia / s"]
[null,null,null,"Hombres",null,null,"Número de días"]
[null,null,null,"Mujeres"]
[null,null,null,"Comentarios"]
[]
[null,"Formación sobre alimentación infantil",null,"Tipo de formación",null,null,"Nº de formaciones"]
[null,null,null,"Categoría principal del personal capacitado",null,null,"De qué agencia / s"]
[null,null,null,"Hombres",null,null,"Número de días"]
[null,null,null,"Mujeres"]
[null,null,null,"Comentarios"]
[]
[null,"Formación sobre encuesta de SMART",null,"Tipo de formación",null,null,"Nº de formaciones"]
[null,null,null,"Categoría principal del personal formado",null,null,"De qué agencia / s"]
[null,null,null,"Hombres",null,null,"Número de días"]
[null,null,null,"Mujeres"]
[null,null,null,"Comentarios"]
[]
[null,"Formación de preparación y respuesta a emergencias",null,"Tipo de formación",null,null,"Nº de formaciones"]
[null,null,null,"Categoría principal del personal formado",null,null,"De qué agencia / s"]
[null,null,null,"Hombres",null,null,"Número de días"]
[null,null,null,"Mujeres"]
[null,null,null,"Comentarios"]
[]
[null,"Formación sobre el enfoque de clústeres",null,"Tipo de formación",null,null,"Nº de formaciones"]
[null,null,null,"Categoría principal del personal formado",null,null,"De qué agencia / s"]
[null,null,null,"Hombres",null,null,"Número de días"]
[null,null,null,"Mujeres"]
[null,null,null,"Comentarios"]
[]
["Comentarios"]
[null,"Cualquier comentario sobre programas, lagunas o preocupaciones"]

{"sheet":"Site4","index":5,"n_rows":369,"n_cols":26,"rows_kept":369,"cut":false,"hidden":false,"merged":[[368,1,385,1],[368,2,385,8],[355,1,359,2],[355,6,355,7],[356,6,356,7],[357,6,357,7],[359,4,359,8],[361,1,365,2],[361,6,361,7],[362,6,362,7],[363,6,363,7],[365,4,365,8],[343,1,347,2],[343,6,343,7],[344,6,344,7],[345,6,345,7],[347,4,347,8],[349,1,353,2],[349,6,349,7],[350,6,350,7],[351,6,351,7],[353,4,353,8],[336,2,336,3],[336,6,336,7],[337,1,341,2],[337,6,337,7],[338,6,338,7],[339,6,339,7],[341,4,341,8],[329,2,329,3],[329,6,329,7],[330,1,334,2],[330,6,330,7],[331,6,331,7],[332,6,332,7],[334,4,334,8],[322,2,322,3],[322,6,322,7],[323,1,327,2],[323,6,323,7],[324,6,324,7],[325,6,325,7],[327,4,327,8],[314,0,314,3],[315,2,315,3],[316,1,320,2],[316,6,316,7],[317,6,317,7],[318,6,318,7],[320,4,320,8],[307,1,308,1],[307,2,307,3],[307,6,308,8],[308,2,308,3],[309,1,312,1],[309,2,309,3],[310,2,310,3],[311,2,311,3],[312,2,312,3],[299,1,306,1],[299,2,299,3],[300,2,300,3],[301,2,301,3],[301,6,301,7],[306,2,306,3],[295,0,295,3],[296,1,298,1],[296,2,296,3],[297,2,297,3],[297,6,297,7],[298,2,298,3],[284,0,284,3],[285,1,287,2],[285,6,285,7],[289,1,289,2],[291,1,293,2],[291,6,291,7],[272,1,272,2],[274,1,276,2],[274,6,274,7],[278,1,278,2],[280,1,282,2],[280,6,280,7],[260,1,262,2],[260,6,260,7],[264,1,266,2],[264,6,264,7],[268,1,270,2],[268,6,268,7],[248,2,248,3],[249,2,249,3],[250,2,250,3],[252,0,252,3],[253,1,258,2],[253,6,253,7],[256,6,256,7],[239,2,239,3],[240,2,240,3],[242,1,248,1],[242,2,242,3],[242,6,242,7],[243,2,243,3],[244,2,244,3],[245,2,245,3],[246,2,246,3],[247,2,247,3],[233,2,233,3],[234,2,234,3],[236,1,238,1],[236,2,236,3],[236,6,236,7],[237,2,237,3],[223,2,223,3],[224,2,224,3],[226,1,234,1],[226,2,226,3],[226,6,226,7],[227,2,227,3],[228,2,228,3],[229,2,229,3],[230,2,230,3],[231,2,231,3],[215,0,215,3],[216,1,224,1],[216,2,216,3],[216,6,216,7],[217,2,217,3],[218,2,218,3],[219,2,219,3],[220,2,220,3],[221,2,221,3],[222,2,222,3],[193,1,213,1],[193,2,193,3],[194,2,194,3],[194,6,194,7],[195,2,198,2],[199,2,210,2],[211,2,211,3],[212,2,212,3],[213,2,213,3],[180,1,191,1],[180,2,180,3],[180,6,180,7],[181,2,182,2],[183,2,188,2],[189,2,189,3],[190,2,190,3],[191,2,191,3],[157,0,157,3],[158,1,178,1],[158,2,158,3],[158,6,158,7],[159,2,159,3],[160,2,163,2],[164,2,175,2],[176,2,176,3],[177,2,177,3],[178,2,178,3],[135,1,136,1],[135,2,135,3],[136,2,136,3],[138,1,155,1],[138,2,138,3],[138,6,138,7],[139,2,139,3],[140,2,143,2],[144,2,155,2],[116,0,116,3],[117,1,134,1],[117,2,117,3],[117,6,117,7],[118,2,118,3],[119,2,122,2],[123,2,134,2],[81,1,96,1],[81,2,81,3],[81,6,81,7],[87,2,96,2],[98,1,115,1],[98,2,98,3],[98,6,98,7],[99,2,99,3],[100,2,103,2],[104,2,115,2],[52,1,58,1],[52,2,56,2],[61,0,61,3],[62,1,79,1],[62,2,62,3],[62,6,62,7],[63,2,63,3],[64,2,67,2],[68,2,79,2],[28,1,34,1],[28,2,32,2],[37,1,42,1],[37,2,40,2],[37,6,37,7],[44,1,50,1],[44,2,48,2],[44,6,44,7],[15,1,15,3],[17,1,17,3],[19,0,19,3],[20,1,26,1],[20,2,24,2],[20,6,20,7],[8,1,8,3],[9,1,9,3],[10,1,10,3],[13,1,13,3],[13,6,13,8],[14,1,14,3],[0,0,0,3],[1,0,1,2],[2,1,2,3],[5,1,5,3],[6,1,6,3],[7,1,7,3]]}
["Formulario para la presentación de informes por los socios",null,null,null,null,null,null,null,null,null,null,null,"Localidad","Nilo Alto","Jonglei","Unidad","Warrap","Bahr el Ghazal norte","Bahr el Ghazal Occidental","Lagos","Ecuatoria occidental","Equatoria central","Equatoria Oriental","Mes","Temas de la formación","Tipo de formación"]
["Información general",null,null,null,null,null,null,null,null,null,null,null,"Nilo Alto","Renk","Fangak","Pariang","Abyei","Aweil_Norte","Raga","Cueibet","Tambura","Terekeka","Torit","Enero","Examen con MUAC y derivaciones","Nuevo"]
[null,"Acrónimo de la agencia",null,null,null,null,null,null,null,null,null,null,"Jonglei","Manyo","Canal_Khor_Fulus","Abiemnhom","Twic","Aweil_este","Jur_River","Rumbek_Norte","Nagero","Juba","Lapon","Febrero","Protocolos para pacientes ambulatorios","Repaso"]
[null,null,null,"Nombre de la agencia",{"$f":"VLOOKUP(E3,Lists!A2:B200,2,FALSE)","v":{"$error":"#N/A"}}]
[null,null,null,"Semana del informe "]
[null,"Mes del informe:",null,null,null,null,null,null,null,null,null,null,"Unidad","Fashoda","Ayod","Mayom","Gogrial_occidental","Aweil_Sur","Wau","Rumbek_Centro","Nzara","Lainya","Kapoeta_Norte","Marzo","Protocolos para pacientes hospitalizados"]
[null,"Año del informe",null,null,null,null," ",null,null,null,null,null,"Warrap","Melut","Duk","Rubkona","Gogrial_este","Aweil_oeste",null,"Wulu","Ezo","Yei","Kapoeta_este","Abril","Protocolos para programas de alimentación suplementaria"]
[null,"Fecha de presentación del informe (DD / MM / AA)",null,null,null,null,null,null,null,null,null,null,"Bahr_el_Ghazal_norte","Maban","Uror","Guit","Tonj_Norte","Aweil_Centro",null,"Rumbek_este","Yambio","Morobo","Kapoeta_Sur","Mayo","Movilización comunitaria"]
[null,"Nivel administrativo 1",null,"Nivel administrativo 1",null,null,"P-Code Nivel Admin 1",{"$f":"INDEX(admin1pcode,MATCH(E9,admin1,0))","v":{"$error":"#N/A"}}]
[null,"Nivel administrativo 2",null,null,null,null,"P-Code nivel admin 2",{"$f":"INDEX(admin2pcode,MATCH(E10,admin2,0))","v":{"$error":"#N/A"}},null,null,null,null,"Lagos","Luakpiny_Nasir","Akobo","Leer","Tonj_Sur",null,null,"Yirol_este","Maridi",null,"Ikotos","Julio","Otros (por favor, especificar en la sección de comentarios)"]
[null,"Nivel administrativo 3",null,null,null,null,"P-Code nivel Admin 3",{"$f":"INDEX(admin3pcode,MATCH(E11,admin3,0))","v":{"$error":"#N/A"}},null,null,null,null,"Ecuatoria Occidental","Longochuk","Pochalla","Mayendit",null,null,null,"Awerial","Mvolo",null,"Magwi","Agosto"]
[null,null,null,"Nivel administrativo 4",null,null,"P-Code nivel admin 4",{"$f":"INDEX(admin4pcode,MATCH(E12,admin4,0))","v":{"$error":"#N/A"}}]
[null,null,null,"Nivel administrativo 5",null,null,"P-Code nivel administrativo 5",{"$f":"INDEX(admin5pcode,MATCH(E13,admin5,0))","v":{"$error":"#N/A"}}]
[null,"¿Se ha utilizado criterios expandidos de admisión ?",null,null,null,null,null,null,null,null,null,null,"Ecuatoria Central","Ulang","Pibor","Panyijar",null,"N/A","Operacional","No operacional","Mundri_oeste",null,null,"Septiembre"]
[null,"Centros de estabilización (SC)",null,null,null,null,"Estado del sitio",null,null,null,null,null,"Ecuatoria oriental","Baliet","Twic_este",null,null,null,null,"Sí","No",null,null,"Octubre"]
[null,"Pacientes ambulatorios centros terapéuticos (OTP)",null,null,null,null,"Estado del sitio",null,null,null,null,null,null,"Malakal","Bor_Sur",null,null,null,null,null,null,null,null,"Noviembre"]
[null,null,null,"Sitios de tratamiento a nivel comunitario (BSFPs)",null,null,"Estado del sitio",null,null,null,null,null,null,"Panyikang",null,null,null,null,null,null,null,null,null,"Diciembre"]
[null,"Sitios de alimentación suplementaria (TSFPs)",null,null,null,null,"Estado del sitio"]
[]
["Diagnóstico y derivaciones"]
[null,"Niños 6-59 meses","Revisión \n(mediciones MUAC)","Número examinados",{"$f":"SUM(E22:E25)","v":0},null,"Cálculo automático exámen y derivaciones"]
[null,null,null,"Nº de niños con edema bilateral",null,null,"No. total. (Niños+Niñas) examinados",{"$f":"IF(ISBLANK(E21),(IF(ISBLANK(E29),\"\",E21+E29)),E21+E29)","v":0}]
[null,null,null,"Nº de niños con MUAC rojo (<11.5 cm)",null,null,"No. total. (Niños+niñas) edema",{"$f":"IF(ISBLANK(E22),(IF(ISBLANK(E30),\"\",E22+E30)),E22+E30)","v":""}]
[null,null,null,"Nº de niños 6-59m con MUAC amarillo (≥ 11,5 cm a <12,5 cm)",null,null,"No. total. (Niños+Niñas) Rojo",{"$f":"IF(ISBLANK(E23),(IF(ISBLANK(E31),\"\",E23+E31)),E23+E31)","v":""}]
[null,null,null,"Nº de niños 6-59m con MUAC verde (≥ 12,5 cm)",null,null,"No. total. (Niños+Niñas) Amarillo",""]
[null,null,"Derivaciones","Nº de niños 6-59m derivados a OTP",null,null,"No. total. (Niños+Niñas) Verde",""]
[null,null,null,"Nº de niños 6-59m derivados a TSFP",null,null,"No. total. (Niños+Niñas) derivados a OTP",{"$f":"IF(ISBLANK(E26),(IF(ISBLANK(E34),\"\",E26+E34)),E26+E34)","v":""}]
[null,null,null,null,null,null,"No. total. (Niños+ niñas) derivados a TSFP",""]
[null,"Niñas 6-59 meses","Revisión \n(mediciones MUAC)","Número examinadas",{"$f":"SUM(E30:E33)","v":0},null,"% de niños+niñas con edema",{"$f":"IF(ISBLANK(E21),(IF(ISBLANK(E29),\"\",H23/H22)),H23/H22)","v":{"$error":"#VALUE!"}}]
[null,null,null,"Nº de niñas con edema bilateral",null,null,"% de (Niños+Niñas) Rojo",{"$f":"IF(ISBLANK(E21),(IF(ISBLANK(E29),\"\",H24/H22)),H24/H22)","v":{"$error":"#VALUE!"}}]
[null,null,null,"Nº de niñas 6-59m con MUAC rojo (<11.5 cm)",null,null,"(% De los muchachos de las muchachas  ) Amarillo",{"$f":"IF(ISBLANK(E21),(IF(ISBLANK(E29),\"\",H25/H22)),H25/H22)","v":{"$error":"#VALUE!"}}]
[null,null,null,"Nº de niñas 6-59m con MUAC amarillo (≥ 11,5 cm a <12,5 cm)",null,null,"(% De los muchachos de las muchachas  ) verde",{"$f":"IF(ISBLANK(E21),(IF(ISBLANK(E29),\"\",H26/H22)),H26/H22)","v":{"$error":"#VALUE!"}}]
[null,null,null,"Nº de niñas 6-59m con MUAC verde (≥ 12,5 cm)",null,null,"(% De los muchachos   Girls) se refirió a la PTF",{"$f":"IF(ISBLANK(E21),(IF(ISBLANK(E29),\"\",H27/H22)),H27/H22)","v":{"$error":"#VALUE!"}}]
[null,null,"Derivaciones","Nº de Niñas 6-59m derivadas a OTP",null,null,"% De los muchachos ( ) Las niñas que se refiere TSFP",{"$f":"IF(ISBLANK(E21),(IF(ISBLANK(E29),\"\",H28/H22)),H28/H22)","v":{"$error":"#VALUE!"}}]
[null,null,null,"Nº de niñas 6-59m derivadas a TSFP"]
[]
[]
[null,"Mujeres embarazadas y lactantes","Revisión \n(mediciones MUAC)","Número examinadas",{"$f":"SUM(E39:E41)","v":0},null,"Cálculos automáticos MEL"]
[null,null,null,"Número de mujeres embarazadas y lactantes con MUAC <21.0 cm",null,null,"% MUAC <21.0 cm",{"$f":"IF(ISBLANK(E39),\"\",E39/E38)","v":""}]
[null,null,null,"Número de mujeres embarazadas y lactantes con MUAC ≥21.0 cm a 23.0 cm <",null,null,"MUAC% ≥21.0 cm a <23,0 cm",{"$f":"IF(ISBLANK(E40),\"\",E40/E38)","v":""}]
[null,null,null,"Número de mujeres embarazadas y lactantes con MUAC ≥23.0 cm",null,null,"MUAC% ≥23.0 cm",{"$f":"IF(ISBLANK(E41),\"\",E41/E38)","v":""}]
[null,null,"Derivaciones","Número de mujeres embarazadas y lactantes derivadas a OTP",null,null,"%  mujeres embarzadas y lactantes derivadas a OTP",{"$f":"IF(ISBLANK(E42),\"\",E42/E38)","v":""}]
[null,null,null,"Número de mujeres embarazadas y lactantes derivadas a TSFP",null,null,"% mujeres embarazadas  y lactantes derivadas a TSFP",{"$f":"IF(ISBLANK(E43),\"\",E43/E38)","v":""}]
[]
[null,"Personas mayores\nhombres\n(definición de país de \"persona mayor\" o ≥ 60años)","Revisión \n(mediciones MUAC)","Número examinados: Hombres",{"$f":"SUM(E46:E49)","v":0},null,"Cálculo automático exámen y derivaciones"]
[null,null,null,"Nº de hombres mayoures con edema bilateral",null,null,"No. total. (Hombres mayores+mujeres mayores) examinados",{"$f":"IF(ISBLANK(E45),(IF(ISBLANK(E53),\"\",E45+E53)),E45+E53)","v":0}]
[null,null,null,"Nº de hombres mayores con MUAC <18,5 cm",null,null,"No. total. (Hombres mayores+mujers mayores) edema",{"$f":"IF(ISBLANK(E46),(IF(ISBLANK(E54),\"\",E46+E54)),E46+E54)","v":""}]
[null,null,null,"Nº de hombres mayoures con MUAC ≥18.5 cm a 21.0 cm <",null,null,"No. total. (hombres mayores+mujeres mayores ) con MUAC <18,5 cm",""]
[null,null,null,"Nº de hombres mayores con MUAC ≥21.0 cm",null,null,"No. total. (hombres mayores+mujeres mayores) con MUAC ≥18.5 cm a <21,0 cm",""]
[null,null,"Derivaciones","Nº de hombres mayores derivados a OTP",null,null,"Nº total de (hombres mayores+mujeres mayores) con MUAC ≥21.0 cm",""]
[null,null,null,"Nº de hombres mayores derivados a TSFP",null,null,"No. total. (hombres mayores+mujeres mayores) derivados a OTP",""]
[null,null,null,null,null,null,"No. total. ((hombres mayores+mujeres mayores) derivados a TSFP",""]
[null,"Personas mayores\nMujeres\n (definición de país de \"persona mayor\" o ≥ 60y)","Revisión \n(mediciones MUAC)","Número examinadas: Mujeres",{"$f":"SUM(E54:E57)","v":0},null,"% De edema (hombres mayores+mujeres mayores)",{"$f":"IF(ISBLANK(E45),(IF(ISBLANK(E53),\"\",H47/H46)),H47/H46)","v":{"$error":"#VALUE!"}}]
[null,null,null,"Nº mujeres mayores con edema bilateral",null,null,"% De (  hombres mayores+mujeres mayores) con MUAC <18,5 cm",{"$f":"IF(ISBLANK(E45),(IF(ISBLANK(E53),\"\",H48/H46)),H48/H46)","v":{"$error":"#VALUE!"}}]
[null,null,null,"Nº mujeres mayores con MUAC <18,5 cm",null,null,"% De ( hombres mayores+mujeres mayores) con MUAC ≥18.5 cm a <21.0 cm ",{"$f":"IF(ISBLANK(E45),(IF(ISBLANK(E53),\"\",H49/H46)),H49/H46)","v":{"$error":"#VALUE!"}}]
[null,null,null,"Nº  mujeres mayores con MUAC ≥18.5 cm a <21.0 cm ",null,null,"% De ( hombres mayores+mujeres mayores) con MUAC ≥21.0 cm",{"$f":"IF(ISBLANK(E45),(IF(ISBLANK(E53),\"\",H50/H46)),H50/H46)","v":{"$error":"#VALUE!"}}]
[null,null,null,"Nº mujeres mayoures con MUAC ≥21.0 cm",null,null,"% De (hombres mayores+mujeres mayores) derivados a OTP",{"$f":"IF(ISBLANK(E45),(IF(ISBLANK(E53),\"\",H51/H46)),H51/H46)","v":{"$error":"#VALUE!"}}]
[null,null,"Derivaciones","Nº mujeres mayores derivadas a OTP",null,null,"% De (hombres mayores+mujeres mayores) derivados a TSFP",{"$f":"IF(ISBLANK(E45),(IF(ISBLANK(E53),\"\",H52/H46)),H52/H46)","v":{"$error":"#VALUE!"}}]
[null,null,null,"Nº mujeres mayores derivadas a TSFP"]
[]
[]
["Gestión de la desnutrición aguda grave, para pacientes hospitalizados"]
[null,"Niños 6-59 meses","Final total del último período de tiempo: Niños (A1)",null,null,null,"Cálculo automático Niños/as 6-59m"]
[null,null,"Final total del último período de tiempo: Niñas (A2)",null,null,null,"Total admisión niños (D = B   C)",{"$f":"SUM(E65,E67)","v":0}]
[null,null,"categorías de entrada","Nuevas admisiones: niños (B1)",null,null,"Total admisión niñas (D = B   C)",{"$f":"SUM(E66,E68)","v":0}]
[null,null,null,"Nuevas admisiones: niñas (B2)",null,null,"Total Salidas Boys (H = E   F   G)",{"$f":"SUM(E69+E71+E73+E75+E77+E79)","v":0}]
[null,null,null,"Casos antiguos (derivados de OTP, personas que retoman el tratamiento, translados de otro centro de estabilización) : Niños (C1)",null,null,"Total Salidas niñas (H = E   F   G)",{"$f":"SUM(E70+E72+E74+E76+E78+E80)","v":0}]
[null,null,null,"Casos antiguos (derivados de OTP, personas que retoman el tratamiento, translados de otro centro de estabilización): Niñas (C2)",null,null,"Total al final del (periodo de tiempo) Niños (I = A   DH)",{"$f":"E63+H64-H66","v":0}]
[null,null,"categorías de salida","Pacientes hospitalizados estabilizados y referidos a OTP: niños (E1)",null,null,"Total al final del (periodo de tiempo) Niñas (I = A   DH)",{"$f":"SUM(E64+H65-H67)","v":0}]
[null,null,null,"Pacientes hospitalizados estabilizados y referidos a OTP: niñas (E2)",null,null,"tasa de altas por curación",{"$f":"IF(ISBLANK(E70),\"\",(E71+E72)/(H73))","v":""},"(Min  Normas ESFERA. > 75%)"]
[null,null,null,"Alta por curación (casos especiales que terminan tratamiento): niños (F1)",null,null,"tasa de altas por muerte",{"$f":"IF(ISBLANK(E71),\"\",(E73 + E74)/(H73))","v":""},"(Min  Normas ESFERA.  <10%)"]
[null,null,null,"Alta por curación (casos especiales que terminan tratamiento): niñas (F2)",null,null,"tasa de alta por abandono",{"$f":"IF(ISBLANK(E73),\"\",(E75 + E76)/(H73))","v":""},"(Min  Normas ESFERA. <15%)"]
[null,null,null,"Altas por muerte: niños (F3)",null,null,"salidas totales (J = E   F   G)",{"$f":"IF(ISBLANK(E69:E80),\"\",SUM(H66,H67))","v":""}]
[null,null,null,"Altas por muerte: niñas (F4)",null,null,"Total al final del (período de tiempo) (K = A   DJ)",{"$f":"IF(ISBLANK(E63),\"\",E63+E64+H64+H65-H73)","v":""}]
[null,null,null,"Altas por abandono: niños (F5)"]
[null,null,null,"Altas por abandono: niñas (F6)"]
[null,null,null,"Altas sin curación: niños (F7)"]
[null,null,null,"Altas sin curación: niñas (F8)"]
[null,null,null,"Otras transferencias: niños (G1)"]
[null,null,null,"Otras transferencias: niñas (G2)"]
[]
[null,"Niños <6 meses","Final total del útimo (período de tiempo): niños (A1)",null,null,null,"Cálculo automático niños/as <6m"]
[null,null,null,"Final total del último (período de tiempo): niñas (A2)",null,null,"Total admisiones niños (D = B   C)",{"$f":"SUM(E84,E86)","v":0}]
[null,null,"categorías de entrada","Nuevas admisiones: niños (B1)",null,null,"Total admisiones niñas (D = B   C)",{"$f":"SUM(E85,E87)","v":0}]
[null,null,null,"Nuevas admisiones: niñas (B2)",null,null," Total salidas niños (H = F   G)",{"$f":"SUM(E88+E90+E92+E94+E96+E98)","v":0}]
[null,null,null,"Casos antiguos (derivados de OTP, personas que retoman el tratamiento, translados de otro centro de estabilización) : Niños (C1)",null,null,"Total salidas niñas (H = F   G)",{"$f":"SUM(E89+E91+E93+E95+E97)","v":0}]
[null,null,null,"Casos antiguos (derivados de OTP, personas que retoman el tratamiento, translados de otro centro de estabilización): Niñas (C2)",null,null,"Total niños al final del (periodo de tiempo) (I = A   DH)",{"$f":"E82+H83-H85","v":0}]
[null,null,"categorías de salida","Alta por curación (casos especiales que terminan tratamiento): niños (F1)",null,null,"Total niñas al final del (periodo de tiempo) (I = A   DH)",{"$f":"SUM(E83+H84-H86)","v":0}]
[null,null,null,"Alta por curación (casos especiales que terminan tratamiento): niñas (F2)",null,null,"tasas altas por curación",{"$f":"IF(ISBLANK(E89),\"\",(E89+E88)/(H92))","v":""},"(Min  Normas ESFERA. > 75%)",null,null,null,0.13043478260869565]
[null,null,null,"Altas por muerte: niños (F3)",null,null,"tasa alta por muerte",{"$f":"IF(ISBLANK(E90),\"\",(E90 + E91)/(H92))","v":""},"(Min  Normas ESFERA. <10%)"]
[null,null,null,"Altas por muerte: niñas (F4)",null,null,"tasa alta por abandono",{"$f":"IF(ISBLANK(E92),\"\",(E92 + E93)/(H92))","v":""},"(Min  Normas ESFERA.  <15%)"]
[null,null,null,"Altas por abandono: niños (F5)",null,null,"salidas totales (J = F   G)",{"$f":"IF(ISBLANK(E88:F99),\"\",SUM(H85,H86))","v":0}]
[null,null,null,"Altas por abandono: niñas (F6)",null,null,"Total al final del (período de tiempo) (K = A   DJ)",{"$f":"IF(ISBLANK(E82),\"\",E82+E83+H83+H84-H92)","v":""}]
[null,null,null,"Altas sin curación: niños (F7)"]
[null,null,null,"Altas sin curación: niñas (F8)"]
[null,null,null,"Otras transferencias: niños (G1)"]
[null,null,null,"Otras transferencias: niñas (G2)"]
[]
[null,"Personas mayores (definición de país de \"persona mayor\" o  ≥60años)","Final total del último (período de tiempo): hombres mayores (A1)",null,null,null,"Cálculo automático Personas Mayores"]
[null,null,"Final total del último (período de tiempo): mujeres mayores (A2)",null,null,null,"admisiones totales hombres mayores (D = B   C)",{"$f":"SUM(E101+E103)","v":0}]
[null,null,"categorías de entrada","Nuevas admisiones: Hombres Mayores (B1)",null,null,"Admisiones totales mujeres mayores (D = B   C)",{"$f":"SUM(E102+E104)","v":0}]
[null,null,null,"Nuevas admisiones: mujeres mayores (B2)",null,null,"salidas totales hombres mayores (H = E   F   G)",{"$f":"E105+E107+E109+E111+E113+E115","v":0}]
[null,null,null,"Casos antiguos (derivados de OTP, personas que retoman el tratamiento, translados de otro centro de estabilización): hombres mayores (C1)",null,null,"salidas totales Mayor femenino (H = E   F   G)",{"$f":"E106+E108+E110+E112+E114+E116","v":0}]
[null,null,null,"Casos antiguos (derivados de OTP, personas que retoman el tratamiento, translados de otro centro de estabilización): mujeres mayores (C2)",null,null,"Total al final del (periodo de tiempo) varones de más edad (I = A   DH)",{"$f":"IF(ISBLANK(E99),\"\",E99+H100-H102)","v":""}]
[null,null,"categorías de salida","Pacientes hospitalizados estabilizados y referidos a OTP: hombres mayores (E1)",null,null,"Total al final del (periodo de tiempo) Mayor Femenino (I = A   DH)",{"$f":"IF(ISBLANK(E100),\"\",E100+H101-H103)","v":""}]
[null,null,null,"Pacientes hospitalizados estabilizados y referidos a OTP: mujeres mayores (E2)",null,null,"tasas curados descargadas",{"$f":"IF(ISBLANK(E106),\"\",(E107+E108)/(H109))","v":""},"(Min  Normas ESFERA. > 75%)"]
[null,null,null,"Alta por curación (casos especiales que terminan tratamiento): hombres mayores (F1)",null,null,"tasa muerto descargada",{"$f":"IF(ISBLANK(E107),\"\",(E109 + E110)/(H109))","v":""},"(Min  Normas ESFERA. <10%)"]
[null,null,null,"Alta por curación (casos especiales que terminan tratamiento): mujeres mayores (F2)",null,null,"tasa omitido descargada",{"$f":"IF(ISBLANK(E109),\"\",(E111 + E111)/(H103+H102))","v":""},"(Min  Normas ESFERA. <15%)"]
[null,null,null,"Altas por muerte: hombres mayores (F3)",null,null,"salidas totales (J = E   F   G)",{"$f":"IF(ISBLANK(E105:F116),\"\",SUM(H102,H103))","v":0}]
[null,null,null,"Altas por muerte: mujeres mayores (F4)",null,null,"Total al final del (período de tiempo) (K = A   DJ)",{"$f":"IF(ISBLANK(E99),\"\",E99+E100+H100+H101-H109)","v":""}]
[null,null,null,"Altas por abandono:hombres mayores (F5)"]
[null,null,null,"Altas por abandono: mujeres mayores (F6)"]
[null,null,null,"Altas sin curación: hombres mayores (F7)"]
[null,null,null,"Altas sin curación: mujeres mayores (F8)"]
[null,null,null,"Otras transferencias: hombres mayores (G1)"]
[null,null,null,"Otras transferencias: mujeres mayores (G2)"]
["Gestión de la desnutrición aguda grave, para pacientes ambulatorios"]
[null,"Niños 6-59 meses","Final total del último (período de tiempo): niños (A1)",null,null,null,"Cálculo automático Niños/as 6-59m"]
[null,null,"Final total del último (período de tiempo): niñas (A2)",null,null,null,"Total admisiones  niños (D = B   C)",{"$f":"SUM(E122+E120)","v":0}]
[null,null,"categorías de entrada","Nuevas admisiones: niños(B1)",null,null,"Total admisiones niñas (D = B   C)",{"$f":"SUM(E121+E123)","v":0}]
[null,null,null,"Nuevas admisiones: niñas (B2)",null,null,"Total salidas niños (H = F   G)",{"$f":"SUM(E124+E126+E128+E130+E132+E134)","v":0}]
[null,null,null,"Casos antiguos (derivados de OTP, personas que retoman el tratamiento, translados de otro centro de estabilización) : Niños (C1)",null,null,"Total salidas niñas (H = F   G)",{"$f":"SUM(E125+E127+E129+E131+E133+E135)","v":0}]
[null,null,null,"Casos antiguos (derivados de OTP, personas que retoman el tratamiento, translados de otro centro de estabilización): Niñas (C2)",null,null,"Total niños al final del (periodo de tiempo) (I = A   DH)",{"$f":"IF(ISBLANK(E118),\"\",E118+H119-H121)","v":""}]
[null,null,"categorías de salida","Alta por curación: niños (F1)",null,null,"Total niñas al final del (periodo de tiempo) (I = A   DH)",{"$f":"IF(ISBLANK(E119),\"\",E119+H120-H122)","v":""}]
[null,null,null,"Altas por curación: niñas (F1)",null,null,"tasas altas por curación",{"$f":"IF(ISBLANK(E124),\"\",(E124+E125)/(H128))","v":""},"(Min Normas ESFERA. > 75%)"]
[null,null,null,"Altas por muerte: niños (F2)",null,null,"tasa altas por muerte",{"$f":"IF(ISBLANK(E126),\"\",(E126 + E127)/(H128))","v":""},"(Min Normas ESFERA. <10%)"]
[null,null,null,"Altas por muerte: niñas (F2)",null,null,"tasa altas por abandono",{"$f":"IF(ISBLANK(E128),\"\",(E128 + E129)/(H122+H121))","v":""},"(Min Normas ESFERA.  <15%)"]
[null,null,null,"Altas por abandono: niños (F3)",null,null,"salidas totales (J = F   G)",{"$f":"IF(ISBLANK(E124:E135),\"\",SUM(H121,H122))","v":""}]
[null,null,null,"Altas por abandono: niñas (F3)",null,null,"Total al final del (período de tiempo) (K = A   DJ)",{"$f":"IF(ISBLANK(E118),\"\",E118+E119+H119+H120-H128)","v":""}]
[null,null,null,"Altas sin curación: niños (F4)"]
[null,null,null,"Altas sin curación: niñas (F4)"]
[null,null,null,"Derivaciones a centros de estabilización: niños (F5)"]
[null,null,null,"Derivaciones a centros de estabilización: niñas (F6)"]
[null,null,null,"Otras transferencias: niños (G1)"]
[null,null,null,"Otras transferencias: niñas (G2)"]
[null,null,"Ganancia media diaria de peso (AWG) para el alta por curación (en gramos / kg / día)",null,null,null,"(Recomendado> 4 g / kg / día)"]
[null,null,"Duración media de la estancia (LOS) para el alta por curación (en días)",null,null,null,"(Recomendado <60 días)"]
[]
[null,"Personas mayores (definición de país de \"persona mayor\" o  ≥60años)","fin total de la última (período de tiempo): Hombres Mayor (A1)",null,null,null,"Cálculo automático Personas Mayores"]
[null,null,"fin total de la última (período de tiempo): Mayor femenino (A2)",null,null,null,"admisiones totales hombres mayores (D = B   C)",{"$f":"E141+E143","v":0}]
[null,null,"categorías de entrada","Nuevas admisiones: hombres mayores (B1)",null,null,"Admisiones totales mujeres mayores (D = B   C)",{"$f":"E142+E144","v":0}]
[null,null,null,"Nuevas admisiones: mujeres mayores (B2)",null,null,"salidas totales hombres mayores (H = F   G)",{"$f":"SUM(E145+E147+E149+E151+E153+E155)","v":0}]
[null,null,null,"Casos antiguos (derivados de OTP, personas que retoman el tratamiento, translados de otro centro de estabilización) : hombres mayores (C1)",null,null,"salidas totales mujeres mayores (H = F   G)",{"$f":"SUM(E146+E148+E150+E152+E154+E156)","v":0}]
[null,null,null,"Casos antiguos (derivados de OTP, personas que retoman el tratamiento, translados de otro centro de estabilización) : mujeres mayores (C2)",null,null,"Total hombres mayores al final del (periodo de tiempo) (I = A   DH)",{"$f":"IF(ISBLANK(E139),\"\",E139+H140-H142)","v":""}]
[null,null,"categorías de salida","Altas por curación: hombres mayores (F1)",null,null,"Total mujeres mayores al final del (periodo de tiempo) (I = A   DH)",{"$f":"IF(ISBLANK(E140),\"\",E140+H141-H143)","v":""}]
[null,null,null,"Altas por curación: mujeres mayores (F1)",null,null,"tasa altas por curación",{"$f":"IF(ISBLANK(E145),\"\",(E145+E146)/(H149))","v":""},"(Min Normas ESFERA.> 75%)"]
[null,null,null,"Altas por muerte: hombres mayores (F2)",null,null,"tasa altas por muerte",{"$f":"IF(ISBLANK(E147),\"\",(E147 + E148)/(H149))","v":""},"(Min Normas ESFERA. <10%)"]
[null,null,null,"Altas por muerte: mujeres mayores (F2)",null,null,"tasa altas por abandono",{"$f":"IF(ISBLANK(E149),\"\",(E149 + E150)/(H143+H142))","v":""},"(Min Normas ESFERA. <15%)"]
[null,null,null,"Altas por abandono: hombres mayores (F3)",null,null,"salidas totales (J = F   G)",{"$f":"IF(ISBLANK(E145:F156),\"\",SUM(E145:E154))","v":0}]
[null,null,null,"Altas por abandono: mujers mayores (F3)",null,null,"Total al final del (período de tiempo) (K = A   DJ)",{"$f":"IF(ISBLANK(E139),\"\",E139+E140+H140+H141-H149)","v":""}]
[null,null,null,"Altas sin curación: hombre mayores (F4)"]
[null,null,null,"Altas sin curación: mujeres mayores (F4)"]
[null,null,null,"Derivaciones a centros de estabilización: hombres mayores (F5)"]
[null,null,null,"Derivaciones a centros de estabilización: mujeres mayores (F6)"]
[null,null,null,"Otras transferencias: hombre mayores (G1)"]
[null,null,null,"Otras transferencias: mujeres mayores (G2)"]
[]
["Programas de alimentación suplementaria selectiva"]
[null,"Niños/as 6-59 meses","fin total del último (período de tiempo): Niños (A1)",null,null,null,"Cálculo automático Niños/as 6-59m"]
[null,null,"fin total del último (período de tiempo): niñas (A1)",null,null,null,"Total admisión niños (D = B   C)",{"$f":"SUM(E163+E161)","v":0}]
[null,null,"categorías de entrada","Nuevas admisiones: niños (B1)",null,null,"Total admisión niñas (D = B   C)",{"$f":"SUM(E162+E164)","v":0}]
[null,null,null,"Nuevas admisiones: niñas(B2)",null,null,"Total salidas niños (H = E   G)",{"$f":"SUM(E165+E167+E169+E171+E173+E175)","v":0}]
[null,null,null,"Casos antiguos (derivados de OTP, personas que retoman el tratamiento, translados de otro centro de estabilización): Niños (C1)",null,null,"Total salidas niñas (H = E   G)",{"$f":"SUM(E166+E168+E170+E172+E174+E176)","v":0}]
[null,null,null,"Casos antiguos (derivados de OTP, personas que retoman el tratamiento, translados de otro centro de estabilización): niñas (C2)",null,null,"Total niños al final del (periodo de tiempo) (I = A   DH)",{"$f":"IF(ISBLANK(E159),\"\",E159+H160-H162)","v":""}]
[null,null,"categorías de salida","Altas por curación: Niños (E1)",null,null,"Total niñas al final del (periodo de tiempo) (I = A   DH)",{"$f":"IF(ISBLANK(E160),\"\",E160+H161-H163)","v":""}]
[null,null,null,"Altas por curación: niñas (E2)",null,null,"tasa altas por curación",{"$f":"IF(ISBLANK(E166),\"\",(E166+E165)/(H169))","v":""},"(Min  Normas ESFERA.> 75%)"]
[null,null,null,"Altas por muerte: Niños (E3)",null,null,"tasa altas por muerte",{"$f":"IF(ISBLANK(E167),\"\",(E167 + E168)/(H169))","v":""},"(Las normas de Esfera min. <3%)"]
[null,null,null,"Altas por muerte: niñas (E4)",null,null,"tasa altas por abandono",{"$f":"IF(ISBLANK(E169),\"\",(E169 + E170)/(H169))","v":""},"(Min Normas ESFERA.  <15%)"]
[null,null,null,"Altas por abandono: Niños (E5)",null,null,"salidas totales (J = E   G)",{"$f":"IF(ISBLANK(E165),\"\",SUM(H162:H163))","v":""}]
[null,null,null,"Altas por abandono: niñas (E6)",null,null,"Total al final del (período de tiempo) (K = A   DJ)",{"$f":"IF(ISBLANK(E159),\"\",E159+E160+H160+H161-H169)","v":""}]
[null,null,null,"Alta sin curación: Niños (E7)"]
[null,null,null,"Altas sin curación: niñas (E8)"]
[null,null,null,"Derivados a OTP / SC: niños (E9)"]
[null,null,null,"Derivados a OTP / SC: niñas (E10)"]
[null,null,null,"Otras transferencias niños (G1)"]
[null,null,null,"Otras transferencias niñas (G2)"]
[null,null,"Duración media de la estancia para altas por curación (en días)"]
[null,null,"Valor kcal de la ración suplementaria diaria (kcal / día)"]
[null,null,"Producto provisto"]
[]
[null,"Embarazadas y mujeres lactantes (MEL)","fin total del último (período de tiempo): MEL (A)",null,null,null,"Cálculo automático MEL"]
[null,null,"categorías de entrada","Nuevas admisiones en este (periodo de tiempo): MEL (B)",null,null,"Total admisiones MEL (D = B   C)",{"$f":"IF(ISBLANK(E182),\"\",E182+E183)","v":""}]
[null,null,null,"Casos antiguos (derivados de OTP, personas que retoman el tratamiento, translados de otro centro de estabilización): MEL (C1)",null,null,"tasa de alta por curación",{"$f":"IF(ISBLANK(E184),\"\",E184/(H186))","v":""},"(Min  Normas ESFERA. > 75%)"]
[null,null,"categorías de salida","Alta por curación: MEL (F1)",null,null,"tasa alta por muerte",{"$f":"IF(ISBLANK(E185),\"\",E185/(H186))","v":""},"(Las normas de Esfera min. <3%)"]
[null,null,null,"Alta por muerteo: MEL (F2)",null,null,"tasa alta por abandono",{"$f":"IF(ISBLANK(E187),\"\",E186/(H186))","v":""},"(Min Normas ESFERA. <15%)"]
[null,null,null,"Alta por abandono: MEL (F3)",null,null,"salidas totales (J = F   G)",{"$f":"IF(ISBLANK(E184),\"\",SUM(E184:E189))","v":""}]
[null,null,null,"Alta sin recuperación: MEL (F4)",null,null,"Total al final del (período de tiempo) (K = A   DJ)",{"$f":"IF(ISBLANK(E181),\"\",E181+H182-H186)","v":""}]
[null,null,null,"Derivadas a OTP / SC: MEL (F5)"]
[null,null,null,"Otras transferencias: MEL (G)"]
[null,null,"Duración media de la estancia para altas por curación (en días)"]
[null,null,"Valor kcal de la ración suplementaria diaria (kcal / día)"]
[null,null,"Producto provisto"]
[]
[null,"Personas mayores (definición de país de \"personas mayores\" o  ≥60años)","fin total del último (período de tiempo): Hombres Mayores (A1)"]
[null,null,"fin total del último (período de tiempo): Mujeres mayores (A2)",null,null,null,"Cálculo automático Personas Mayores"]
[null,null,"categorías de entrada","Nuevas admisiones: Hombres Mayor (B1)",null,null,"Admisiones totales hombres mayores (D = B   C)",{"$f":"SUM(E196+E198)","v":0}]
[null,null,null,"Nuevas admisiones: Mayor Femenino (B2)",null,null,"Admisiones totales mujeres mayores (D = B   C)",{"$f":"SUM(E197+E199)","v":0}]
[null,null,null,"Casos antiguos (derivados de OTP, personas que retoman el tratamiento, translados de otro centro de estabilización): hombres mayores (C1)",null,null,"salidas totales hombres mayores (H = E   G)",{"$f":"SUM(E200+E202+E204+E206+E208+E210)","v":0}]
[null,null,null,"Casos antiguos (derivados de OTP, personas que retoman el tratamiento, translados de otro centro de estabilización): Mujeres mayores (C2)",null,null,"salidas totales mujeres mayores (H = E   G)",{"$f":"SUM(E201,E203,E205,E207,E209,E211)","v":0}]
[null,null,"categorías de salida","Alta por curación: hombres mayores (E1)",null,null,"Total hombres mayores al final del (periodo de tiempo) (I = A   DH)",{"$f":"IF(ISBLANK(E194),\"\",E194+H196-H198)","v":""}]
[null,null,null,"Alta por curación: mujres mayores (E2)",null,null,"Total mujeres mayores al final del (periodo de tiempo) (I = A   DH)",{"$f":"IF(ISBLANK(E195),\"\",E195+H197-H199)","v":""}]
[null,null,null,"Altas por muerte: hombres mayores (E3)",null,null,"tasa altas por curación",{"$f":"IF(ISBLANK(E202),\"\",(E200+E201)/(H205))","v":""},"(Min Normas ESFERA.  75%)"]
[null,null,null,"Altas por muerte: mujeres mayores (E4)",null,null,"tasa altas por muerte",{"$f":"IF(ISBLANK(E203),\"\",(E202+ E203)/(H205))","v":""},"(Las normas de Esfera min. <3%)"]
[null,null,null,"Altas por abandano: hombres mayores (E5)",null,null,"tasa altas por abandono",{"$f":"IF(ISBLANK(E205),\"\",(E204+E205)/(H205))","v":""},"(Min Normas ESFERA. <15%)"]
[null,null,null,"Altas por abandono: mujeres mayores (E6)",null,null,"salidas totales (J = E   G)",{"$f":"IF(ISBLANK(E200),\"\",SUM(H198:H199))","v":""}]
[null,null,null,"Altas sin recuperación: hombres mayores (E7)",null,null,"Total al final del (período de tiempo) (K = A   DJ)",{"$f":"IF(ISBLANK(E194),\"\",E194+E195+H196+H197-H205)","v":""}]
[null,null,null,"Altas sin recuperación: mujeres mayores (E8)"]
[null,null,null,"Derivados a OTP / SC: hombres mayores (E9)"]
[null,null,null,"Derivados a OTP / SC: mujeres mayores (E10)"]
[null,null,null,"Otras transferencias: hombres mayores (G1)"]
[null,null,null,"Otras transferencias: mujeres mayores (G2)"]
[null,null,"Duración media de la estancia para altas por curación (en días)"]
[null,null,"Valor kcal de la ración suplementaria diaria (kcal / día)"]
[null,null,"Producto provisto"]
[]
["Programas de alimentación suplementaria general"]
[null,"Niños/as 6-23 meses","No. de niños 6-23m nuevos en el programa durante el (período de tiempo)",null,{"$f":"SUM(E218,E219)","v":0},null,"Cálculo automático Niños/as 6-23m"]
[null,null,"Niños",null,null,null,"Número medio de niños/as  6-23m  que participaron en la distribución durante el (periodo de tiempo) ",{"$f":"E220/E223","v":{"$error":"#DIV/0!"}}]
[null,null,"Niñas"]
[null,null,"Número total de niños/as 6-23m que asistieron a la distribución en este (periodo de tiempo) ",null,{"$f":"SUM(E221,E222)","v":0}]
[null,null,"Niños"]
[null,null,"Niñas"]
[null,null,"Número de distribuciones durante este (periodo de tiempo) "]
[null,null,"valor kcal de ración suplementaria diaria (kcal / día)"]
[null,null,"Producto provisto"]
[]
[null,"Niños/as 6-59 meses","No. de niños 6-59m nuevos en el programa durante el (período de tiempo)",null,{"$f":"SUM(E228,E229)","v":0},null,"Cálculo automático Niños/as 6-59m"]
[null,null,"Niños",null,null,null,"Número medio de niños/as 6-59m que participaron en la distribución durante el (periodo de tiempo) ",{"$f":"(E230/E233)","v":{"$error":"#DIV/0!"}}]
[null,null,"Niñas"]
[null,null,"Número total de niños/as 6-23m que asistieron a la distribución en este (periodo de tiempo) ",null,{"$f":"SUM(E231,E232)","v":0}]
[null,null,"Niños"]
[null,null,"Niñas"]
[null,null,null,"Número de distribuciones durante este (periodo de tiempo) "]
[null,null,"valor kcal de ración suplementaria diaria (kcal / día)"]
[null,null,"Producto provisto"]
[]
[null,"Mujeres embarazadas y lactantes","Número de mujeres embarazadas y lactantes recién inscritas durante el (período de tiempo)",null,null,null,"Cálculo automático MEL"]
[null,null,"Número total de mujeres embarazadas y lactantes que asistieron a la distribución en este (periodo de tiempo)",null,null,null,"Promedio de MEL que participaron en la distribución durante el (periodo de tiempo) ",{"$f":"(E238/E239)","v":{"$error":"#DIV/0!"}}]
[null,null,null,"Número de distribuciones durante este (periodo de tiempo)"]
[null,null,"valor kcal de ración suplementaria diaria (kcal / día)"]
[null,null,"Producto provisto"]
[]
[null,"Personas mayores (definición de país de \"persona mayor\" o ≥60 años) ","Nº de personas mayores de nuevo ingreso durante el (período de tiempo)",null,{"$f":"SUM(E244,E245)","v":0},null,"Cálculo automático Personas Mayores"]
[null,null,"Hombres mayores",null,null,null,"Promedio de personas mayores que participaron en la distribución durante el  (periodo de tiempo) ",{"$f":"(E246/E249)","v":{"$error":"#DIV/0!"}}]
[null,null,"Mujeres mayores"]
[null,null,"Número total de personas mayores que asistieron a la distribución en este (periodo de tiempo) ",null,{"$f":"SUM(E247,E248)","v":0}]
[null,null,"Hombres mayores"]
[null,null,"Mujeres mayores"]
[null,null,"Número de distribuciones durante este (periodo de tiempo) "]
[null,null,"valor kcal de ración suplementaria diaria (kcal / día)"]
[null,null,"Producto provisto"]
[]
["Suplementación de micronutrientes"]
[null,"Suplementos de vitamina A administrada a niños de 6-11 meses y 12-59 meses ",null,"Número total de niños/as de 6-11 meses que han recibido  Vit-A durante el (período de tiempo)",{"$f":"SUM(E255:E256)","v":0},null,"Cálculo automático niños/a s 6-11 meses que recibieron vit-A"]
[null,null,null,"Niños",null,null,"% niños ",{"$f":"IF(ISBLANK(E255),\"\",E255/E254)","v":""}]
[null,null,null,"Niñas",null,null,"% niñas",{"$f":"IF(ISBLANK(E256),\"\",E256/E254)","v":""}]
[null,null,null,"Número total de niños/as  de 12-59 meses que han recibido Vit-A durante el (período de tiempo)",{"$f":"SUM(E258:E259)","v":0},null,"Cálculos automático niños/as 12-59 meses que recibieron vit-A"]
[null,null,null,"Niños ",null,null,"% niños ",{"$f":"IF(ISBLANK(E258),\"\",E258/E257)","v":""}]
[null,null,null,"Niñas",null,null,"% niñas",{"$f":"IF(ISBLANK(E259),\"\",E259/E257)","v":""}]
[]
[null,"Suplementos de vitamina A administados a MEL",null,"Número total de mujeres embarazadas y  lactantes que han recibido  Vit-A durante el (período de tiempo)",{"$f":"SUM(E262:E263)","v":0},null,"Cálculo automático MEL que recibieron vit-A"]
[null,null,null,"Embarazadas",null,null,"% mujeres embarazadas",{"$f":"IF(ISBLANK(E262),\"\",E262/E261)","v":""}]
[null,null,null,"Lactantes",null,null,"% mujeres lactantes",{"$f":"IF(ISBLANK(E263),\"\",E263/E261)","v":""}]
[]
[null,"Suplementos de vitamina A administrados a personas mayores (definición de país de \"persona mayor\" o ≥ 60años)",null,"Número total de personas mayores que han recibido  Vit-A durante el (período de tiempo)",{"$f":"SUM(E266:E267)","v":0},null,"Cálculo automático personas mayores que recibieron vit-A"]
[null,null,null,"Hombres mayores",null,null,"% hombres mayores",{"$f":"IF(ISBLANK(E266),\"\",E266/E265)","v":""}]
[null,null,null,"Mujeres mayores",null,null,"% mujeres mayores",{"$f":"IF(ISBLANK(E267),\"\",E267/E265)","v":""}]
[]
[null,"Micronutrientes en Polvo (MNP) administrados a  niños/as de 6-24 meses (polvos)",null,"Número total de niños/as 6-24meses que han recibido  MNP durante el (período de tiempo)",{"$f":"SUM(E270:E271)","v":0},null,"Cálculo automático niños/as  6-24 meses que recibieron MNP"]
[null,null,null,"Niños",null,null,"% niños ",{"$f":"IF(ISBLANK(E270),\"\",E270/E269)","v":""}]
[null,null,null,"Niñas",null,null,"% niñas",{"$f":"IF(ISBLANK(E271),\"\",E271/E269)","v":""}]
[]
[null,"Comprimidos de micronutrientes (MNT) administrados a MEL",null,"Número total de mujeres embarazadas y lactantes que han recibido  MNT durante el (período de tiempo)"]
[]
[null,"Micronutrientes en Polvo / Espolvorear (MNP) dado a las personas mayores ",null,"Número total de personas mayores que han recibido  MNP durante el (período de tiempo)",{"$f":"SUM(E276:E277)","v":0},null,"Cálculo automático personas mayores que recibieron MNP"]
[null,null,null,"Hombres mayores",null,null,"% hombres mayores",{"$f":"IF(ISBLANK(E276),\"\",E276/E275)","v":""}]
[null,null,null,"Mujeres mayores",null,null,"% mujeres mayores",{"$f":"IF(ISBLANK(E277),\"\",E277/E275)","v":""}]
[]
[null,"Hierro y ácido fólico administrado a MEL",null,"Número total de mujeres embarazadas y lactantes que han recibido hierro y ácido fólico durante el (período de tiempo)"]
[]
[null,"Hierro y ácido fólico administrado a  personas mayores",null,"Número total de personas mayores que han recibido hierro y ácido fólico durante el (período de tiempo) ",{"$f":"SUM(E282,E283)","v":0},null,"Cálculo automático personas mayores suplementadas con hierro y ácido fólico"]
[null,null,null,"Hombres mayores",null,null,"% hombres mayores",{"$f":"IF(ISBLANK(E282),\"\",E282/E281)","v":""}]
[null,null,null,"Mujeres mayores",null,null,"% mujeres mayores",{"$f":"IF(ISBLANK(E283),\"\",E283/E281)","v":""}]
[]
["Desparasitación"]
[null,"Nº de niños de 12-59 meses desparasitados",null,"Número total de niños 12-59meses desparasitados durante el (período de tiempo)",{"$f":"SUM(E287:E288)","v":0},null," Cálculo automático niños/as 12-59meses desparasitados"]
[null,null,null,"Niños ",null,null,"% niños ",{"$f":"IF(ISBLANK(E287),\"\",E287/E286)","v":""}]
[null,null,null,"Niñas",null,null,"% niñas",{"$f":"IF(ISBLANK(E288),\"\",E288/E286)","v":""}]
[]
[null,"Número de mujeres embarazadas  y lactantes desparasitadas",null,"Número total de mujeres embarazadas y lactantes desparasitadas durante el (período de tiempo)"]
[]
[null,"Número de personas mayores desparasitadas",null,"Número total de personas mayores desparasitadas durante el (período de tiempo)",{"$f":"SUM(E293:E294)","v":0},null,"Cálculo automático personas mayores desparasitadas"]
[null,null,null,"Hombres mayores",null,null,"% hombres mayores",{"$f":"IF(ISBLANK(E293),\"\",E293/E292)","v":""}]
[null,null,null,"Mujeres mayores",null,null,"% mujeres mayores",{"$f":"IF(ISBLANK(E294),\"\",E294/E292)","v":""}]
[]
["Alimentación de lactantes y niños pequeños"]
[null,"Sesiones individuales (uno a uno)","Mujeres embarazadas que asistieron a sesiones de asesoramiento individual"]
[null,null,"Mujeres lactantes y cuidadores de niños/as <6 meses que asistieron a sesiones de asesoramiento individual",null,null,null,"Cálculo automático MEL y cuidadores que asistieron a la orientación individual"]
[null,null,"Mujeres lactantes y cuidadores de niños/as de 6-24 meses que asistieron a sesiones de asesoramiento individual",null,null,null,"Total",{"$f":"IF(ISBLANK(E298),\"\",SUM(E297:E299))","v":""}]
[null,"ALNP asesoramiento - Las sesiones de grupo","Número de grupos de ALNP (incluidos los grupos de apoyo de madres) en funcionamiento durante el (período de tiempo)"]
[null,null,"Número total de sesiones de grupo (incluidos los grupos de apoyo de madres) mantenidos en el (período de tiempo)"]
[null,null,"Nuevas admisiones de mujeres embarazadas y lactantes y cuidadores en grupos ALNP (incluidos los grupos de apoyo de madres) durante el (período de tiempo)",null,{"$f":"SUM(E303,E304)","v":0},null,"Cálculo automático MEL y cuidadores admitidos en grupos ALNP"]
[null,null,null,"Hombres",null,null,"% hombres ",{"$f":"IF(ISBLANK(E303),\"\",E303/E302)","v":""}]
[null,null,null,"Mujeres",null,null,"% mujeres",{"$f":"IF(ISBLANK(E303),\"\",E304/E302)","v":""}]
[null,null,null,"Número total de mujeres embarazadas y lactantes y cuidadores que asistieron a grupos de ALNP (incluidos los grupos de apoyo de madres) durante el (período de tiempo)",{"$f":"SUM(E306,E307)","v":0}]
[null,null,null,"Hombres"]
[null,null,"Mujeres"]
[null,"alimentación artificial","Número total de lactantes de 0-6 meses que requieren alimentación artificial que han recibido BMS y apoyo apropiado durante el (período de tiempo)",null,null,null,"Nota: las sesiones de asesoramiento ALNP incluyen el inicio temprano de la lactancia materna exclusiva, el contacto piel a piel, relaction, alimentación complementaria, los suplementos de micronutrientes, el VIH y la alimentación infantil, el uso apropiado de BMS, etc ..."]
[null,null,"Número total de lactantes de 6-24 meses de edad que requieren alimentación artificial que han recibido BMS y apoyo apropiado durante el (período de tiempo)"]
[null,"La lactancia materna esquinas / espacios amigos de los niños","Número total de rincones para la lactancia materna / espacios que promueven la lactancia materna abiertos durante el (período de tiempo)"]
[null,null,"Número de rincones para la lactancia materna / espacios que promueven la lactancia materna en funcionamiento durante el (período de tiempo)"]
[null,null,"Nuevas admisiones de madres lactantes durante el (período de tiempo)"]
[null,null,"Número total de mujeres lactantes que asistieron a los rincones para la lactancia materna / espacios que promueven la lactancia materna durante el (período de tiempo)"]
[]
["Desarrollo de capacidades"]
[null,null,"Type/Topic of Training"]
[null,"Entrenamiento en MUAC,  detección, derivación y movilización de la comunidad",null,"Tipo de formación",null,null,"Nº de formaciones"]
[null,null,null,"Categoría principal del personal formado",null,null,"De qué agencia / s"]
[null,null,null,"Hombres",null,null,"Número de días"]
[null,null,null,"Mujeres"]
[null,null,null,"Comentarios"]
[]
[null,null,"Type/Topic of Training",null,null,null,"Automatic calculations Training 2"]
[null,"Formación sobre la gestión integrada de la desnutrición aguda (IMAM): SAM / TF (pacientes hospitalizados)",null,"Tipo de formación",null,null,"Nº de formaciones"]
[null,null,null,"Categoría principal del personal formado",null,null,"De qué agencia / s"]
[null,null,null,"Hombres",null,null,"Número de días"]
[null,null,null,"Mujeres"]
[null,null,null,"Comentarios"]
[]
[null,null,"Type/Topic of Training",null,null,null,"Automatic calculations Training 3"]
[null,"Formación sobre la gestión integrada de la desnutrición aguda (IMAM): SAM / TF (pacientes ambulatorios)",null,"Tipo de formación",null,null,"Nº de formaciones"]
[null,null,null,"Categoría principal del personal formado",null,null,"De qué agencia / s"]
[null,null,null,"Hombres",null,null,"Número de días"]
[null,null,null,"Mujeres"]
[null,null,null,"Comentarios"]
[]
[null,null,"Type/Topic of Training",null,null,null,"Automatic calculations Training 4"]
[null,"Formación sobre la gestión integrada de la desnutrición aguda (IMAM): MAM / TSFP",null,"Tipo de formación",null,null,"Nº de formaciones"]
[null,null,null,"Categoría principal del personal formado",null,null,"De qué agencia / s"]
[null,null,null,"Hombres",null,null,"Número de días"]
[null,null,null,"Mujeres"]
[null,null,null,"Comentarios"]
[]
[null,"Formación sobre alimentación infantil",null,"Tipo de formación",null,null,"Nº de formaciones"]
[null,null,null,"Categoría principal del personal capacitado",null,null,"De qué agencia / s"]
[null,null,null,"Hombres",null,null,"Número de días"]
[null,null,null,"Mujeres"]
[null,null,null,"Comentarios"]
[]
[null,"Formación sobre encuesta de SMART",null,"Tipo de formación",null,null,"Nº de formaciones"]
[null,null,null,"Categoría principal del personal formado",null,null,"De qué agencia / s"]
[null,null,null,"Hombres",null,null,"Número de días"]
[null,null,null,"Mujeres"]
[null,null,null,"Comentarios"]
[]
[null,"Formación de preparación y respuesta a emergencias",null,"Tipo de formación",null,null,"Nº de formaciones"]
[null,null,null,"Categoría principal del personal formado",null,null,"De qué agencia / s"]
[null,null,null,"Hombres",null,null,"Número de días"]
[null,null,null,"Mujeres"]
[null,null,null,"Comentarios"]
[]
[null,"Formación sobre el enfoque de clústeres",null,"Tipo de formación",null,null,"Nº de formaciones"]
[null,null,null,"Categoría principal del personal formado",null,null,"De qué agencia / s"]
[null,null,null,"Hombres",null,null,"Número de días"]
[null,null,null,"Mujeres"]
[null,null,null,"Comentarios"]
[]
["Comentarios"]
[null,"Cualquier comentario sobre programas, lagunas o preocupaciones"]

{"sheet":"Site5","index":6,"n_rows":369,"n_cols":26,"rows_kept":369,"cut":false,"hidden":false,"merged":[[368,1,385,1],[368,2,385,8],[355,1,359,2],[355,6,355,7],[356,6,356,7],[357,6,357,7],[359,4,359,8],[361,1,365,2],[361,6,361,7],[362,6,362,7],[363,6,363,7],[365,4,365,8],[343,1,347,2],[343,6,343,7],[344,6,344,7],[345,6,345,7],[347,4,347,8],[349,1,353,2],[349,6,349,7],[350,6,350,7],[351,6,351,7],[353,4,353,8],[336,2,336,3],[336,6,336,7],[337,1,341,2],[337,6,337,7],[338,6,338,7],[339,6,339,7],[341,4,341,8],[329,2,329,3],[329,6,329,7],[330,1,334,2],[330,6,330,7],[331,6,331,7],[332,6,332,7],[334,4,334,8],[322,2,322,3],[322,6,322,7],[323,1,327,2],[323,6,323,7],[324,6,324,7],[325,6,325,7],[327,4,327,8],[314,0,314,3],[315,2,315,3],[316,1,320,2],[316,6,316,7],[317,6,317,7],[318,6,318,7],[320,4,320,8],[307,1,308,1],[307,2,307,3],[307,6,308,8],[308,2,308,3],[309,1,312,1],[309,2,309,3],[310,2,310,3],[311,2,311,3],[312,2,312,3],[299,1,306,1],[299,2,299,3],[300,2,300,3],[301,2,301,3],[301,6,301,7],[306,2,306,3],[295,0,295,3],[296,1,298,1],[296,2,296,3],[297,2,297,3],[297,6,297,7],[298,2,298,3],[284,0,284,3],[285,1,287,2],[285,6,285,7],[289,1,289,2],[291,1,293,2],[291,6,291,7],[272,1,272,2],[274,1,276,2],[274,6,274,7],[278,1,278,2],[280,1,282,2],[280,6,280,7],[260,1,262,2],[260,6,260,7],[264,1,266,2],[264,6,264,7],[268,1,270,2],[268,6,268,7],[248,2,248,3],[249,2,249,3],[250,2,250,3],[252,0,252,3],[253,1,258,2],[253,6,253,7],[256,6,256,7],[239,2,239,3],[240,2,240,3],[242,1,248,1],[242,2,242,3],[242,6,242,7],[243,2,243,3],[244,2,244,3],[245,2,245,3],[246,2,246,3],[247,2,247,3],[233,2,233,3],[234,2,234,3],[236,1,238,1],[236,2,236,3],[236,6,236,7],[237,2,237,3],[223,2,223,3],[224,2,224,3],[226,1,234,1],[226,2,226,3],[226,6,226,7],[227,2,227,3],[228,2,228,3],[229,2,229,3],[230,2,230,3],[231,2,231,3],[215,0,215,3],[216,1,224,1],[216,2,216,3],[216,6,216,7],[217,2,217,3],[218,2,218,3],[219,2,219,3],[220,2,220,3],[221,2,221,3],[222,2,222,3],[193,1,213,1],[193,2,193,3],[194,2,194,3],[194,6,194,7],[195,2,198,2],[199,2,210,2],[211,2,211,3],[212,2,212,3],[213,2,213,3],[180,1,191,1],[180,2,180,3],[180,6,180,7],[181,2,182,2],[183,2,188,2],[189,2,189,3],[190,2,190,3],[191,2,191,3],[157,0,157,3],[158,1,178,1],[158,2,158,3],[158,6,158,7],[159,2,159,3],[160,2,163,2],[164,2,175,2],[176,2,176,3],[177,2,177,3],[178,2,178,3],[135,1,136,1],[135,2,135,3],[136,2,136,3],[138,1,155,1],[138,2,138,3],[138,6,138,7],[139,2,139,3],[140,2,143,2],[144,2,155,2],[116,0,116,3],[117,1,134,1],[117,2,117,3],[117,6,117,7],[118,2,118,3],[119,2,122,2],[123,2,134,2],[81,1,96,1],[81,2,81,3],[81,6,81,7],[87,2,96,2],[98,1,115,1],[98,2,98,3],[98,6,98,7],[99,2,99,3],[100,2,103,2],[104,2,115,2],[52,1,58,1],[52,2,56,2],[61,0,61,3],[62,1,79,1],[62,2,62,3],[62,6,62,7],[63,2,63,3],[64,2,67,2],[68,2,79,2],[28,1,34,1],[28,2,32,2],[37,1,42,1],[37,2,40,2],[37,6,37,7],[44,1,50,1],[44,2,48,2],[44,6,44,7],[15,1,15,3],[17,1,17,3],[19,0,19,3],[20,1,26,1],[20,2,24,2],[20,6,20,7],[8,1,8,3],[9,1,9,3],[10,1,10,3],[13,1,13,3],[13,6,13,8],[14,1,14,3],[0,0,0,3],[1,0,1,2],[2,1,2,3],[5,1,5,3],[6,1,6,3],[7,1,7,3]]}
["Formulario para la presentación de informes por los socios",null,null,null,null,null,null,null,null,null,null,null,"Localidad","Nilo Alto","Jonglei","Unidad","Warrap","Bahr el Ghazal norte","Bahr el Ghazal Occidental","Lagos","Ecuatoria occidental","Equatoria central","Equatoria Oriental","Mes","Temas de la formación","Tipo de formación"]
["Información general",null,null,null,null,null,null,null,null,null,null,null,"Nilo Alto","Renk","Fangak","Pariang","Abyei","Aweil_Norte","Raga","Cueibet","Tambura","Terekeka","Torit","Enero","Examen con MUAC y derivaciones","Nuevo"]
[null,"Acrónimo de la agencia",null,null,null,null,null,null,null,null,null,null,"Jonglei","Manyo","Canal_Khor_Fulus","Abiemnhom","Twic","Aweil_este","Jur_River","Rumbek_Norte","Nagero","Juba","Lapon","Febrero","Protocolos para pacientes ambulatorios","Repaso"]
[null,null,null,"Nombre de la agencia",{"$f":"VLOOKUP(E3,Lists!A2:B200,2,FALSE)","v":{"$error":"#N/A"}}]
[null,null,null,"Semana del informe "]
[null,"Mes del informe:",null,null,null,null,null,null,null,null,null,null,"Unidad","Fashoda","Ayod","Mayom","Gogrial_occidental","Aweil_Sur","Wau","Rumbek_Centro","Nzara","Lainya","Kapoeta_Norte","Marzo","Protocolos para pacientes hospitalizados"]
[null,"Año del informe",null,null,null,null," ",null,null,null,null,null,"Warrap","Melut","Duk","Rubkona","Gogrial_este","Aweil_oeste",null,"Wulu","Ezo","Yei","Kapoeta_este","Abril","Protocolos para programas de alimentación suplementaria"]
[null,"Fecha de presentación del informe (DD / MM / AA)",null,null,null,null,null,null,null,null,null,null,"Bahr_el_Ghazal_norte","Maban","Uror","Guit","Tonj_Norte","Aweil_Centro",null,"Rumbek_este","Yambio","Morobo","Kapoeta_Sur","Mayo","Movilización comunitaria"]
[null,"Nivel administrativo 1",null,"Nivel administrativo 1",null,null,"P-Code Nivel Admin 1",{"$f":"INDEX(admin1pcode,MATCH(E9,admin1,0))","v":{"$error":"#N/A"}}]
[null,"Nivel administrativo 2",null,null,null,null,"P-Code nivel admin 2",{"$f":"INDEX(admin2pcode,MATCH(E10,admin2,0))","v":{"$error":"#N/A"}},null,null,null,null,"Lagos","Luakpiny_Nasir","Akobo","Leer","Tonj_Sur",null,null,"Yirol_este","Maridi",null,"Ikotos","Julio","Otros (por favor, especificar en la sección de comentarios)"]
[null,"Nivel administrativo 3",null,null,null,null,"P-Code nivel Admin 3",{"$f":"INDEX(admin3pcode,MATCH(E11,admin3,0))","v":{"$error":"#N/A"}},null,null,null,null,"Ecuatoria Occidental","Longochuk","Pochalla","Mayendit",null,null,null,"Awerial","Mvolo",null,"Magwi","Agosto"]
[null,null,null,"Nivel administrativo 4",null,null,"P-Code nivel admin 4",{"$f":"INDEX(admin4pcode,MATCH(E12,admin4,0))","v":{"$error":"#N/A"}}]
[null,null,null,"Nivel administrativo 5",null,null,"P-Code nivel administrativo 5",{"$f":"INDEX(admin5pcode,MATCH(E13,admin5,0))","v":{"$error":"#N/A"}}]
[null,"¿Se ha utilizado criterios expandidos de admisión ?",null,null,null,null,null,null,null,null,null,null,"Ecuatoria Central","Ulang","Pibor","Panyijar",null,"N/A","Operacional","No operacional","Mundri_oeste",null,null,"Septiembre"]
[null,"Centros de estabilización (SC)",null,null,null,null,"Estado del sitio",null,null,null,null,null,"Ecuatoria oriental","Baliet","Twic_este",null,null,null,null,"Sí","No",null,null,"Octubre"]
[null,"Pacientes ambulatorios centros terapéuticos (OTP)",null,null,null,null,"Estado del sitio",null,null,null,null,null,null,"Malakal","Bor_Sur",null,null,null,null,null,null,null,null,"Noviembre"]
[null,null,null,"Sitios de tratamiento a nivel comunitario (BSFPs)",null,null,"Estado del sitio",null,null,null,null,null,null,"Panyikang",null,null,null,null,null,null,null,null,null,"Diciembre"]
[null,"Sitios de alimentación suplementaria (TSFPs)",null,null,null,null,"Estado del sitio"]
[]
["Diagnóstico y derivaciones"]
[null,"Niños 6-59 meses","Revisión \n(mediciones MUAC)","Número examinados",{"$f":"SUM(E22:E25)","v":0},null,"Cálculo automático exámen y derivaciones"]
[null,null,null,"Nº de niños con edema bilateral",null,null,"No. total. (Niños+Niñas) examinados",{"$f":"IF(ISBLANK(E21),(IF(ISBLANK(E29),\"\",E21+E29)),E21+E29)","v":0}]
[null,null,null,"Nº de niños con MUAC rojo (<11.5 cm)",null,null,"No. total. (Niños+niñas) edema",{"$f":"IF(ISBLANK(E22),(IF(ISBLANK(E30),\"\",E22+E30)),E22+E30)","v":""}]
[null,null,null,"Nº de niños 6-59m con MUAC amarillo (≥ 11,5 cm a <12,5 cm)",null,null,"No. total. (Niños+Niñas) Rojo",{"$f":"IF(ISBLANK(E23),(IF(ISBLANK(E31),\"\",E23+E31)),E23+E31)","v":""}]
[null,null,null,"Nº de niños 6-59m con MUAC verde (≥ 12,5 cm)",null,null,"No. total. (Niños+Niñas) Amarillo",""]
[null,null,"Derivaciones","Nº de niños 6-59m derivados a OTP",null,null,"No. total. (Niños+Niñas) Verde",""]
[null,null,null,"Nº de niños 6-59m derivados a TSFP",null,null,"No. total. (Niños+Niñas) derivados a OTP",{"$f":"IF(ISBLANK(E26),(IF(ISBLANK(E34),\"\",E26+E34)),E26+E34)","v":""}]
[null,null,null,null,null,null,"No. total. (Niños+ niñas) derivados a TSFP",""]
[null,"Niñas 6-59 meses","Revisión \n(mediciones MUAC)","Número examinadas",{"$f":"SUM(E30:E33)","v":0},null,"% de niños+niñas con edema",{"$f":"IF(ISBLANK(E21),(IF(ISBLANK(E29),\"\",H23/H22)),H23/H22)","v":{"$error":"#VALUE!"}}]
[null,null,null,"Nº de niñas con edema bilateral",null,null,"% de (Niños+Niñas) Rojo",{"$f":"IF(ISBLANK(E21),(IF(ISBLANK(E29),\"\",H24/H22)),H24/H22)","v":{"$error":"#VALUE!"}}]
[null,null,null,"Nº de niñas 6-59m con MUAC rojo (<11.5 cm)",null,null,"(% De los muchachos de las muchachas  ) Amarillo",{"$f":"IF(ISBLANK(E21),(IF(ISBLANK(E29),\"\",H25/H22)),H25/H22)","v":{"$error":"#VALUE!"}}]
[null,null,null,"Nº de niñas 6-59m con MUAC amarillo (≥ 11,5 cm a <12,5 cm)",null,null,"(% De los muchachos de las muchachas  ) verde",{"$f":"IF(ISBLANK(E21),(IF(ISBLANK(E29),\"\",H26/H22)),H26/H22)","v":{"$error":"#VALUE!"}}]
[null,null,null,"Nº de niñas 6-59m con MUAC verde (≥ 12,5 cm)",null,null,"(% De los muchachos   Girls) se refirió a la PTF",{"$f":"IF(ISBLANK(E21),(IF(ISBLANK(E29),\"\",H27/H22)),H27/H22)","v":{"$error":"#VALUE!"}}]
[null,null,"Derivaciones","Nº de Niñas 6-59m derivadas a OTP",null,null,"% De los muchachos ( ) Las niñas que se refiere TSFP",{"$f":"IF(ISBLANK(E21),(IF(ISBLANK(E29),\"\",H28/H22)),H28/H22)","v":{"$error":"#VALUE!"}}]
[null,null,null,"Nº de niñas 6-59m derivadas a TSFP"]
[]
[]
[null,"Mujeres embarazadas y lactantes","Revisión \n(mediciones MUAC)","Número examinadas",{"$f":"SUM(E39:E41)","v":0},null,"Cálculos automáticos MEL"]
[null,null,null,"Número de mujeres embarazadas y lactantes con MUAC <21.0 cm",null,null,"% MUAC <21.0 cm",{"$f":"IF(ISBLANK(E39),\"\",E39/E38)","v":""}]
[null,null,null,"Número de mujeres embarazadas y lactantes con MUAC ≥21.0 cm a 23.0 cm <",null,null,"MUAC% ≥21.0 cm a <23,0 cm",{"$f":"IF(ISBLANK(E40),\"\",E40/E38)","v":""}]
[null,null,null,"Número de mujeres embarazadas y lactantes con MUAC ≥23.0 cm",null,null,"MUAC% ≥23.0 cm",{"$f":"IF(ISBLANK(E41),\"\",E41/E38)","v":""}]
[null,null,"Derivaciones","Número de mujeres embarazadas y lactantes derivadas a OTP",null,null,"%  mujeres embarzadas y lactantes derivadas a OTP",{"$f":"IF(ISBLANK(E42),\"\",E42/E38)","v":""}]
[null,null,null,"Número de mujeres embarazadas y lactantes derivadas a TSFP",null,null,"% mujeres embarazadas  y lactantes derivadas a TSFP",{"$f":"IF(ISBLANK(E43),\"\",E43/E38)","v":""}]
[]
[null,"Personas mayores\nhombres\n(definición de país de \"persona mayor\" o ≥ 60años)","Revisión \n(mediciones MUAC)","Número examinados: Hombres",{"$f":"SUM(E46:E49)","v":0},null,"Cálculo automático exámen y derivaciones"]
[null,null,null,"Nº de hombres mayoures con edema bilateral",null,null,"No. total. (Hombres mayores+mujeres mayores) examinados",{"$f":"IF(ISBLANK(E45),(IF(ISBLANK(E53),\"\",E45+E53)),E45+E53)","v":0}]
[null,null,null,"Nº de hombres mayores con MUAC <18,5 cm",null,null,"No. total. (Hombres mayores+mujers mayores) edema",{"$f":"IF(ISBLANK(E46),(IF(ISBLANK(E54),\"\",E46+E54)),E46+E54)","v":""}]
[null,null,null,"Nº de hombres mayoures con MUAC ≥18.5 cm a 21.0 cm <",null,null,"No. total. (hombres mayores+mujeres mayores ) con MUAC <18,5 cm",""]
[null,null,null,"Nº de hombres mayores con MUAC ≥21.0 cm",null,null,"No. total. (hombres mayores+mujeres mayores) con MUAC ≥18.5 cm a <21,0 cm",""]
[null,null,"Derivaciones","Nº de hombres mayores derivados a OTP",null,null,"Nº total de (hombres mayores+mujeres mayores) con MUAC ≥21.0 cm",""]
[null,null,null,"Nº de hombres mayores derivados a TSFP",null,null,"No. total. (hombres mayores+mujeres mayores) derivados a OTP",""]
[null,null,null,null,null,null,"No. total. ((hombres mayores+mujeres mayores) derivados a TSFP",""]
[null,"Personas mayores\nMujeres\n (definición de país de \"persona mayor\" o ≥ 60y)","Revisión \n(mediciones MUAC)","Número examinadas: Mujeres",{"$f":"SUM(E54:E57)","v":0},null,"% De edema (hombres mayores+mujeres mayores)",{"$f":"IF(ISBLANK(E45),(IF(ISBLANK(E53),\"\",H47/H46)),H47/H46)","v":{"$error":"#VALUE!"}}]
[null,null,null,"Nº mujeres mayores con edema bilateral",null,null,"% De (  hombres mayores+mujeres mayores) con MUAC <18,5 cm",{"$f":"IF(ISBLANK(E45),(IF(ISBLANK(E53),\"\",H48/H46)),H48/H46)","v":{"$error":"#VALUE!"}}]
[null,null,null,"Nº mujeres mayores con MUAC <18,5 cm",null,null,"% De ( hombres mayores+mujeres mayores) con MUAC ≥18.5 cm a <21.0 cm ",{"$f":"IF(ISBLANK(E45),(IF(ISBLANK(E53),\"\",H49/H46)),H49/H46)","v":{"$error":"#VALUE!"}}]
[null,null,null,"Nº  mujeres mayores con MUAC ≥18.5 cm a <21.0 cm ",null,null,"% De ( hombres mayores+mujeres mayores) con MUAC ≥21.0 cm",{"$f":"IF(ISBLANK(E45),(IF(ISBLANK(E53),\"\",H50/H46)),H50/H46)","v":{"$error":"#VALUE!"}}]
[null,null,null,"Nº mujeres mayoures con MUAC ≥21.0 cm",null,null,"% De (hombres mayores+mujeres mayores) derivados a OTP",{"$f":"IF(ISBLANK(E45),(IF(ISBLANK(E53),\"\",H51/H46)),H51/H46)","v":{"$error":"#VALUE!"}}]
[null,null,"Derivaciones","Nº mujeres mayores derivadas a OTP",null,null,"% De (hombres mayores+mujeres mayores) derivados a TSFP",{"$f":"IF(ISBLANK(E45),(IF(ISBLANK(E53),\"\",H52/H46)),H52/H46)","v":{"$error":"#VALUE!"}}]
[null,null,null,"Nº mujeres mayores derivadas a TSFP"]
[]
[]
["Gestión de la desnutrición aguda grave, para pacientes hospitalizados"]
[null,"Niños 6-59 meses","Final total del último período de tiempo: Niños (A1)",null,null,null,"Cálculo automático Niños/as 6-59m"]
[null,null,"Final total del último período de tiempo: Niñas (A2)",null,null,null,"Total admisión niños (D = B   C)",{"$f":"SUM(E65,E67)","v":0}]
[null,null,"categorías de entrada","Nuevas admisiones: niños (B1)",null,null,"Total admisión niñas (D = B   C)",{"$f":"SUM(E66,E68)","v":0}]
[null,null,null,"Nuevas admisiones: niñas (B2)",null,null,"Total Salidas Boys (H = E   F   G)",{"$f":"SUM(E69+E71+E73+E75+E77+E79)","v":0}]
[null,null,null,"Casos antiguos (derivados de OTP, personas que retoman el tratamiento, translados de otro centro de estabilización) : Niños (C1)",null,null,"Total Salidas niñas (H = E   F   G)",{"$f":"SUM(E70+E72+E74+E76+E78+E80)","v":0}]
[null,null,null,"Casos antiguos (derivados de OTP, personas que retoman el tratamiento, translados de otro centro de estabilización): Niñas (C2)",null,null,"Total al final del (periodo de tiempo) Niños (I = A   DH)",{"$f":"E63+H64-H66","v":0}]
[null,null,"categorías de salida","Pacientes hospitalizados estabilizados y referidos a OTP: niños (E1)",null,null,"Total al final del (periodo de tiempo) Niñas (I = A   DH)",{"$f":"SUM(E64+H65-H67)","v":0}]
[null,null,null,"Pacientes hospitalizados estabilizados y referidos a OTP: niñas (E2)",null,null,"tasa de altas por curación",{"$f":"IF(ISBLANK(E70),\"\",(E71+E72)/(H73))","v":""},"(Min  Normas ESFERA. > 75%)"]
[null,null,null,"Alta por curación (casos especiales que terminan tratamiento): niños (F1)",null,null,"tasa de altas por muerte",{"$f":"IF(ISBLANK(E71),\"\",(E73 + E74)/(H73))","v":""},"(Min  Normas ESFERA.  <10%)"]
[null,null,null,"Alta por curación (casos especiales que terminan tratamiento): niñas (F2)",null,null,"tasa de alta por abandono",{"$f":"IF(ISBLANK(E73),\"\",(E75 + E76)/(H73))","v":""},"(Min  Normas ESFERA. <15%)"]
[null,null,null,"Altas por muerte: niños (F3)",null,null,"salidas totales (J = E   F   G)",{"$f":"IF(ISBLANK(E69:E80),\"\",SUM(H66,H67))","v":""}]
[null,null,null,"Altas por muerte: niñas (F4)",null,null,"Total al final del (período de tiempo) (K = A   DJ)",{"$f":"IF(ISBLANK(E63),\"\",E63+E64+H64+H65-H73)","v":""}]
[null,null,null,"Altas por abandono: niños (F5)"]
[null,null,null,"Altas por abandono: niñas (F6)"]
[null,null,null,"Altas sin curación: niños (F7)"]
[null,null,null,"Altas sin curación: niñas (F8)"]
[null,null,null,"Otras transferencias: niños (G1)"]
[null,null,null,"Otras transferencias: niñas (G2)"]
[]
[null,"Niños <6 meses","Final total del útimo (período de tiempo): niños (A1)",null,null,null,"Cálculo automático niños/as <6m"]
[null,null,null,"Final total del último (período de tiempo): niñas (A2)",null,null,"Total admisiones niños (D = B   C)",{"$f":"SUM(E84,E86)","v":0}]
[null,null,"categorías de entrada","Nuevas admisiones: niños (B1)",null,null,"Total admisiones niñas (D = B   C)",{"$f":"SUM(E85,E87)","v":0}]
[null,null,null,"Nuevas admisiones: niñas (B2)",null,null," Total salidas niños (H = F   G)",{"$f":"SUM(E88+E90+E92+E94+E96+E98)","v":0}]
[null,null,null,"Casos antiguos (derivados de OTP, personas que retoman el tratamiento, translados de otro centro de estabilización) : Niños (C1)",null,null,"Total salidas niñas (H = F   G)",{"$f":"SUM(E89+E91+E93+E95+E97)","v":0}]
[null,null,null,"Casos antiguos (derivados de OTP, personas que retoman el tratamiento, translados de otro centro de estabilización): Niñas (C2)",null,null,"Total niños al final del (periodo de tiempo) (I = A   DH)",{"$f":"E82+H83-H85","v":0}]
[null,null,"categorías de salida","Alta por curación (casos especiales que terminan tratamiento): niños (F1)",null,null,"Total niñas al final del (periodo de tiempo) (I = A   DH)",{"$f":"SUM(E83+H84-H86)","v":0}]
[null,null,null,"Alta por curación (casos especiales que terminan tratamiento): niñas (F2)",null,null,"tasas altas por curación",{"$f":"IF(ISBLANK(E89),\"\",(E89+E88)/(H92))","v":""},"(Min  Normas ESFERA. > 75%)",null,null,null,0.13043478260869565]
[null,null,null,"Altas por muerte: niños (F3)",null,null,"tasa alta por muerte",{"$f":"IF(ISBLANK(E90),\"\",(E90 + E91)/(H92))","v":""},"(Min  Normas ESFERA. <10%)"]
[null,null,null,"Altas por muerte: niñas (F4)",null,null,"tasa alta por abandono",{"$f":"IF(ISBLANK(E92),\"\",(E92 + E93)/(H92))","v":""},"(Min  Normas ESFERA.  <15%)"]
[null,null,null,"Altas por abandono: niños (F5)",null,null,"salidas totales (J = F   G)",{"$f":"IF(ISBLANK(E88:F99),\"\",SUM(H85,H86))","v":0}]
[null,null,null,"Altas por abandono: niñas (F6)",null,null,"Total al final del (período de tiempo) (K = A   DJ)",{"$f":"IF(ISBLANK(E82),\"\",E82+E83+H83+H84-H92)","v":""}]
[null,null,null,"Altas sin curación: niños (F7)"]
[null,null,null,"Altas sin curación: niñas (F8)"]
[null,null,null,"Otras transferencias: niños (G1)"]
[null,null,null,"Otras transferencias: niñas (G2)"]
[]
[null,"Personas mayores (definición de país de \"persona mayor\" o  ≥60años)","Final total del último (período de tiempo): hombres mayores (A1)",null,null,null,"Cálculo automático Personas Mayores"]
[null,null,"Final total del último (período de tiempo): mujeres mayores (A2)",null,null,null,"admisiones totales hombres mayores (D = B   C)",{"$f":"SUM(E101+E103)","v":0}]
[null,null,"categorías de entrada","Nuevas admisiones: Hombres Mayores (B1)",null,null,"Admisiones totales mujeres mayores (D = B   C)",{"$f":"SUM(E102+E104)","v":0}]
[null,null,null,"Nuevas admisiones: mujeres mayores (B2)",null,null,"salidas totales hombres mayores (H = E   F   G)",{"$f":"E105+E107+E109+E111+E113+E115","v":0}]
[null,null,null,"Casos antiguos (derivados de OTP, personas que retoman el tratamiento, translados de otro centro de estabilización): hombres mayores (C1)",null,null,"salidas totales Mayor femenino (H = E   F   G)",{"$f":"E106+E108+E110+E112+E114+E116","v":0}]
[null,null,null,"Casos antiguos (derivados de OTP, personas que retoman el tratamiento, translados de otro centro de estabilización): mujeres mayores (C2)",null,null,"Total al final del (periodo de tiempo) varones de más edad (I = A   DH)",{"$f":"IF(ISBLANK(E99),\"\",E99+H100-H102)","v":""}]
[null,null,"categorías de salida","Pacientes hospitalizados estabilizados y referidos a OTP: hombres mayores (E1)",null,null,"Total al final del (periodo de tiempo) Mayor Femenino (I = A   DH)",{"$f":"IF(ISBLANK(E100),\"\",E100+H101-H103)","v":""}]
[null,null,null,"Pacientes hospitalizados estabilizados y referidos a OTP: mujeres mayores (E2)",null,null,"tasas curados descargadas",{"$f":"IF(ISBLANK(E106),\"\",(E107+E108)/(H109))","v":""},"(Min  Normas ESFERA. > 75%)"]
[null,null,null,"Alta por curación (casos especiales que terminan tratamiento): hombres mayores (F1)",null,null,"tasa muerto descargada",{"$f":"IF(ISBLANK(E107),\"\",(E109 + E110)/(H109))","v":""},"(Min  Normas ESFERA. <10%)"]
[null,null,null,"Alta por curación (casos especiales que terminan tratamiento): mujeres mayores (F2)",null,null,"tasa omitido descargada",{"$f":"IF(ISBLANK(E109),\"\",(E111 + E111)/(H103+H102))","v":""},"(Min  Normas ESFERA. <15%)"]
[null,null,null,"Altas por muerte: hombres mayores (F3)",null,null,"salidas totales (J = E   F   G)",{"$f":"IF(ISBLANK(E105:F116),\"\",SUM(H102,H103))","v":0}]
[null,null,null,"Altas por muerte: mujeres mayores (F4)",null,null,"Total al final del (período de tiempo) (K = A   DJ)",{"$f":"IF(ISBLANK(E99),\"\",E99+E100+H100+H101-H109)","v":""}]
[null,null,null,"Altas por abandono:hombres mayores (F5)"]
[null,null,null,"Altas por abandono: mujeres mayores (F6)"]
[null,null,null,"Altas sin curación: hombres mayores (F7)"]
[null,null,null,"Altas sin curación: mujeres mayores (F8)"]
[null,null,null,"Otras transferencias: hombres mayores (G1)"]
[null,null,null,"Otras transferencias: mujeres mayores (G2)"]
["Gestión de la desnutrición aguda grave, para pacientes ambulatorios"]
[null,"Niños 6-59 meses","Final total del último (período de tiempo): niños (A1)",null,null,null,"Cálculo automático Niños/as 6-59m"]
[null,null,"Final total del último (período de tiempo): niñas (A2)",null,null,null,"Total admisiones  niños (D = B   C)",{"$f":"SUM(E122+E120)","v":0}]
[null,null,"categorías de entrada","Nuevas admisiones: niños(B1)",null,null,"Total admisiones niñas (D = B   C)",{"$f":"SUM(E121+E123)","v":0}]
[null,null,null,"Nuevas admisiones: niñas (B2)",null,null,"Total salidas niños (H = F   G)",{"$f":"SUM(E124+E126+E128+E130+E132+E134)","v":0}]
[null,null,null,"Casos antiguos (derivados de OTP, personas que retoman el tratamiento, translados de otro centro de estabilización) : Niños (C1)",null,null,"Total salidas niñas (H = F   G)",{"$f":"SUM(E125+E127+E129+E131+E133+E135)","v":0}]
[null,null,null,"Casos antiguos (derivados de OTP, personas que retoman el tratamiento, translados de otro centro de estabilización): Niñas (C2)",null,null,"Total niños al final del (periodo de tiempo) (I = A   DH)",{"$f":"IF(ISBLANK(E118),\"\",E118+H119-H121)","v":""}]
[null,null,"categorías de salida","Alta por curación: niños (F1)",null,null,"Total niñas al final del (periodo de tiempo) (I = A   DH)",{"$f":"IF(ISBLANK(E119),\"\",E119+H120-H122)","v":""}]
[null,null,null,"Altas por curación: niñas (F1)",null,null,"tasas altas por curación",{"$f":"IF(ISBLANK(E124),\"\",(E124+E125)/(H128))","v":""},"(Min Normas ESFERA. > 75%)"]
[null,null,null,"Altas por muerte: niños (F2)",null,null,"tasa altas por muerte",{"$f":"IF(ISBLANK(E126),\"\",(E126 + E127)/(H128))","v":""},"(Min Normas ESFERA. <10%)"]
[null,null,null,"Altas por muerte: niñas (F2)",null,null,"tasa altas por abandono",{"$f":"IF(ISBLANK(E128),\"\",(E128 + E129)/(H122+H121))","v":""},"(Min Normas ESFERA.  <15%)"]
[null,null,null,"Altas por abandono: niños (F3)",null,null,"salidas totales (J = F   G)",{"$f":"IF(ISBLANK(E124:E135),\"\",SUM(H121,H122))","v":""}]
[null,null,null,"Altas por abandono: niñas (F3)",null,null,"Total al final del (período de tiempo) (K = A   DJ)",{"$f":"IF(ISBLANK(E118),\"\",E118+E119+H119+H120-H128)","v":""}]
[null,null,null,"Altas sin curación: niños (F4)"]
[null,null,null,"Altas sin curación: niñas (F4)"]
[null,null,null,"Derivaciones a centros de estabilización: niños (F5)"]
[null,null,null,"Derivaciones a centros de estabilización: niñas (F6)"]
[null,null,null,"Otras transferencias: niños (G1)"]
[null,null,null,"Otras transferencias: niñas (G2)"]
[null,null,"Ganancia media diaria de peso (AWG) para el alta por curación (en gramos / kg / día)",null,null,null,"(Recomendado> 4 g / kg / día)"]
[null,null,"Duración media de la estancia (LOS) para el alta por curación (en días)",null,null,null,"(Recomendado <60 días)"]
[]
[null,"Personas mayores (definición de país de \"persona mayor\" o  ≥60años)","fin total de la última (período de tiempo): Hombres Mayor (A1)",null,null,null,"Cálculo automático Personas Mayores"]
[null,null,"fin total de la última (período de tiempo): Mayor femenino (A2)",null,null,null,"admisiones totales hombres mayores (D = B   C)",{"$f":"E141+E143","v":0}]
[null,null,"categorías de entrada","Nuevas admisiones: hombres mayores (B1)",null,null,"Admisiones totales mujeres mayores (D = B   C)",{"$f":"E142+E144","v":0}]
[null,null,null,"Nuevas admisiones: mujeres mayores (B2)",null,null,"salidas totales hombres mayores (H = F   G)",{"$f":"SUM(E145+E147+E149+E151+E153+E155)","v":0}]
[null,null,null,"Casos antiguos (derivados de OTP, personas que retoman el tratamiento, translados de otro centro de estabilización) : hombres mayores (C1)",null,null,"salidas totales mujeres mayores (H = F   G)",{"$f":"SUM(E146+E148+E150+E152+E154+E156)","v":0}]
[null,null,null,"Casos antiguos (derivados de OTP, personas que retoman el tratamiento, translados de otro centro de estabilización) : mujeres mayores (C2)",null,null,"Total hombres mayores al final del (periodo de tiempo) (I = A   DH)",{"$f":"IF(ISBLANK(E139),\"\",E139+H140-H142)","v":""}]
[null,null,"categorías de salida","Altas por curación: hombres mayores (F1)",null,null,"Total mujeres mayores al final del (periodo de tiempo) (I = A   DH)",{"$f":"IF(ISBLANK(E140),\"\",E140+H141-H143)","v":""}]
[null,null,null,"Altas por curación: mujeres mayores (F1)",null,null,"tasa altas por curación",{"$f":"IF(ISBLANK(E145),\"\",(E145+E146)/(H149))","v":""},"(Min Normas ESFERA.> 75%)"]
[null,null,null,"Altas por muerte: hombres mayores (F2)",null,null,"tasa altas por muerte",{"$f":"IF(ISBLANK(E147),\"\",(E147 + E148)/(H149))","v":""},"(Min Normas ESFERA. <10%)"]
[null,null,null,"Altas por muerte: mujeres mayores (F2)",null,null,"tasa altas por abandono",{"$f":"IF(ISBLANK(E149),\"\",(E149 + E150)/(H143+H142))","v":""},"(Min Normas ESFERA. <15%)"]
[null,null,null,"Altas por abandono: hombres mayores (F3)",null,null,"salidas totales (J = F   G)",{"$f":"IF(ISBLANK(E145:F156),\"\",SUM(E145:E154))","v":0}]
[null,null,null,"Altas por abandono: mujers mayores (F3)",null,null,"Total al final del (período de tiempo) (K = A   DJ)",{"$f":"IF(ISBLANK(E139),\"\",E139+E140+H140+H141-H149)","v":""}]
[null,null,null,"Altas sin curación: hombre mayores (F4)"]
[null,null,null,"Altas sin curación: mujeres mayores (F4)"]
[null,null,null,"Derivaciones a centros de estabilización: hombres mayores (F5)"]
[null,null,null,"Derivaciones a centros de estabilización: mujeres mayores (F6)"]
[null,null,null,"Otras transferencias: hombre mayores (G1)"]
[null,null,null,"Otras transferencias: mujeres mayores (G2)"]
[]
["Programas de alimentación suplementaria selectiva"]
[null,"Niños/as 6-59 meses","fin total del último (período de tiempo): Niños (A1)",null,null,null,"Cálculo automático Niños/as 6-59m"]
[null,null,"fin total del último (período de tiempo): niñas (A1)",null,null,null,"Total admisión niños (D = B   C)",{"$f":"SUM(E163+E161)","v":0}]
[null,null,"categorías de entrada","Nuevas admisiones: niños (B1)",null,null,"Total admisión niñas (D = B   C)",{"$f":"SUM(E162+E164)","v":0}]
[null,null,null,"Nuevas admisiones: niñas(B2)",null,null,"Total salidas niños (H = E   G)",{"$f":"SUM(E165+E167+E169+E171+E173+E175)","v":0}]
[null,null,null,"Casos antiguos (derivados de OTP, personas que retoman el tratamiento, translados de otro centro de estabilización): Niños (C1)",null,null,"Total salidas niñas (H = E   G)",{"$f":"SUM(E166+E168+E170+E172+E174+E176)","v":0}]
[null,null,null,"Casos antiguos (derivados de OTP, personas que retoman el tratamiento, translados de otro centro de estabilización): niñas (C2)",null,null,"Total niños al final del (periodo de tiempo) (I = A   DH)",{"$f":"IF(ISBLANK(E159),\"\",E159+H160-H162)","v":""}]
[null,null,"categorías de salida","Altas por curación: Niños (E1)",null,null,"Total niñas al final del (periodo de tiempo) (I = A   DH)",{"$f":"IF(ISBLANK(E160),\"\",E160+H161-H163)","v":""}]
[null,null,null,"Altas por curación: niñas (E2)",null,null,"tasa altas por curación",{"$f":"IF(ISBLANK(E166),\"\",(E166+E165)/(H169))","v":""},"(Min  Normas ESFERA.> 75%)"]
[null,null,null,"Altas por muerte: Niños (E3)",null,null,"tasa altas por muerte",{"$f":"IF(ISBLANK(E167),\"\",(E167 + E168)/(H169))","v":""},"(Las normas de Esfera min. <3%)"]
[null,null,null,"Altas por muerte: niñas (E4)",null,null,"tasa altas por abandono",{"$f":"IF(ISBLANK(E169),\"\",(E169 + E170)/(H169))","v":""},"(Min Normas ESFERA.  <15%)"]
[null,null,null,"Altas por abandono: Niños (E5)",null,null,"salidas totales (J = E   G)",{"$f":"IF(ISBLANK(E165),\"\",SUM(H162:H163))","v":""}]
[null,null,null,"Altas por abandono: niñas (E6)",null,null,"Total al final del (período de tiempo) (K = A   DJ)",{"$f":"IF(ISBLANK(E159),\"\",E159+E160+H160+H161-H169)","v":""}]
[null,null,null,"Alta sin curación: Niños (E7)"]
[null,null,null,"Altas sin curación: niñas (E8)"]
[null,null,null,"Derivados a OTP / SC: niños (E9)"]
[null,null,null,"Derivados a OTP / SC: niñas (E10)"]
[null,null,null,"Otras transferencias niños (G1)"]
[null,null,null,"Otras transferencias niñas (G2)"]
[null,null,"Duración media de la estancia para altas por curación (en días)"]
[null,null,"Valor kcal de la ración suplementaria diaria (kcal / día)"]
[null,null,"Producto provisto"]
[]
[null,"Embarazadas y mujeres lactantes (MEL)","fin total del último (período de tiempo): MEL (A)",null,null,null,"Cálculo automático MEL"]
[null,null,"categorías de entrada","Nuevas admisiones en este (periodo de tiempo): MEL (B)",null,null,"Total admisiones MEL (D = B   C)",{"$f":"IF(ISBLANK(E182),\"\",E182+E183)","v":""}]
[null,null,null,"Casos antiguos (derivados de OTP, personas que retoman el tratamiento, translados de otro centro de estabilización): MEL (C1)",null,null,"tasa de alta por curación",{"$f":"IF(ISBLANK(E184),\"\",E184/(H186))","v":""},"(Min  Normas ESFERA. > 75%)"]
[null,null,"categorías de salida","Alta por curación: MEL (F1)",null,null,"tasa alta por muerte",{"$f":"IF(ISBLANK(E185),\"\",E185/(H186))","v":""},"(Las normas de Esfera min. <3%)"]
[null,null,null,"Alta por muerteo: MEL (F2)",null,null,"tasa alta por abandono",{"$f":"IF(ISBLANK(E187),\"\",E186/(H186))","v":""},"(Min Normas ESFERA. <15%)"]
[null,null,null,"Alta por abandono: MEL (F3)",null,null,"salidas totales (J = F   G)",{"$f":"IF(ISBLANK(E184),\"\",SUM(E184:E189))","v":""}]
[null,null,null,"Alta sin recuperación: MEL (F4)",null,null,"Total al final del (período de tiempo) (K = A   DJ)",{"$f":"IF(ISBLANK(E181),\"\",E181+H182-H186)","v":""}]
[null,null,null,"Derivadas a OTP / SC: MEL (F5)"]
[null,null,null,"Otras transferencias: MEL (G)"]
[null,null,"Duración media de la estancia para altas por curación (en días)"]
[null,null,"Valor kcal de la ración suplementaria diaria (kcal / día)"]
[null,null,"Producto provisto"]
[]
[null,"Personas mayores (definición de país de \"personas mayores\" o  ≥60años)","fin total del último (período de tiempo): Hombres Mayores (A1)"]
[null,null,"fin total del último (período de tiempo): Mujeres mayores (A2)",null,null,null,"Cálculo automático Personas Mayores"]
[null,null,"categorías de entrada","Nuevas admisiones: Hombres Mayor (B1)",null,null,"Admisiones totales hombres mayores (D = B   C)",{"$f":"SUM(E196+E198)","v":0}]
[null,null,null,"Nuevas admisiones: Mayor Femenino (B2)",null,null,"Admisiones totales mujeres mayores (D = B   C)",{"$f":"SUM(E197+E199)","v":0}]
[null,null,null,"Casos antiguos (derivados de OTP, personas que retoman el tratamiento, translados de otro centro de estabilización): hombres mayores (C1)",null,null,"salidas totales hombres mayores (H = E   G)",{"$f":"SUM(E200+E202+E204+E206+E208+E210)","v":0}]
[null,null,null,"Casos antiguos (derivados de OTP, personas que retoman el tratamiento, translados de otro centro de estabilización): Mujeres mayores (C2)",null,null,"salidas totales mujeres mayores (H = E   G)",{"$f":"SUM(E201,E203,E205,E207,E209,E211)","v":0}]
[null,null,"categorías de salida","Alta por curación: hombres mayores (E1)",null,null,"Total hombres mayores al final del (periodo de tiempo) (I = A   DH)",{"$f":"IF(ISBLANK(E194),\"\",E194+H196-H198)","v":""}]
[null,null,null,"Alta por curación: mujres mayores (E2)",null,null,"Total mujeres mayores al final del (periodo de tiempo) (I = A   DH)",{"$f":"IF(ISBLANK(E195),\"\",E195+H197-H199)","v":""}]
[null,null,null,"Altas por muerte: hombres mayores (E3)",null,null,"tasa altas por curación",{"$f":"IF(ISBLANK(E202),\"\",(E200+E201)/(H205))","v":""},"(Min Normas ESFERA.  75%)"]
[null,null,null,"Altas por muerte: mujeres mayores (E4)",null,null,"tasa altas por muerte",{"$f":"IF(ISBLANK(E203),\"\",(E202+ E203)/(H205))","v":""},"(Las normas de Esfera min. <3%)"]
[null,null,null,"Altas por abandano: hombres mayores (E5)",null,null,"tasa altas por abandono",{"$f":"IF(ISBLANK(E205),\"\",(E204+E205)/(H205))","v":""},"(Min Normas ESFERA. <15%)"]
[null,null,null,"Altas por abandono: mujeres mayores (E6)",null,null,"salidas totales (J = E   G)",{"$f":"IF(ISBLANK(E200),\"\",SUM(H198:H199))","v":""}]
[null,null,null,"Altas sin recuperación: hombres mayores (E7)",null,null,"Total al final del (período de tiempo) (K = A   DJ)",{"$f":"IF(ISBLANK(E194),\"\",E194+E195+H196+H197-H205)","v":""}]
[null,null,null,"Altas sin recuperación: mujeres mayores (E8)"]
[null,null,null,"Derivados a OTP / SC: hombres mayores (E9)"]
[null,null,null,"Derivados a OTP / SC: mujeres mayores (E10)"]
[null,null,null,"Otras transferencias: hombres mayores (G1)"]
[null,null,null,"Otras transferencias: mujeres mayores (G2)"]
[null,null,"Duración media de la estancia para altas por curación (en días)"]
[null,null,"Valor kcal de la ración suplementaria diaria (kcal / día)"]
[null,null,"Producto provisto"]
[]
["Programas de alimentación suplementaria general"]
[null,"Niños/as 6-23 meses","No. de niños 6-23m nuevos en el programa durante el (período de tiempo)",null,{"$f":"SUM(E218,E219)","v":0},null,"Cálculo automático Niños/as 6-23m"]
[null,null,"Niños",null,null,null,"Número medio de niños/as  6-23m  que participaron en la distribución durante el (periodo de tiempo) ",{"$f":"E220/E223","v":{"$error":"#DIV/0!"}}]
[null,null,"Niñas"]
[null,null,"Número total de niños/as 6-23m que asistieron a la distribución en este (periodo de tiempo) ",null,{"$f":"SUM(E221,E222)","v":0}]
[null,null,"Niños"]
[null,null,"Niñas"]
[null,null,"Número de distribuciones durante este (periodo de tiempo) "]
[null,null,"valor kcal de ración suplementaria diaria (kcal / día)"]
[null,null,"Producto provisto"]
[]
[null,"Niños/as 6-59 meses","No. de niños 6-59m nuevos en el programa durante el (período de tiempo)",null,{"$f":"SUM(E228,E229)","v":0},null,"Cálculo automático Niños/as 6-59m"]
[null,null,"Niños",null,null,null,"Número medio de niños/as 6-59m que participaron en la distribución durante el (periodo de tiempo) ",{"$f":"(E230/E233)","v":{"$error":"#DIV/0!"}}]
[null,null,"Niñas"]
[null,null,"Número total de niños/as 6-23m que asistieron a la distribución en este (periodo de tiempo) ",null,{"$f":"SUM(E231,E232)","v":0}]
[null,null,"Niños"]
[null,null,"Niñas"]
[null,null,null,"Número de distribuciones durante este (periodo de tiempo) "]
[null,null,"valor kcal de ración suplementaria diaria (kcal / día)"]
[null,null,"Producto provisto"]
[]
[null,"Mujeres embarazadas y lactantes","Número de mujeres embarazadas y lactantes recién inscritas durante el (período de tiempo)",null,null,null,"Cálculo automático MEL"]
[null,null,"Número total de mujeres embarazadas y lactantes que asistieron a la distribución en este (periodo de tiempo)",null,null,null,"Promedio de MEL que participaron en la distribución durante el (periodo de tiempo) ",{"$f":"(E238/E239)","v":{"$error":"#DIV/0!"}}]
[null,null,null,"Número de distribuciones durante este (periodo de tiempo)"]
[null,null,"valor kcal de ración suplementaria diaria (kcal / día)"]
[null,null,"Producto provisto"]
[]
[null,"Personas mayores (definición de país de \"persona mayor\" o ≥60 años) ","Nº de personas mayores de nuevo ingreso durante el (período de tiempo)",null,{"$f":"SUM(E244,E245)","v":0},null,"Cálculo automático Personas Mayores"]
[null,null,"Hombres mayores",null,null,null,"Promedio de personas mayores que participaron en la distribución durante el  (periodo de tiempo) ",{"$f":"(E246/E249)","v":{"$error":"#DIV/0!"}}]
[null,null,"Mujeres mayores"]
[null,null,"Número total de personas mayores que asistieron a la distribución en este (periodo de tiempo) ",null,{"$f":"SUM(E247,E248)","v":0}]
[null,null,"Hombres mayores"]
[null,null,"Mujeres mayores"]
[null,null,"Número de distribuciones durante este (periodo de tiempo) "]
[null,null,"valor kcal de ración suplementaria diaria (kcal / día)"]
[null,null,"Producto provisto"]
[]
["Suplementación de micronutrientes"]
[null,"Suplementos de vitamina A administrada a niños de 6-11 meses y 12-59 meses ",null,"Número total de niños/as de 6-11 meses que han recibido  Vit-A durante el (período de tiempo)",{"$f":"SUM(E255:E256)","v":0},null,"Cálculo automático niños/a s 6-11 meses que recibieron vit-A"]
[null,null,null,"Niños",null,null,"% niños ",{"$f":"IF(ISBLANK(E255),\"\",E255/E254)","v":""}]
[null,null,null,"Niñas",null,null,"% niñas",{"$f":"IF(ISBLANK(E256),\"\",E256/E254)","v":""}]
[null,null,null,"Número total de niños/as  de 12-59 meses que han recibido Vit-A durante el (período de tiempo)",{"$f":"SUM(E258:E259)","v":0},null,"Cálculos automático niños/as 12-59 meses que recibieron vit-A"]
[null,null,null,"Niños ",null,null,"% niños ",{"$f":"IF(ISBLANK(E258),\"\",E258/E257)","v":""}]
[null,null,null,"Niñas",null,null,"% niñas",{"$f":"IF(ISBLANK(E259),\"\",E259/E257)","v":""}]
[]
[null,"Suplementos de vitamina A administados a MEL",null,"Número total de mujeres embarazadas y  lactantes que han recibido  Vit-A durante el (período de tiempo)",{"$f":"SUM(E262:E263)","v":0},null,"Cálculo automático MEL que recibieron vit-A"]
[null,null,null,"Embarazadas",null,null,"% mujeres embarazadas",{"$f":"IF(ISBLANK(E262),\"\",E262/E261)","v":""}]
[null,null,null,"Lactantes",null,null,"% mujeres lactantes",{"$f":"IF(ISBLANK(E263),\"\",E263/E261)","v":""}]
[]
[null,"Suplementos de vitamina A administrados a personas mayores (definición de país de \"persona mayor\" o ≥ 60años)",null,"Número total de personas mayores que han recibido  Vit-A durante el (período de tiempo)",{"$f":"SUM(E266:E267)","v":0},null,"Cálculo automático personas mayores que recibieron vit-A"]
[null,null,null,"Hombres mayores",null,null,"% hombres mayores",{"$f":"IF(ISBLANK(E266),\"\",E266/E265)","v":""}]
[null,null,null,"Mujeres mayores",null,null,"% mujeres mayores",{"$f":"IF(ISBLANK(E267),\"\",E267/E265)","v":""}]
[]
[null,"Micronutrientes en Polvo (MNP) administrados a  niños/as de 6-24 meses (polvos)",null,"Número total de niños/as 6-24meses que han recibido  MNP durante el (período de tiempo)",{"$f":"SUM(E270:E271)","v":0},null,"Cálculo automático niños/as  6-24 meses que recibieron MNP"]
[null,null,null,"Niños",null,null,"% niños ",{"$f":"IF(ISBLANK(E270),\"\",E270/E269)","v":""}]
[null,null,null,"Niñas",null,null,"% niñas",{"$f":"IF(ISBLANK(E271),\"\",E271/E269)","v":""}]
[]
[null,"Comprimidos de micronutrientes (MNT) administrados a MEL",null,"Número total de mujeres embarazadas y lactantes que han recibido  MNT durante el (período de tiempo)"]
[]
[null,"Micronutrientes en Polvo / Espolvorear (MNP) dado a las personas mayores ",null,"Número total de personas mayores que han recibido  MNP durante el (período de tiempo)",{"$f":"SUM(E276:E277)","v":0},null,"Cálculo automático personas mayores que recibieron MNP"]
[null,null,null,"Hombres mayores",null,null,"% hombres mayores",{"$f":"IF(ISBLANK(E276),\"\",E276/E275)","v":""}]
[null,null,null,"Mujeres mayores",null,null,"% mujeres mayores",{"$f":"IF(ISBLANK(E277),\"\",E277/E275)","v":""}]
[]
[null,"Hierro y ácido fólico administrado a MEL",null,"Número total de mujeres embarazadas y lactantes que han recibido hierro y ácido fólico durante el (período de tiempo)"]
[]
[null,"Hierro y ácido fólico administrado a  personas mayores",null,"Número total de personas mayores que han recibido hierro y ácido fólico durante el (período de tiempo) ",{"$f":"SUM(E282,E283)","v":0},null,"Cálculo automático personas mayores suplementadas con hierro y ácido fólico"]
[null,null,null,"Hombres mayores",null,null,"% hombres mayores",{"$f":"IF(ISBLANK(E282),\"\",E282/E281)","v":""}]
[null,null,null,"Mujeres mayores",null,null,"% mujeres mayores",{"$f":"IF(ISBLANK(E283),\"\",E283/E281)","v":""}]
[]
["Desparasitación"]
[null,"Nº de niños de 12-59 meses desparasitados",null,"Número total de niños 12-59meses desparasitados durante el (período de tiempo)",{"$f":"SUM(E287:E288)","v":0},null," Cálculo automático niños/as 12-59meses desparasitados"]
[null,null,null,"Niños ",null,null,"% niños ",{"$f":"IF(ISBLANK(E287),\"\",E287/E286)","v":""}]
[null,null,null,"Niñas",null,null,"% niñas",{"$f":"IF(ISBLANK(E288),\"\",E288/E286)","v":""}]
[]
[null,"Número de mujeres embarazadas  y lactantes desparasitadas",null,"Número total de mujeres embarazadas y lactantes desparasitadas durante el (período de tiempo)"]
[]
[null,"Número de personas mayores desparasitadas",null,"Número total de personas mayores desparasitadas durante el (período de tiempo)",{"$f":"SUM(E293:E294)","v":0},null,"Cálculo automático personas mayores desparasitadas"]
[null,null,null,"Hombres mayores",null,null,"% hombres mayores",{"$f":"IF(ISBLANK(E293),\"\",E293/E292)","v":""}]
[null,null,null,"Mujeres mayores",null,null,"% mujeres mayores",{"$f":"IF(ISBLANK(E294),\"\",E294/E292)","v":""}]
[]
["Alimentación de lactantes y niños pequeños"]
[null,"Sesiones individuales (uno a uno)","Mujeres embarazadas que asistieron a sesiones de asesoramiento individual"]
[null,null,"Mujeres lactantes y cuidadores de niños/as <6 meses que asistieron a sesiones de asesoramiento individual",null,null,null,"Cálculo automático MEL y cuidadores que asistieron a la orientación individual"]
[null,null,"Mujeres lactantes y cuidadores de niños/as de 6-24 meses que asistieron a sesiones de asesoramiento individual",null,null,null,"Total",{"$f":"IF(ISBLANK(E298),\"\",SUM(E297:E299))","v":""}]
[null,"ALNP asesoramiento - Las sesiones de grupo","Número de grupos de ALNP (incluidos los grupos de apoyo de madres) en funcionamiento durante el (período de tiempo)"]
[null,null,"Número total de sesiones de grupo (incluidos los grupos de apoyo de madres) mantenidos en el (período de tiempo)"]
[null,null,"Nuevas admisiones de mujeres embarazadas y lactantes y cuidadores en grupos ALNP (incluidos los grupos de apoyo de madres) durante el (período de tiempo)",null,{"$f":"SUM(E303,E304)","v":0},null,"Cálculo automático MEL y cuidadores admitidos en grupos ALNP"]
[null,null,null,"Hombres",null,null,"% hombres ",{"$f":"IF(ISBLANK(E303),\"\",E303/E302)","v":""}]
[null,null,null,"Mujeres",null,null,"% mujeres",{"$f":"IF(ISBLANK(E303),\"\",E304/E302)","v":""}]
[null,null,null,"Número total de mujeres embarazadas y lactantes y cuidadores que asistieron a grupos de ALNP (incluidos los grupos de apoyo de madres) durante el (período de tiempo)",{"$f":"SUM(E306,E307)","v":0}]
[null,null,null,"Hombres"]
[null,null,"Mujeres"]
[null,"alimentación artificial","Número total de lactantes de 0-6 meses que requieren alimentación artificial que han recibido BMS y apoyo apropiado durante el (período de tiempo)",null,null,null,"Nota: las sesiones de asesoramiento ALNP incluyen el inicio temprano de la lactancia materna exclusiva, el contacto piel a piel, relaction, alimentación complementaria, los suplementos de micronutrientes, el VIH y la alimentación infantil, el uso apropiado de BMS, etc ..."]
[null,null,"Número total de lactantes de 6-24 meses de edad que requieren alimentación artificial que han recibido BMS y apoyo apropiado durante el (período de tiempo)"]
[null,"La lactancia materna esquinas / espacios amigos de los niños","Número total de rincones para la lactancia materna / espacios que promueven la lactancia materna abiertos durante el (período de tiempo)"]
[null,null,"Número de rincones para la lactancia materna / espacios que promueven la lactancia materna en funcionamiento durante el (período de tiempo)"]
[null,null,"Nuevas admisiones de madres lactantes durante el (período de tiempo)"]
[null,null,"Número total de mujeres lactantes que asistieron a los rincones para la lactancia materna / espacios que promueven la lactancia materna durante el (período de tiempo)"]
[]
["Desarrollo de capacidades"]
[null,null,"Type/Topic of Training"]
[null,"Entrenamiento en MUAC,  detección, derivación y movilización de la comunidad",null,"Tipo de formación",null,null,"Nº de formaciones"]
[null,null,null,"Categoría principal del personal formado",null,null,"De qué agencia / s"]
[null,null,null,"Hombres",null,null,"Número de días"]
[null,null,null,"Mujeres"]
[null,null,null,"Comentarios"]
[]
[null,null,"Type/Topic of Training",null,null,null,"Automatic calculations Training 2"]
[null,"Formación sobre la gestión integrada de la desnutrición aguda (IMAM): SAM / TF (pacientes hospitalizados)",null,"Tipo de formación",null,null,"Nº de formaciones"]
[null,null,null,"Categoría principal del personal formado",null,null,"De qué agencia / s"]
[null,null,null,"Hombres",null,null,"Número de días"]
[null,null,null,"Mujeres"]
[null,null,null,"Comentarios"]
[]
[null,null,"Type/Topic of Training",null,null,null,"Automatic calculations Training 3"]
[null,"Formación sobre la gestión integrada de la desnutrición aguda (IMAM): SAM / TF (pacientes ambulatorios)",null,"Tipo de formación",null,null,"Nº de formaciones"]
[null,null,null,"Categoría principal del personal formado",null,null,"De qué agencia / s"]
[null,null,null,"Hombres",null,null,"Número de días"]
[null,null,null,"Mujeres"]
[null,null,null,"Comentarios"]
[]
[null,null,"Type/Topic of Training",null,null,null,"Automatic calculations Training 4"]
[null,"Formación sobre la gestión integrada de la desnutrición aguda (IMAM): MAM / TSFP",null,"Tipo de formación",null,null,"Nº de formaciones"]
[null,null,null,"Categoría principal del personal formado",null,null,"De qué agencia / s"]
[null,null,null,"Hombres",null,null,"Número de días"]
[null,null,null,"Mujeres"]
[null,null,null,"Comentarios"]
[]
[null,"Formación sobre alimentación infantil",null,"Tipo de formación",null,null,"Nº de formaciones"]
[null,null,null,"Categoría principal del personal capacitado",null,null,"De qué agencia / s"]
[null,null,null,"Hombres",null,null,"Número de días"]
[null,null,null,"Mujeres"]
[null,null,null,"Comentarios"]
[]
[null,"Formación sobre encuesta de SMART",null,"Tipo de formación",null,null,"Nº de formaciones"]
[null,null,null,"Categoría principal del personal formado",null,null,"De qué agencia / s"]
[null,null,null,"Hombres",null,null,"Número de días"]
[null,null,null,"Mujeres"]
[null,null,null,"Comentarios"]
[]
[null,"Formación de preparación y respuesta a emergencias",null,"Tipo de formación",null,null,"Nº de formaciones"]
[null,null,null,"Categoría principal del personal formado",null,null,"De qué agencia / s"]
[null,null,null,"Hombres",null,null,"Número de días"]
[null,null,null,"Mujeres"]
[null,null,null,"Comentarios"]
[]
[null,"Formación sobre el enfoque de clústeres",null,"Tipo de formación",null,null,"Nº de formaciones"]
[null,null,null,"Categoría principal del personal formado",null,null,"De qué agencia / s"]
[null,null,null,"Hombres",null,null,"Número de días"]
[null,null,null,"Mujeres"]
[null,null,null,"Comentarios"]
[]
["Comentarios"]
[null,"Cualquier comentario sobre programas, lagunas o preocupaciones"]

{"sheet":"Site6","index":7,"n_rows":369,"n_cols":26,"rows_kept":369,"cut":false,"hidden":false,"merged":[[368,1,385,1],[368,2,385,8],[355,1,359,2],[355,6,355,7],[356,6,356,7],[357,6,357,7],[359,4,359,8],[361,1,365,2],[361,6,361,7],[362,6,362,7],[363,6,363,7],[365,4,365,8],[343,1,347,2],[343,6,343,7],[344,6,344,7],[345,6,345,7],[347,4,347,8],[349,1,353,2],[349,6,349,7],[350,6,350,7],[351,6,351,7],[353,4,353,8],[336,2,336,3],[336,6,336,7],[337,1,341,2],[337,6,337,7],[338,6,338,7],[339,6,339,7],[341,4,341,8],[329,2,329,3],[329,6,329,7],[330,1,334,2],[330,6,330,7],[331,6,331,7],[332,6,332,7],[334,4,334,8],[322,2,322,3],[322,6,322,7],[323,1,327,2],[323,6,323,7],[324,6,324,7],[325,6,325,7],[327,4,327,8],[314,0,314,3],[315,2,315,3],[316,1,320,2],[316,6,316,7],[317,6,317,7],[318,6,318,7],[320,4,320,8],[307,1,308,1],[307,2,307,3],[307,6,308,8],[308,2,308,3],[309,1,312,1],[309,2,309,3],[310,2,310,3],[311,2,311,3],[312,2,312,3],[299,1,306,1],[299,2,299,3],[300,2,300,3],[301,2,301,3],[301,6,301,7],[306,2,306,3],[295,0,295,3],[296,1,298,1],[296,2,296,3],[297,2,297,3],[297,6,297,7],[298,2,298,3],[284,0,284,3],[285,1,287,2],[285,6,285,7],[289,1,289,2],[291,1,293,2],[291,6,291,7],[272,1,272,2],[274,1,276,2],[274,6,274,7],[278,1,278,2],[280,1,282,2],[280,6,280,7],[260,1,262,2],[260,6,260,7],[264,1,266,2],[264,6,264,7],[268,1,270,2],[268,6,268,7],[248,2,248,3],[249,2,249,3],[250,2,250,3],[252,0,252,3],[253,1,258,2],[253,6,253,7],[256,6,256,7],[239,2,239,3],[240,2,240,3],[242,1,248,1],[242,2,242,3],[242,6,242,7],[243,2,243,3],[244,2,244,3],[245,2,245,3],[246,2,246,3],[247,2,247,3],[233,2,233,3],[234,2,234,3],[236,1,238,1],[236,2,236,3],[236,6,236,7],[237,2,237,3],[223,2,223,3],[224,2,224,3],[226,1,234,1],[226,2,226,3],[226,6,226,7],[227,2,227,3],[228,2,228,3],[229,2,229,3],[230,2,230,3],[231,2,231,3],[215,0,215,3],[216,1,224,1],[216,2,216,3],[216,6,216,7],[217,2,217,3],[218,2,218,3],[219,2,219,3],[220,2,220,3],[221,2,221,3],[222,2,222,3],[193,1,213,1],[193,2,193,3],[194,2,194,3],[194,6,194,7],[195,2,198,2],[199,2,210,2],[211,2,211,3],[212,2,212,3],[213,2,213,3],[180,1,191,1],[180,2,180,3],[180,6,180,7],[181,2,182,2],[183,2,188,2],[189,2,189,3],[190,2,190,3],[191,2,191,3],[157,0,157,3],[158,1,178,1],[158,2,158,3],[158,6,158,7],[159,2,159,3],[160,2,163,2],[164,2,175,2],[176,2,176,3],[177,2,177,3],[178,2,178,3],[135,1,136,1],[135,2,135,3],[136,2,136,3],[138,1,155,1],[138,2,138,3],[138,6,138,7],[139,2,139,3],[140,2,143,2],[144,2,155,2],[116,0,116,3],[117,1,134,1],[117,2,117,3],[117,6,117,7],[118,2,118,3],[119,2,122,2],[123,2,134,2],[81,1,96,1],[81,2,81,3],[81,6,81,7],[87,2,96,2],[98,1,115,1],[98,2,98,3],[98,6,98,7],[99,2,99,3],[100,2,103,2],[104,2,115,2],[52,1,58,1],[52,2,56,2],[61,0,61,3],[62,1,79,1],[62,2,62,3],[62,6,62,7],[63,2,63,3],[64,2,67,2],[68,2,79,2],[28,1,34,1],[28,2,32,2],[37,1,42,1],[37,2,40,2],[37,6,37,7],[44,1,50,1],[44,2,48,2],[44,6,44,7],[15,1,15,3],[17,1,17,3],[19,0,19,3],[20,1,26,1],[20,2,24,2],[20,6,20,7],[8,1,8,3],[9,1,9,3],[10,1,10,3],[13,1,13,3],[13,6,13,8],[14,1,14,3],[0,0,0,3],[1,0,1,2],[2,1,2,3],[5,1,5,3],[6,1,6,3],[7,1,7,3]]}
["Formulario para la presentación de informes por los socios",null,null,null,null,null,null,null,null,null,null,null,"Localidad","Nilo Alto","Jonglei","Unidad","Warrap","Bahr el Ghazal norte","Bahr el Ghazal Occidental","Lagos","Ecuatoria occidental","Equatoria central","Equatoria Oriental","Mes","Temas de la formación","Tipo de formación"]
["Información general",null,null,null,null,null,null,null,null,null,null,null,"Nilo Alto","Renk","Fangak","Pariang","Abyei","Aweil_Norte","Raga","Cueibet","Tambura","Terekeka","Torit","Enero","Examen con MUAC y derivaciones","Nuevo"]
[null,"Acrónimo de la agencia",null,null,null,null,null,null,null,null,null,null,"Jonglei","Manyo","Canal_Khor_Fulus","Abiemnhom","Twic","Aweil_este","Jur_River","Rumbek_Norte","Nagero","Juba","Lapon","Febrero","Protocolos para pacientes ambulatorios","Repaso"]
[null,null,null,"Nombre de la agencia",{"$f":"VLOOKUP(E3,Lists!A2:B200,2,FALSE)","v":{"$error":"#N/A"}}]
[null,null,null,"Semana del informe "]
[null,"Mes del informe:",null,null,null,null,null,null,null,null,null,null,"Unidad","Fashoda","Ayod","Mayom","Gogrial_occidental","Aweil_Sur","Wau","Rumbek_Centro","Nzara","Lainya","Kapoeta_Norte","Marzo","Protocolos para pacientes hospitalizados"]
[null,"Año del informe",null,null,null,null," ",null,null,null,null,null,"Warrap","Melut","Duk","Rubkona","Gogrial_este","Aweil_oeste",null,"Wulu","Ezo","Yei","Kapoeta_este","Abril","Protocolos para programas de alimentación suplementaria"]
[null,"Fecha de presentación del informe (DD / MM / AA)",null,null,null,null,null,null,null,null,null,null,"Bahr_el_Ghazal_norte","Maban","Uror","Guit","Tonj_Norte","Aweil_Centro",null,"Rumbek_este","Yambio","Morobo","Kapoeta_Sur","Mayo","Movilización comunitaria"]
[null,"Nivel administrativo 1",null,"Nivel administrativo 1",null,null,"P-Code Nivel Admin 1",{"$f":"INDEX(admin1pcode,MATCH(E9,admin1,0))","v":{"$error":"#N/A"}}]
[null,"Nivel administrativo 2",null,null,null,null,"P-Code nivel admin 2",{"$f":"INDEX(admin2pcode,MATCH(E10,admin2,0))","v":{"$error":"#N/A"}},null,null,null,null,"Lagos","Luakpiny_Nasir","Akobo","Leer","Tonj_Sur",null,null,"Yirol_este","Maridi",null,"Ikotos","Julio","Otros (por favor, especificar en la sección de comentarios)"]
[null,"Nivel administrativo 3",null,null,null,null,"P-Code nivel Admin 3",{"$f":"INDEX(admin3pcode,MATCH(E11,admin3,0))","v":{"$error":"#N/A"}},null,null,null,null,"Ecuatoria Occidental","Longochuk","Pochalla","Mayendit",null,null,null,"Awerial","Mvolo",null,"Magwi","Agosto"]
[null,null,null,"Nivel administrativo 4",null,null,"P-Code nivel admin 4",{"$f":"INDEX(admin4pcode,MATCH(E12,admin4,0))","v":{"$error":"#N/A"}}]
[null,null,null,"Nivel administrativo 5",null,null,"P-Code nivel administrativo 5",{"$f":"INDEX(admin5pcode,MATCH(E13,admin5,0))","v":{"$error":"#N/A"}}]
[null,"¿Se ha utilizado criterios expandidos de admisión ?",null,null,null,null,null,null,null,null,null,null,"Ecuatoria Central","Ulang","Pibor","Panyijar",null,"N/A","Operacional","No operacional","Mundri_oeste",null,null,"Septiembre"]
[null,"Centros de estabilización (SC)",null,null,null,null,"Estado del sitio",null,null,null,null,null,"Ecuatoria oriental","Baliet","Twic_este",null,null,null,null,"Sí","No",null,null,"Octubre"]
[null,"Pacientes ambulatorios centros terapéuticos (OTP)",null,null,null,null,"Estado del sitio",null,null,null,null,null,null,"Malakal","Bor_Sur",null,null,null,null,null,null,null,null,"Noviembre"]
[null,null,null,"Sitios de tratamiento a nivel comunitario (BSFPs)",null,null,"Estado del sitio",null,null,null,null,null,null,"Panyikang",null,null,null,null,null,null,null,null,null,"Diciembre"]
[null,"Sitios de alimentación suplementaria (TSFPs)",null,null,null,null,"Estado del sitio"]
[]
["Diagnóstico y derivaciones"]
[null,"Niños 6-59 meses","Revisión \n(mediciones MUAC)","Número examinados",{"$f":"SUM(E22:E25)","v":0},null,"Cálculo automático exámen y derivaciones"]
[null,null,null,"Nº de niños con edema bilateral",null,null,"No. total. (Niños+Niñas) examinados",{"$f":"IF(ISBLANK(E21),(IF(ISBLANK(E29),\"\",E21+E29)),E21+E29)","v":0}]
[null,null,null,"Nº de niños con MUAC rojo (<11.5 cm)",null,null,"No. total. (Niños+niñas) edema",{"$f":"IF(ISBLANK(E22),(IF(ISBLANK(E30),\"\",E22+E30)),E22+E30)","v":""}]
[null,null,null,"Nº de niños 6-59m con MUAC amarillo (≥ 11,5 cm a <12,5 cm)",null,null,"No. total. (Niños+Niñas) Rojo",{"$f":"IF(ISBLANK(E23),(IF(ISBLANK(E31),\"\",E23+E31)),E23+E31)","v":""}]
[null,null,null,"Nº de niños 6-59m con MUAC verde (≥ 12,5 cm)",null,null,"No. total. (Niños+Niñas) Amarillo",""]
[null,null,"Derivaciones","Nº de niños 6-59m derivados a OTP",null,null,"No. total. (Niños+Niñas) Verde",""]
[null,null,null,"Nº de niños 6-59m derivados a TSFP",null,null,"No. total. (Niños+Niñas) derivados a OTP",{"$f":"IF(ISBLANK(E26),(IF(ISBLANK(E34),\"\",E26+E34)),E26+E34)","v":""}]
[null,null,null,null,null,null,"No. total. (Niños+ niñas) derivados a TSFP",""]
[null,"Niñas 6-59 meses","Revisión \n(mediciones MUAC)","Número examinadas",{"$f":"SUM(E30:E33)","v":0},null,"% de niños+niñas con edema",{"$f":"IF(ISBLANK(E21),(IF(ISBLANK(E29),\"\",H23/H22)),H23/H22)","v":{"$error":"#VALUE!"}}]
[null,null,null,"Nº de niñas con edema bilateral",null,null,"% de (Niños+Niñas) Rojo",{"$f":"IF(ISBLANK(E21),(IF(ISBLANK(E29),\"\",H24/H22)),H24/H22)","v":{"$error":"#VALUE!"}}]
[null,null,null,"Nº de niñas 6-59m con MUAC rojo (<11.5 cm)",null,null,"(% De los muchachos de las muchachas  ) Amarillo",{"$f":"IF(ISBLANK(E21),(IF(ISBLANK(E29),\"\",H25/H22)),H25/H22)","v":{"$error":"#VALUE!"}}]
[null,null,null,"Nº de niñas 6-59m con MUAC amarillo (≥ 11,5 cm a <12,5 cm)",null,null,"(% De los muchachos de las muchachas  ) verde",{"$f":"IF(ISBLANK(E21),(IF(ISBLANK(E29),\"\",H26/H22)),H26/H22)","v":{"$error":"#VALUE!"}}]
[null,null,null,"Nº de niñas 6-59m con MUAC verde (≥ 12,5 cm)",null,null,"(% De los muchachos   Girls) se refirió a la PTF",{"$f":"IF(ISBLANK(E21),(IF(ISBLANK(E29),\"\",H27/H22)),H27/H22)","v":{"$error":"#VALUE!"}}]
[null,null,"Derivaciones","Nº de Niñas 6-59m derivadas a OTP",null,null,"% De los muchachos ( ) Las niñas que se refiere TSFP",{"$f":"IF(ISBLANK(E21),(IF(ISBLANK(E29),\"\",H28/H22)),H28/H22)","v":{"$error":"#VALUE!"}}]
[null,null,null,"Nº de niñas 6-59m derivadas a TSFP"]
[]
[]
[null,"Mujeres embarazadas y lactantes","Revisión \n(mediciones MUAC)","Número examinadas",{"$f":"SUM(E39:E41)","v":0},null,"Cálculos automáticos MEL"]
[null,null,null,"Número de mujeres embarazadas y lactantes con MUAC <21.0 cm",null,null,"% MUAC <21.0 cm",{"$f":"IF(ISBLANK(E39),\"\",E39/E38)","v":""}]
[null,null,null,"Número de mujeres embarazadas y lactantes con MUAC ≥21.0 cm a 23.0 cm <",null,null,"MUAC% ≥21.0 cm a <23,0 cm",{"$f":"IF(ISBLANK(E40),\"\",E40/E38)","v":""}]
[null,null,null,"Número de mujeres embarazadas y lactantes con MUAC ≥23.0 cm",null,null,"MUAC% ≥23.0 cm",{"$f":"IF(ISBLANK(E41),\"\",E41/E38)","v":""}]
[null,null,"Derivaciones","Número de mujeres embarazadas y lactantes derivadas a OTP",null,null,"%  mujeres embarzadas y lactantes derivadas a OTP",{"$f":"IF(ISBLANK(E42),\"\",E42/E38)","v":""}]
[null,null,null,"Número de mujeres embarazadas y lactantes derivadas a TSFP",null,null,"% mujeres embarazadas  y lactantes derivadas a TSFP",{"$f":"IF(ISBLANK(E43),\"\",E43/E38)","v":""}]
[]
[null,"Personas mayores\nhombres\n(definición de país de \"persona mayor\" o ≥ 60años)","Revisión \n(mediciones MUAC)","Número examinados: Hombres",{"$f":"SUM(E46:E49)","v":0},null,"Cálculo automático exámen y derivaciones"]
[null,null,null,"Nº de hombres mayoures con edema bilateral",null,null,"No. total. (Hombres mayores+mujeres mayores) examinados",{"$f":"IF(ISBLANK(E45),(IF(ISBLANK(E53),\"\",E45+E53)),E45+E53)","v":0}]
[null,null,null,"Nº de hombres mayores con MUAC <18,5 cm",null,null,"No. total. (Hombres mayores+mujers mayores) edema",{"$f":"IF(ISBLANK(E46),(IF(ISBLANK(E54),\"\",E46+E54)),E46+E54)","v":""}]
[null,null,null,"Nº de hombres mayoures con MUAC ≥18.5 cm a 21.0 cm <",null,null,"No. total. (hombres mayores+mujeres mayores ) con MUAC <18,5 cm",""]
[null,null,null,"Nº de hombres mayores con MUAC ≥21.0 cm",null,null,"No. total. (hombres mayores+mujeres mayores) con MUAC ≥18.5 cm a <21,0 cm",""]
[null,null,"Derivaciones","Nº de hombres mayores derivados a OTP",null,null,"Nº total de (hombres mayores+mujeres mayores) con MUAC ≥21.0 cm",""]
[null,null,null,"Nº de hombres mayores derivados a TSFP",null,null,"No. total. (hombres mayores+mujeres mayores) derivados a OTP",""]
[null,null,null,null,null,null,"No. total. ((hombres mayores+mujeres mayores) derivados a TSFP",""]
[null,"Personas mayores\nMujeres\n (definición de país de \"persona mayor\" o ≥ 60y)","Revisión \n(mediciones MUAC)","Número examinadas: Mujeres",{"$f":"SUM(E54:E57)","v":0},null,"% De edema (hombres mayores+mujeres mayores)",{"$f":"IF(ISBLANK(E45),(IF(ISBLANK(E53),\"\",H47/H46)),H47/H46)","v":{"$error":"#VALUE!"}}]
[null,null,null,"Nº mujeres mayores con edema bilateral",null,null,"% De (  hombres mayores+mujeres mayores) con MUAC <18,5 cm",{"$f":"IF(ISBLANK(E45),(IF(ISBLANK(E53),\"\",H48/H46)),H48/H46)","v":{"$error":"#VALUE!"}}]
[null,null,null,"Nº mujeres mayores con MUAC <18,5 cm",null,null,"% De ( hombres mayores+mujeres mayores) con MUAC ≥18.5 cm a <21.0 cm ",{"$f":"IF(ISBLANK(E45),(IF(ISBLANK(E53),\"\",H49/H46)),H49/H46)","v":{"$error":"#VALUE!"}}]
[null,null,null,"Nº  mujeres mayores con MUAC ≥18.5 cm a <21.0 cm ",null,null,"% De ( hombres mayores+mujeres mayores) con MUAC ≥21.0 cm",{"$f":"IF(ISBLANK(E45),(IF(ISBLANK(E53),\"\",H50/H46)),H50/H46)","v":{"$error":"#VALUE!"}}]
[null,null,null,"Nº mujeres mayoures con MUAC ≥21.0 cm",null,null,"% De (hombres mayores+mujeres mayores) derivados a OTP",{"$f":"IF(ISBLANK(E45),(IF(ISBLANK(E53),\"\",H51/H46)),H51/H46)","v":{"$error":"#VALUE!"}}]
[null,null,"Derivaciones","Nº mujeres mayores derivadas a OTP",null,null,"% De (hombres mayores+mujeres mayores) derivados a TSFP",{"$f":"IF(ISBLANK(E45),(IF(ISBLANK(E53),\"\",H52/H46)),H52/H46)","v":{"$error":"#VALUE!"}}]
[null,null,null,"Nº mujeres mayores derivadas a TSFP"]
[]
[]
["Gestión de la desnutrición aguda grave, para pacientes hospitalizados"]
[null,"Niños 6-59 meses","Final total del último período de tiempo: Niños (A1)",null,null,null,"Cálculo automático Niños/as 6-59m"]
[null,null,"Final total del último período de tiempo: Niñas (A2)",null,null,null,"Total admisión niños (D = B   C)",{"$f":"SUM(E65,E67)","v":0}]
[null,null,"categorías de entrada","Nuevas admisiones: niños (B1)",null,null,"Total admisión niñas (D = B   C)",{"$f":"SUM(E66,E68)","v":0}]
[null,null,null,"Nuevas admisiones: niñas (B2)",null,null,"Total Salidas Boys (H = E   F   G)",{"$f":"SUM(E69+E71+E73+E75+E77+E79)","v":0}]
[null,null,null,"Casos antiguos (derivados de OTP, personas que retoman el tratamiento, translados de otro centro de estabilización) : Niños (C1)",null,null,"Total Salidas niñas (H = E   F   G)",{"$f":"SUM(E70+E72+E74+E76+E78+E80)","v":0}]
[null,null,null,"Casos antiguos (derivados de OTP, personas que retoman el tratamiento, translados de otro centro de estabilización): Niñas (C2)",null,null,"Total al final del (periodo de tiempo) Niños (I = A   DH)",{"$f":"E63+H64-H66","v":0}]
[null,null,"categorías de salida","Pacientes hospitalizados estabilizados y referidos a OTP: niños (E1)",null,null,"Total al final del (periodo de tiempo) Niñas (I = A   DH)",{"$f":"SUM(E64+H65-H67)","v":0}]
[null,null,null,"Pacientes hospitalizados estabilizados y referidos a OTP: niñas (E2)",null,null,"tasa de altas por curación",{"$f":"IF(ISBLANK(E70),\"\",(E71+E72)/(H73))","v":""},"(Min  Normas ESFERA. > 75%)"]
[null,null,null,"Alta por curación (casos especiales que terminan tratamiento): niños (F1)",null,null,"tasa de altas por muerte",{"$f":"IF(ISBLANK(E71),\"\",(E73 + E74)/(H73))","v":""},"(Min  Normas ESFERA.  <10%)"]
[null,null,null,"Alta por curación (casos especiales que terminan tratamiento): niñas (F2)",null,null,"tasa de alta por abandono",{"$f":"IF(ISBLANK(E73),\"\",(E75 + E76)/(H73))","v":""},"(Min  Normas ESFERA. <15%)"]
[null,null,null,"Altas por muerte: niños (F3)",null,null,"salidas totales (J = E   F   G)",{"$f":"IF(ISBLANK(E69:E80),\"\",SUM(H66,H67))","v":""}]
[null,null,null,"Altas por muerte: niñas (F4)",null,null,"Total al final del (período de tiempo) (K = A   DJ)",{"$f":"IF(ISBLANK(E63),\"\",E63+E64+H64+H65-H73)","v":""}]
[null,null,null,"Altas por abandono: niños (F5)"]
[null,null,null,"Altas por abandono: niñas (F6)"]
[null,null,null,"Altas sin curación: niños (F7)"]
[null,null,null,"Altas sin curación: niñas (F8)"]
[null,null,null,"Otras transferencias: niños (G1)"]
[null,null,null,"Otras transferencias: niñas (G2)"]
[]
[null,"Niños <6 meses","Final total del útimo (período de tiempo): niños (A1)",null,null,null,"Cálculo automático niños/as <6m"]
[null,null,null,"Final total del último (período de tiempo): niñas (A2)",null,null,"Total admisiones niños (D = B   C)",{"$f":"SUM(E84,E86)","v":0}]
[null,null,"categorías de entrada","Nuevas admisiones: niños (B1)",null,null,"Total admisiones niñas (D = B   C)",{"$f":"SUM(E85,E87)","v":0}]
[null,null,null,"Nuevas admisiones: niñas (B2)",null,null," Total salidas niños (H = F   G)",{"$f":"SUM(E88+E90+E92+E94+E96+E98)","v":0}]
[null,null,null,"Casos antiguos (derivados de OTP, personas que retoman el tratamiento, translados de otro centro de estabilización) : Niños (C1)",null,null,"Total salidas niñas (H = F   G)",{"$f":"SUM(E89+E91+E93+E95+E97)","v":0}]
[null,null,null,"Casos antiguos (derivados de OTP, personas que retoman el tratamiento, translados de otro centro de estabilización): Niñas (C2)",null,null,"Total niños al final del (periodo de tiempo) (I = A   DH)",{"$f":"E82+H83-H85","v":0}]
[null,null,"categorías de salida","Alta por curación (casos especiales que terminan tratamiento): niños (F1)",null,null,"Total niñas al final del (periodo de tiempo) (I = A   DH)",{"$f":"SUM(E83+H84-H86)","v":0}]
[null,null,null,"Alta por curación (casos especiales que terminan tratamiento): niñas (F2)",null,null,"tasas altas por curación",{"$f":"IF(ISBLANK(E89),\"\",(E89+E88)/(H92))","v":""},"(Min  Normas ESFERA. > 75%)",null,null,null,0.13043478260869565]
[null,null,null,"Altas por muerte: niños (F3)",null,null,"tasa alta por muerte",{"$f":"IF(ISBLANK(E90),\"\",(E90 + E91)/(H92))","v":""},"(Min  Normas ESFERA. <10%)"]
[null,null,null,"Altas por muerte: niñas (F4)",null,null,"tasa alta por abandono",{"$f":"IF(ISBLANK(E92),\"\",(E92 + E93)/(H92))","v":""},"(Min  Normas ESFERA.  <15%)"]
[null,null,null,"Altas por abandono: niños (F5)",null,null,"salidas totales (J = F   G)",{"$f":"IF(ISBLANK(E88:F99),\"\",SUM(H85,H86))","v":0}]
[null,null,null,"Altas por abandono: niñas (F6)",null,null,"Total al final del (período de tiempo) (K = A   DJ)",{"$f":"IF(ISBLANK(E82),\"\",E82+E83+H83+H84-H92)","v":""}]
[null,null,null,"Altas sin curación: niños (F7)"]
[null,null,null,"Altas sin curación: niñas (F8)"]
[null,null,null,"Otras transferencias: niños (G1)"]
[null,null,null,"Otras transferencias: niñas (G2)"]
[]
[null,"Personas mayores (definición de país de \"persona mayor\" o  ≥60años)","Final total del último (período de tiempo): hombres mayores (A1)",null,null,null,"Cálculo automático Personas Mayores"]
[null,null,"Final total del último (período de tiempo): mujeres mayores (A2)",null,null,null,"admisiones totales hombres mayores (D = B   C)",{"$f":"SUM(E101+E103)","v":0}]
[null,null,"categorías de entrada","Nuevas admisiones: Hombres Mayores (B1)",null,null,"Admisiones totales mujeres mayores (D = B   C)",{"$f":"SUM(E102+E104)","v":0}]
[null,null,null,"Nuevas admisiones: mujeres mayores (B2)",null,null,"salidas totales hombres mayores (H = E   F   G)",{"$f":"E105+E107+E109+E111+E113+E115","v":0}]
[null,null,null,"Casos antiguos (derivados de OTP, personas que retoman el tratamiento, translados de otro centro de estabilización): hombres mayores (C1)",null,null,"salidas totales Mayor femenino (H = E   F   G)",{"$f":"E106+E108+E110+E112+E114+E116","v":0}]
[null,null,null,"Casos antiguos (derivados de OTP, personas que retoman el tratamiento, translados de otro centro de estabilización): mujeres mayores (C2)",null,null,"Total al final del (periodo de tiempo) varones de más edad (I = A   DH)",{"$f":"IF(ISBLANK(E99),\"\",E99+H100-H102)","v":""}]
[null,null,"categorías de salida","Pacientes hospitalizados estabilizados y referidos a OTP: hombres mayores (E1)",null,null,"Total al final del (periodo de tiempo) Mayor Femenino (I = A   DH)",{"$f":"IF(ISBLANK(E100),\"\",E100+H101-H103)","v":""}]
[null,null,null,"Pacientes hospitalizados estabilizados y referidos a OTP: mujeres mayores (E2)",null,null,"tasas curados descargadas",{"$f":"IF(ISBLANK(E106),\"\",(E107+E108)/(H109))","v":""},"(Min  Normas ESFERA. > 75%)"]
[null,null,null,"Alta por curación (casos especiales que terminan tratamiento): hombres mayores (F1)",null,null,"tasa muerto descargada",{"$f":"IF(ISBLANK(E107),\"\",(E109 + E110)/(H109))","v":""},"(Min  Normas ESFERA. <10%)"]
[null,null,null,"Alta por curación (casos especiales que terminan tratamiento): mujeres mayores (F2)",null,null,"tasa omitido descargada",{"$f":"IF(ISBLANK(E109),\"\",(E111 + E111)/(H103+H102))","v":""},"(Min  Normas ESFERA. <15%)"]
[null,null,null,"Altas por muerte: hombres mayores (F3)",null,null,"salidas totales (J = E   F   G)",{"$f":"IF(ISBLANK(E105:F116),\"\",SUM(H102,H103))","v":0}]
[null,null,null,"Altas por muerte: mujeres mayores (F4)",null,null,"Total al final del (período de tiempo) (K = A   DJ)",{"$f":"IF(ISBLANK(E99),\"\",E99+E100+H100+H101-H109)","v":""}]
[null,null,null,"Altas por abandono:hombres mayores (F5)"]
[null,null,null,"Altas por abandono: mujeres mayores (F6)"]
[null,null,null,"Altas sin curación: hombres mayores (F7)"]
[null,null,null,"Altas sin curación: mujeres mayores (F8)"]
[null,null,null,"Otras transferencias: hombres mayores (G1)"]
[null,null,null,"Otras transferencias: mujeres mayores (G2)"]
["Gestión de la desnutrición aguda grave, para pacientes ambulatorios"]
[null,"Niños 6-59 meses","Final total del último (período de tiempo): niños (A1)",null,null,null,"Cálculo automático Niños/as 6-59m"]
[null,null,"Final total del último (período de tiempo): niñas (A2)",null,null,null,"Total admisiones  niños (D = B   C)",{"$f":"SUM(E122+E120)","v":0}]
[null,null,"categorías de entrada","Nuevas admisiones: niños(B1)",null,null,"Total admisiones niñas (D = B   C)",{"$f":"SUM(E121+E123)","v":0}]
[null,null,null,"Nuevas admisiones: niñas (B2)",null,null,"Total salidas niños (H = F   G)",{"$f":"SUM(E124+E126+E128+E130+E132+E134)","v":0}]
[null,null,null,"Casos antiguos (derivados de OTP, personas que retoman el tratamiento, translados de otro centro de estabilización) : Niños (C1)",null,null,"Total salidas niñas (H = F   G)",{"$f":"SUM(E125+E127+E129+E131+E133+E135)","v":0}]
[null,null,null,"Casos antiguos (derivados de OTP, personas que retoman el tratamiento, translados de otro centro de estabilización): Niñas (C2)",null,null,"Total niños al final del (periodo de tiempo) (I = A   DH)",{"$f":"IF(ISBLANK(E118),\"\",E118+H119-H121)","v":""}]
[null,null,"categorías de salida","Alta por curación: niños (F1)",null,null,"Total niñas al final del (periodo de tiempo) (I = A   DH)",{"$f":"IF(ISBLANK(E119),\"\",E119+H120-H122)","v":""}]
[null,null,null,"Altas por curación: niñas (F1)",null,null,"tasas altas por curación",{"$f":"IF(ISBLANK(E124),\"\",(E124+E125)/(H128))","v":""},"(Min Normas ESFERA. > 75%)"]
[null,null,null,"Altas por muerte: niños (F2)",null,null,"tasa altas por muerte",{"$f":"IF(ISBLANK(E126),\"\",(E126 + E127)/(H128))","v":""},"(Min Normas ESFERA. <10%)"]
[null,null,null,"Altas por muerte: niñas (F2)",null,null,"tasa altas por abandono",{"$f":"IF(ISBLANK(E128),\"\",(E128 + E129)/(H122+H121))","v":""},"(Min Normas ESFERA.  <15%)"]
[null,null,null,"Altas por abandono: niños (F3)",null,null,"salidas totales (J = F   G)",{"$f":"IF(ISBLANK(E124:E135),\"\",SUM(H121,H122))","v":""}]
[null,null,null,"Altas por abandono: niñas (F3)",null,null,"Total al final del (período de tiempo) (K = A   DJ)",{"$f":"IF(ISBLANK(E118),\"\",E118+E119+H119+H120-H128)","v":""}]
[null,null,null,"Altas sin curación: niños (F4)"]
[null,null,null,"Altas sin curación: niñas (F4)"]
[null,null,null,"Derivaciones a centros de estabilización: niños (F5)"]
[null,null,null,"Derivaciones a centros de estabilización: niñas (F6)"]
[null,null,null,"Otras transferencias: niños (G1)"]
[null,null,null,"Otras transferencias: niñas (G2)"]
[null,null,"Ganancia media diaria de peso (AWG) para el alta por curación (en gramos / kg / día)",null,null,null,"(Recomendado> 4 g / kg / día)"]
[null,null,"Duración media de la estancia (LOS) para el alta por curación (en días)",null,null,null,"(Recomendado <60 días)"]
[]
[null,"Personas mayores (definición de país de \"persona mayor\" o  ≥60años)","fin total de la última (período de tiempo): Hombres Mayor (A1)",null,null,null,"Cálculo automático Personas Mayores"]
[null,null,"fin total de la última (período de tiempo): Mayor femenino (A2)",null,null,null,"admisiones totales hombres mayores (D = B   C)",{"$f":"E141+E143","v":0}]
[null,null,"categorías de entrada","Nuevas admisiones: hombres mayores (B1)",null,null,"Admisiones totales mujeres mayores (D = B   C)",{"$f":"E142+E144","v":0}]
[null,null,null,"Nuevas admisiones: mujeres mayores (B2)",null,null,"salidas totales hombres mayores (H = F   G)",{"$f":"SUM(E145+E147+E149+E151+E153+E155)","v":0}]
[null,null,null,"Casos antiguos (derivados de OTP, personas que retoman el tratamiento, translados de otro centro de estabilización) : hombres mayores (C1)",null,null,"salidas totales mujeres mayores (H = F   G)",{"$f":"SUM(E146+E148+E150+E152+E154+E156)","v":0}]
[null,null,null,"Casos antiguos (derivados de OTP, personas que retoman el tratamiento, translados de otro centro de estabilización) : mujeres mayores (C2)",null,null,"Total hombres mayores al final del (periodo de tiempo) (I = A   DH)",{"$f":"IF(ISBLANK(E139),\"\",E139+H140-H142)","v":""}]
[null,null,"categorías de salida","Altas por curación: hombres mayores (F1)",null,null,"Total mujeres mayores al final del (periodo de tiempo) (I = A   DH)",{"$f":"IF(ISBLANK(E140),\"\",E140+H141-H143)","v":""}]
[null,null,null,"Altas por curación: mujeres mayores (F1)",null,null,"tasa altas por curación",{"$f":"IF(ISBLANK(E145),\"\",(E145+E146)/(H149))","v":""},"(Min Normas ESFERA.> 75%)"]
[null,null,null,"Altas por muerte: hombres mayores (F2)",null,null,"tasa altas por muerte",{"$f":"IF(ISBLANK(E147),\"\",(E147 + E148)/(H149))","v":""},"(Min Normas ESFERA. <10%)"]
[null,null,null,"Altas por muerte: mujeres mayores (F2)",null,null,"tasa altas por abandono",{"$f":"IF(ISBLANK(E149),\"\",(E149 + E150)/(H143+H142))","v":""},"(Min Normas ESFERA. <15%)"]
[null,null,null,"Altas por abandono: hombres mayores (F3)",null,null,"salidas totales (J = F   G)",{"$f":"IF(ISBLANK(E145:F156),\"\",SUM(E145:E154))","v":0}]
[null,null,null,"Altas por abandono: mujers mayores (F3)",null,null,"Total al final del (período de tiempo) (K = A   DJ)",{"$f":"IF(ISBLANK(E139),\"\",E139+E140+H140+H141-H149)","v":""}]
[null,null,null,"Altas sin curación: hombre mayores (F4)"]
[null,null,null,"Altas sin curación: mujeres mayores (F4)"]
[null,null,null,"Derivaciones a centros de estabilización: hombres mayores (F5)"]
[null,null,null,"Derivaciones a centros de estabilización: mujeres mayores (F6)"]
[null,null,null,"Otras transferencias: hombre mayores (G1)"]
[null,null,null,"Otras transferencias: mujeres mayores (G2)"]
[]
["Programas de alimentación suplementaria selectiva"]
[null,"Niños/as 6-59 meses","fin total del último (período de tiempo): Niños (A1)",null,null,null,"Cálculo automático Niños/as 6-59m"]
[null,null,"fin total del último (período de tiempo): niñas (A1)",null,null,null,"Total admisión niños (D = B   C)",{"$f":"SUM(E163+E161)","v":0}]
[null,null,"categorías de entrada","Nuevas admisiones: niños (B1)",null,null,"Total admisión niñas (D = B   C)",{"$f":"SUM(E162+E164)","v":0}]
[null,null,null,"Nuevas admisiones: niñas(B2)",null,null,"Total salidas niños (H = E   G)",{"$f":"SUM(E165+E167+E169+E171+E173+E175)","v":0}]
[null,null,null,"Casos antiguos (derivados de OTP, personas que retoman el tratamiento, translados de otro centro de estabilización): Niños (C1)",null,null,"Total salidas niñas (H = E   G)",{"$f":"SUM(E166+E168+E170+E172+E174+E176)","v":0}]
[null,null,null,"Casos antiguos (derivados de OTP, personas que retoman el tratamiento, translados de otro centro de estabilización): niñas (C2)",null,null,"Total niños al final del (periodo de tiempo) (I = A   DH)",{"$f":"IF(ISBLANK(E159),\"\",E159+H160-H162)","v":""}]
[null,null,"categorías de salida","Altas por curación: Niños (E1)",null,null,"Total niñas al final del (periodo de tiempo) (I = A   DH)",{"$f":"IF(ISBLANK(E160),\"\",E160+H161-H163)","v":""}]
[null,null,null,"Altas por curación: niñas (E2)",null,null,"tasa altas por curación",{"$f":"IF(ISBLANK(E166),\"\",(E166+E165)/(H169))","v":""},"(Min  Normas ESFERA.> 75%)"]
[null,null,null,"Altas por muerte: Niños (E3)",null,null,"tasa altas por muerte",{"$f":"IF(ISBLANK(E167),\"\",(E167 + E168)/(H169))","v":""},"(Las normas de Esfera min. <3%)"]
[null,null,null,"Altas por muerte: niñas (E4)",null,null,"tasa altas por abandono",{"$f":"IF(ISBLANK(E169),\"\",(E169 + E170)/(H169))","v":""},"(Min Normas ESFERA.  <15%)"]
[null,null,null,"Altas por abandono: Niños (E5)",null,null,"salidas totales (J = E   G)",{"$f":"IF(ISBLANK(E165),\"\",SUM(H162:H163))","v":""}]
[null,null,null,"Altas por abandono: niñas (E6)",null,null,"Total al final del (período de tiempo) (K = A   DJ)",{"$f":"IF(ISBLANK(E159),\"\",E159+E160+H160+H161-H169)","v":""}]
[null,null,null,"Alta sin curación: Niños (E7)"]
[null,null,null,"Altas sin curación: niñas (E8)"]
[null,null,null,"Derivados a OTP / SC: niños (E9)"]
[null,null,null,"Derivados a OTP / SC: niñas (E10)"]
[null,null,null,"Otras transferencias niños (G1)"]
[null,null,null,"Otras transferencias niñas (G2)"]
[null,null,"Duración media de la estancia para altas por curación (en días)"]
[null,null,"Valor kcal de la ración suplementaria diaria (kcal / día)"]
[null,null,"Producto provisto"]
[]
[null,"Embarazadas y mujeres lactantes (MEL)","fin total del último (período de tiempo): MEL (A)",null,null,null,"Cálculo automático MEL"]
[null,null,"categorías de entrada","Nuevas admisiones en este (periodo de tiempo): MEL (B)",null,null,"Total admisiones MEL (D = B   C)",{"$f":"IF(ISBLANK(E182),\"\",E182+E183)","v":""}]
[null,null,null,"Casos antiguos (derivados de OTP, personas que retoman el tratamiento, translados de otro centro de estabilización): MEL (C1)",null,null,"tasa de alta por curación",{"$f":"IF(ISBLANK(E184),\"\",E184/(H186))","v":""},"(Min  Normas ESFERA. > 75%)"]
[null,null,"categorías de salida","Alta por curación: MEL (F1)",null,null,"tasa alta por muerte",{"$f":"IF(ISBLANK(E185),\"\",E185/(H186))","v":""},"(Las normas de Esfera min. <3%)"]
[null,null,null,"Alta por muerteo: MEL (F2)",null,null,"tasa alta por abandono",{"$f":"IF(ISBLANK(E187),\"\",E186/(H186))","v":""},"(Min Normas ESFERA. <15%)"]
[null,null,null,"Alta por abandono: MEL (F3)",null,null,"salidas totales (J = F   G)",{"$f":"IF(ISBLANK(E184),\"\",SUM(E184:E189))","v":""}]
[null,null,null,"Alta sin recuperación: MEL (F4)",null,null,"Total al final del (período de tiempo) (K = A   DJ)",{"$f":"IF(ISBLANK(E181),\"\",E181+H182-H186)","v":""}]
[null,null,null,"Derivadas a OTP / SC: MEL (F5)"]
[null,null,null,"Otras transferencias: MEL (G)"]
[null,null,"Duración media de la estancia para altas por curación (en días)"]
[null,null,"Valor kcal de la ración suplementaria diaria (kcal / día)"]
[null,null,"Producto provisto"]
[]
[null,"Personas mayores (definición de país de \"personas mayores\" o  ≥60años)","fin total del último (período de tiempo): Hombres Mayores (A1)"]
[null,null,"fin total del último (período de tiempo): Mujeres mayores (A2)",null,null,null,"Cálculo automático Personas Mayores"]
[null,null,"categorías de entrada","Nuevas admisiones: Hombres Mayor (B1)",null,null,"Admisiones totales hombres mayores (D = B   C)",{"$f":"SUM(E196+E198)","v":0}]
[null,null,null,"Nuevas admisiones: Mayor Femenino (B2)",null,null,"Admisiones totales mujeres mayores (D = B   C)",{"$f":"SUM(E197+E199)","v":0}]
[null,null,null,"Casos antiguos (derivados de OTP, personas que retoman el tratamiento, translados de otro centro de estabilización): hombres mayores (C1)",null,null,"salidas totales hombres mayores (H = E   G)",{"$f":"SUM(E200+E202+E204+E206+E208+E210)","v":0}]
[null,null,null,"Casos antiguos (derivados de OTP, personas que retoman el tratamiento, translados de otro centro de estabilización): Mujeres mayores (C2)",null,null,"salidas totales mujeres mayores (H = E   G)",{"$f":"SUM(E201,E203,E205,E207,E209,E211)","v":0}]
[null,null,"categorías de salida","Alta por curación: hombres mayores (E1)",null,null,"Total hombres mayores al final del (periodo de tiempo) (I = A   DH)",{"$f":"IF(ISBLANK(E194),\"\",E194+H196-H198)","v":""}]
[null,null,null,"Alta por curación: mujres mayores (E2)",null,null,"Total mujeres mayores al final del (periodo de tiempo) (I = A   DH)",{"$f":"IF(ISBLANK(E195),\"\",E195+H197-H199)","v":""}]
[null,null,null,"Altas por muerte: hombres mayores (E3)",null,null,"tasa altas por curación",{"$f":"IF(ISBLANK(E202),\"\",(E200+E201)/(H205))","v":""},"(Min Normas ESFERA.  75%)"]
[null,null,null,"Altas por muerte: mujeres mayores (E4)",null,null,"tasa altas por muerte",{"$f":"IF(ISBLANK(E203),\"\",(E202+ E203)/(H205))","v":""},"(Las normas de Esfera min. <3%)"]
[null,null,null,"Altas por abandano: hombres mayores (E5)",null,null,"tasa altas por abandono",{"$f":"IF(ISBLANK(E205),\"\",(E204+E205)/(H205))","v":""},"(Min Normas ESFERA. <15%)"]
[null,null,null,"Altas por abandono: mujeres mayores (E6)",null,null,"salidas totales (J = E   G)",{"$f":"IF(ISBLANK(E200),\"\",SUM(H198:H199))","v":""}]
[null,null,null,"Altas sin recuperación: hombres mayores (E7)",null,null,"Total al final del (período de tiempo) (K = A   DJ)",{"$f":"IF(ISBLANK(E194),\"\",E194+E195+H196+H197-H205)","v":""}]
[null,null,null,"Altas sin recuperación: mujeres mayores (E8)"]
[null,null,null,"Derivados a OTP / SC: hombres mayores (E9)"]
[null,null,null,"Derivados a OTP / SC: mujeres mayores (E10)"]
[null,null,null,"Otras transferencias: hombres mayores (G1)"]
[null,null,null,"Otras transferencias: mujeres mayores (G2)"]
[null,null,"Duración media de la estancia para altas por curación (en días)"]
[null,null,"Valor kcal de la ración suplementaria diaria (kcal / día)"]
[null,null,"Producto provisto"]
[]
["Programas de alimentación suplementaria general"]
[null,"Niños/as 6-23 meses","No. de niños 6-23m nuevos en el programa durante el (período de tiempo)",null,{"$f":"SUM(E218,E219)","v":0},null,"Cálculo automático Niños/as 6-23m"]
[null,null,"Niños",null,null,null,"Número medio de niños/as  6-23m  que participaron en la distribución durante el (periodo de tiempo) ",{"$f":"E220/E223","v":{"$error":"#DIV/0!"}}]
[null,null,"Niñas"]
[null,null,"Número total de niños/as 6-23m que asistieron a la distribución en este (periodo de tiempo) ",null,{"$f":"SUM(E221,E222)","v":0}]
[null,null,"Niños"]
[null,null,"Niñas"]
[null,null,"Número de distribuciones durante este (periodo de tiempo) "]
[null,null,"valor kcal de ración suplementaria diaria (kcal / día)"]
[null,null,"Producto provisto"]
[]
[null,"Niños/as 6-59 meses","No. de niños 6-59m nuevos en el programa durante el (período de tiempo)",null,{"$f":"SUM(E228,E229)","v":0},null,"Cálculo automático Niños/as 6-59m"]
[null,null,"Niños",null,null,null,"Número medio de niños/as 6-59m que participaron en la distribución durante el (periodo de tiempo) ",{"$f":"(E230/E233)","v":{"$error":"#DIV/0!"}}]
[null,null,"Niñas"]
[null,null,"Número total de niños/as 6-23m que asistieron a la distribución en este (periodo de tiempo) ",null,{"$f":"SUM(E231,E232)","v":0}]
[null,null,"Niños"]
[null,null,"Niñas"]
[null,null,null,"Número de distribuciones durante este (periodo de tiempo) "]
[null,null,"valor kcal de ración suplementaria diaria (kcal / día)"]
[null,null,"Producto provisto"]
[]
[null,"Mujeres embarazadas y lactantes","Número de mujeres embarazadas y lactantes recién inscritas durante el (período de tiempo)",null,null,null,"Cálculo automático MEL"]
[null,null,"Número total de mujeres embarazadas y lactantes que asistieron a la distribución en este (periodo de tiempo)",null,null,null,"Promedio de MEL que participaron en la distribución durante el (periodo de tiempo) ",{"$f":"(E238/E239)","v":{"$error":"#DIV/0!"}}]
[null,null,null,"Número de distribuciones durante este (periodo de tiempo)"]
[null,null,"valor kcal de ración suplementaria diaria (kcal / día)"]
[null,null,"Producto provisto"]
[]
[null,"Personas mayores (definición de país de \"persona mayor\" o ≥60 años) ","Nº de personas mayores de nuevo ingreso durante el (período de tiempo)",null,{"$f":"SUM(E244,E245)","v":0},null,"Cálculo automático Personas Mayores"]
[null,null,"Hombres mayores",null,null,null,"Promedio de personas mayores que participaron en la distribución durante el  (periodo de tiempo) ",{"$f":"(E246/E249)","v":{"$error":"#DIV/0!"}}]
[null,null,"Mujeres mayores"]
[null,null,"Número total de personas mayores que asistieron a la distribución en este (periodo de tiempo) ",null,{"$f":"SUM(E247,E248)","v":0}]
[null,null,"Hombres mayores"]
[null,null,"Mujeres mayores"]
[null,null,"Número de distribuciones durante este (periodo de tiempo) "]
[null,null,"valor kcal de ración suplementaria diaria (kcal / día)"]
[null,null,"Producto provisto"]
[]
["Suplementación de micronutrientes"]
[null,"Suplementos de vitamina A administrada a niños de 6-11 meses y 12-59 meses ",null,"Número total de niños/as de 6-11 meses que han recibido  Vit-A durante el (período de tiempo)",{"$f":"SUM(E255:E256)","v":0},null,"Cálculo automático niños/a s 6-11 meses que recibieron vit-A"]
[null,null,null,"Niños",null,null,"% niños ",{"$f":"IF(ISBLANK(E255),\"\",E255/E254)","v":""}]
[null,null,null,"Niñas",null,null,"% niñas",{"$f":"IF(ISBLANK(E256),\"\",E256/E254)","v":""}]
[null,null,null,"Número total de niños/as  de 12-59 meses que han recibido Vit-A durante el (período de tiempo)",{"$f":"SUM(E258:E259)","v":0},null,"Cálculos automático niños/as 12-59 meses que recibieron vit-A"]
[null,null,null,"Niños ",null,null,"% niños ",{"$f":"IF(ISBLANK(E258),\"\",E258/E257)","v":""}]
[null,null,null,"Niñas",null,null,"% niñas",{"$f":"IF(ISBLANK(E259),\"\",E259/E257)","v":""}]
[]
[null,"Suplementos de vitamina A administados a MEL",null,"Número total de mujeres embarazadas y  lactantes que han recibido  Vit-A durante el (período de tiempo)",{"$f":"SUM(E262:E263)","v":0},null,"Cálculo automático MEL que recibieron vit-A"]
[null,null,null,"Embarazadas",null,null,"% mujeres embarazadas",{"$f":"IF(ISBLANK(E262),\"\",E262/E261)","v":""}]
[null,null,null,"Lactantes",null,null,"% mujeres lactantes",{"$f":"IF(ISBLANK(E263),\"\",E263/E261)","v":""}]
[]
[null,"Suplementos de vitamina A administrados a personas mayores (definición de país de \"persona mayor\" o ≥ 60años)",null,"Número total de personas mayores que han recibido  Vit-A durante el (período de tiempo)",{"$f":"SUM(E266:E267)","v":0},null,"Cálculo automático personas mayores que recibieron vit-A"]
[null,null,null,"Hombres mayores",null,null,"% hombres mayores",{"$f":"IF(ISBLANK(E266),\"\",E266/E265)","v":""}]
[null,null,null,"Mujeres mayores",null,null,"% mujeres mayores",{"$f":"IF(ISBLANK(E267),\"\",E267/E265)","v":""}]
[]
[null,"Micronutrientes en Polvo (MNP) administrados a  niños/as de 6-24 meses (polvos)",null,"Número total de niños/as 6-24meses que han recibido  MNP durante el (período de tiempo)",{"$f":"SUM(E270:E271)","v":0},null,"Cálculo automático niños/as  6-24 meses que recibieron MNP"]
[null,null,null,"Niños",null,null,"% niños ",{"$f":"IF(ISBLANK(E270),\"\",E270/E269)","v":""}]
[null,null,null,"Niñas",null,null,"% niñas",{"$f":"IF(ISBLANK(E271),\"\",E271/E269)","v":""}]
[]
[null,"Comprimidos de micronutrientes (MNT) administrados a MEL",null,"Número total de mujeres embarazadas y lactantes que han recibido  MNT durante el (período de tiempo)"]
[]
[null,"Micronutrientes en Polvo / Espolvorear (MNP) dado a las personas mayores ",null,"Número total de personas mayores que han recibido  MNP durante el (período de tiempo)",{"$f":"SUM(E276:E277)","v":0},null,"Cálculo automático personas mayores que recibieron MNP"]
[null,null,null,"Hombres mayores",null,null,"% hombres mayores",{"$f":"IF(ISBLANK(E276),\"\",E276/E275)","v":""}]
[null,null,null,"Mujeres mayores",null,null,"% mujeres mayores",{"$f":"IF(ISBLANK(E277),\"\",E277/E275)","v":""}]
[]
[null,"Hierro y ácido fólico administrado a MEL",null,"Número total de mujeres embarazadas y lactantes que han recibido hierro y ácido fólico durante el (período de tiempo)"]
[]
[null,"Hierro y ácido fólico administrado a  personas mayores",null,"Número total de personas mayores que han recibido hierro y ácido fólico durante el (período de tiempo) ",{"$f":"SUM(E282,E283)","v":0},null,"Cálculo automático personas mayores suplementadas con hierro y ácido fólico"]
[null,null,null,"Hombres mayores",null,null,"% hombres mayores",{"$f":"IF(ISBLANK(E282),\"\",E282/E281)","v":""}]
[null,null,null,"Mujeres mayores",null,null,"% mujeres mayores",{"$f":"IF(ISBLANK(E283),\"\",E283/E281)","v":""}]
[]
["Desparasitación"]
[null,"Nº de niños de 12-59 meses desparasitados",null,"Número total de niños 12-59meses desparasitados durante el (período de tiempo)",{"$f":"SUM(E287:E288)","v":0},null," Cálculo automático niños/as 12-59meses desparasitados"]
[null,null,null,"Niños ",null,null,"% niños ",{"$f":"IF(ISBLANK(E287),\"\",E287/E286)","v":""}]
[null,null,null,"Niñas",null,null,"% niñas",{"$f":"IF(ISBLANK(E288),\"\",E288/E286)","v":""}]
[]
[null,"Número de mujeres embarazadas  y lactantes desparasitadas",null,"Número total de mujeres embarazadas y lactantes desparasitadas durante el (período de tiempo)"]
[]
[null,"Número de personas mayores desparasitadas",null,"Número total de personas mayores desparasitadas durante el (período de tiempo)",{"$f":"SUM(E293:E294)","v":0},null,"Cálculo automático personas mayores desparasitadas"]
[null,null,null,"Hombres mayores",null,null,"% hombres mayores",{"$f":"IF(ISBLANK(E293),\"\",E293/E292)","v":""}]
[null,null,null,"Mujeres mayores",null,null,"% mujeres mayores",{"$f":"IF(ISBLANK(E294),\"\",E294/E292)","v":""}]
[]
["Alimentación de lactantes y niños pequeños"]
[null,"Sesiones individuales (uno a uno)","Mujeres embarazadas que asistieron a sesiones de asesoramiento individual"]
[null,null,"Mujeres lactantes y cuidadores de niños/as <6 meses que asistieron a sesiones de asesoramiento individual",null,null,null,"Cálculo automático MEL y cuidadores que asistieron a la orientación individual"]
[null,null,"Mujeres lactantes y cuidadores de niños/as de 6-24 meses que asistieron a sesiones de asesoramiento individual",null,null,null,"Total",{"$f":"IF(ISBLANK(E298),\"\",SUM(E297:E299))","v":""}]
[null,"ALNP asesoramiento - Las sesiones de grupo","Número de grupos de ALNP (incluidos los grupos de apoyo de madres) en funcionamiento durante el (período de tiempo)"]
[null,null,"Número total de sesiones de grupo (incluidos los grupos de apoyo de madres) mantenidos en el (período de tiempo)"]
[null,null,"Nuevas admisiones de mujeres embarazadas y lactantes y cuidadores en grupos ALNP (incluidos los grupos de apoyo de madres) durante el (período de tiempo)",null,{"$f":"SUM(E303,E304)","v":0},null,"Cálculo automático MEL y cuidadores admitidos en grupos ALNP"]
[null,null,null,"Hombres",null,null,"% hombres ",{"$f":"IF(ISBLANK(E303),\"\",E303/E302)","v":""}]
[null,null,null,"Mujeres",null,null,"% mujeres",{"$f":"IF(ISBLANK(E303),\"\",E304/E302)","v":""}]
[null,null,null,"Número total de mujeres embarazadas y lactantes y cuidadores que asistieron a grupos de ALNP (incluidos los grupos de apoyo de madres) durante el (período de tiempo)",{"$f":"SUM(E306,E307)","v":0}]
[null,null,null,"Hombres"]
[null,null,"Mujeres"]
[null,"alimentación artificial","Número total de lactantes de 0-6 meses que requieren alimentación artificial que han recibido BMS y apoyo apropiado durante el (período de tiempo)",null,null,null,"Nota: las sesiones de asesoramiento ALNP incluyen el inicio temprano de la lactancia materna exclusiva, el contacto piel a piel, relaction, alimentación complementaria, los suplementos de micronutrientes, el VIH y la alimentación infantil, el uso apropiado de BMS, etc ..."]
[null,null,"Número total de lactantes de 6-24 meses de edad que requieren alimentación artificial que han recibido BMS y apoyo apropiado durante el (período de tiempo)"]
[null,"La lactancia materna esquinas / espacios amigos de los niños","Número total de rincones para la lactancia materna / espacios que promueven la lactancia materna abiertos durante el (período de tiempo)"]
[null,null,"Número de rincones para la lactancia materna / espacios que promueven la lactancia materna en funcionamiento durante el (período de tiempo)"]
[null,null,"Nuevas admisiones de madres lactantes durante el (período de tiempo)"]
[null,null,"Número total de mujeres lactantes que asistieron a los rincones para la lactancia materna / espacios que promueven la lactancia materna durante el (período de tiempo)"]
[]
["Desarrollo de capacidades"]
[null,null,"Type/Topic of Training"]
[null,"Entrenamiento en MUAC,  detección, derivación y movilización de la comunidad",null,"Tipo de formación",null,null,"Nº de formaciones"]
[null,null,null,"Categoría principal del personal formado",null,null,"De qué agencia / s"]
[null,null,null,"Hombres",null,null,"Número de días"]
[null,null,null,"Mujeres"]
[null,null,null,"Comentarios"]
[]
[null,null,"Type/Topic of Training",null,null,null,"Automatic calculations Training 2"]
[null,"Formación sobre la gestión integrada de la desnutrición aguda (IMAM): SAM / TF (pacientes hospitalizados)",null,"Tipo de formación",null,null,"Nº de formaciones"]
[null,null,null,"Categoría principal del personal formado",null,null,"De qué agencia / s"]
[null,null,null,"Hombres",null,null,"Número de días"]
[null,null,null,"Mujeres"]
[null,null,null,"Comentarios"]
[]
[null,null,"Type/Topic of Training",null,null,null,"Automatic calculations Training 3"]
[null,"Formación sobre la gestión integrada de la desnutrición aguda (IMAM): SAM / TF (pacientes ambulatorios)",null,"Tipo de formación",null,null,"Nº de formaciones"]
[null,null,null,"Categoría principal del personal formado",null,null,"De qué agencia / s"]
[null,null,null,"Hombres",null,null,"Número de días"]
[null,null,null,"Mujeres"]
[null,null,null,"Comentarios"]
[]
[null,null,"Type/Topic of Training",null,null,null,"Automatic calculations Training 4"]
[null,"Formación sobre la gestión integrada de la desnutrición aguda (IMAM): MAM / TSFP",null,"Tipo de formación",null,null,"Nº de formaciones"]
[null,null,null,"Categoría principal del personal formado",null,null,"De qué agencia / s"]
[null,null,null,"Hombres",null,null,"Número de días"]
[null,null,null,"Mujeres"]
[null,null,null,"Comentarios"]
[]
[null,"Formación sobre alimentación infantil",null,"Tipo de formación",null,null,"Nº de formaciones"]
[null,null,null,"Categoría principal del personal capacitado",null,null,"De qué agencia / s"]
[null,null,null,"Hombres",null,null,"Número de días"]
[null,null,null,"Mujeres"]
[null,null,null,"Comentarios"]
[]
[null,"Formación sobre encuesta de SMART",null,"Tipo de formación",null,null,"Nº de formaciones"]
[null,null,null,"Categoría principal del personal formado",null,null,"De qué agencia / s"]
[null,null,null,"Hombres",null,null,"Número de días"]
[null,null,null,"Mujeres"]
[null,null,null,"Comentarios"]
[]
[null,"Formación de preparación y respuesta a emergencias",null,"Tipo de formación",null,null,"Nº de formaciones"]
[null,null,null,"Categoría principal del personal formado",null,null,"De qué agencia / s"]
[null,null,null,"Hombres",null,null,"Número de días"]
[null,null,null,"Mujeres"]
[null,null,null,"Comentarios"]
[]
[null,"Formación sobre el enfoque de clústeres",null,"Tipo de formación",null,null,"Nº de formaciones"]
[null,null,null,"Categoría principal del personal formado",null,null,"De qué agencia / s"]
[null,null,null,"Hombres",null,null,"Número de días"]
[null,null,null,"Mujeres"]
[null,null,null,"Comentarios"]
[]
["Comentarios"]
[null,"Cualquier comentario sobre programas, lagunas o preocupaciones"]

{"sheet":"Site7","index":8,"n_rows":369,"n_cols":26,"rows_kept":369,"cut":false,"hidden":false,"merged":[[368,1,385,1],[368,2,385,8],[355,1,359,2],[355,6,355,7],[356,6,356,7],[357,6,357,7],[359,4,359,8],[361,1,365,2],[361,6,361,7],[362,6,362,7],[363,6,363,7],[365,4,365,8],[343,1,347,2],[343,6,343,7],[344,6,344,7],[345,6,345,7],[347,4,347,8],[349,1,353,2],[349,6,349,7],[350,6,350,7],[351,6,351,7],[353,4,353,8],[336,2,336,3],[336,6,336,7],[337,1,341,2],[337,6,337,7],[338,6,338,7],[339,6,339,7],[341,4,341,8],[329,2,329,3],[329,6,329,7],[330,1,334,2],[330,6,330,7],[331,6,331,7],[332,6,332,7],[334,4,334,8],[322,2,322,3],[322,6,322,7],[323,1,327,2],[323,6,323,7],[324,6,324,7],[325,6,325,7],[327,4,327,8],[314,0,314,3],[315,2,315,3],[316,1,320,2],[316,6,316,7],[317,6,317,7],[318,6,318,7],[320,4,320,8],[307,1,308,1],[307,2,307,3],[307,6,308,8],[308,2,308,3],[309,1,312,1],[309,2,309,3],[310,2,310,3],[311,2,311,3],[312,2,312,3],[299,1,306,1],[299,2,299,3],[300,2,300,3],[301,2,301,3],[301,6,301,7],[306,2,306,3],[295,0,295,3],[296,1,298,1],[296,2,296,3],[297,2,297,3],[297,6,297,7],[298,2,298,3],[284,0,284,3],[285,1,287,2],[285,6,285,7],[289,1,289,2],[291,1,293,2],[291,6,291,7],[272,1,272,2],[274,1,276,2],[274,6,274,7],[278,1,278,2],[280,1,282,2],[280,6,280,7],[260,1,262,2],[260,6,260,7],[264,1,266,2],[264,6,264,7],[268,1,270,2],[268,6,268,7],[248,2,248,3],[249,2,249,3],[250,2,250,3],[252,0,252,3],[253,1,258,2],[253,6,253,7],[256,6,256,7],[239,2,239,3],[240,2,240,3],[242,1,248,1],[242,2,242,3],[242,6,242,7],[243,2,243,3],[244,2,244,3],[245,2,245,3],[246,2,246,3],[247,2,247,3],[233,2,233,3],[234,2,234,3],[236,1,238,1],[236,2,236,3],[236,6,236,7],[237,2,237,3],[223,2,223,3],[224,2,224,3],[226,1,234,1],[226,2,226,3],[226,6,226,7],[227,2,227,3],[228,2,228,3],[229,2,229,3],[230,2,230,3],[231,2,231,3],[215,0,215,3],[216,1,224,1],[216,2,216,3],[216,6,216,7],[217,2,217,3],[218,2,218,3],[219,2,219,3],[220,2,220,3],[221,2,221,3],[222,2,222,3],[193,1,213,1],[193,2,193,3],[194,2,194,3],[194,6,194,7],[195,2,198,2],[199,2,210,2],[211,2,211,3],[212,2,212,3],[213,2,213,3],[180,1,191,1],[180,2,180,3],[180,6,180,7],[181,2,182,2],[183,2,188,2],[189,2,189,3],[190,2,190,3],[191,2,191,3],[157,0,157,3],[158,1,178,1],[158,2,158,3],[158,6,158,7],[159,2,159,3],[160,2,163,2],[164,2,175,2],[176,2,176,3],[177,2,177,3],[178,2,178,3],[135,1,136,1],[135,2,135,3],[136,2,136,3],[138,1,155,1],[138,2,138,3],[138,6,138,7],[139,2,139,3],[140,2,143,2],[144,2,155,2],[116,0,116,3],[117,1,134,1],[117,2,117,3],[117,6,117,7],[118,2,118,3],[119,2,122,2],[123,2,134,2],[81,1,96,1],[81,2,81,3],[81,6,81,7],[87,2,96,2],[98,1,115,1],[98,2,98,3],[98,6,98,7],[99,2,99,3],[100,2,103,2],[104,2,115,2],[52,1,58,1],[52,2,56,2],[61,0,61,3],[62,1,79,1],[62,2,62,3],[62,6,62,7],[63,2,63,3],[64,2,67,2],[68,2,79,2],[28,1,34,1],[28,2,32,2],[37,1,42,1],[37,2,40,2],[37,6,37,7],[44,1,50,1],[44,2,48,2],[44,6,44,7],[15,1,15,3],[17,1,17,3],[19,0,19,3],[20,1,26,1],[20,2,24,2],[20,6,20,7],[8,1,8,3],[9,1,9,3],[10,1,10,3],[13,1,13,3],[13,6,13,8],[14,1,14,3],[0,0,0,3],[1,0,1,2],[2,1,2,3],[5,1,5,3],[6,1,6,3],[7,1,7,3]]}
["Formulario para la presentación de informes por los socios",null,null,null,null,null,null,null,null,null,null,null,"Localidad","Nilo Alto","Jonglei","Unidad","Warrap","Bahr el Ghazal norte","Bahr el Ghazal Occidental","Lagos","Ecuatoria occidental","Equatoria central","Equatoria Oriental","Mes","Temas de la formación","Tipo de formación"]
["Información general",null,null,null,null,null,null,null,null,null,null,null,"Nilo Alto","Renk","Fangak","Pariang","Abyei","Aweil_Norte","Raga","Cueibet","Tambura","Terekeka","Torit","Enero","Examen con MUAC y derivaciones","Nuevo"]
[null,"Acrónimo de la agencia",null,null,null,null,null,null,null,null,null,null,"Jonglei","Manyo","Canal_Khor_Fulus","Abiemnhom","Twic","Aweil_este","Jur_River","Rumbek_Norte","Nagero","Juba","Lapon","Febrero","Protocolos para pacientes ambulatorios","Repaso"]
[null,null,null,"Nombre de la agencia",{"$f":"VLOOKUP(E3,Lists!A2:B200,2,FALSE)","v":{"$error":"#N/A"}}]
[null,null,null,"Semana del informe "]
[null,"Mes del informe:",null,null,null,null,null,null,null,null,null,null,"Unidad","Fashoda","Ayod","Mayom","Gogrial_occidental","Aweil_Sur","Wau","Rumbek_Centro","Nzara","Lainya","Kapoeta_Norte","Marzo","Protocolos para pacientes hospitalizados"]
[null,"Año del informe",null,null,null,null," ",null,null,null,null,null,"Warrap","Melut","Duk","Rubkona","Gogrial_este","Aweil_oeste",null,"Wulu","Ezo","Yei","Kapoeta_este","Abril","Protocolos para programas de alimentación suplementaria"]
[null,"Fecha de presentación del informe (DD / MM / AA)",null,null,null,null,null,null,null,null,null,null,"Bahr_el_Ghazal_norte","Maban","Uror","Guit","Tonj_Norte","Aweil_Centro",null,"Rumbek_este","Yambio","Morobo","Kapoeta_Sur","Mayo","Movilización comunitaria"]
[null,"Nivel administrativo 1",null,"Nivel administrativo 1",null,null,"P-Code Nivel Admin 1",{"$f":"INDEX(admin1pcode,MATCH(E9,admin1,0))","v":{"$error":"#N/A"}}]
[null,"Nivel administrativo 2",null,null,null,null,"P-Code nivel admin 2",{"$f":"INDEX(admin2pcode,MATCH(E10,admin2,0))","v":{"$error":"#N/A"}},null,null,null,null,"Lagos","Luakpiny_Nasir","Akobo","Leer","Tonj_Sur",null,null,"Yirol_este","Maridi",null,"Ikotos","Julio","Otros (por favor, especificar en la sección de comentarios)"]
[null,"Nivel administrativo 3",null,null,null,null,"P-Code nivel Admin 3",{"$f":"INDEX(admin3pcode,MATCH(E11,admin3,0))","v":{"$error":"#N/A"}},null,null,null,null,"Ecuatoria Occidental","Longochuk","Pochalla","Mayendit",null,null,null,"Awerial","Mvolo",null,"Magwi","Agosto"]
[null,null,null,"Nivel administrativo 4",null,null,"P-Code nivel admin 4",{"$f":"INDEX(admin4pcode,MATCH(E12,admin4,0))","v":{"$error":"#N/A"}}]
[null,null,null,"Nivel administrativo 5",null,null,"P-Code nivel administrativo 5",{"$f":"INDEX(admin5pcode,MATCH(E13,admin5,0))","v":{"$error":"#N/A"}}]
[null,"¿Se ha utilizado criterios expandidos de admisión ?",null,null,null,null,null,null,null,null,null,null,"Ecuatoria Central","Ulang","Pibor","Panyijar",null,"N/A","Operacional","No operacional","Mundri_oeste",null,null,"Septiembre"]
[null,"Centros de estabilización (SC)",null,null,null,null,"Estado del sitio",null,null,null,null,null,"Ecuatoria oriental","Baliet","Twic_este",null,null,null,null,"Sí","No",null,null,"Octubre"]
[null,"Pacientes ambulatorios centros terapéuticos (OTP)",null,null,null,null,"Estado del sitio",null,null,null,null,null,null,"Malakal","Bor_Sur",null,null,null,null,null,null,null,null,"Noviembre"]
[null,null,null,"Sitios de tratamiento a nivel comunitario (BSFPs)",null,null,"Estado del sitio",null,null,null,null,null,null,"Panyikang",null,null,null,null,null,null,null,null,null,"Diciembre"]
[null,"Sitios de alimentación suplementaria (TSFPs)",null,null,null,null,"Estado del sitio"]
[]
["Diagnóstico y derivaciones"]
[null,"Niños 6-59 meses","Revisión \n(mediciones MUAC)","Número examinados",{"$f":"SUM(E22:E25)","v":0},null,"Cálculo automático exámen y derivaciones"]
[null,null,null,"Nº de niños con edema bilateral",null,null,"No. total. (Niños+Niñas) examinados",{"$f":"IF(ISBLANK(E21),(IF(ISBLANK(E29),\"\",E21+E29)),E21+E29)","v":0}]
[null,null,null,"Nº de niños con MUAC rojo (<11.5 cm)",null,null,"No. total. (Niños+niñas) edema",{"$f":"IF(ISBLANK(E22),(IF(ISBLANK(E30),\"\",E22+E30)),E22+E30)","v":""}]
[null,null,null,"Nº de niños 6-59m con MUAC amarillo (≥ 11,5 cm a <12,5 cm)",null,null,"No. total. (Niños+Niñas) Rojo",{"$f":"IF(ISBLANK(E23),(IF(ISBLANK(E31),\"\",E23+E31)),E23+E31)","v":""}]
[null,null,null,"Nº de niños 6-59m con MUAC verde (≥ 12,5 cm)",null,null,"No. total. (Niños+Niñas) Amarillo",""]
[null,null,"Derivaciones","Nº de niños 6-59m derivados a OTP",null,null,"No. total. (Niños+Niñas) Verde",""]
[null,null,null,"Nº de niños 6-59m derivados a TSFP",null,null,"No. total. (Niños+Niñas) derivados a OTP",{"$f":"IF(ISBLANK(E26),(IF(ISBLANK(E34),\"\",E26+E34)),E26+E34)","v":""}]
[null,null,null,null,null,null,"No. total. (Niños+ niñas) derivados a TSFP",""]
[null,"Niñas 6-59 meses","Revisión \n(mediciones MUAC)","Número examinadas",{"$f":"SUM(E30:E33)","v":0},null,"% de niños+niñas con edema",{"$f":"IF(ISBLANK(E21),(IF(ISBLANK(E29),\"\",H23/H22)),H23/H22)","v":{"$error":"#VALUE!"}}]
[null,null,null,"Nº de niñas con edema bilateral",null,null,"% de (Niños+Niñas) Rojo",{"$f":"IF(ISBLANK(E21),(IF(ISBLANK(E29),\"\",H24/H22)),H24/H22)","v":{"$error":"#VALUE!"}}]
[null,null,null,"Nº de niñas 6-59m con MUAC rojo (<11.5 cm)",null,null,"(% De los muchachos de las muchachas  ) Amarillo",{"$f":"IF(ISBLANK(E21),(IF(ISBLANK(E29),\"\",H25/H22)),H25/H22)","v":{"$error":"#VALUE!"}}]
[null,null,null,"Nº de niñas 6-59m con MUAC amarillo (≥ 11,5 cm a <12,5 cm)",null,null,"(% De los muchachos de las muchachas  ) verde",{"$f":"IF(ISBLANK(E21),(IF(ISBLANK(E29),\"\",H26/H22)),H26/H22)","v":{"$error":"#VALUE!"}}]
[null,null,null,"Nº de niñas 6-59m con MUAC verde (≥ 12,5 cm)",null,null,"(% De los muchachos   Girls) se refirió a la PTF",{"$f":"IF(ISBLANK(E21),(IF(ISBLANK(E29),\"\",H27/H22)),H27/H22)","v":{"$error":"#VALUE!"}}]
[null,null,"Derivaciones","Nº de Niñas 6-59m derivadas a OTP",null,null,"% De los muchachos ( ) Las niñas que se refiere TSFP",{"$f":"IF(ISBLANK(E21),(IF(ISBLANK(E29),\"\",H28/H22)),H28/H22)","v":{"$error":"#VALUE!"}}]
[null,null,null,"Nº de niñas 6-59m derivadas a TSFP"]
[]
[]
[null,"Mujeres embarazadas y lactantes","Revisión \n(mediciones MUAC)","Número examinadas",{"$f":"SUM(E39:E41)","v":0},null,"Cálculos automáticos MEL"]
[null,null,null,"Número de mujeres embarazadas y lactantes con MUAC <21.0 cm",null,null,"% MUAC <21.0 cm",{"$f":"IF(ISBLANK(E39),\"\",E39/E38)","v":""}]
[null,null,null,"Número de mujeres embarazadas y lactantes con MUAC ≥21.0 cm a 23.0 cm <",null,null,"MUAC% ≥21.0 cm a <23,0 cm",{"$f":"IF(ISBLANK(E40),\"\",E40/E38)","v":""}]
[null,null,null,"Número de mujeres embarazadas y lactantes con MUAC ≥23.0 cm",null,null,"MUAC% ≥23.0 cm",{"$f":"IF(ISBLANK(E41),\"\",E41/E38)","v":""}]
[null,null,"Derivaciones","Número de mujeres embarazadas y lactantes derivadas a OTP",null,null,"%  mujeres embarzadas y lactantes derivadas a OTP",{"$f":"IF(ISBLANK(E42),\"\",E42/E38)","v":""}]
[null,null,null,"Número de mujeres embarazadas y lactantes derivadas a TSFP",null,null,"% mujeres embarazadas  y lactantes derivadas a TSFP",{"$f":"IF(ISBLANK(E43),\"\",E43/E38)","v":""}]
[]
[null,"Personas mayores\nhombres\n(definición de país de \"persona mayor\" o ≥ 60años)","Revisión \n(mediciones MUAC)","Número examinados: Hombres",{"$f":"SUM(E46:E49)","v":0},null,"Cálculo automático exámen y derivaciones"]
[null,null,null,"Nº de hombres mayoures con edema bilateral",null,null,"No. total. (Hombres mayores+mujeres mayores) examinados",{"$f":"IF(ISBLANK(E45),(IF(ISBLANK(E53),\"\",E45+E53)),E45+E53)","v":0}]
[null,null,null,"Nº de hombres mayores con MUAC <18,5 cm",null,null,"No. total. (Hombres mayores+mujers mayores) edema",{"$f":"IF(ISBLANK(E46),(IF(ISBLANK(E54),\"\",E46+E54)),E46+E54)","v":""}]
[null,null,null,"Nº de hombres mayoures con MUAC ≥18.5 cm a 21.0 cm <",null,null,"No. total. (hombres mayores+mujeres mayores ) con MUAC <18,5 cm",""]
[null,null,null,"Nº de hombres mayores con MUAC ≥21.0 cm",null,null,"No. total. (hombres mayores+mujeres mayores) con MUAC ≥18.5 cm a <21,0 cm",""]
[null,null,"Derivaciones","Nº de hombres mayores derivados a OTP",null,null,"Nº total de (hombres mayores+mujeres mayores) con MUAC ≥21.0 cm",""]
[null,null,null,"Nº de hombres mayores derivados a TSFP",null,null,"No. total. (hombres mayores+mujeres mayores) derivados a OTP",""]
[null,null,null,null,null,null,"No. total. ((hombres mayores+mujeres mayores) derivados a TSFP",""]
[null,"Personas mayores\nMujeres\n (definición de país de \"persona mayor\" o ≥ 60y)","Revisión \n(mediciones MUAC)","Número examinadas: Mujeres",{"$f":"SUM(E54:E57)","v":0},null,"% De edema (hombres mayores+mujeres mayores)",{"$f":"IF(ISBLANK(E45),(IF(ISBLANK(E53),\"\",H47/H46)),H47/H46)","v":{"$error":"#VALUE!"}}]
[null,null,null,"Nº mujeres mayores con edema bilateral",null,null,"% De (  hombres mayores+mujeres mayores) con MUAC <18,5 cm",{"$f":"IF(ISBLANK(E45),(IF(ISBLANK(E53),\"\",H48/H46)),H48/H46)","v":{"$error":"#VALUE!"}}]
[null,null,null,"Nº mujeres mayores con MUAC <18,5 cm",null,null,"% De ( hombres mayores+mujeres mayores) con MUAC ≥18.5 cm a <21.0 cm ",{"$f":"IF(ISBLANK(E45),(IF(ISBLANK(E53),\"\",H49/H46)),H49/H46)","v":{"$error":"#VALUE!"}}]
[null,null,null,"Nº  mujeres mayores con MUAC ≥18.5 cm a <21.0 cm ",null,null,"% De ( hombres mayores+mujeres mayores) con MUAC ≥21.0 cm",{"$f":"IF(ISBLANK(E45),(IF(ISBLANK(E53),\"\",H50/H46)),H50/H46)","v":{"$error":"#VALUE!"}}]
[null,null,null,"Nº mujeres mayoures con MUAC ≥21.0 cm",null,null,"% De (hombres mayores+mujeres mayores) derivados a OTP",{"$f":"IF(ISBLANK(E45),(IF(ISBLANK(E53),\"\",H51/H46)),H51/H46)","v":{"$error":"#VALUE!"}}]
[null,null,"Derivaciones","Nº mujeres mayores derivadas a OTP",null,null,"% De (hombres mayores+mujeres mayores) derivados a TSFP",{"$f":"IF(ISBLANK(E45),(IF(ISBLANK(E53),\"\",H52/H46)),H52/H46)","v":{"$error":"#VALUE!"}}]
[null,null,null,"Nº mujeres mayores derivadas a TSFP"]
[]
[]
["Gestión de la desnutrición aguda grave, para pacientes hospitalizados"]
[null,"Niños 6-59 meses","Final total del último período de tiempo: Niños (A1)",null,null,null,"Cálculo automático Niños/as 6-59m"]
[null,null,"Final total del último período de tiempo: Niñas (A2)",null,null,null,"Total admisión niños (D = B   C)",{"$f":"SUM(E65,E67)","v":0}]
[null,null,"categorías de entrada","Nuevas admisiones: niños (B1)",null,null,"Total admisión niñas (D = B   C)",{"$f":"SUM(E66,E68)","v":0}]
[null,null,null,"Nuevas admisiones: niñas (B2)",null,null,"Total Salidas Boys (H = E   F   G)",{"$f":"SUM(E69+E71+E73+E75+E77+E79)","v":0}]
[null,null,null,"Casos antiguos (derivados de OTP, personas que retoman el tratamiento, translados de otro centro de estabilización) : Niños (C1)",null,null,"Total Salidas niñas (H = E   F   G)",{"$f":"SUM(E70+E72+E74+E76+E78+E80)","v":0}]
[null,null,null,"Casos antiguos (derivados de OTP, personas que retoman el tratamiento, translados de otro centro de estabilización): Niñas (C2)",null,null,"Total al final del (periodo de tiempo) Niños (I = A   DH)",{"$f":"E63+H64-H66","v":0}]
[null,null,"categorías de salida","Pacientes hospitalizados estabilizados y referidos a OTP: niños (E1)",null,null,"Total al final del (periodo de tiempo) Niñas (I = A   DH)",{"$f":"SUM(E64+H65-H67)","v":0}]
[null,null,null,"Pacientes hospitalizados estabilizados y referidos a OTP: niñas (E2)",null,null,"tasa de altas por curación",{"$f":"IF(ISBLANK(E70),\"\",(E71+E72)/(H73))","v":""},"(Min  Normas ESFERA. > 75%)"]
[null,null,null,"Alta por curación (casos especiales que terminan tratamiento): niños (F1)",null,null,"tasa de altas por muerte",{"$f":"IF(ISBLANK(E71),\"\",(E73 + E74)/(H73))","v":""},"(Min  Normas ESFERA.  <10%)"]
[null,null,null,"Alta por curación (casos especiales que terminan tratamiento): niñas (F2)",null,null,"tasa de alta por abandono",{"$f":"IF(ISBLANK(E73),\"\",(E75 + E76)/(H73))","v":""},"(Min  Normas ESFERA. <15%)"]
[null,null,null,"Altas por muerte: niños (F3)",null,null,"salidas totales (J = E   F   G)",{"$f":"IF(ISBLANK(E69:E80),\"\",SUM(H66,H67))","v":""}]
[null,null,null,"Altas por muerte: niñas (F4)",null,null,"Total al final del (período de tiempo) (K = A   DJ)",{"$f":"IF(ISBLANK(E63),\"\",E63+E64+H64+H65-H73)","v":""}]
[null,null,null,"Altas por abandono: niños (F5)"]
[null,null,null,"Altas por abandono: niñas (F6)"]
[null,null,null,"Altas sin curación: niños (F7)"]
[null,null,null,"Altas sin curación: niñas (F8)"]
[null,null,null,"Otras transferencias: niños (G1)"]
[null,null,null,"Otras transferencias: niñas (G2)"]
[]
[null,"Niños <6 meses","Final total del útimo (período de tiempo): niños (A1)",null,null,null,"Cálculo automático niños/as <6m"]
[null,null,null,"Final total del último (período de tiempo): niñas (A2)",null,null,"Total admisiones niños (D = B   C)",{"$f":"SUM(E84,E86)","v":0}]
[null,null,"categorías de entrada","Nuevas admisiones: niños (B1)",null,null,"Total admisiones niñas (D = B   C)",{"$f":"SUM(E85,E87)","v":0}]
[null,null,null,"Nuevas admisiones: niñas (B2)",null,null," Total salidas niños (H = F   G)",{"$f":"SUM(E88+E90+E92+E94+E96+E98)","v":0}]
[null,null,null,"Casos antiguos (derivados de OTP, personas que retoman el tratamiento, translados de otro centro de estabilización) : Niños (C1)",null,null,"Total salidas niñas (H = F   G)",{"$f":"SUM(E89+E91+E93+E95+E97)","v":0}]
[null,null,null,"Casos antiguos (derivados de OTP, personas que retoman el tratamiento, translados de otro centro de estabilización): Niñas (C2)",null,null,"Total niños al final del (periodo de tiempo) (I = A   DH)",{"$f":"E82+H83-H85","v":0}]
[null,null,"categorías de salida","Alta por curación (casos especiales que terminan tratamiento): niños (F1)",null,null,"Total niñas al final del (periodo de tiempo) (I = A   DH)",{"$f":"SUM(E83+H84-H86)","v":0}]
[null,null,null,"Alta por curación (casos especiales que terminan tratamiento): niñas (F2)",null,null,"tasas altas por curación",{"$f":"IF(ISBLANK(E89),\"\",(E89+E88)/(H92))","v":""},"(Min  Normas ESFERA. > 75%)",null,null,null,0.13043478260869565]
[null,null,null,"Altas por muerte: niños (F3)",null,null,"tasa alta por muerte",{"$f":"IF(ISBLANK(E90),\"\",(E90 + E91)/(H92))","v":""},"(Min  Normas ESFERA. <10%)"]
[null,null,null,"Altas por muerte: niñas (F4)",null,null,"tasa alta por abandono",{"$f":"IF(ISBLANK(E92),\"\",(E92 + E93)/(H92))","v":""},"(Min  Normas ESFERA.  <15%)"]
[null,null,null,"Altas por abandono: niños (F5)",null,null,"salidas totales (J = F   G)",{"$f":"IF(ISBLANK(E88:F99),\"\",SUM(H85,H86))","v":0}]
[null,null,null,"Altas por abandono: niñas (F6)",null,null,"Total al final del (período de tiempo) (K = A   DJ)",{"$f":"IF(ISBLANK(E82),\"\",E82+E83+H83+H84-H92)","v":""}]
[null,null,null,"Altas sin curación: niños (F7)"]
[null,null,null,"Altas sin curación: niñas (F8)"]
[null,null,null,"Otras transferencias: niños (G1)"]
[null,null,null,"Otras transferencias: niñas (G2)"]
[]
[null,"Personas mayores (definición de país de \"persona mayor\" o  ≥60años)","Final total del último (período de tiempo): hombres mayores (A1)",null,null,null,"Cálculo automático Personas Mayores"]
[null,null,"Final total del último (período de tiempo): mujeres mayores (A2)",null,null,null,"admisiones totales hombres mayores (D = B   C)",{"$f":"SUM(E101+E103)","v":0}]
[null,null,"categorías de entrada","Nuevas admisiones: Hombres Mayores (B1)",null,null,"Admisiones totales mujeres mayores (D = B   C)",{"$f":"SUM(E102+E104)","v":0}]
[null,null,null,"Nuevas admisiones: mujeres mayores (B2)",null,null,"salidas totales hombres mayores (H = E   F   G)",{"$f":"E105+E107+E109+E111+E113+E115","v":0}]
[null,null,null,"Casos antiguos (derivados de OTP, personas que retoman el tratamiento, translados de otro centro de estabilización): hombres mayores (C1)",null,null,"salidas totales Mayor femenino (H = E   F   G)",{"$f":"E106+E108+E110+E112+E114+E116","v":0}]
[null,null,null,"Casos antiguos (derivados de OTP, personas que retoman el tratamiento, translados de otro centro de estabilización): mujeres mayores (C2)",null,null,"Total al final del (periodo de tiempo) varones de más edad (I = A   DH)",{"$f":"IF(ISBLANK(E99),\"\",E99+H100-H102)","v":""}]
[null,null,"categorías de salida","Pacientes hospitalizados estabilizados y referidos a OTP: hombres mayores (E1)",null,null,"Total al final del (periodo de tiempo) Mayor Femenino (I = A   DH)",{"$f":"IF(ISBLANK(E100),\"\",E100+H101-H103)","v":""}]
[null,null,null,"Pacientes hospitalizados estabilizados y referidos a OTP: mujeres mayores (E2)",null,null,"tasas curados descargadas",{"$f":"IF(ISBLANK(E106),\"\",(E107+E108)/(H109))","v":""},"(Min  Normas ESFERA. > 75%)"]
[null,null,null,"Alta por curación (casos especiales que terminan tratamiento): hombres mayores (F1)",null,null,"tasa muerto descargada",{"$f":"IF(ISBLANK(E107),\"\",(E109 + E110)/(H109))","v":""},"(Min  Normas ESFERA. <10%)"]
[null,null,null,"Alta por curación (casos especiales que terminan tratamiento): mujeres mayores (F2)",null,null,"tasa omitido descargada",{"$f":"IF(ISBLANK(E109),\"\",(E111 + E111)/(H103+H102))","v":""},"(Min  Normas ESFERA. <15%)"]
[null,null,null,"Altas por muerte: hombres mayores (F3)",null,null,"salidas totales (J = E   F   G)",{"$f":"IF(ISBLANK(E105:F116),\"\",SUM(H102,H103))","v":0}]
[null,null,null,"Altas por muerte: mujeres mayores (F4)",null,null,"Total al final del (período de tiempo) (K = A   DJ)",{"$f":"IF(ISBLANK(E99),\"\",E99+E100+H100+H101-H109)","v":""}]
[null,null,null,"Altas por abandono:hombres mayores (F5)"]
[null,null,null,"Altas por abandono: mujeres mayores (F6)"]
[null,null,null,"Altas sin curación: hombres mayores (F7)"]
[null,null,null,"Altas sin curación: mujeres mayores (F8)"]
[null,null,null,"Otras transferencias: hombres mayores (G1)"]
[null,null,null,"Otras transferencias: mujeres mayores (G2)"]
["Gestión de la desnutrición aguda grave, para pacientes ambulatorios"]
[null,"Niños 6-59 meses","Final total del último (período de tiempo): niños (A1)",null,null,null,"Cálculo automático Niños/as 6-59m"]
[null,null,"Final total del último (período de tiempo): niñas (A2)",null,null,null,"Total admisiones  niños (D = B   C)",{"$f":"SUM(E122+E120)","v":0}]
[null,null,"categorías de entrada","Nuevas admisiones: niños(B1)",null,null,"Total admisiones niñas (D = B   C)",{"$f":"SUM(E121+E123)","v":0}]
[null,null,null,"Nuevas admisiones: niñas (B2)",null,null,"Total salidas niños (H = F   G)",{"$f":"SUM(E124+E126+E128+E130+E132+E134)","v":0}]
[null,null,null,"Casos antiguos (derivados de OTP, personas que retoman el tratamiento, translados de otro centro de estabilización) : Niños (C1)",null,null,"Total salidas niñas (H = F   G)",{"$f":"SUM(E125+E127+E129+E131+E133+E135)","v":0}]
[null,null,null,"Casos antiguos (derivados de OTP, personas que retoman el tratamiento, translados de otro centro de estabilización): Niñas (C2)",null,null,"Total niños al final del (periodo de tiempo) (I = A   DH)",{"$f":"IF(ISBLANK(E118),\"\",E118+H119-H121)","v":""}]
[null,null,"categorías de salida","Alta por curación: niños (F1)",null,null,"Total niñas al final del (periodo de tiempo) (I = A   DH)",{"$f":"IF(ISBLANK(E119),\"\",E119+H120-H122)","v":""}]
[null,null,null,"Altas por curación: niñas (F1)",null,null,"tasas altas por curación",{"$f":"IF(ISBLANK(E124),\"\",(E124+E125)/(H128))","v":""},"(Min Normas ESFERA. > 75%)"]
[null,null,null,"Altas por muerte: niños (F2)",null,null,"tasa altas por muerte",{"$f":"IF(ISBLANK(E126),\"\",(E126 + E127)/(H128))","v":""},"(Min Normas ESFERA. <10%)"]
[null,null,null,"Altas por muerte: niñas (F2)",null,null,"tasa altas por abandono",{"$f":"IF(ISBLANK(E128),\"\",(E128 + E129)/(H122+H121))","v":""},"(Min Normas ESFERA.  <15%)"]
[null,null,null,"Altas por abandono: niños (F3)",null,null,"salidas totales (J = F   G)",{"$f":"IF(ISBLANK(E124:E135),\"\",SUM(H121,H122))","v":""}]
[null,null,null,"Altas por abandono: niñas (F3)",null,null,"Total al final del (período de tiempo) (K = A   DJ)",{"$f":"IF(ISBLANK(E118),\"\",E118+E119+H119+H120-H128)","v":""}]
[null,null,null,"Altas sin curación: niños (F4)"]
[null,null,null,"Altas sin curación: niñas (F4)"]
[null,null,null,"Derivaciones a centros de estabilización: niños (F5)"]
[null,null,null,"Derivaciones a centros de estabilización: niñas (F6)"]
[null,null,null,"Otras transferencias: niños (G1)"]
[null,null,null,"Otras transferencias: niñas (G2)"]
[null,null,"Ganancia media diaria de peso (AWG) para el alta por curación (en gramos / kg / día)",null,null,null,"(Recomendado> 4 g / kg / día)"]
[null,null,"Duración media de la estancia (LOS) para el alta por curación (en días)",null,null,null,"(Recomendado <60 días)"]
[]
[null,"Personas mayores (definición de país de \"persona mayor\" o  ≥60años)","fin total de la última (período de tiempo): Hombres Mayor (A1)",null,null,null,"Cálculo automático Personas Mayores"]
[null,null,"fin total de la última (período de tiempo): Mayor femenino (A2)",null,null,null,"admisiones totales hombres mayores (D = B   C)",{"$f":"E141+E143","v":0}]
[null,null,"categorías de entrada","Nuevas admisiones: hombres mayores (B1)",null,null,"Admisiones totales mujeres mayores (D = B   C)",{"$f":"E142+E144","v":0}]
[null,null,null,"Nuevas admisiones: mujeres mayores (B2)",null,null,"salidas totales hombres mayores (H = F   G)",{"$f":"SUM(E145+E147+E149+E151+E153+E155)","v":0}]
[null,null,null,"Casos antiguos (derivados de OTP, personas que retoman el tratamiento, translados de otro centro de estabilización) : hombres mayores (C1)",null,null,"salidas totales mujeres mayores (H = F   G)",{"$f":"SUM(E146+E148+E150+E152+E154+E156)","v":0}]
[null,null,null,"Casos antiguos (derivados de OTP, personas que retoman el tratamiento, translados de otro centro de estabilización) : mujeres mayores (C2)",null,null,"Total hombres mayores al final del (periodo de tiempo) (I = A   DH)",{"$f":"IF(ISBLANK(E139),\"\",E139+H140-H142)","v":""}]
[null,null,"categorías de salida","Altas por curación: hombres mayores (F1)",null,null,"Total mujeres mayores al final del (periodo de tiempo) (I = A   DH)",{"$f":"IF(ISBLANK(E140),\"\",E140+H141-H143)","v":""}]
[null,null,null,"Altas por curación: mujeres mayores (F1)",null,null,"tasa altas por curación",{"$f":"IF(ISBLANK(E145),\"\",(E145+E146)/(H149))","v":""},"(Min Normas ESFERA.> 75%)"]
[null,null,null,"Altas por muerte: hombres mayores (F2)",null,null,"tasa altas por muerte",{"$f":"IF(ISBLANK(E147),\"\",(E147 + E148)/(H149))","v":""},"(Min Normas ESFERA. <10%)"]
[null,null,null,"Altas por muerte: mujeres mayores (F2)",null,null,"tasa altas por abandono",{"$f":"IF(ISBLANK(E149),\"\",(E149 + E150)/(H143+H142))","v":""},"(Min Normas ESFERA. <15%)"]
[null,null,null,"Altas por abandono: hombres mayores (F3)",null,null,"salidas totales (J = F   G)",{"$f":"IF(ISBLANK(E145:F156),\"\",SUM(E145:E154))","v":0}]
[null,null,null,"Altas por abandono: mujers mayores (F3)",null,null,"Total al final del (período de tiempo) (K = A   DJ)",{"$f":"IF(ISBLANK(E139),\"\",E139+E140+H140+H141-H149)","v":""}]
[null,null,null,"Altas sin curación: hombre mayores (F4)"]
[null,null,null,"Altas sin curación: mujeres mayores (F4)"]
[null,null,null,"Derivaciones a centros de estabilización: hombres mayores (F5)"]
[null,null,null,"Derivaciones a centros de estabilización: mujeres mayores (F6)"]
[null,null,null,"Otras transferencias: hombre mayores (G1)"]
[null,null,null,"Otras transferencias: mujeres mayores (G2)"]
[]
["Programas de alimentación suplementaria selectiva"]
[null,"Niños/as 6-59 meses","fin total del último (período de tiempo): Niños (A1)",null,null,null,"Cálculo automático Niños/as 6-59m"]
[null,null,"fin total del último (período de tiempo): niñas (A1)",null,null,null,"Total admisión niños (D = B   C)",{"$f":"SUM(E163+E161)","v":0}]
[null,null,"categorías de entrada","Nuevas admisiones: niños (B1)",null,null,"Total admisión niñas (D = B   C)",{"$f":"SUM(E162+E164)","v":0}]
[null,null,null,"Nuevas admisiones: niñas(B2)",null,null,"Total salidas niños (H = E   G)",{"$f":"SUM(E165+E167+E169+E171+E173+E175)","v":0}]
[null,null,null,"Casos antiguos (derivados de OTP, personas que retoman el tratamiento, translados de otro centro de estabilización): Niños (C1)",null,null,"Total salidas niñas (H = E   G)",{"$f":"SUM(E166+E168+E170+E172+E174+E176)","v":0}]
[null,null,null,"Casos antiguos (derivados de OTP, personas que retoman el tratamiento, translados de otro centro de estabilización): niñas (C2)",null,null,"Total niños al final del (periodo de tiempo) (I = A   DH)",{"$f":"IF(ISBLANK(E159),\"\",E159+H160-H162)","v":""}]
[null,null,"categorías de salida","Altas por curación: Niños (E1)",null,null,"Total niñas al final del (periodo de tiempo) (I = A   DH)",{"$f":"IF(ISBLANK(E160),\"\",E160+H161-H163)","v":""}]
[null,null,null,"Altas por curación: niñas (E2)",null,null,"tasa altas por curación",{"$f":"IF(ISBLANK(E166),\"\",(E166+E165)/(H169))","v":""},"(Min  Normas ESFERA.> 75%)"]
[null,null,null,"Altas por muerte: Niños (E3)",null,null,"tasa altas por muerte",{"$f":"IF(ISBLANK(E167),\"\",(E167 + E168)/(H169))","v":""},"(Las normas de Esfera min. <3%)"]
[null,null,null,"Altas por muerte: niñas (E4)",null,null,"tasa altas por abandono",{"$f":"IF(ISBLANK(E169),\"\",(E169 + E170)/(H169))","v":""},"(Min Normas ESFERA.  <15%)"]
[null,null,null,"Altas por abandono: Niños (E5)",null,null,"salidas totales (J = E   G)",{"$f":"IF(ISBLANK(E165),\"\",SUM(H162:H163))","v":""}]
[null,null,null,"Altas por abandono: niñas (E6)",null,null,"Total al final del (período de tiempo) (K = A   DJ)",{"$f":"IF(ISBLANK(E159),\"\",E159+E160+H160+H161-H169)","v":""}]
[null,null,null,"Alta sin curación: Niños (E7)"]
[null,null,null,"Altas sin curación: niñas (E8)"]
[null,null,null,"Derivados a OTP / SC: niños (E9)"]
[null,null,null,"Derivados a OTP / SC: niñas (E10)"]
[null,null,null,"Otras transferencias niños (G1)"]
[null,null,null,"Otras transferencias niñas (G2)"]
[null,null,"Duración media de la estancia para altas por curación (en días)"]
[null,null,"Valor kcal de la ración suplementaria diaria (kcal / día)"]
[null,null,"Producto provisto"]
[]
[null,"Embarazadas y mujeres lactantes (MEL)","fin total del último (período de tiempo): MEL (A)",null,null,null,"Cálculo automático MEL"]
[null,null,"categorías de entrada","Nuevas admisiones en este (periodo de tiempo): MEL (B)",null,null,"Total admisiones MEL (D = B   C)",{"$f":"IF(ISBLANK(E182),\"\",E182+E183)","v":""}]
[null,null,null,"Casos antiguos (derivados de OTP, personas que retoman el tratamiento, translados de otro centro de estabilización): MEL (C1)",null,null,"tasa de alta por curación",{"$f":"IF(ISBLANK(E184),\"\",E184/(H186))","v":""},"(Min  Normas ESFERA. > 75%)"]
[null,null,"categorías de salida","Alta por curación: MEL (F1)",null,null,"tasa alta por muerte",{"$f":"IF(ISBLANK(E185),\"\",E185/(H186))","v":""},"(Las normas de Esfera min. <3%)"]
[null,null,null,"Alta por muerteo: MEL (F2)",null,null,"tasa alta por abandono",{"$f":"IF(ISBLANK(E187),\"\",E186/(H186))","v":""},"(Min Normas ESFERA. <15%)"]
[null,null,null,"Alta por abandono: MEL (F3)",null,null,"salidas totales (J = F   G)",{"$f":"IF(ISBLANK(E184),\"\",SUM(E184:E189))","v":""}]
[null,null,null,"Alta sin recuperación: MEL (F4)",null,null,"Total al final del (período de tiempo) (K = A   DJ)",{"$f":"IF(ISBLANK(E181),\"\",E181+H182-H186)","v":""}]
[null,null,null,"Derivadas a OTP / SC: MEL (F5)"]
[null,null,null,"Otras transferencias: MEL (G)"]
[null,null,"Duración media de la estancia para altas por curación (en días)"]
[null,null,"Valor kcal de la ración suplementaria diaria (kcal / día)"]
[null,null,"Producto provisto"]
[]
[null,"Personas mayores (definición de país de \"personas mayores\" o  ≥60años)","fin total del último (período de tiempo): Hombres Mayores (A1)"]
[null,null,"fin total del último (período de tiempo): Mujeres mayores (A2)",null,null,null,"Cálculo automático Personas Mayores"]
[null,null,"categorías de entrada","Nuevas admisiones: Hombres Mayor (B1)",null,null,"Admisiones totales hombres mayores (D = B   C)",{"$f":"SUM(E196+E198)","v":0}]
[null,null,null,"Nuevas admisiones: Mayor Femenino (B2)",null,null,"Admisiones totales mujeres mayores (D = B   C)",{"$f":"SUM(E197+E199)","v":0}]
[null,null,null,"Casos antiguos (derivados de OTP, personas que retoman el tratamiento, translados de otro centro de estabilización): hombres mayores (C1)",null,null,"salidas totales hombres mayores (H = E   G)",{"$f":"SUM(E200+E202+E204+E206+E208+E210)","v":0}]
[null,null,null,"Casos antiguos (derivados de OTP, personas que retoman el tratamiento, translados de otro centro de estabilización): Mujeres mayores (C2)",null,null,"salidas totales mujeres mayores (H = E   G)",{"$f":"SUM(E201,E203,E205,E207,E209,E211)","v":0}]
[null,null,"categorías de salida","Alta por curación: hombres mayores (E1)",null,null,"Total hombres mayores al final del (periodo de tiempo) (I = A   DH)",{"$f":"IF(ISBLANK(E194),\"\",E194+H196-H198)","v":""}]
[null,null,null,"Alta por curación: mujres mayores (E2)",null,null,"Total mujeres mayores al final del (periodo de tiempo) (I = A   DH)",{"$f":"IF(ISBLANK(E195),\"\",E195+H197-H199)","v":""}]
[null,null,null,"Altas por muerte: hombres mayores (E3)",null,null,"tasa altas por curación",{"$f":"IF(ISBLANK(E202),\"\",(E200+E201)/(H205))","v":""},"(Min Normas ESFERA.  75%)"]
[null,null,null,"Altas por muerte: mujeres mayores (E4)",null,null,"tasa altas por muerte",{"$f":"IF(ISBLANK(E203),\"\",(E202+ E203)/(H205))","v":""},"(Las normas de Esfera min. <3%)"]
[null,null,null,"Altas por abandano: hombres mayores (E5)",null,null,"tasa altas por abandono",{"$f":"IF(ISBLANK(E205),\"\",(E204+E205)/(H205))","v":""},"(Min Normas ESFERA. <15%)"]
[null,null,null,"Altas por abandono: mujeres mayores (E6)",null,null,"salidas totales (J = E   G)",{"$f":"IF(ISBLANK(E200),\"\",SUM(H198:H199))","v":""}]
[null,null,null,"Altas sin recuperación: hombres mayores (E7)",null,null,"Total al final del (período de tiempo) (K = A   DJ)",{"$f":"IF(ISBLANK(E194),\"\",E194+E195+H196+H197-H205)","v":""}]
[null,null,null,"Altas sin recuperación: mujeres mayores (E8)"]
[null,null,null,"Derivados a OTP / SC: hombres mayores (E9)"]
[null,null,null,"Derivados a OTP / SC: mujeres mayores (E10)"]
[null,null,null,"Otras transferencias: hombres mayores (G1)"]
[null,null,null,"Otras transferencias: mujeres mayores (G2)"]
[null,null,"Duración media de la estancia para altas por curación (en días)"]
[null,null,"Valor kcal de la ración suplementaria diaria (kcal / día)"]
[null,null,"Producto provisto"]
[]
["Programas de alimentación suplementaria general"]
[null,"Niños/as 6-23 meses","No. de niños 6-23m nuevos en el programa durante el (período de tiempo)",null,{"$f":"SUM(E218,E219)","v":0},null,"Cálculo automático Niños/as 6-23m"]
[null,null,"Niños",null,null,null,"Número medio de niños/as  6-23m  que participaron en la distribución durante el (periodo de tiempo) ",{"$f":"E220/E223","v":{"$error":"#DIV/0!"}}]
[null,null,"Niñas"]
[null,null,"Número total de niños/as 6-23m que asistieron a la distribución en este (periodo de tiempo) ",null,{"$f":"SUM(E221,E222)","v":0}]
[null,null,"Niños"]
[null,null,"Niñas"]
[null,null,"Número de distribuciones durante este (periodo de tiempo) "]
[null,null,"valor kcal de ración suplementaria diaria (kcal / día)"]
[null,null,"Producto provisto"]
[]
[null,"Niños/as 6-59 meses","No. de niños 6-59m nuevos en el programa durante el (período de tiempo)",null,{"$f":"SUM(E228,E229)","v":0},null,"Cálculo automático Niños/as 6-59m"]
[null,null,"Niños",null,null,null,"Número medio de niños/as 6-59m que participaron en la distribución durante el (periodo de tiempo) ",{"$f":"(E230/E233)","v":{"$error":"#DIV/0!"}}]
[null,null,"Niñas"]
[null,null,"Número total de niños/as 6-23m que asistieron a la distribución en este (periodo de tiempo) ",null,{"$f":"SUM(E231,E232)","v":0}]
[null,null,"Niños"]
[null,null,"Niñas"]
[null,null,null,"Número de distribuciones durante este (periodo de tiempo) "]
[null,null,"valor kcal de ración suplementaria diaria (kcal / día)"]
[null,null,"Producto provisto"]
[]
[null,"Mujeres embarazadas y lactantes","Número de mujeres embarazadas y lactantes recién inscritas durante el (período de tiempo)",null,null,null,"Cálculo automático MEL"]
[null,null,"Número total de mujeres embarazadas y lactantes que asistieron a la distribución en este (periodo de tiempo)",null,null,null,"Promedio de MEL que participaron en la distribución durante el (periodo de tiempo) ",{"$f":"(E238/E239)","v":{"$error":"#DIV/0!"}}]
[null,null,null,"Número de distribuciones durante este (periodo de tiempo)"]
[null,null,"valor kcal de ración suplementaria diaria (kcal / día)"]
[null,null,"Producto provisto"]
[]
[null,"Personas mayores (definición de país de \"persona mayor\" o ≥60 años) ","Nº de personas mayores de nuevo ingreso durante el (período de tiempo)",null,{"$f":"SUM(E244,E245)","v":0},null,"Cálculo automático Personas Mayores"]
[null,null,"Hombres mayores",null,null,null,"Promedio de personas mayores que participaron en la distribución durante el  (periodo de tiempo) ",{"$f":"(E246/E249)","v":{"$error":"#DIV/0!"}}]
[null,null,"Mujeres mayores"]
[null,null,"Número total de personas mayores que asistieron a la distribución en este (periodo de tiempo) ",null,{"$f":"SUM(E247,E248)","v":0}]
[null,null,"Hombres mayores"]
[null,null,"Mujeres mayores"]
[null,null,"Número de distribuciones durante este (periodo de tiempo) "]
[null,null,"valor kcal de ración suplementaria diaria (kcal / día)"]
[null,null,"Producto provisto"]
[]
["Suplementación de micronutrientes"]
[null,"Suplementos de vitamina A administrada a niños de 6-11 meses y 12-59 meses ",null,"Número total de niños/as de 6-11 meses que han recibido  Vit-A durante el (período de tiempo)",{"$f":"SUM(E255:E256)","v":0},null,"Cálculo automático niños/a s 6-11 meses que recibieron vit-A"]
[null,null,null,"Niños",null,null,"% niños ",{"$f":"IF(ISBLANK(E255),\"\",E255/E254)","v":""}]
[null,null,null,"Niñas",null,null,"% niñas",{"$f":"IF(ISBLANK(E256),\"\",E256/E254)","v":""}]
[null,null,null,"Número total de niños/as  de 12-59 meses que han recibido Vit-A durante el (período de tiempo)",{"$f":"SUM(E258:E259)","v":0},null,"Cálculos automático niños/as 12-59 meses que recibieron vit-A"]
[null,null,null,"Niños ",null,null,"% niños ",{"$f":"IF(ISBLANK(E258),\"\",E258/E257)","v":""}]
[null,null,null,"Niñas",null,null,"% niñas",{"$f":"IF(ISBLANK(E259),\"\",E259/E257)","v":""}]
[]
[null,"Suplementos de vitamina A administados a MEL",null,"Número total de mujeres embarazadas y  lactantes que han recibido  Vit-A durante el (período de tiempo)",{"$f":"SUM(E262:E263)","v":0},null,"Cálculo automático MEL que recibieron vit-A"]
[null,null,null,"Embarazadas",null,null,"% mujeres embarazadas",{"$f":"IF(ISBLANK(E262),\"\",E262/E261)","v":""}]
[null,null,null,"Lactantes",null,null,"% mujeres lactantes",{"$f":"IF(ISBLANK(E263),\"\",E263/E261)","v":""}]
[]
[null,"Suplementos de vitamina A administrados a personas mayores (definición de país de \"persona mayor\" o ≥ 60años)",null,"Número total de personas mayores que han recibido  Vit-A durante el (período de tiempo)",{"$f":"SUM(E266:E267)","v":0},null,"Cálculo automático personas mayores que recibieron vit-A"]
[null,null,null,"Hombres mayores",null,null,"% hombres mayores",{"$f":"IF(ISBLANK(E266),\"\",E266/E265)","v":""}]
[null,null,null,"Mujeres mayores",null,null,"% mujeres mayores",{"$f":"IF(ISBLANK(E267),\"\",E267/E265)","v":""}]
[]
[null,"Micronutrientes en Polvo (MNP) administrados a  niños/as de 6-24 meses (polvos)",null,"Número total de niños/as 6-24meses que han recibido  MNP durante el (período de tiempo)",{"$f":"SUM(E270:E271)","v":0},null,"Cálculo automático niños/as  6-24 meses que recibieron MNP"]
[null,null,null,"Niños",null,null,"% niños ",{"$f":"IF(ISBLANK(E270),\"\",E270/E269)","v":""}]
[null,null,null,"Niñas",null,null,"% niñas",{"$f":"IF(ISBLANK(E271),\"\",E271/E269)","v":""}]
[]
[null,"Comprimidos de micronutrientes (MNT) administrados a MEL",null,"Número total de mujeres embarazadas y lactantes que han recibido  MNT durante el (período de tiempo)"]
[]
[null,"Micronutrientes en Polvo / Espolvorear (MNP) dado a las personas mayores ",null,"Número total de personas mayores que han recibido  MNP durante el (período de tiempo)",{"$f":"SUM(E276:E277)","v":0},null,"Cálculo automático personas mayores que recibieron MNP"]
[null,null,null,"Hombres mayores",null,null,"% hombres mayores",{"$f":"IF(ISBLANK(E276),\"\",E276/E275)","v":""}]
[null,null,null,"Mujeres mayores",null,null,"% mujeres mayores",{"$f":"IF(ISBLANK(E277),\"\",E277/E275)","v":""}]
[]
[null,"Hierro y ácido fólico administrado a MEL",null,"Número total de mujeres embarazadas y lactantes que han recibido hierro y ácido fólico durante el (período de tiempo)"]
[]
[null,"Hierro y ácido fólico administrado a  personas mayores",null,"Número total de personas mayores que han recibido hierro y ácido fólico durante el (período de tiempo) ",{"$f":"SUM(E282,E283)","v":0},null,"Cálculo automático personas mayores suplementadas con hierro y ácido fólico"]
[null,null,null,"Hombres mayores",null,null,"% hombres mayores",{"$f":"IF(ISBLANK(E282),\"\",E282/E281)","v":""}]
[null,null,null,"Mujeres mayores",null,null,"% mujeres mayores",{"$f":"IF(ISBLANK(E283),\"\",E283/E281)","v":""}]
[]
["Desparasitación"]
[null,"Nº de niños de 12-59 meses desparasitados",null,"Número total de niños 12-59meses desparasitados durante el (período de tiempo)",{"$f":"SUM(E287:E288)","v":0},null," Cálculo automático niños/as 12-59meses desparasitados"]
[null,null,null,"Niños ",null,null,"% niños ",{"$f":"IF(ISBLANK(E287),\"\",E287/E286)","v":""}]
[null,null,null,"Niñas",null,null,"% niñas",{"$f":"IF(ISBLANK(E288),\"\",E288/E286)","v":""}]
[]
[null,"Número de mujeres embarazadas  y lactantes desparasitadas",null,"Número total de mujeres embarazadas y lactantes desparasitadas durante el (período de tiempo)"]
[]
[null,"Número de personas mayores desparasitadas",null,"Número total de personas mayores desparasitadas durante el (período de tiempo)",{"$f":"SUM(E293:E294)","v":0},null,"Cálculo automático personas mayores desparasitadas"]
[null,null,null,"Hombres mayores",null,null,"% hombres mayores",{"$f":"IF(ISBLANK(E293),\"\",E293/E292)","v":""}]
[null,null,null,"Mujeres mayores",null,null,"% mujeres mayores",{"$f":"IF(ISBLANK(E294),\"\",E294/E292)","v":""}]
[]
["Alimentación de lactantes y niños pequeños"]
[null,"Sesiones individuales (uno a uno)","Mujeres embarazadas que asistieron a sesiones de asesoramiento individual"]
[null,null,"Mujeres lactantes y cuidadores de niños/as <6 meses que asistieron a sesiones de asesoramiento individual",null,null,null,"Cálculo automático MEL y cuidadores que asistieron a la orientación individual"]
[null,null,"Mujeres lactantes y cuidadores de niños/as de 6-24 meses que asistieron a sesiones de asesoramiento individual",null,null,null,"Total",{"$f":"IF(ISBLANK(E298),\"\",SUM(E297:E299))","v":""}]
[null,"ALNP asesoramiento - Las sesiones de grupo","Número de grupos de ALNP (incluidos los grupos de apoyo de madres) en funcionamiento durante el (período de tiempo)"]
[null,null,"Número total de sesiones de grupo (incluidos los grupos de apoyo de madres) mantenidos en el (período de tiempo)"]
[null,null,"Nuevas admisiones de mujeres embarazadas y lactantes y cuidadores en grupos ALNP (incluidos los grupos de apoyo de madres) durante el (período de tiempo)",null,{"$f":"SUM(E303,E304)","v":0},null,"Cálculo automático MEL y cuidadores admitidos en grupos ALNP"]
[null,null,null,"Hombres",null,null,"% hombres ",{"$f":"IF(ISBLANK(E303),\"\",E303/E302)","v":""}]
[null,null,null,"Mujeres",null,null,"% mujeres",{"$f":"IF(ISBLANK(E303),\"\",E304/E302)","v":""}]
[null,null,null,"Número total de mujeres embarazadas y lactantes y cuidadores que asistieron a grupos de ALNP (incluidos los grupos de apoyo de madres) durante el (período de tiempo)",{"$f":"SUM(E306,E307)","v":0}]
[null,null,null,"Hombres"]
[null,null,"Mujeres"]
[null,"alimentación artificial","Número total de lactantes de 0-6 meses que requieren alimentación artificial que han recibido BMS y apoyo apropiado durante el (período de tiempo)",null,null,null,"Nota: las sesiones de asesoramiento ALNP incluyen el inicio temprano de la lactancia materna exclusiva, el contacto piel a piel, relaction, alimentación complementaria, los suplementos de micronutrientes, el VIH y la alimentación infantil, el uso apropiado de BMS, etc ..."]
[null,null,"Número total de lactantes de 6-24 meses de edad que requieren alimentación artificial que han recibido BMS y apoyo apropiado durante el (período de tiempo)"]
[null,"La lactancia materna esquinas / espacios amigos de los niños","Número total de rincones para la lactancia materna / espacios que promueven la lactancia materna abiertos durante el (período de tiempo)"]
[null,null,"Número de rincones para la lactancia materna / espacios que promueven la lactancia materna en funcionamiento durante el (período de tiempo)"]
[null,null,"Nuevas admisiones de madres lactantes durante el (período de tiempo)"]
[null,null,"Número total de mujeres lactantes que asistieron a los rincones para la lactancia materna / espacios que promueven la lactancia materna durante el (período de tiempo)"]
[]
["Desarrollo de capacidades"]
[null,null,"Type/Topic of Training"]
[null,"Entrenamiento en MUAC,  detección, derivación y movilización de la comunidad",null,"Tipo de formación",null,null,"Nº de formaciones"]
[null,null,null,"Categoría principal del personal formado",null,null,"De qué agencia / s"]
[null,null,null,"Hombres",null,null,"Número de días"]
[null,null,null,"Mujeres"]
[null,null,null,"Comentarios"]
[]
[null,null,"Type/Topic of Training",null,null,null,"Automatic calculations Training 2"]
[null,"Formación sobre la gestión integrada de la desnutrición aguda (IMAM): SAM / TF (pacientes hospitalizados)",null,"Tipo de formación",null,null,"Nº de formaciones"]
[null,null,null,"Categoría principal del personal formado",null,null,"De qué agencia / s"]
[null,null,null,"Hombres",null,null,"Número de días"]
[null,null,null,"Mujeres"]
[null,null,null,"Comentarios"]
[]
[null,null,"Type/Topic of Training",null,null,null,"Automatic calculations Training 3"]
[null,"Formación sobre la gestión integrada de la desnutrición aguda (IMAM): SAM / TF (pacientes ambulatorios)",null,"Tipo de formación",null,null,"Nº de formaciones"]
[null,null,null,"Categoría principal del personal formado",null,null,"De qué agencia / s"]
[null,null,null,"Hombres",null,null,"Número de días"]
[null,null,null,"Mujeres"]
[null,null,null,"Comentarios"]
[]
[null,null,"Type/Topic of Training",null,null,null,"Automatic calculations Training 4"]
[null,"Formación sobre la gestión integrada de la desnutrición aguda (IMAM): MAM / TSFP",null,"Tipo de formación",null,null,"Nº de formaciones"]
[null,null,null,"Categoría principal del personal formado",null,null,"De qué agencia / s"]
[null,null,null,"Hombres",null,null,"Número de días"]
[null,null,null,"Mujeres"]
[null,null,null,"Comentarios"]
[]
[null,"Formación sobre alimentación infantil",null,"Tipo de formación",null,null,"Nº de formaciones"]
[null,null,null,"Categoría principal del personal capacitado",null,null,"De qué agencia / s"]
[null,null,null,"Hombres",null,null,"Número de días"]
[null,null,null,"Mujeres"]
[null,null,null,"Comentarios"]
[]
[null,"Formación sobre encuesta de SMART",null,"Tipo de formación",null,null,"Nº de formaciones"]
[null,null,null,"Categoría principal del personal formado",null,null,"De qué agencia / s"]
[null,null,null,"Hombres",null,null,"Número de días"]
[null,null,null,"Mujeres"]
[null,null,null,"Comentarios"]
[]
[null,"Formación de preparación y respuesta a emergencias",null,"Tipo de formación",null,null,"Nº de formaciones"]
[null,null,null,"Categoría principal del personal formado",null,null,"De qué agencia / s"]
[null,null,null,"Hombres",null,null,"Número de días"]
[null,null,null,"Mujeres"]
[null,null,null,"Comentarios"]
[]
[null,"Formación sobre el enfoque de clústeres",null,"Tipo de formación",null,null,"Nº de formaciones"]
[null,null,null,"Categoría principal del personal formado",null,null,"De qué agencia / s"]
[null,null,null,"Hombres",null,null,"Número de días"]
[null,null,null,"Mujeres"]
[null,null,null,"Comentarios"]
[]
["Comentarios"]
[null,"Cualquier comentario sobre programas, lagunas o preocupaciones"]

{"sheet":"Site8","index":9,"n_rows":369,"n_cols":26,"rows_kept":369,"cut":false,"hidden":false,"merged":[[368,1,385,1],[368,2,385,8],[355,1,359,2],[355,6,355,7],[356,6,356,7],[357,6,357,7],[359,4,359,8],[361,1,365,2],[361,6,361,7],[362,6,362,7],[363,6,363,7],[365,4,365,8],[343,1,347,2],[343,6,343,7],[344,6,344,7],[345,6,345,7],[347,4,347,8],[349,1,353,2],[349,6,349,7],[350,6,350,7],[351,6,351,7],[353,4,353,8],[336,2,336,3],[336,6,336,7],[337,1,341,2],[337,6,337,7],[338,6,338,7],[339,6,339,7],[341,4,341,8],[329,2,329,3],[329,6,329,7],[330,1,334,2],[330,6,330,7],[331,6,331,7],[332,6,332,7],[334,4,334,8],[322,2,322,3],[322,6,322,7],[323,1,327,2],[323,6,323,7],[324,6,324,7],[325,6,325,7],[327,4,327,8],[314,0,314,3],[315,2,315,3],[316,1,320,2],[316,6,316,7],[317,6,317,7],[318,6,318,7],[320,4,320,8],[307,1,308,1],[307,2,307,3],[307,6,308,8],[308,2,308,3],[309,1,312,1],[309,2,309,3],[310,2,310,3],[311,2,311,3],[312,2,312,3],[299,1,306,1],[299,2,299,3],[300,2,300,3],[301,2,301,3],[301,6,301,7],[306,2,306,3],[295,0,295,3],[296,1,298,1],[296,2,296,3],[297,2,297,3],[297,6,297,7],[298,2,298,3],[284,0,284,3],[285,1,287,2],[285,6,285,7],[289,1,289,2],[291,1,293,2],[291,6,291,7],[272,1,272,2],[274,1,276,2],[274,6,274,7],[278,1,278,2],[280,1,282,2],[280,6,280,7],[260,1,262,2],[260,6,260,7],[264,1,266,2],[264,6,264,7],[268,1,270,2],[268,6,268,7],[248,2,248,3],[249,2,249,3],[250,2,250,3],[252,0,252,3],[253,1,258,2],[253,6,253,7],[256,6,256,7],[239,2,239,3],[240,2,240,3],[242,1,248,1],[242,2,242,3],[242,6,242,7],[243,2,243,3],[244,2,244,3],[245,2,245,3],[246,2,246,3],[247,2,247,3],[233,2,233,3],[234,2,234,3],[236,1,238,1],[236,2,236,3],[236,6,236,7],[237,2,237,3],[223,2,223,3],[224,2,224,3],[226,1,234,1],[226,2,226,3],[226,6,226,7],[227,2,227,3],[228,2,228,3],[229,2,229,3],[230,2,230,3],[231,2,231,3],[215,0,215,3],[216,1,224,1],[216,2,216,3],[216,6,216,7],[217,2,217,3],[218,2,218,3],[219,2,219,3],[220,2,220,3],[221,2,221,3],[222,2,222,3],[193,1,213,1],[193,2,193,3],[194,2,194,3],[194,6,194,7],[195,2,198,2],[199,2,210,2],[211,2,211,3],[212,2,212,3],[213,2,213,3],[180,1,191,1],[180,2,180,3],[180,6,180,7],[181,2,182,2],[183,2,188,2],[189,2,189,3],[190,2,190,3],[191,2,191,3],[157,0,157,3],[158,1,178,1],[158,2,158,3],[158,6,158,7],[159,2,159,3],[160,2,163,2],[164,2,175,2],[176,2,176,3],[177,2,177,3],[178,2,178,3],[135,1,136,1],[135,2,135,3],[136,2,136,3],[138,1,155,1],[138,2,138,3],[138,6,138,7],[139,2,139,3],[140,2,143,2],[144,2,155,2],[116,0,116,3],[117,1,134,1],[117,2,117,3],[117,6,117,7],[118,2,118,3],[119,2,122,2],[123,2,134,2],[81,1,96,1],[81,2,81,3],[81,6,81,7],[87,2,96,2],[98,1,115,1],[98,2,98,3],[98,6,98,7],[99,2,99,3],[100,2,103,2],[104,2,115,2],[52,1,58,1],[52,2,56,2],[61,0,61,3],[62,1,79,1],[62,2,62,3],[62,6,62,7],[63,2,63,3],[64,2,67,2],[68,2,79,2],[28,1,34,1],[28,2,32,2],[37,1,42,1],[37,2,40,2],[37,6,37,7],[44,1,50,1],[44,2,48,2],[44,6,44,7],[15,1,15,3],[17,1,17,3],[19,0,19,3],[20,1,26,1],[20,2,24,2],[20,6,20,7],[8,1,8,3],[9,1,9,3],[10,1,10,3],[13,1,13,3],[13,6,13,8],[14,1,14,3],[0,0,0,3],[1,0,1,2],[2,1,2,3],[5,1,5,3],[6,1,6,3],[7,1,7,3]]}
["Formulario para la presentación de informes por los socios",null,null,null,null,null,null,null,null,null,null,null,"Localidad","Nilo Alto","Jonglei","Unidad","Warrap","Bahr el Ghazal norte","Bahr el Ghazal Occidental","Lagos","Ecuatoria occidental","Equatoria central","Equatoria Oriental","Mes","Temas de la formación","Tipo de formación"]
["Información general",null,null,null,null,null,null,null,null,null,null,null,"Nilo Alto","Renk","Fangak","Pariang","Abyei","Aweil_Norte","Raga","Cueibet","Tambura","Terekeka","Torit","Enero","Examen con MUAC y derivaciones","Nuevo"]
[null,"Acrónimo de la agencia",null,null,null,null,null,null,null,null,null,null,"Jonglei","Manyo","Canal_Khor_Fulus","Abiemnhom","Twic","Aweil_este","Jur_River","Rumbek_Norte","Nagero","Juba","Lapon","Febrero","Protocolos para pacientes ambulatorios","Repaso"]
[null,null,null,"Nombre de la agencia",{"$f":"VLOOKUP(E3,Lists!A2:B200,2,FALSE)","v":{"$error":"#N/A"}}]
[null,null,null,"Semana del informe "]
[null,"Mes del informe:",null,null,null,null,null,null,null,null,null,null,"Unidad","Fashoda","Ayod","Mayom","Gogrial_occidental","Aweil_Sur","Wau","Rumbek_Centro","Nzara","Lainya","Kapoeta_Norte","Marzo","Protocolos para pacientes hospitalizados"]
[null,"Año del informe",null,null,null,null," ",null,null,null,null,null,"Warrap","Melut","Duk","Rubkona","Gogrial_este","Aweil_oeste",null,"Wulu","Ezo","Yei","Kapoeta_este","Abril","Protocolos para programas de alimentación suplementaria"]
[null,"Fecha de presentación del informe (DD / MM / AA)",null,null,null,null,null,null,null,null,null,null,"Bahr_el_Ghazal_norte","Maban","Uror","Guit","Tonj_Norte","Aweil_Centro",null,"Rumbek_este","Yambio","Morobo","Kapoeta_Sur","Mayo","Movilización comunitaria"]
[null,"Nivel administrativo 1",null,"Nivel administrativo 1",null,null,"P-Code Nivel Admin 1",{"$f":"INDEX(admin1pcode,MATCH(E9,admin1,0))","v":{"$error":"#N/A"}}]
[null,"Nivel administrativo 2",null,null,null,null,"P-Code nivel admin 2",{"$f":"INDEX(admin2pcode,MATCH(E10,admin2,0))","v":{"$error":"#N/A"}},null,null,null,null,"Lagos","Luakpiny_Nasir","Akobo","Leer","Tonj_Sur",null,null,"Yirol_este","Maridi",null,"Ikotos","Julio","Otros (por favor, especificar en la sección de comentarios)"]
[null,"Nivel administrativo 3",null,null,null,null,"P-Code nivel Admin 3",{"$f":"INDEX(admin3pcode,MATCH(E11,admin3,0))","v":{"$error":"#N/A"}},null,null,null,null,"Ecuatoria Occidental","Longochuk","Pochalla","Mayendit",null,null,null,"Awerial","Mvolo",null,"Magwi","Agosto"]
[null,null,null,"Nivel administrativo 4",null,null,"P-Code nivel admin 4",{"$f":"INDEX(admin4pcode,MATCH(E12,admin4,0))","v":{"$error":"#N/A"}}]
[null,null,null,"Nivel administrativo 5",null,null,"P-Code nivel administrativo 5",{"$f":"INDEX(admin5pcode,MATCH(E13,admin5,0))","v":{"$error":"#N/A"}}]
[null,"¿Se ha utilizado criterios expandidos de admisión ?",null,null,null,null,null,null,null,null,null,null,"Ecuatoria Central","Ulang","Pibor","Panyijar",null,"N/A","Operacional","No operacional","Mundri_oeste",null,null,"Septiembre"]
[null,"Centros de estabilización (SC)",null,null,null,null,"Estado del sitio",null,null,null,null,null,"Ecuatoria oriental","Baliet","Twic_este",null,null,null,null,"Sí","No",null,null,"Octubre"]
[null,"Pacientes ambulatorios centros terapéuticos (OTP)",null,null,null,null,"Estado del sitio",null,null,null,null,null,null,"Malakal","Bor_Sur",null,null,null,null,null,null,null,null,"Noviembre"]
[null,null,null,"Sitios de tratamiento a nivel comunitario (BSFPs)",null,null,"Estado del sitio",null,null,null,null,null,null,"Panyikang",null,null,null,null,null,null,null,null,null,"Diciembre"]
[null,"Sitios de alimentación suplementaria (TSFPs)",null,null,null,null,"Estado del sitio"]
[]
["Diagnóstico y derivaciones"]
[null,"Niños 6-59 meses","Revisión \n(mediciones MUAC)","Número examinados",{"$f":"SUM(E22:E25)","v":0},null,"Cálculo automático exámen y derivaciones"]
[null,null,null,"Nº de niños con edema bilateral",null,null,"No. total. (Niños+Niñas) examinados",{"$f":"IF(ISBLANK(E21),(IF(ISBLANK(E29),\"\",E21+E29)),E21+E29)","v":0}]
[null,null,null,"Nº de niños con MUAC rojo (<11.5 cm)",null,null,"No. total. (Niños+niñas) edema",{"$f":"IF(ISBLANK(E22),(IF(ISBLANK(E30),\"\",E22+E30)),E22+E30)","v":""}]
[null,null,null,"Nº de niños 6-59m con MUAC amarillo (≥ 11,5 cm a <12,5 cm)",null,null,"No. total. (Niños+Niñas) Rojo",{"$f":"IF(ISBLANK(E23),(IF(ISBLANK(E31),\"\",E23+E31)),E23+E31)","v":""}]
[null,null,null,"Nº de niños 6-59m con MUAC verde (≥ 12,5 cm)",null,null,"No. total. (Niños+Niñas) Amarillo",""]
[null,null,"Derivaciones","Nº de niños 6-59m derivados a OTP",null,null,"No. total. (Niños+Niñas) Verde",""]
[null,null,null,"Nº de niños 6-59m derivados a TSFP",null,null,"No. total. (Niños+Niñas) derivados a OTP",{"$f":"IF(ISBLANK(E26),(IF(ISBLANK(E34),\"\",E26+E34)),E26+E34)","v":""}]
[null,null,null,null,null,null,"No. total. (Niños+ niñas) derivados a TSFP",""]
[null,"Niñas 6-59 meses","Revisión \n(mediciones MUAC)","Número examinadas",{"$f":"SUM(E30:E33)","v":0},null,"% de niños+niñas con edema",{"$f":"IF(ISBLANK(E21),(IF(ISBLANK(E29),\"\",H23/H22)),H23/H22)","v":{"$error":"#VALUE!"}}]
[null,null,null,"Nº de niñas con edema bilateral",null,null,"% de (Niños+Niñas) Rojo",{"$f":"IF(ISBLANK(E21),(IF(ISBLANK(E29),\"\",H24/H22)),H24/H22)","v":{"$error":"#VALUE!"}}]
[null,null,null,"Nº de niñas 6-59m con MUAC rojo (<11.5 cm)",null,null,"(% De los muchachos de las muchachas  ) Amarillo",{"$f":"IF(ISBLANK(E21),(IF(ISBLANK(E29),\"\",H25/H22)),H25/H22)","v":{"$error":"#VALUE!"}}]
[null,null,null,"Nº de niñas 6-59m con MUAC amarillo (≥ 11,5 cm a <12,5 cm)",null,null,"(% De los muchachos de las muchachas  ) verde",{"$f":"IF(ISBLANK(E21),(IF(ISBLANK(E29),\"\",H26/H22)),H26/H22)","v":{"$error":"#VALUE!"}}]
[null,null,null,"Nº de niñas 6-59m con MUAC verde (≥ 12,5 cm)",null,null,"(% De los muchachos   Girls) se refirió a la PTF",{"$f":"IF(ISBLANK(E21),(IF(ISBLANK(E29),\"\",H27/H22)),H27/H22)","v":{"$error":"#VALUE!"}}]
[null,null,"Derivaciones","Nº de Niñas 6-59m derivadas a OTP",null,null,"% De los muchachos ( ) Las niñas que se refiere TSFP",{"$f":"IF(ISBLANK(E21),(IF(ISBLANK(E29),\"\",H28/H22)),H28/H22)","v":{"$error":"#VALUE!"}}]
[null,null,null,"Nº de niñas 6-59m derivadas a TSFP"]
[]
[]
[null,"Mujeres embarazadas y lactantes","Revisión \n(mediciones MUAC)","Número examinadas",{"$f":"SUM(E39:E41)","v":0},null,"Cálculos automáticos MEL"]
[null,null,null,"Número de mujeres embarazadas y lactantes con MUAC <21.0 cm",null,null,"% MUAC <21.0 cm",{"$f":"IF(ISBLANK(E39),\"\",E39/E38)","v":""}]
[null,null,null,"Número de mujeres embarazadas y lactantes con MUAC ≥21.0 cm a 23.0 cm <",null,null,"MUAC% ≥21.0 cm a <23,0 cm",{"$f":"IF(ISBLANK(E40),\"\",E40/E38)","v":""}]
[null,null,null,"Número de mujeres embarazadas y lactantes con MUAC ≥23.0 cm",null,null,"MUAC% ≥23.0 cm",{"$f":"IF(ISBLANK(E41),\"\",E41/E38)","v":""}]
[null,null,"Derivaciones","Número de mujeres embarazadas y lactantes derivadas a OTP",null,null,"%  mujeres embarzadas y lactantes derivadas a OTP",{"$f":"IF(ISBLANK(E42),\"\",E42/E38)","v":""}]
[null,null,null,"Número de mujeres embarazadas y lactantes derivadas a TSFP",null,null,"% mujeres embarazadas  y lactantes derivadas a TSFP",{"$f":"IF(ISBLANK(E43),\"\",E43/E38)","v":""}]
[]
[null,"Personas mayores\nhombres\n(definición de país de \"persona mayor\" o ≥ 60años)","Revisión \n(mediciones MUAC)","Número examinados: Hombres",{"$f":"SUM(E46:E49)","v":0},null,"Cálculo automático exámen y derivaciones"]
[null,null,null,"Nº de hombres mayoures con edema bilateral",null,null,"No. total. (Hombres mayores+mujeres mayores) examinados",{"$f":"IF(ISBLANK(E45),(IF(ISBLANK(E53),\"\",E45+E53)),E45+E53)","v":0}]
[null,null,null,"Nº de hombres mayores con MUAC <18,5 cm",null,null,"No. total. (Hombres mayores+mujers mayores) edema",{"$f":"IF(ISBLANK(E46),(IF(ISBLANK(E54),\"\",E46+E54)),E46+E54)","v":""}]
[null,null,null,"Nº de hombres mayoures con MUAC ≥18.5 cm a 21.0 cm <",null,null,"No. total. (hombres mayores+mujeres mayores ) con MUAC <18,5 cm",""]
[null,null,null,"Nº de hombres mayores con MUAC ≥21.0 cm",null,null,"No. total. (hombres mayores+mujeres mayores) con MUAC ≥18.5 cm a <21,0 cm",""]
[null,null,"Derivaciones","Nº de hombres mayores derivados a OTP",null,null,"Nº total de (hombres mayores+mujeres mayores) con MUAC ≥21.0 cm",""]
[null,null,null,"Nº de hombres mayores derivados a TSFP",null,null,"No. total. (hombres mayores+mujeres mayores) derivados a OTP",""]
[null,null,null,null,null,null,"No. total. ((hombres mayores+mujeres mayores) derivados a TSFP",""]
[null,"Personas mayores\nMujeres\n (definición de país de \"persona mayor\" o ≥ 60y)","Revisión \n(mediciones MUAC)","Número examinadas: Mujeres",{"$f":"SUM(E54:E57)","v":0},null,"% De edema (hombres mayores+mujeres mayores)",{"$f":"IF(ISBLANK(E45),(IF(ISBLANK(E53),\"\",H47/H46)),H47/H46)","v":{"$error":"#VALUE!"}}]
[null,null,null,"Nº mujeres mayores con edema bilateral",null,null,"% De (  hombres mayores+mujeres mayores) con MUAC <18,5 cm",{"$f":"IF(ISBLANK(E45),(IF(ISBLANK(E53),\"\",H48/H46)),H48/H46)","v":{"$error":"#VALUE!"}}]
[null,null,null,"Nº mujeres mayores con MUAC <18,5 cm",null,null,"% De ( hombres mayores+mujeres mayores) con MUAC ≥18.5 cm a <21.0 cm ",{"$f":"IF(ISBLANK(E45),(IF(ISBLANK(E53),\"\",H49/H46)),H49/H46)","v":{"$error":"#VALUE!"}}]
[null,null,null,"Nº  mujeres mayores con MUAC ≥18.5 cm a <21.0 cm ",null,null,"% De ( hombres mayores+mujeres mayores) con MUAC ≥21.0 cm",{"$f":"IF(ISBLANK(E45),(IF(ISBLANK(E53),\"\",H50/H46)),H50/H46)","v":{"$error":"#VALUE!"}}]
[null,null,null,"Nº mujeres mayoures con MUAC ≥21.0 cm",null,null,"% De (hombres mayores+mujeres mayores) derivados a OTP",{"$f":"IF(ISBLANK(E45),(IF(ISBLANK(E53),\"\",H51/H46)),H51/H46)","v":{"$error":"#VALUE!"}}]
[null,null,"Derivaciones","Nº mujeres mayores derivadas a OTP",null,null,"% De (hombres mayores+mujeres mayores) derivados a TSFP",{"$f":"IF(ISBLANK(E45),(IF(ISBLANK(E53),\"\",H52/H46)),H52/H46)","v":{"$error":"#VALUE!"}}]
[null,null,null,"Nº mujeres mayores derivadas a TSFP"]
[]
[]
["Gestión de la desnutrición aguda grave, para pacientes hospitalizados"]
[null,"Niños 6-59 meses","Final total del último período de tiempo: Niños (A1)",null,null,null,"Cálculo automático Niños/as 6-59m"]
[null,null,"Final total del último período de tiempo: Niñas (A2)",null,null,null,"Total admisión niños (D = B   C)",{"$f":"SUM(E65,E67)","v":0}]
[null,null,"categorías de entrada","Nuevas admisiones: niños (B1)",null,null,"Total admisión niñas (D = B   C)",{"$f":"SUM(E66,E68)","v":0}]
[null,null,null,"Nuevas admisiones: niñas (B2)",null,null,"Total Salidas Boys (H = E   F   G)",{"$f":"SUM(E69+E71+E73+E75+E77+E79)","v":0}]
[null,null,null,"Casos antiguos (derivados de OTP, personas que retoman el tratamiento, translados de otro centro de estabilización) : Niños (C1)",null,null,"Total Salidas niñas (H = E   F   G)",{"$f":"SUM(E70+E72+E74+E76+E78+E80)","v":0}]
[null,null,null,"Casos antiguos (derivados de OTP, personas que retoman el tratamiento, translados de otro centro de estabilización): Niñas (C2)",null,null,"Total al final del (periodo de tiempo) Niños (I = A   DH)",{"$f":"E63+H64-H66","v":0}]
[null,null,"categorías de salida","Pacientes hospitalizados estabilizados y referidos a OTP: niños (E1)",null,null,"Total al final del (periodo de tiempo) Niñas (I = A   DH)",{"$f":"SUM(E64+H65-H67)","v":0}]
[null,null,null,"Pacientes hospitalizados estabilizados y referidos a OTP: niñas (E2)",null,null,"tasa de altas por curación",{"$f":"IF(ISBLANK(E70),\"\",(E71+E72)/(H73))","v":""},"(Min  Normas ESFERA. > 75%)"]
[null,null,null,"Alta por curación (casos especiales que terminan tratamiento): niños (F1)",null,null,"tasa de altas por muerte",{"$f":"IF(ISBLANK(E71),\"\",(E73 + E74)/(H73))","v":""},"(Min  Normas ESFERA.  <10%)"]
[null,null,null,"Alta por curación (casos especiales que terminan tratamiento): niñas (F2)",null,null,"tasa de alta por abandono",{"$f":"IF(ISBLANK(E73),\"\",(E75 + E76)/(H73))","v":""},"(Min  Normas ESFERA. <15%)"]
[null,null,null,"Altas por muerte: niños (F3)",null,null,"salidas totales (J = E   F   G)",{"$f":"IF(ISBLANK(E69:E80),\"\",SUM(H66,H67))","v":""}]
[null,null,null,"Altas por muerte: niñas (F4)",null,null,"Total al final del (período de tiempo) (K = A   DJ)",{"$f":"IF(ISBLANK(E63),\"\",E63+E64+H64+H65-H73)","v":""}]
[null,null,null,"Altas por abandono: niños (F5)"]
[null,null,null,"Altas por abandono: niñas (F6)"]
[null,null,null,"Altas sin curación: niños (F7)"]
[null,null,null,"Altas sin curación: niñas (F8)"]
[null,null,null,"Otras transferencias: niños (G1)"]
[null,null,null,"Otras transferencias: niñas (G2)"]
[]
[null,"Niños <6 meses","Final total del útimo (período de tiempo): niños (A1)",null,null,null,"Cálculo automático niños/as <6m"]
[null,null,null,"Final total del último (período de tiempo): niñas (A2)",null,null,"Total admisiones niños (D = B   C)",{"$f":"SUM(E84,E86)","v":0}]
[null,null,"categorías de entrada","Nuevas admisiones: niños (B1)",null,null,"Total admisiones niñas (D = B   C)",{"$f":"SUM(E85,E87)","v":0}]
[null,null,null,"Nuevas admisiones: niñas (B2)",null,null," Total salidas niños (H = F   G)",{"$f":"SUM(E88+E90+E92+E94+E96+E98)","v":0}]
[null,null,null,"Casos antiguos (derivados de OTP, personas que retoman el tratamiento, translados de otro centro de estabilización) : Niños (C1)",null,null,"Total salidas niñas (H = F   G)",{"$f":"SUM(E89+E91+E93+E95+E97)","v":0}]
[null,null,null,"Casos antiguos (derivados de OTP, personas que retoman el tratamiento, translados de otro centro de estabilización): Niñas (C2)",null,null,"Total niños al final del (periodo de tiempo) (I = A   DH)",{"$f":"E82+H83-H85","v":0}]
[null,null,"categorías de salida","Alta por curación (casos especiales que terminan tratamiento): niños (F1)",null,null,"Total niñas al final del (periodo de tiempo) (I = A   DH)",{"$f":"SUM(E83+H84-H86)","v":0}]
[null,null,null,"Alta por curación (casos especiales que terminan tratamiento): niñas (F2)",null,null,"tasas altas por curación",{"$f":"IF(ISBLANK(E89),\"\",(E89+E88)/(H92))","v":""},"(Min  Normas ESFERA. > 75%)",null,null,null,0.13043478260869565]
[null,null,null,"Altas por muerte: niños (F3)",null,null,"tasa alta por muerte",{"$f":"IF(ISBLANK(E90),\"\",(E90 + E91)/(H92))","v":""},"(Min  Normas ESFERA. <10%)"]
[null,null,null,"Altas por muerte: niñas (F4)",null,null,"tasa alta por abandono",{"$f":"IF(ISBLANK(E92),\"\",(E92 + E93)/(H92))","v":""},"(Min  Normas ESFERA.  <15%)"]
[null,null,null,"Altas por abandono: niños (F5)",null,null,"salidas totales (J = F   G)",{"$f":"IF(ISBLANK(E88:F99),\"\",SUM(H85,H86))","v":0}]
[null,null,null,"Altas por abandono: niñas (F6)",null,null,"Total al final del (período de tiempo) (K = A   DJ)",{"$f":"IF(ISBLANK(E82),\"\",E82+E83+H83+H84-H92)","v":""}]
[null,null,null,"Altas sin curación: niños (F7)"]
[null,null,null,"Altas sin curación: niñas (F8)"]
[null,null,null,"Otras transferencias: niños (G1)"]
[null,null,null,"Otras transferencias: niñas (G2)"]
[]
[null,"Personas mayores (definición de país de \"persona mayor\" o  ≥60años)","Final total del último (período de tiempo): hombres mayores (A1)",null,null,null,"Cálculo automático Personas Mayores"]
[null,null,"Final total del último (período de tiempo): mujeres mayores (A2)",null,null,null,"admisiones totales hombres mayores (D = B   C)",{"$f":"SUM(E101+E103)","v":0}]
[null,null,"categorías de entrada","Nuevas admisiones: Hombres Mayores (B1)",null,null,"Admisiones totales mujeres mayores (D = B   C)",{"$f":"SUM(E102+E104)","v":0}]
[null,null,null,"Nuevas admisiones: mujeres mayores (B2)",null,null,"salidas totales hombres mayores (H = E   F   G)",{"$f":"E105+E107+E109+E111+E113+E115","v":0}]
[null,null,null,"Casos antiguos (derivados de OTP, personas que retoman el tratamiento, translados de otro centro de estabilización): hombres mayores (C1)",null,null,"salidas totales Mayor femenino (H = E   F   G)",{"$f":"E106+E108+E110+E112+E114+E116","v":0}]
[null,null,null,"Casos antiguos (derivados de OTP, personas que retoman el tratamiento, translados de otro centro de estabilización): mujeres mayores (C2)",null,null,"Total al final del (periodo de tiempo) varones de más edad (I = A   DH)",{"$f":"IF(ISBLANK(E99),\"\",E99+H100-H102)","v":""}]
[null,null,"categorías de salida","Pacientes hospitalizados estabilizados y referidos a OTP: hombres mayores (E1)",null,null,"Total al final del (periodo de tiempo) Mayor Femenino (I = A   DH)",{"$f":"IF(ISBLANK(E100),\"\",E100+H101-H103)","v":""}]
[null,null,null,"Pacientes hospitalizados estabilizados y referidos a OTP: mujeres mayores (E2)",null,null,"tasas curados descargadas",{"$f":"IF(ISBLANK(E106),\"\",(E107+E108)/(H109))","v":""},"(Min  Normas ESFERA. > 75%)"]
[null,null,null,"Alta por curación (casos especiales que terminan tratamiento): hombres mayores (F1)",null,null,"tasa muerto descargada",{"$f":"IF(ISBLANK(E107),\"\",(E109 + E110)/(H109))","v":""},"(Min  Normas ESFERA. <10%)"]
[null,null,null,"Alta por curación (casos especiales que terminan tratamiento): mujeres mayores (F2)",null,null,"tasa omitido descargada",{"$f":"IF(ISBLANK(E109),\"\",(E111 + E111)/(H103+H102))","v":""},"(Min  Normas ESFERA. <15%)"]
[null,null,null,"Altas por muerte: hombres mayores (F3)",null,null,"salidas totales (J = E   F   G)",{"$f":"IF(ISBLANK(E105:F116),\"\",SUM(H102,H103))","v":0}]
[null,null,null,"Altas por muerte: mujeres mayores (F4)",null,null,"Total al final del (período de tiempo) (K = A   DJ)",{"$f":"IF(ISBLANK(E99),\"\",E99+E100+H100+H101-H109)","v":""}]
[null,null,null,"Altas por abandono:hombres mayores (F5)"]
[null,null,null,"Altas por abandono: mujeres mayores (F6)"]
[null,null,null,"Altas sin curación: hombres mayores (F7)"]
[null,null,null,"Altas sin curación: mujeres mayores (F8)"]
[null,null,null,"Otras transferencias: hombres mayores (G1)"]
[null,null,null,"Otras transferencias: mujeres mayores (G2)"]
["Gestión de la desnutrición aguda grave, para pacientes ambulatorios"]
[null,"Niños 6-59 meses","Final total del último (período de tiempo): niños (A1)",null,null,null,"Cálculo automático Niños/as 6-59m"]
[null,null,"Final total del último (período de tiempo): niñas (A2)",null,null,null,"Total admisiones  niños (D = B   C)",{"$f":"SUM(E122+E120)","v":0}]
[null,null,"categorías de entrada","Nuevas admisiones: niños(B1)",null,null,"Total admisiones niñas (D = B   C)",{"$f":"SUM(E121+E123)","v":0}]
[null,null,null,"Nuevas admisiones: niñas (B2)",null,null,"Total salidas niños (H = F   G)",{"$f":"SUM(E124+E126+E128+E130+E132+E134)","v":0}]
[null,null,null,"Casos antiguos (derivados de OTP, personas que retoman el tratamiento, translados de otro centro de estabilización) : Niños (C1)",null,null,"Total salidas niñas (H = F   G)",{"$f":"SUM(E125+E127+E129+E131+E133+E135)","v":0}]
[null,null,null,"Casos antiguos (derivados de OTP, personas que retoman el tratamiento, translados de otro centro de estabilización): Niñas (C2)",null,null,"Total niños al final del (periodo de tiempo) (I = A   DH)",{"$f":"IF(ISBLANK(E118),\"\",E118+H119-H121)","v":""}]
[null,null,"categorías de salida","Alta por curación: niños (F1)",null,null,"Total niñas al final del (periodo de tiempo) (I = A   DH)",{"$f":"IF(ISBLANK(E119),\"\",E119+H120-H122)","v":""}]
[null,null,null,"Altas por curación: niñas (F1)",null,null,"tasas altas por curación",{"$f":"IF(ISBLANK(E124),\"\",(E124+E125)/(H128))","v":""},"(Min Normas ESFERA. > 75%)"]
[null,null,null,"Altas por muerte: niños (F2)",null,null,"tasa altas por muerte",{"$f":"IF(ISBLANK(E126),\"\",(E126 + E127)/(H128))","v":""},"(Min Normas ESFERA. <10%)"]
[null,null,null,"Altas por muerte: niñas (F2)",null,null,"tasa altas por abandono",{"$f":"IF(ISBLANK(E128),\"\",(E128 + E129)/(H122+H121))","v":""},"(Min Normas ESFERA.  <15%)"]
[null,null,null,"Altas por abandono: niños (F3)",null,null,"salidas totales (J = F   G)",{"$f":"IF(ISBLANK(E124:E135),\"\",SUM(H121,H122))","v":""}]
[null,null,null,"Altas por abandono: niñas (F3)",null,null,"Total al final del (período de tiempo) (K = A   DJ)",{"$f":"IF(ISBLANK(E118),\"\",E118+E119+H119+H120-H128)","v":""}]
[null,null,null,"Altas sin curación: niños (F4)"]
[null,null,null,"Altas sin curación: niñas (F4)"]
[null,null,null,"Derivaciones a centros de estabilización: niños (F5)"]
[null,null,null,"Derivaciones a centros de estabilización: niñas (F6)"]
[null,null,null,"Otras transferencias: niños (G1)"]
[null,null,null,"Otras transferencias: niñas (G2)"]
[null,null,"Ganancia media diaria de peso (AWG) para el alta por curación (en gramos / kg / día)",null,null,null,"(Recomendado> 4 g / kg / día)"]
[null,null,"Duración media de la estancia (LOS) para el alta por curación (en días)",null,null,null,"(Recomendado <60 días)"]
[]
[null,"Personas mayores (definición de país de \"persona mayor\" o  ≥60años)","fin total de la última (período de tiempo): Hombres Mayor (A1)",null,null,null,"Cálculo automático Personas Mayores"]
[null,null,"fin total de la última (período de tiempo): Mayor femenino (A2)",null,null,null,"admisiones totales hombres mayores (D = B   C)",{"$f":"E141+E143","v":0}]
[null,null,"categorías de entrada","Nuevas admisiones: hombres mayores (B1)",null,null,"Admisiones totales mujeres mayores (D = B   C)",{"$f":"E142+E144","v":0}]
[null,null,null,"Nuevas admisiones: mujeres mayores (B2)",null,null,"salidas totales hombres mayores (H = F   G)",{"$f":"SUM(E145+E147+E149+E151+E153+E155)","v":0}]
[null,null,null,"Casos antiguos (derivados de OTP, personas que retoman el tratamiento, translados de otro centro de estabilización) : hombres mayores (C1)",null,null,"salidas totales mujeres mayores (H = F   G)",{"$f":"SUM(E146+E148+E150+E152+E154+E156)","v":0}]
[null,null,null,"Casos antiguos (derivados de OTP, personas que retoman el tratamiento, translados de otro centro de estabilización) : mujeres mayores (C2)",null,null,"Total hombres mayores al final del (periodo de tiempo) (I = A   DH)",{"$f":"IF(ISBLANK(E139),\"\",E139+H140-H142)","v":""}]
[null,null,"categorías de salida","Altas por curación: hombres mayores (F1)",null,null,"Total mujeres mayores al final del (periodo de tiempo) (I = A   DH)",{"$f":"IF(ISBLANK(E140),\"\",E140+H141-H143)","v":""}]
[null,null,null,"Altas por curación: mujeres mayores (F1)",null,null,"tasa altas por curación",{"$f":"IF(ISBLANK(E145),\"\",(E145+E146)/(H149))","v":""},"(Min Normas ESFERA.> 75%)"]
[null,null,null,"Altas por muerte: hombres mayores (F2)",null,null,"tasa altas por muerte",{"$f":"IF(ISBLANK(E147),\"\",(E147 + E148)/(H149))","v":""},"(Min Normas ESFERA. <10%)"]
[null,null,null,"Altas por muerte: mujeres mayores (F2)",null,null,"tasa altas por abandono",{"$f":"IF(ISBLANK(E149),\"\",(E149 + E150)/(H143+H142))","v":""},"(Min Normas ESFERA. <15%)"]
[null,null,null,"Altas por abandono: hombres mayores (F3)",null,null,"salidas totales (J = F   G)",{"$f":"IF(ISBLANK(E145:F156),\"\",SUM(E145:E154))","v":0}]
[null,null,null,"Altas por abandono: mujers mayores (F3)",null,null,"Total al final del (período de tiempo) (K = A   DJ)",{"$f":"IF(ISBLANK(E139),\"\",E139+E140+H140+H141-H149)","v":""}]
[null,null,null,"Altas sin curación: hombre mayores (F4)"]
[null,null,null,"Altas sin curación: mujeres mayores (F4)"]
[null,null,null,"Derivaciones a centros de estabilización: hombres mayores (F5)"]
[null,null,null,"Derivaciones a centros de estabilización: mujeres mayores (F6)"]
[null,null,null,"Otras transferencias: hombre mayores (G1)"]
[null,null,null,"Otras transferencias: mujeres mayores (G2)"]
[]
["Programas de alimentación suplementaria selectiva"]
[null,"Niños/as 6-59 meses","fin total del último (período de tiempo): Niños (A1)",null,null,null,"Cálculo automático Niños/as 6-59m"]
[null,null,"fin total del último (período de tiempo): niñas (A1)",null,null,null,"Total admisión niños (D = B   C)",{"$f":"SUM(E163+E161)","v":0}]
[null,null,"categorías de entrada","Nuevas admisiones: niños (B1)",null,null,"Total admisión niñas (D = B   C)",{"$f":"SUM(E162+E164)","v":0}]
[null,null,null,"Nuevas admisiones: niñas(B2)",null,null,"Total salidas niños (H = E   G)",{"$f":"SUM(E165+E167+E169+E171+E173+E175)","v":0}]
[null,null,null,"Casos antiguos (derivados de OTP, personas que retoman el tratamiento, translados de otro centro de estabilización): Niños (C1)",null,null,"Total salidas niñas (H = E   G)",{"$f":"SUM(E166+E168+E170+E172+E174+E176)","v":0}]
[null,null,null,"Casos antiguos (derivados de OTP, personas que retoman el tratamiento, translados de otro centro de estabilización): niñas (C2)",null,null,"Total niños al final del (periodo de tiempo) (I = A   DH)",{"$f":"IF(ISBLANK(E159),\"\",E159+H160-H162)","v":""}]
[null,null,"categorías de salida","Altas por curación: Niños (E1)",null,null,"Total niñas al final del (periodo de tiempo) (I = A   DH)",{"$f":"IF(ISBLANK(E160),\"\",E160+H161-H163)","v":""}]
[null,null,null,"Altas por curación: niñas (E2)",null,null,"tasa altas por curación",{"$f":"IF(ISBLANK(E166),\"\",(E166+E165)/(H169))","v":""},"(Min  Normas ESFERA.> 75%)"]
[null,null,null,"Altas por muerte: Niños (E3)",null,null,"tasa altas por muerte",{"$f":"IF(ISBLANK(E167),\"\",(E167 + E168)/(H169))","v":""},"(Las normas de Esfera min. <3%)"]
[null,null,null,"Altas por muerte: niñas (E4)",null,null,"tasa altas por abandono",{"$f":"IF(ISBLANK(E169),\"\",(E169 + E170)/(H169))","v":""},"(Min Normas ESFERA.  <15%)"]
[null,null,null,"Altas por abandono: Niños (E5)",null,null,"salidas totales (J = E   G)",{"$f":"IF(ISBLANK(E165),\"\",SUM(H162:H163))","v":""}]
[null,null,null,"Altas por abandono: niñas (E6)",null,null,"Total al final del (período de tiempo) (K = A   DJ)",{"$f":"IF(ISBLANK(E159),\"\",E159+E160+H160+H161-H169)","v":""}]
[null,null,null,"Alta sin curación: Niños (E7)"]
[null,null,null,"Altas sin curación: niñas (E8)"]
[null,null,null,"Derivados a OTP / SC: niños (E9)"]
[null,null,null,"Derivados a OTP / SC: niñas (E10)"]
[null,null,null,"Otras transferencias niños (G1)"]
[null,null,null,"Otras transferencias niñas (G2)"]
[null,null,"Duración media de la estancia para altas por curación (en días)"]
[null,null,"Valor kcal de la ración suplementaria diaria (kcal / día)"]
[null,null,"Producto provisto"]
[]
[null,"Embarazadas y mujeres lactantes (MEL)","fin total del último (período de tiempo): MEL (A)",null,null,null,"Cálculo automático MEL"]
[null,null,"categorías de entrada","Nuevas admisiones en este (periodo de tiempo): MEL (B)",null,null,"Total admisiones MEL (D = B   C)",{"$f":"IF(ISBLANK(E182),\"\",E182+E183)","v":""}]
[null,null,null,"Casos antiguos (derivados de OTP, personas que retoman el tratamiento, translados de otro centro de estabilización): MEL (C1)",null,null,"tasa de alta por curación",{"$f":"IF(ISBLANK(E184),\"\",E184/(H186))","v":""},"(Min  Normas ESFERA. > 75%)"]
[null,null,"categorías de salida","Alta por curación: MEL (F1)",null,null,"tasa alta por muerte",{"$f":"IF(ISBLANK(E185),\"\",E185/(H186))","v":""},"(Las normas de Esfera min. <3%)"]
[null,null,null,"Alta por muerteo: MEL (F2)",null,null,"tasa alta por abandono",{"$f":"IF(ISBLANK(E187),\"\",E186/(H186))","v":""},"(Min Normas ESFERA. <15%)"]
[null,null,null,"Alta por abandono: MEL (F3)",null,null,"salidas totales (J = F   G)",{"$f":"IF(ISBLANK(E184),\"\",SUM(E184:E189))","v":""}]
[null,null,null,"Alta sin recuperación: MEL (F4)",null,null,"Total al final del (período de tiempo) (K = A   DJ)",{"$f":"IF(ISBLANK(E181),\"\",E181+H182-H186)","v":""}]
[null,null,null,"Derivadas a OTP / SC: MEL (F5)"]
[null,null,null,"Otras transferencias: MEL (G)"]
[null,null,"Duración media de la estancia para altas por curación (en días)"]
[null,null,"Valor kcal de la ración suplementaria diaria (kcal / día)"]
[null,null,"Producto provisto"]
[]
[null,"Personas mayores (definición de país de \"personas mayores\" o  ≥60años)","fin total del último (período de tiempo): Hombres Mayores (A1)"]
[null,null,"fin total del último (período de tiempo): Mujeres mayores (A2)",null,null,null,"Cálculo automático Personas Mayores"]
[null,null,"categorías de entrada","Nuevas admisiones: Hombres Mayor (B1)",null,null,"Admisiones totales hombres mayores (D = B   C)",{"$f":"SUM(E196+E198)","v":0}]
[null,null,null,"Nuevas admisiones: Mayor Femenino (B2)",null,null,"Admisiones totales mujeres mayores (D = B   C)",{"$f":"SUM(E197+E199)","v":0}]
[null,null,null,"Casos antiguos (derivados de OTP, personas que retoman el tratamiento, translados de otro centro de estabilización): hombres mayores (C1)",null,null,"salidas totales hombres mayores (H = E   G)",{"$f":"SUM(E200+E202+E204+E206+E208+E210)","v":0}]
[null,null,null,"Casos antiguos (derivados de OTP, personas que retoman el tratamiento, translados de otro centro de estabilización): Mujeres mayores (C2)",null,null,"salidas totales mujeres mayores (H = E   G)",{"$f":"SUM(E201,E203,E205,E207,E209,E211)","v":0}]
[null,null,"categorías de salida","Alta por curación: hombres mayores (E1)",null,null,"Total hombres mayores al final del (periodo de tiempo) (I = A   DH)",{"$f":"IF(ISBLANK(E194),\"\",E194+H196-H198)","v":""}]
[null,null,null,"Alta por curación: mujres mayores (E2)",null,null,"Total mujeres mayores al final del (periodo de tiempo) (I = A   DH)",{"$f":"IF(ISBLANK(E195),\"\",E195+H197-H199)","v":""}]
[null,null,null,"Altas por muerte: hombres mayores (E3)",null,null,"tasa altas por curación",{"$f":"IF(ISBLANK(E202),\"\",(E200+E201)/(H205))","v":""},"(Min Normas ESFERA.  75%)"]
[null,null,null,"Altas por muerte: mujeres mayores (E4)",null,null,"tasa altas por muerte",{"$f":"IF(ISBLANK(E203),\"\",(E202+ E203)/(H205))","v":""},"(Las normas de Esfera min. <3%)"]
[null,null,null,"Altas por abandano: hombres mayores (E5)",null,null,"tasa altas por abandono",{"$f":"IF(ISBLANK(E205),\"\",(E204+E205)/(H205))","v":""},"(Min Normas ESFERA. <15%)"]
[null,null,null,"Altas por abandono: mujeres mayores (E6)",null,null,"salidas totales (J = E   G)",{"$f":"IF(ISBLANK(E200),\"\",SUM(H198:H199))","v":""}]
[null,null,null,"Altas sin recuperación: hombres mayores (E7)",null,null,"Total al final del (período de tiempo) (K = A   DJ)",{"$f":"IF(ISBLANK(E194),\"\",E194+E195+H196+H197-H205)","v":""}]
[null,null,null,"Altas sin recuperación: mujeres mayores (E8)"]
[null,null,null,"Derivados a OTP / SC: hombres mayores (E9)"]
[null,null,null,"Derivados a OTP / SC: mujeres mayores (E10)"]
[null,null,null,"Otras transferencias: hombres mayores (G1)"]
[null,null,null,"Otras transferencias: mujeres mayores (G2)"]
[null,null,"Duración media de la estancia para altas por curación (en días)"]
[null,null,"Valor kcal de la ración suplementaria diaria (kcal / día)"]
[null,null,"Producto provisto"]
[]
["Programas de alimentación suplementaria general"]
[null,"Niños/as 6-23 meses","No. de niños 6-23m nuevos en el programa durante el (período de tiempo)",null,{"$f":"SUM(E218,E219)","v":0},null,"Cálculo automático Niños/as 6-23m"]
[null,null,"Niños",null,null,null,"Número medio de niños/as  6-23m  que participaron en la distribución durante el (periodo de tiempo) ",{"$f":"E220/E223","v":{"$error":"#DIV/0!"}}]
[null,null,"Niñas"]
[null,null,"Número total de niños/as 6-23m que asistieron a la distribución en este (periodo de tiempo) ",null,{"$f":"SUM(E221,E222)","v":0}]
[null,null,"Niños"]
[null,null,"Niñas"]
[null,null,"Número de distribuciones durante este (periodo de tiempo) "]
[null,null,"valor kcal de ración suplementaria diaria (kcal / día)"]
[null,null,"Producto provisto"]
[]
[null,"Niños/as 6-59 meses","No. de niños 6-59m nuevos en el programa durante el (período de tiempo)",null,{"$f":"SUM(E228,E229)","v":0},null,"Cálculo automático Niños/as 6-59m"]
[null,null,"Niños",null,null,null,"Número medio de niños/as 6-59m que participaron en la distribución durante el (periodo de tiempo) ",{"$f":"(E230/E233)","v":{"$error":"#DIV/0!"}}]
[null,null,"Niñas"]
[null,null,"Número total de niños/as 6-23m que asistieron a la distribución en este (periodo de tiempo) ",null,{"$f":"SUM(E231,E232)","v":0}]
[null,null,"Niños"]
[null,null,"Niñas"]
[null,null,null,"Número de distribuciones durante este (periodo de tiempo) "]
[null,null,"valor kcal de ración suplementaria diaria (kcal / día)"]
[null,null,"Producto provisto"]
[]
[null,"Mujeres embarazadas y lactantes","Número de mujeres embarazadas y lactantes recién inscritas durante el (período de tiempo)",null,null,null,"Cálculo automático MEL"]
[null,null,"Número total de mujeres embarazadas y lactantes que asistieron a la distribución en este (periodo de tiempo)",null,null,null,"Promedio de MEL que participaron en la distribución durante el (periodo de tiempo) ",{"$f":"(E238/E239)","v":{"$error":"#DIV/0!"}}]
[null,null,null,"Número de distribuciones durante este (periodo de tiempo)"]
[null,null,"valor kcal de ración suplementaria diaria (kcal / día)"]
[null,null,"Producto provisto"]
[]
[null,"Personas mayores (definición de país de \"persona mayor\" o ≥60 años) ","Nº de personas mayores de nuevo ingreso durante el (período de tiempo)",null,{"$f":"SUM(E244,E245)","v":0},null,"Cálculo automático Personas Mayores"]
[null,null,"Hombres mayores",null,null,null,"Promedio de personas mayores que participaron en la distribución durante el  (periodo de tiempo) ",{"$f":"(E246/E249)","v":{"$error":"#DIV/0!"}}]
[null,null,"Mujeres mayores"]
[null,null,"Número total de personas mayores que asistieron a la distribución en este (periodo de tiempo) ",null,{"$f":"SUM(E247,E248)","v":0}]
[null,null,"Hombres mayores"]
[null,null,"Mujeres mayores"]
[null,null,"Número de distribuciones durante este (periodo de tiempo) "]
[null,null,"valor kcal de ración suplementaria diaria (kcal / día)"]
[null,null,"Producto provisto"]
[]
["Suplementación de micronutrientes"]
[null,"Suplementos de vitamina A administrada a niños de 6-11 meses y 12-59 meses ",null,"Número total de niños/as de 6-11 meses que han recibido  Vit-A durante el (período de tiempo)",{"$f":"SUM(E255:E256)","v":0},null,"Cálculo automático niños/a s 6-11 meses que recibieron vit-A"]
[null,null,null,"Niños",null,null,"% niños ",{"$f":"IF(ISBLANK(E255),\"\",E255/E254)","v":""}]
[null,null,null,"Niñas",null,null,"% niñas",{"$f":"IF(ISBLANK(E256),\"\",E256/E254)","v":""}]
[null,null,null,"Número total de niños/as  de 12-59 meses que han recibido Vit-A durante el (período de tiempo)",{"$f":"SUM(E258:E259)","v":0},null,"Cálculos automático niños/as 12-59 meses que recibieron vit-A"]
[null,null,null,"Niños ",null,null,"% niños ",{"$f":"IF(ISBLANK(E258),\"\",E258/E257)","v":""}]
[null,null,null,"Niñas",null,null,"% niñas",{"$f":"IF(ISBLANK(E259),\"\",E259/E257)","v":""}]
[]
[null,"Suplementos de vitamina A administados a MEL",null,"Número total de mujeres embarazadas y  lactantes que han recibido  Vit-A durante el (período de tiempo)",{"$f":"SUM(E262:E263)","v":0},null,"Cálculo automático MEL que recibieron vit-A"]
[null,null,null,"Embarazadas",null,null,"% mujeres embarazadas",{"$f":"IF(ISBLANK(E262),\"\",E262/E261)","v":""}]
[null,null,null,"Lactantes",null,null,"% mujeres lactantes",{"$f":"IF(ISBLANK(E263),\"\",E263/E261)","v":""}]
[]
[null,"Suplementos de vitamina A administrados a personas mayores (definición de país de \"persona mayor\" o ≥ 60años)",null,"Número total de personas mayores que han recibido  Vit-A durante el (período de tiempo)",{"$f":"SUM(E266:E267)","v":0},null,"Cálculo automático personas mayores que recibieron vit-A"]
[null,null,null,"Hombres mayores",null,null,"% hombres mayores",{"$f":"IF(ISBLANK(E266),\"\",E266/E265)","v":""}]
[null,null,null,"Mujeres mayores",null,null,"% mujeres mayores",{"$f":"IF(ISBLANK(E267),\"\",E267/E265)","v":""}]
[]
[null,"Micronutrientes en Polvo (MNP) administrados a  niños/as de 6-24 meses (polvos)",null,"Número total de niños/as 6-24meses que han recibido  MNP durante el (período de tiempo)",{"$f":"SUM(E270:E271)","v":0},null,"Cálculo automático niños/as  6-24 meses que recibieron MNP"]
[null,null,null,"Niños",null,null,"% niños ",{"$f":"IF(ISBLANK(E270),\"\",E270/E269)","v":""}]
[null,null,null,"Niñas",null,null,"% niñas",{"$f":"IF(ISBLANK(E271),\"\",E271/E269)","v":""}]
[]
[null,"Comprimidos de micronutrientes (MNT) administrados a MEL",null,"Número total de mujeres embarazadas y lactantes que han recibido  MNT durante el (período de tiempo)"]
[]
[null,"Micronutrientes en Polvo / Espolvorear (MNP) dado a las personas mayores ",null,"Número total de personas mayores que han recibido  MNP durante el (período de tiempo)",{"$f":"SUM(E276:E277)","v":0},null,"Cálculo automático personas mayores que recibieron MNP"]
[null,null,null,"Hombres mayores",null,null,"% hombres mayores",{"$f":"IF(ISBLANK(E276),\"\",E276/E275)","v":""}]
[null,null,null,"Mujeres mayores",null,null,"% mujeres mayores",{"$f":"IF(ISBLANK(E277),\"\",E277/E275)","v":""}]
[]
[null,"Hierro y ácido fólico administrado a MEL",null,"Número total de mujeres embarazadas y lactantes que han recibido hierro y ácido fólico durante el (período de tiempo)"]
[]
[null,"Hierro y ácido fólico administrado a  personas mayores",null,"Número total de personas mayores que han recibido hierro y ácido fólico durante el (período de tiempo) ",{"$f":"SUM(E282,E283)","v":0},null,"Cálculo automático personas mayores suplementadas con hierro y ácido fólico"]
[null,null,null,"Hombres mayores",null,null,"% hombres mayores",{"$f":"IF(ISBLANK(E282),\"\",E282/E281)","v":""}]
[null,null,null,"Mujeres mayores",null,null,"% mujeres mayores",{"$f":"IF(ISBLANK(E283),\"\",E283/E281)","v":""}]
[]
["Desparasitación"]
[null,"Nº de niños de 12-59 meses desparasitados",null,"Número total de niños 12-59meses desparasitados durante el (período de tiempo)",{"$f":"SUM(E287:E288)","v":0},null," Cálculo automático niños/as 12-59meses desparasitados"]
[null,null,null,"Niños ",null,null,"% niños ",{"$f":"IF(ISBLANK(E287),\"\",E287/E286)","v":""}]
[null,null,null,"Niñas",null,null,"% niñas",{"$f":"IF(ISBLANK(E288),\"\",E288/E286)","v":""}]
[]
[null,"Número de mujeres embarazadas  y lactantes desparasitadas",null,"Número total de mujeres embarazadas y lactantes desparasitadas durante el (período de tiempo)"]
[]
[null,"Número de personas mayores desparasitadas",null,"Número total de personas mayores desparasitadas durante el (período de tiempo)",{"$f":"SUM(E293:E294)","v":0},null,"Cálculo automático personas mayores desparasitadas"]
[null,null,null,"Hombres mayores",null,null,"% hombres mayores",{"$f":"IF(ISBLANK(E293),\"\",E293/E292)","v":""}]
[null,null,null,"Mujeres mayores",null,null,"% mujeres mayores",{"$f":"IF(ISBLANK(E294),\"\",E294/E292)","v":""}]
[]
["Alimentación de lactantes y niños pequeños"]
[null,"Sesiones individuales (uno a uno)","Mujeres embarazadas que asistieron a sesiones de asesoramiento individual"]
[null,null,"Mujeres lactantes y cuidadores de niños/as <6 meses que asistieron a sesiones de asesoramiento individual",null,null,null,"Cálculo automático MEL y cuidadores que asistieron a la orientación individual"]
[null,null,"Mujeres lactantes y cuidadores de niños/as de 6-24 meses que asistieron a sesiones de asesoramiento individual",null,null,null,"Total",{"$f":"IF(ISBLANK(E298),\"\",SUM(E297:E299))","v":""}]
[null,"ALNP asesoramiento - Las sesiones de grupo","Número de grupos de ALNP (incluidos los grupos de apoyo de madres) en funcionamiento durante el (período de tiempo)"]
[null,null,"Número total de sesiones de grupo (incluidos los grupos de apoyo de madres) mantenidos en el (período de tiempo)"]
[null,null,"Nuevas admisiones de mujeres embarazadas y lactantes y cuidadores en grupos ALNP (incluidos los grupos de apoyo de madres) durante el (período de tiempo)",null,{"$f":"SUM(E303,E304)","v":0},null,"Cálculo automático MEL y cuidadores admitidos en grupos ALNP"]
[null,null,null,"Hombres",null,null,"% hombres ",{"$f":"IF(ISBLANK(E303),\"\",E303/E302)","v":""}]
[null,null,null,"Mujeres",null,null,"% mujeres",{"$f":"IF(ISBLANK(E303),\"\",E304/E302)","v":""}]
[null,null,null,"Número total de mujeres embarazadas y lactantes y cuidadores que asistieron a grupos de ALNP (incluidos los grupos de apoyo de madres) durante el (período de tiempo)",{"$f":"SUM(E306,E307)","v":0}]
[null,null,null,"Hombres"]
[null,null,"Mujeres"]
[null,"alimentación artificial","Número total de lactantes de 0-6 meses que requieren alimentación artificial que han recibido BMS y apoyo apropiado durante el (período de tiempo)",null,null,null,"Nota: las sesiones de asesoramiento ALNP incluyen el inicio temprano de la lactancia materna exclusiva, el contacto piel a piel, relaction, alimentación complementaria, los suplementos de micronutrientes, el VIH y la alimentación infantil, el uso apropiado de BMS, etc ..."]
[null,null,"Número total de lactantes de 6-24 meses de edad que requieren alimentación artificial que han recibido BMS y apoyo apropiado durante el (período de tiempo)"]
[null,"La lactancia materna esquinas / espacios amigos de los niños","Número total de rincones para la lactancia materna / espacios que promueven la lactancia materna abiertos durante el (período de tiempo)"]
[null,null,"Número de rincones para la lactancia materna / espacios que promueven la lactancia materna en funcionamiento durante el (período de tiempo)"]
[null,null,"Nuevas admisiones de madres lactantes durante el (período de tiempo)"]
[null,null,"Número total de mujeres lactantes que asistieron a los rincones para la lactancia materna / espacios que promueven la lactancia materna durante el (período de tiempo)"]
[]
["Desarrollo de capacidades"]
[null,null,"Type/Topic of Training"]
[null,"Entrenamiento en MUAC,  detección, derivación y movilización de la comunidad",null,"Tipo de formación",null,null,"Nº de formaciones"]
[null,null,null,"Categoría principal del personal formado",null,null,"De qué agencia / s"]
[null,null,null,"Hombres",null,null,"Número de días"]
[null,null,null,"Mujeres"]
[null,null,null,"Comentarios"]
[]
[null,null,"Type/Topic of Training",null,null,null,"Automatic calculations Training 2"]
[null,"Formación sobre la gestión integrada de la desnutrición aguda (IMAM): SAM / TF (pacientes hospitalizados)",null,"Tipo de formación",null,null,"Nº de formaciones"]
[null,null,null,"Categoría principal del personal formado",null,null,"De qué agencia / s"]
[null,null,null,"Hombres",null,null,"Número de días"]
[null,null,null,"Mujeres"]
[null,null,null,"Comentarios"]
[]
[null,null,"Type/Topic of Training",null,null,null,"Automatic calculations Training 3"]
[null,"Formación sobre la gestión integrada de la desnutrición aguda (IMAM): SAM / TF (pacientes ambulatorios)",null,"Tipo de formación",null,null,"Nº de formaciones"]
[null,null,null,"Categoría principal del personal formado",null,null,"De qué agencia / s"]
[null,null,null,"Hombres",null,null,"Número de días"]
[null,null,null,"Mujeres"]
[null,null,null,"Comentarios"]
[]
[null,null,"Type/Topic of Training",null,null,null,"Automatic calculations Training 4"]
[null,"Formación sobre la gestión integrada de la desnutrición aguda (IMAM): MAM / TSFP",null,"Tipo de formación",null,null,"Nº de formaciones"]
[null,null,null,"Categoría principal del personal formado",null,null,"De qué agencia / s"]
[null,null,null,"Hombres",null,null,"Número de días"]
[null,null,null,"Mujeres"]
[null,null,null,"Comentarios"]
[]
[null,"Formación sobre alimentación infantil",null,"Tipo de formación",null,null,"Nº de formaciones"]
[null,null,null,"Categoría principal del personal capacitado",null,null,"De qué agencia / s"]
[null,null,null,"Hombres",null,null,"Número de días"]
[null,null,null,"Mujeres"]
[null,null,null,"Comentarios"]
[]
[null,"Formación sobre encuesta de SMART",null,"Tipo de formación",null,null,"Nº de formaciones"]
[null,null,null,"Categoría principal del personal formado",null,null,"De qué agencia / s"]
[null,null,null,"Hombres",null,null,"Número de días"]
[null,null,null,"Mujeres"]
[null,null,null,"Comentarios"]
[]
[null,"Formación de preparación y respuesta a emergencias",null,"Tipo de formación",null,null,"Nº de formaciones"]
[null,null,null,"Categoría principal del personal formado",null,null,"De qué agencia / s"]
[null,null,null,"Hombres",null,null,"Número de días"]
[null,null,null,"Mujeres"]
[null,null,null,"Comentarios"]
[]
[null,"Formación sobre el enfoque de clústeres",null,"Tipo de formación",null,null,"Nº de formaciones"]
[null,null,null,"Categoría principal del personal formado",null,null,"De qué agencia / s"]
[null,null,null,"Hombres",null,null,"Número de días"]
[null,null,null,"Mujeres"]
[null,null,null,"Comentarios"]
[]
["Comentarios"]
[null,"Cualquier comentario sobre programas, lagunas o preocupaciones"]

{"sheet":"Site9","index":10,"n_rows":369,"n_cols":26,"rows_kept":369,"cut":false,"hidden":false,"merged":[[368,1,385,1],[368,2,385,8],[355,1,359,2],[355,6,355,7],[356,6,356,7],[357,6,357,7],[359,4,359,8],[361,1,365,2],[361,6,361,7],[362,6,362,7],[363,6,363,7],[365,4,365,8],[343,1,347,2],[343,6,343,7],[344,6,344,7],[345,6,345,7],[347,4,347,8],[349,1,353,2],[349,6,349,7],[350,6,350,7],[351,6,351,7],[353,4,353,8],[336,2,336,3],[336,6,336,7],[337,1,341,2],[337,6,337,7],[338,6,338,7],[339,6,339,7],[341,4,341,8],[329,2,329,3],[329,6,329,7],[330,1,334,2],[330,6,330,7],[331,6,331,7],[332,6,332,7],[334,4,334,8],[322,2,322,3],[322,6,322,7],[323,1,327,2],[323,6,323,7],[324,6,324,7],[325,6,325,7],[327,4,327,8],[314,0,314,3],[315,2,315,3],[316,1,320,2],[316,6,316,7],[317,6,317,7],[318,6,318,7],[320,4,320,8],[307,1,308,1],[307,2,307,3],[307,6,308,8],[308,2,308,3],[309,1,312,1],[309,2,309,3],[310,2,310,3],[311,2,311,3],[312,2,312,3],[299,1,306,1],[299,2,299,3],[300,2,300,3],[301,2,301,3],[301,6,301,7],[306,2,306,3],[295,0,295,3],[296,1,298,1],[296,2,296,3],[297,2,297,3],[297,6,297,7],[298,2,298,3],[284,0,284,3],[285,1,287,2],[285,6,285,7],[289,1,289,2],[291,1,293,2],[291,6,291,7],[272,1,272,2],[274,1,276,2],[274,6,274,7],[278,1,278,2],[280,1,282,2],[280,6,280,7],[260,1,262,2],[260,6,260,7],[264,1,266,2],[264,6,264,7],[268,1,270,2],[268,6,268,7],[248,2,248,3],[249,2,249,3],[250,2,250,3],[252,0,252,3],[253,1,258,2],[253,6,253,7],[256,6,256,7],[239,2,239,3],[240,2,240,3],[242,1,248,1],[242,2,242,3],[242,6,242,7],[243,2,243,3],[244,2,244,3],[245,2,245,3],[246,2,246,3],[247,2,247,3],[233,2,233,3],[234,2,234,3],[236,1,238,1],[236,2,236,3],[236,6,236,7],[237,2,237,3],[223,2,223,3],[224,2,224,3],[226,1,234,1],[226,2,226,3],[226,6,226,7],[227,2,227,3],[228,2,228,3],[229,2,229,3],[230,2,230,3],[231,2,231,3],[215,0,215,3],[216,1,224,1],[216,2,216,3],[216,6,216,7],[217,2,217,3],[218,2,218,3],[219,2,219,3],[220,2,220,3],[221,2,221,3],[222,2,222,3],[193,1,213,1],[193,2,193,3],[194,2,194,3],[194,6,194,7],[195,2,198,2],[199,2,210,2],[211,2,211,3],[212,2,212,3],[213,2,213,3],[180,1,191,1],[180,2,180,3],[180,6,180,7],[181,2,182,2],[183,2,188,2],[189,2,189,3],[190,2,190,3],[191,2,191,3],[157,0,157,3],[158,1,178,1],[158,2,158,3],[158,6,158,7],[159,2,159,3],[160,2,163,2],[164,2,175,2],[176,2,176,3],[177,2,177,3],[178,2,178,3],[135,1,136,1],[135,2,135,3],[136,2,136,3],[138,1,155,1],[138,2,138,3],[138,6,138,7],[139,2,139,3],[140,2,143,2],[144,2,155,2],[116,0,116,3],[117,1,134,1],[117,2,117,3],[117,6,117,7],[118,2,118,3],[119,2,122,2],[123,2,134,2],[81,1,96,1],[81,2,81,3],[81,6,81,7],[87,2,96,2],[98,1,115,1],[98,2,98,3],[98,6,98,7],[99,2,99,3],[100,2,103,2],[104,2,115,2],[52,1,58,1],[52,2,56,2],[61,0,61,3],[62,1,79,1],[62,2,62,3],[62,6,62,7],[63,2,63,3],[64,2,67,2],[68,2,79,2],[28,1,34,1],[28,2,32,2],[37,1,42,1],[37,2,40,2],[37,6,37,7],[44,1,50,1],[44,2,48,2],[44,6,44,7],[15,1,15,3],[17,1,17,3],[19,0,19,3],[20,1,26,1],[20,2,24,2],[20,6,20,7],[8,1,8,3],[9,1,9,3],[10,1,10,3],[13,1,13,3],[13,6,13,8],[14,1,14,3],[0,0,0,3],[1,0,1,2],[2,1,2,3],[5,1,5,3],[6,1,6,3],[7,1,7,3]]}
["Formulario para la presentación de informes por los socios",null,null,null,null,null,null,null,null,null,null,null,"Localidad","Nilo Alto","Jonglei","Unidad","Warrap","Bahr el Ghazal norte","Bahr el Ghazal Occidental","Lagos","Ecuatoria occidental","Equatoria central","Equatoria Oriental","Mes","Temas de la formación","Tipo de formación"]
["Información general",null,null,null,null,null,null,null,null,null,null,null,"Nilo Alto","Renk","Fangak","Pariang","Abyei","Aweil_Norte","Raga","Cueibet","Tambura","Terekeka","Torit","Enero","Examen con MUAC y derivaciones","Nuevo"]
[null,"Acrónimo de la agencia",null,null,null,null,null,null,null,null,null,null,"Jonglei","Manyo","Canal_Khor_Fulus","Abiemnhom","Twic","Aweil_este","Jur_River","Rumbek_Norte","Nagero","Juba","Lapon","Febrero","Protocolos para pacientes ambulatorios","Repaso"]
[null,null,null,"Nombre de la agencia",{"$f":"VLOOKUP(E3,Lists!A2:B200,2,FALSE)","v":{"$error":"#N/A"}}]
[null,null,null,"Semana del informe "]
[null,"Mes del informe:",null,null,null,null,null,null,null,null,null,null,"Unidad","Fashoda","Ayod","Mayom","Gogrial_occidental","Aweil_Sur","Wau","Rumbek_Centro","Nzara","Lainya","Kapoeta_Norte","Marzo","Protocolos para pacientes hospitalizados"]
[null,"Año del informe",null,null,null,null," ",null,null,null,null,null,"Warrap","Melut","Duk","Rubkona","Gogrial_este","Aweil_oeste",null,"Wulu","Ezo","Yei","Kapoeta_este","Abril","Protocolos para programas de alimentación suplementaria"]
[null,"Fecha de presentación del informe (DD / MM / AA)",null,null,null,null,null,null,null,null,null,null,"Bahr_el_Ghazal_norte","Maban","Uror","Guit","Tonj_Norte","Aweil_Centro",null,"Rumbek_este","Yambio","Morobo","Kapoeta_Sur","Mayo","Movilización comunitaria"]
[null,"Nivel administrativo 1",null,"Nivel administrativo 1",null,null,"P-Code Nivel Admin 1",{"$f":"INDEX(admin1pcode,MATCH(E9,admin1,0))","v":{"$error":"#N/A"}}]
[null,"Nivel administrativo 2",null,null,null,null,"P-Code nivel admin 2",{"$f":"INDEX(admin2pcode,MATCH(E10,admin2,0))","v":{"$error":"#N/A"}},null,null,null,null,"Lagos","Luakpiny_Nasir","Akobo","Leer","Tonj_Sur",null,null,"Yirol_este","Maridi",null,"Ikotos","Julio","Otros (por favor, especificar en la sección de comentarios)"]
[null,"Nivel administrativo 3",null,null,null,null,"P-Code nivel Admin 3",{"$f":"INDEX(admin3pcode,MATCH(E11,admin3,0))","v":{"$error":"#N/A"}},null,null,null,null,"Ecuatoria Occidental","Longochuk","Pochalla","Mayendit",null,null,null,"Awerial","Mvolo",null,"Magwi","Agosto"]
[null,null,null,"Nivel administrativo 4",null,null,"P-Code nivel admin 4",{"$f":"INDEX(admin4pcode,MATCH(E12,admin4,0))","v":{"$error":"#N/A"}}]
[null,null,null,"Nivel administrativo 5",null,null,"P-Code nivel administrativo 5",{"$f":"INDEX(admin5pcode,MATCH(E13,admin5,0))","v":{"$error":"#N/A"}}]
[null,"¿Se ha utilizado criterios expandidos de admisión ?",null,null,null,null,null,null,null,null,null,null,"Ecuatoria Central","Ulang","Pibor","Panyijar",null,"N/A","Operacional","No operacional","Mundri_oeste",null,null,"Septiembre"]
[null,"Centros de estabilización (SC)",null,null,null,null,"Estado del sitio",null,null,null,null,null,"Ecuatoria oriental","Baliet","Twic_este",null,null,null,null,"Sí","No",null,null,"Octubre"]
[null,"Pacientes ambulatorios centros terapéuticos (OTP)",null,null,null,null,"Estado del sitio",null,null,null,null,null,null,"Malakal","Bor_Sur",null,null,null,null,null,null,null,null,"Noviembre"]
[null,null,null,"Sitios de tratamiento a nivel comunitario (BSFPs)",null,null,"Estado del sitio",null,null,null,null,null,null,"Panyikang",null,null,null,null,null,null,null,null,null,"Diciembre"]
[null,"Sitios de alimentación suplementaria (TSFPs)",null,null,null,null,"Estado del sitio"]
[]
["Diagnóstico y derivaciones"]
[null,"Niños 6-59 meses","Revisión \n(mediciones MUAC)","Número examinados",{"$f":"SUM(E22:E25)","v":0},null,"Cálculo automático exámen y derivaciones"]
[null,null,null,"Nº de niños con edema bilateral",null,null,"No. total. (Niños+Niñas) examinados",{"$f":"IF(ISBLANK(E21),(IF(ISBLANK(E29),\"\",E21+E29)),E21+E29)","v":0}]
[null,null,null,"Nº de niños con MUAC rojo (<11.5 cm)",null,null,"No. total. (Niños+niñas) edema",{"$f":"IF(ISBLANK(E22),(IF(ISBLANK(E30),\"\",E22+E30)),E22+E30)","v":""}]
[null,null,null,"Nº de niños 6-59m con MUAC amarillo (≥ 11,5 cm a <12,5 cm)",null,null,"No. total. (Niños+Niñas) Rojo",{"$f":"IF(ISBLANK(E23),(IF(ISBLANK(E31),\"\",E23+E31)),E23+E31)","v":""}]
[null,null,null,"Nº de niños 6-59m con MUAC verde (≥ 12,5 cm)",null,null,"No. total. (Niños+Niñas) Amarillo",""]
[null,null,"Derivaciones","Nº de niños 6-59m derivados a OTP",null,null,"No. total. (Niños+Niñas) Verde",""]
[null,null,null,"Nº de niños 6-59m derivados a TSFP",null,null,"No. total. (Niños+Niñas) derivados a OTP",{"$f":"IF(ISBLANK(E26),(IF(ISBLANK(E34),\"\",E26+E34)),E26+E34)","v":""}]
[null,null,null,null,null,null,"No. total. (Niños+ niñas) derivados a TSFP",""]
[null,"Niñas 6-59 meses","Revisión \n(mediciones MUAC)","Número examinadas",{"$f":"SUM(E30:E33)","v":0},null,"% de niños+niñas con edema",{"$f":"IF(ISBLANK(E21),(IF(ISBLANK(E29),\"\",H23/H22)),H23/H22)","v":{"$error":"#VALUE!"}}]
[null,null,null,"Nº de niñas con edema bilateral",null,null,"% de (Niños+Niñas) Rojo",{"$f":"IF(ISBLANK(E21),(IF(ISBLANK(E29),\"\",H24/H22)),H24/H22)","v":{"$error":"#VALUE!"}}]
[null,null,null,"Nº de niñas 6-59m con MUAC rojo (<11.5 cm)",null,null,"(% De los muchachos de las muchachas  ) Amarillo",{"$f":"IF(ISBLANK(E21),(IF(ISBLANK(E29),\"\",H25/H22)),H25/H22)","v":{"$error":"#VALUE!"}}]
[null,null,null,"Nº de niñas 6-59m con MUAC amarillo (≥ 11,5 cm a <12,5 cm)",null,null,"(% De los muchachos de las muchachas  ) verde",{"$f":"IF(ISBLANK(E21),(IF(ISBLANK(E29),\"\",H26/H22)),H26/H22)","v":{"$error":"#VALUE!"}}]
[null,null,null,"Nº de niñas 6-59m con MUAC verde (≥ 12,5 cm)",null,null,"(% De los muchachos   Girls) se refirió a la PTF",{"$f":"IF(ISBLANK(E21),(IF(ISBLANK(E29),\"\",H27/H22)),H27/H22)","v":{"$error":"#VALUE!"}}]
[null,null,"Derivaciones","Nº de Niñas 6-59m derivadas a OTP",null,null,"% De los muchachos ( ) Las niñas que se refiere TSFP",{"$f":"IF(ISBLANK(E21),(IF(ISBLANK(E29),\"\",H28/H22)),H28/H22)","v":{"$error":"#VALUE!"}}]
[null,null,null,"Nº de niñas 6-59m derivadas a TSFP"]
[]
[]
[null,"Mujeres embarazadas y lactantes","Revisión \n(mediciones MUAC)","Número examinadas",{"$f":"SUM(E39:E41)","v":0},null,"Cálculos automáticos MEL"]
[null,null,null,"Número de mujeres embarazadas y lactantes con MUAC <21.0 cm",null,null,"% MUAC <21.0 cm",{"$f":"IF(ISBLANK(E39),\"\",E39/E38)","v":""}]
[null,null,null,"Número de mujeres embarazadas y lactantes con MUAC ≥21.0 cm a 23.0 cm <",null,null,"MUAC% ≥21.0 cm a <23,0 cm",{"$f":"IF(ISBLANK(E40),\"\",E40/E38)","v":""}]
[null,null,null,"Número de mujeres embarazadas y lactantes con MUAC ≥23.0 cm",null,null,"MUAC% ≥23.0 cm",{"$f":"IF(ISBLANK(E41),\"\",E41/E38)","v":""}]
[null,null,"Derivaciones","Número de mujeres embarazadas y lactantes derivadas a OTP",null,null,"%  mujeres embarzadas y lactantes derivadas a OTP",{"$f":"IF(ISBLANK(E42),\"\",E42/E38)","v":""}]
[null,null,null,"Número de mujeres embarazadas y lactantes derivadas a TSFP",null,null,"% mujeres embarazadas  y lactantes derivadas a TSFP",{"$f":"IF(ISBLANK(E43),\"\",E43/E38)","v":""}]
[]
[null,"Personas mayores\nhombres\n(definición de país de \"persona mayor\" o ≥ 60años)","Revisión \n(mediciones MUAC)","Número examinados: Hombres",{"$f":"SUM(E46:E49)","v":0},null,"Cálculo automático exámen y derivaciones"]
[null,null,null,"Nº de hombres mayoures con edema bilateral",null,null,"No. total. (Hombres mayores+mujeres mayores) examinados",{"$f":"IF(ISBLANK(E45),(IF(ISBLANK(E53),\"\",E45+E53)),E45+E53)","v":0}]
[null,null,null,"Nº de hombres mayores con MUAC <18,5 cm",null,null,"No. total. (Hombres mayores+mujers mayores) edema",{"$f":"IF(ISBLANK(E46),(IF(ISBLANK(E54),\"\",E46+E54)),E46+E54)","v":""}]
[null,null,null,"Nº de hombres mayoures con MUAC ≥18.5 cm a 21.0 cm <",null,null,"No. total. (hombres mayores+mujeres mayores ) con MUAC <18,5 cm",""]
[null,null,null,"Nº de hombres mayores con MUAC ≥21.0 cm",null,null,"No. total. (hombres mayores+mujeres mayores) con MUAC ≥18.5 cm a <21,0 cm",""]
[null,null,"Derivaciones","Nº de hombres mayores derivados a OTP",null,null,"Nº total de (hombres mayores+mujeres mayores) con MUAC ≥21.0 cm",""]
[null,null,null,"Nº de hombres mayores derivados a TSFP",null,null,"No. total. (hombres mayores+mujeres mayores) derivados a OTP",""]
[null,null,null,null,null,null,"No. total. ((hombres mayores+mujeres mayores) derivados a TSFP",""]
[null,"Personas mayores\nMujeres\n (definición de país de \"persona mayor\" o ≥ 60y)","Revisión \n(mediciones MUAC)","Número examinadas: Mujeres",{"$f":"SUM(E54:E57)","v":0},null,"% De edema (hombres mayores+mujeres mayores)",{"$f":"IF(ISBLANK(E45),(IF(ISBLANK(E53),\"\",H47/H46)),H47/H46)","v":{"$error":"#VALUE!"}}]
[null,null,null,"Nº mujeres mayores con edema bilateral",null,null,"% De (  hombres mayores+mujeres mayores) con MUAC <18,5 cm",{"$f":"IF(ISBLANK(E45),(IF(ISBLANK(E53),\"\",H48/H46)),H48/H46)","v":{"$error":"#VALUE!"}}]
[null,null,null,"Nº mujeres mayores con MUAC <18,5 cm",null,null,"% De ( hombres mayores+mujeres mayores) con MUAC ≥18.5 cm a <21.0 cm ",{"$f":"IF(ISBLANK(E45),(IF(ISBLANK(E53),\"\",H49/H46)),H49/H46)","v":{"$error":"#VALUE!"}}]
[null,null,null,"Nº  mujeres mayores con MUAC ≥18.5 cm a <21.0 cm ",null,null,"% De ( hombres mayores+mujeres mayores) con MUAC ≥21.0 cm",{"$f":"IF(ISBLANK(E45),(IF(ISBLANK(E53),\"\",H50/H46)),H50/H46)","v":{"$error":"#VALUE!"}}]
[null,null,null,"Nº mujeres mayoures con MUAC ≥21.0 cm",null,null,"% De (hombres mayores+mujeres mayores) derivados a OTP",{"$f":"IF(ISBLANK(E45),(IF(ISBLANK(E53),\"\",H51/H46)),H51/H46)","v":{"$error":"#VALUE!"}}]
[null,null,"Derivaciones","Nº mujeres mayores derivadas a OTP",null,null,"% De (hombres mayores+mujeres mayores) derivados a TSFP",{"$f":"IF(ISBLANK(E45),(IF(ISBLANK(E53),\"\",H52/H46)),H52/H46)","v":{"$error":"#VALUE!"}}]
[null,null,null,"Nº mujeres mayores derivadas a TSFP"]
[]
[]
["Gestión de la desnutrición aguda grave, para pacientes hospitalizados"]
[null,"Niños 6-59 meses","Final total del último período de tiempo: Niños (A1)",null,null,null,"Cálculo automático Niños/as 6-59m"]
[null,null,"Final total del último período de tiempo: Niñas (A2)",null,null,null,"Total admisión niños (D = B   C)",{"$f":"SUM(E65,E67)","v":0}]
[null,null,"categorías de entrada","Nuevas admisiones: niños (B1)",null,null,"Total admisión niñas (D = B   C)",{"$f":"SUM(E66,E68)","v":0}]
[null,null,null,"Nuevas admisiones: niñas (B2)",null,null,"Total Salidas Boys (H = E   F   G)",{"$f":"SUM(E69+E71+E73+E75+E77+E79)","v":0}]
[null,null,null,"Casos antiguos (derivados de OTP, personas que retoman el tratamiento, translados de otro centro de estabilización) : Niños (C1)",null,null,"Total Salidas niñas (H = E   F   G)",{"$f":"SUM(E70+E72+E74+E76+E78+E80)","v":0}]
[null,null,null,"Casos antiguos (derivados de OTP, personas que retoman el tratamiento, translados de otro centro de estabilización): Niñas (C2)",null,null,"Total al final del (periodo de tiempo) Niños (I = A   DH)",{"$f":"E63+H64-H66","v":0}]
[null,null,"categorías de salida","Pacientes hospitalizados estabilizados y referidos a OTP: niños (E1)",null,null,"Total al final del (periodo de tiempo) Niñas (I = A   DH)",{"$f":"SUM(E64+H65-H67)","v":0}]
[null,null,null,"Pacientes hospitalizados estabilizados y referidos a OTP: niñas (E2)",null,null,"tasa de altas por curación",{"$f":"IF(ISBLANK(E70),\"\",(E71+E72)/(H73))","v":""},"(Min  Normas ESFERA. > 75%)"]
[null,null,null,"Alta por curación (casos especiales que terminan tratamiento): niños (F1)",null,null,"tasa de altas por muerte",{"$f":"IF(ISBLANK(E71),\"\",(E73 + E74)/(H73))","v":""},"(Min  Normas ESFERA.  <10%)"]
[null,null,null,"Alta por curación (casos especiales que terminan tratamiento): niñas (F2)",null,null,"tasa de alta por abandono",{"$f":"IF(ISBLANK(E73),\"\",(E75 + E76)/(H73))","v":""},"(Min  Normas ESFERA. <15%)"]
[null,null,null,"Altas por muerte: niños (F3)",null,null,"salidas totales (J = E   F   G)",{"$f":"IF(ISBLANK(E69:E80),\"\",SUM(H66,H67))","v":""}]
[null,null,null,"Altas por muerte: niñas (F4)",null,null,"Total al final del (período de tiempo) (K = A   DJ)",{"$f":"IF(ISBLANK(E63),\"\",E63+E64+H64+H65-H73)","v":""}]
[null,null,null,"Altas por abandono: niños (F5)"]
[null,null,null,"Altas por abandono: niñas (F6)"]
[null,null,null,"Altas sin curación: niños (F7)"]
[null,null,null,"Altas sin curación: niñas (F8)"]
[null,null,null,"Otras transferencias: niños (G1)"]
[null,null,null,"Otras transferencias: niñas (G2)"]
[]
[null,"Niños <6 meses","Final total del útimo (período de tiempo): niños (A1)",null,null,null,"Cálculo automático niños/as <6m"]
[null,null,null,"Final total del último (período de tiempo): niñas (A2)",null,null,"Total admisiones niños (D = B   C)",{"$f":"SUM(E84,E86)","v":0}]
[null,null,"categorías de entrada","Nuevas admisiones: niños (B1)",null,null,"Total admisiones niñas (D = B   C)",{"$f":"SUM(E85,E87)","v":0}]
[null,null,null,"Nuevas admisiones: niñas (B2)",null,null," Total salidas niños (H = F   G)",{"$f":"SUM(E88+E90+E92+E94+E96+E98)","v":0}]
[null,null,null,"Casos antiguos (derivados de OTP, personas que retoman el tratamiento, translados de otro centro de estabilización) : Niños (C1)",null,null,"Total salidas niñas (H = F   G)",{"$f":"SUM(E89+E91+E93+E95+E97)","v":0}]
[null,null,null,"Casos antiguos (derivados de OTP, personas que retoman el tratamiento, translados de otro centro de estabilización): Niñas (C2)",null,null,"Total niños al final del (periodo de tiempo) (I = A   DH)",{"$f":"E82+H83-H85","v":0}]
[null,null,"categorías de salida","Alta por curación (casos especiales que terminan tratamiento): niños (F1)",null,null,"Total niñas al final del (periodo de tiempo) (I = A   DH)",{"$f":"SUM(E83+H84-H86)","v":0}]
[null,null,null,"Alta por curación (casos especiales que terminan tratamiento): niñas (F2)",null,null,"tasas altas por curación",{"$f":"IF(ISBLANK(E89),\"\",(E89+E88)/(H92))","v":""},"(Min  Normas ESFERA. > 75%)",null,null,null,0.13043478260869565]
[null,null,null,"Altas por muerte: niños (F3)",null,null,"tasa alta por muerte",{"$f":"IF(ISBLANK(E90),\"\",(E90 + E91)/(H92))","v":""},"(Min  Normas ESFERA. <10%)"]
[null,null,null,"Altas por muerte: niñas (F4)",null,null,"tasa alta por abandono",{"$f":"IF(ISBLANK(E92),\"\",(E92 + E93)/(H92))","v":""},"(Min  Normas ESFERA.  <15%)"]
[null,null,null,"Altas por abandono: niños (F5)",null,null,"salidas totales (J = F   G)",{"$f":"IF(ISBLANK(E88:F99),\"\",SUM(H85,H86))","v":0}]
[null,null,null,"Altas por abandono: niñas (F6)",null,null,"Total al final del (período de tiempo) (K = A   DJ)",{"$f":"IF(ISBLANK(E82),\"\",E82+E83+H83+H84-H92)","v":""}]
[null,null,null,"Altas sin curación: niños (F7)"]
[null,null,null,"Altas sin curación: niñas (F8)"]
[null,null,null,"Otras transferencias: niños (G1)"]
[null,null,null,"Otras transferencias: niñas (G2)"]
[]
[null,"Personas mayores (definición de país de \"persona mayor\" o  ≥60años)","Final total del último (período de tiempo): hombres mayores (A1)",null,null,null,"Cálculo automático Personas Mayores"]
[null,null,"Final total del último (período de tiempo): mujeres mayores (A2)",null,null,null,"admisiones totales hombres mayores (D = B   C)",{"$f":"SUM(E101+E103)","v":0}]
[null,null,"categorías de entrada","Nuevas admisiones: Hombres Mayores (B1)",null,null,"Admisiones totales mujeres mayores (D = B   C)",{"$f":"SUM(E102+E104)","v":0}]
[null,null,null,"Nuevas admisiones: mujeres mayores (B2)",null,null,"salidas totales hombres mayores (H = E   F   G)",{"$f":"E105+E107+E109+E111+E113+E115","v":0}]
[null,null,null,"Casos antiguos (derivados de OTP, personas que retoman el tratamiento, translados de otro centro de estabilización): hombres mayores (C1)",null,null,"salidas totales Mayor femenino (H = E   F   G)",{"$f":"E106+E108+E110+E112+E114+E116","v":0}]
[null,null,null,"Casos antiguos (derivados de OTP, personas que retoman el tratamiento, translados de otro centro de estabilización): mujeres mayores (C2)",null,null,"Total al final del (periodo de tiempo) varones de más edad (I = A   DH)",{"$f":"IF(ISBLANK(E99),\"\",E99+H100-H102)","v":""}]
[null,null,"categorías de salida","Pacientes hospitalizados estabilizados y referidos a OTP: hombres mayores (E1)",null,null,"Total al final del (periodo de tiempo) Mayor Femenino (I = A   DH)",{"$f":"IF(ISBLANK(E100),\"\",E100+H101-H103)","v":""}]
[null,null,null,"Pacientes hospitalizados estabilizados y referidos a OTP: mujeres mayores (E2)",null,null,"tasas curados descargadas",{"$f":"IF(ISBLANK(E106),\"\",(E107+E108)/(H109))","v":""},"(Min  Normas ESFERA. > 75%)"]
[null,null,null,"Alta por curación (casos especiales que terminan tratamiento): hombres mayores (F1)",null,null,"tasa muerto descargada",{"$f":"IF(ISBLANK(E107),\"\",(E109 + E110)/(H109))","v":""},"(Min  Normas ESFERA. <10%)"]
[null,null,null,"Alta por curación (casos especiales que terminan tratamiento): mujeres mayores (F2)",null,null,"tasa omitido descargada",{"$f":"IF(ISBLANK(E109),\"\",(E111 + E111)/(H103+H102))","v":""},"(Min  Normas ESFERA. <15%)"]
[null,null,null,"Altas por muerte: hombres mayores (F3)",null,null,"salidas totales (J = E   F   G)",{"$f":"IF(ISBLANK(E105:F116),\"\",SUM(H102,H103))","v":0}]
[null,null,null,"Altas por muerte: mujeres mayores (F4)",null,null,"Total al final del (período de tiempo) (K = A   DJ)",{"$f":"IF(ISBLANK(E99),\"\",E99+E100+H100+H101-H109)","v":""}]
[null,null,null,"Altas por abandono:hombres mayores (F5)"]
[null,null,null,"Altas por abandono: mujeres mayores (F6)"]
[null,null,null,"Altas sin curación: hombres mayores (F7)"]
[null,null,null,"Altas sin curación: mujeres mayores (F8)"]
[null,null,null,"Otras transferencias: hombres mayores (G1)"]
[null,null,null,"Otras transferencias: mujeres mayores (G2)"]
["Gestión de la desnutrición aguda grave, para pacientes ambulatorios"]
[null,"Niños 6-59 meses","Final total del último (período de tiempo): niños (A1)",null,null,null,"Cálculo automático Niños/as 6-59m"]
[null,null,"Final total del último (período de tiempo): niñas (A2)",null,null,null,"Total admisiones  niños (D = B   C)",{"$f":"SUM(E122+E120)","v":0}]
[null,null,"categorías de entrada","Nuevas admisiones: niños(B1)",null,null,"Total admisiones niñas (D = B   C)",{"$f":"SUM(E121+E123)","v":0}]
[null,null,null,"Nuevas admisiones: niñas (B2)",null,null,"Total salidas niños (H = F   G)",{"$f":"SUM(E124+E126+E128+E130+E132+E134)","v":0}]
[null,null,null,"Casos antiguos (derivados de OTP, personas que retoman el tratamiento, translados de otro centro de estabilización) : Niños (C1)",null,null,"Total salidas niñas (H = F   G)",{"$f":"SUM(E125+E127+E129+E131+E133+E135)","v":0}]
[null,null,null,"Casos antiguos (derivados de OTP, personas que retoman el tratamiento, translados de otro centro de estabilización): Niñas (C2)",null,null,"Total niños al final del (periodo de tiempo) (I = A   DH)",{"$f":"IF(ISBLANK(E118),\"\",E118+H119-H121)","v":""}]
[null,null,"categorías de salida","Alta por curación: niños (F1)",null,null,"Total niñas al final del (periodo de tiempo) (I = A   DH)",{"$f":"IF(ISBLANK(E119),\"\",E119+H120-H122)","v":""}]
[null,null,null,"Altas por curación: niñas (F1)",null,null,"tasas altas por curación",{"$f":"IF(ISBLANK(E124),\"\",(E124+E125)/(H128))","v":""},"(Min Normas ESFERA. > 75%)"]
[null,null,null,"Altas por muerte: niños (F2)",null,null,"tasa altas por muerte",{"$f":"IF(ISBLANK(E126),\"\",(E126 + E127)/(H128))","v":""},"(Min Normas ESFERA. <10%)"]
[null,null,null,"Altas por muerte: niñas (F2)",null,null,"tasa altas por abandono",{"$f":"IF(ISBLANK(E128),\"\",(E128 + E129)/(H122+H121))","v":""},"(Min Normas ESFERA.  <15%)"]
[null,null,null,"Altas por abandono: niños (F3)",null,null,"salidas totales (J = F   G)",{"$f":"IF(ISBLANK(E124:E135),\"\",SUM(H121,H122))","v":""}]
[null,null,null,"Altas por abandono: niñas (F3)",null,null,"Total al final del (período de tiempo) (K = A   DJ)",{"$f":"IF(ISBLANK(E118),\"\",E118+E119+H119+H120-H128)","v":""}]
[null,null,null,"Altas sin curación: niños (F4)"]
[null,null,null,"Altas sin curación: niñas (F4)"]
[null,null,null,"Derivaciones a centros de estabilización: niños (F5)"]
[null,null,null,"Derivaciones a centros de estabilización: niñas (F6)"]
[null,null,null,"Otras transferencias: niños (G1)"]
[null,null,null,"Otras transferencias: niñas (G2)"]
[null,null,"Ganancia media diaria de peso (AWG) para el alta por curación (en gramos / kg / día)",null,null,null,"(Recomendado> 4 g / kg / día)"]
[null,null,"Duración media de la estancia (LOS) para el alta por curación (en días)",null,null,null,"(Recomendado <60 días)"]
[]
[null,"Personas mayores (definición de país de \"persona mayor\" o  ≥60años)","fin total de la última (período de tiempo): Hombres Mayor (A1)",null,null,null,"Cálculo automático Personas Mayores"]
[null,null,"fin total de la última (período de tiempo): Mayor femenino (A2)",null,null,null,"admisiones totales hombres mayores (D = B   C)",{"$f":"E141+E143","v":0}]
[null,null,"categorías de entrada","Nuevas admisiones: hombres mayores (B1)",null,null,"Admisiones totales mujeres mayores (D = B   C)",{"$f":"E142+E144","v":0}]
[null,null,null,"Nuevas admisiones: mujeres mayores (B2)",null,null,"salidas totales hombres mayores (H = F   G)",{"$f":"SUM(E145+E147+E149+E151+E153+E155)","v":0}]
[null,null,null,"Casos antiguos (derivados de OTP, personas que retoman el tratamiento, translados de otro centro de estabilización) : hombres mayores (C1)",null,null,"salidas totales mujeres mayores (H = F   G)",{"$f":"SUM(E146+E148+E150+E152+E154+E156)","v":0}]
[null,null,null,"Casos antiguos (derivados de OTP, personas que retoman el tratamiento, translados de otro centro de estabilización) : mujeres mayores (C2)",null,null,"Total hombres mayores al final del (periodo de tiempo) (I = A   DH)",{"$f":"IF(ISBLANK(E139),\"\",E139+H140-H142)","v":""}]
[null,null,"categorías de salida","Altas por curación: hombres mayores (F1)",null,null,"Total mujeres mayores al final del (periodo de tiempo) (I = A   DH)",{"$f":"IF(ISBLANK(E140),\"\",E140+H141-H143)","v":""}]
[null,null,null,"Altas por curación: mujeres mayores (F1)",null,null,"tasa altas por curación",{"$f":"IF(ISBLANK(E145),\"\",(E145+E146)/(H149))","v":""},"(Min Normas ESFERA.> 75%)"]
[null,null,null,"Altas por muerte: hombres mayores (F2)",null,null,"tasa altas por muerte",{"$f":"IF(ISBLANK(E147),\"\",(E147 + E148)/(H149))","v":""},"(Min Normas ESFERA. <10%)"]
[null,null,null,"Altas por muerte: mujeres mayores (F2)",null,null,"tasa altas por abandono",{"$f":"IF(ISBLANK(E149),\"\",(E149 + E150)/(H143+H142))","v":""},"(Min Normas ESFERA. <15%)"]
[null,null,null,"Altas por abandono: hombres mayores (F3)",null,null,"salidas totales (J = F   G)",{"$f":"IF(ISBLANK(E145:F156),\"\",SUM(E145:E154))","v":0}]
[null,null,null,"Altas por abandono: mujers mayores (F3)",null,null,"Total al final del (período de tiempo) (K = A   DJ)",{"$f":"IF(ISBLANK(E139),\"\",E139+E140+H140+H141-H149)","v":""}]
[null,null,null,"Altas sin curación: hombre mayores (F4)"]
[null,null,null,"Altas sin curación: mujeres mayores (F4)"]
[null,null,null,"Derivaciones a centros de estabilización: hombres mayores (F5)"]
[null,null,null,"Derivaciones a centros de estabilización: mujeres mayores (F6)"]
[null,null,null,"Otras transferencias: hombre mayores (G1)"]
[null,null,null,"Otras transferencias: mujeres mayores (G2)"]
[]
["Programas de alimentación suplementaria selectiva"]
[null,"Niños/as 6-59 meses","fin total del último (período de tiempo): Niños (A1)",null,null,null,"Cálculo automático Niños/as 6-59m"]
[null,null,"fin total del último (período de tiempo): niñas (A1)",null,null,null,"Total admisión niños (D = B   C)",{"$f":"SUM(E163+E161)","v":0}]
[null,null,"categorías de entrada","Nuevas admisiones: niños (B1)",null,null,"Total admisión niñas (D = B   C)",{"$f":"SUM(E162+E164)","v":0}]
[null,null,null,"Nuevas admisiones: niñas(B2)",null,null,"Total salidas niños (H = E   G)",{"$f":"SUM(E165+E167+E169+E171+E173+E175)","v":0}]
[null,null,null,"Casos antiguos (derivados de OTP, personas que retoman el tratamiento, translados de otro centro de estabilización): Niños (C1)",null,null,"Total salidas niñas (H = E   G)",{"$f":"SUM(E166+E168+E170+E172+E174+E176)","v":0}]
[null,null,null,"Casos antiguos (derivados de OTP, personas que retoman el tratamiento, translados de otro centro de estabilización): niñas (C2)",null,null,"Total niños al final del (periodo de tiempo) (I = A   DH)",{"$f":"IF(ISBLANK(E159),\"\",E159+H160-H162)","v":""}]
[null,null,"categorías de salida","Altas por curación: Niños (E1)",null,null,"Total niñas al final del (periodo de tiempo) (I = A   DH)",{"$f":"IF(ISBLANK(E160),\"\",E160+H161-H163)","v":""}]
[null,null,null,"Altas por curación: niñas (E2)",null,null,"tasa altas por curación",{"$f":"IF(ISBLANK(E166),\"\",(E166+E165)/(H169))","v":""},"(Min  Normas ESFERA.> 75%)"]
[null,null,null,"Altas por muerte: Niños (E3)",null,null,"tasa altas por muerte",{"$f":"IF(ISBLANK(E167),\"\",(E167 + E168)/(H169))","v":""},"(Las normas de Esfera min. <3%)"]
[null,null,null,"Altas por muerte: niñas (E4)",null,null,"tasa altas por abandono",{"$f":"IF(ISBLANK(E169),\"\",(E169 + E170)/(H169))","v":""},"(Min Normas ESFERA.  <15%)"]
[null,null,null,"Altas por abandono: Niños (E5)",null,null,"salidas totales (J = E   G)",{"$f":"IF(ISBLANK(E165),\"\",SUM(H162:H163))","v":""}]
[null,null,null,"Altas por abandono: niñas (E6)",null,null,"Total al final del (período de tiempo) (K = A   DJ)",{"$f":"IF(ISBLANK(E159),\"\",E159+E160+H160+H161-H169)","v":""}]
[null,null,null,"Alta sin curación: Niños (E7)"]
[null,null,null,"Altas sin curación: niñas (E8)"]
[null,null,null,"Derivados a OTP / SC: niños (E9)"]
[null,null,null,"Derivados a OTP / SC: niñas (E10)"]
[null,null,null,"Otras transferencias niños (G1)"]
[null,null,null,"Otras transferencias niñas (G2)"]
[null,null,"Duración media de la estancia para altas por curación (en días)"]
[null,null,"Valor kcal de la ración suplementaria diaria (kcal / día)"]
[null,null,"Producto provisto"]
[]
[null,"Embarazadas y mujeres lactantes (MEL)","fin total del último (período de tiempo): MEL (A)",null,null,null,"Cálculo automático MEL"]
[null,null,"categorías de entrada","Nuevas admisiones en este (periodo de tiempo): MEL (B)",null,null,"Total admisiones MEL (D = B   C)",{"$f":"IF(ISBLANK(E182),\"\",E182+E183)","v":""}]
[null,null,null,"Casos antiguos (derivados de OTP, personas que retoman el tratamiento, translados de otro centro de estabilización): MEL (C1)",null,null,"tasa de alta por curación",{"$f":"IF(ISBLANK(E184),\"\",E184/(H186))","v":""},"(Min  Normas ESFERA. > 75%)"]
[null,null,"categorías de salida","Alta por curación: MEL (F1)",null,null,"tasa alta por muerte",{"$f":"IF(ISBLANK(E185),\"\",E185/(H186))","v":""},"(Las normas de Esfera min. <3%)"]
[null,null,null,"Alta por muerteo: MEL (F2)",null,null,"tasa alta por abandono",{"$f":"IF(ISBLANK(E187),\"\",E186/(H186))","v":""},"(Min Normas ESFERA. <15%)"]
[null,null,null,"Alta por abandono: MEL (F3)",null,null,"salidas totales (J = F   G)",{"$f":"IF(ISBLANK(E184),\"\",SUM(E184:E189))","v":""}]
[null,null,null,"Alta sin recuperación: MEL (F4)",null,null,"Total al final del (período de tiempo) (K = A   DJ)",{"$f":"IF(ISBLANK(E181),\"\",E181+H182-H186)","v":""}]
[null,null,null,"Derivadas a OTP / SC: MEL (F5)"]
[null,null,null,"Otras transferencias: MEL (G)"]
[null,null,"Duración media de la estancia para altas por curación (en días)"]
[null,null,"Valor kcal de la ración suplementaria diaria (kcal / día)"]
[null,null,"Producto provisto"]
[]
[null,"Personas mayores (definición de país de \"personas mayores\" o  ≥60años)","fin total del último (período de tiempo): Hombres Mayores (A1)"]
[null,null,"fin total del último (período de tiempo): Mujeres mayores (A2)",null,null,null,"Cálculo automático Personas Mayores"]
[null,null,"categorías de entrada","Nuevas admisiones: Hombres Mayor (B1)",null,null,"Admisiones totales hombres mayores (D = B   C)",{"$f":"SUM(E196+E198)","v":0}]
[null,null,null,"Nuevas admisiones: Mayor Femenino (B2)",null,null,"Admisiones totales mujeres mayores (D = B   C)",{"$f":"SUM(E197+E199)","v":0}]
[null,null,null,"Casos antiguos (derivados de OTP, personas que retoman el tratamiento, translados de otro centro de estabilización): hombres mayores (C1)",null,null,"salidas totales hombres mayores (H = E   G)",{"$f":"SUM(E200+E202+E204+E206+E208+E210)","v":0}]
[null,null,null,"Casos antiguos (derivados de OTP, personas que retoman el tratamiento, translados de otro centro de estabilización): Mujeres mayores (C2)",null,null,"salidas totales mujeres mayores (H = E   G)",{"$f":"SUM(E201,E203,E205,E207,E209,E211)","v":0}]
[null,null,"categorías de salida","Alta por curación: hombres mayores (E1)",null,null,"Total hombres mayores al final del (periodo de tiempo) (I = A   DH)",{"$f":"IF(ISBLANK(E194),\"\",E194+H196-H198)","v":""}]
[null,null,null,"Alta por curación: mujres mayores (E2)",null,null,"Total mujeres mayores al final del (periodo de tiempo) (I = A   DH)",{"$f":"IF(ISBLANK(E195),\"\",E195+H197-H199)","v":""}]
[null,null,null,"Altas por muerte: hombres mayores (E3)",null,null,"tasa altas por curación",{"$f":"IF(ISBLANK(E202),\"\",(E200+E201)/(H205))","v":""},"(Min Normas ESFERA.  75%)"]
[null,null,null,"Altas por muerte: mujeres mayores (E4)",null,null,"tasa altas por muerte",{"$f":"IF(ISBLANK(E203),\"\",(E202+ E203)/(H205))","v":""},"(Las normas de Esfera min. <3%)"]
[null,null,null,"Altas por abandano: hombres mayores (E5)",null,null,"tasa altas por abandono",{"$f":"IF(ISBLANK(E205),\"\",(E204+E205)/(H205))","v":""},"(Min Normas ESFERA. <15%)"]
[null,null,null,"Altas por abandono: mujeres mayores (E6)",null,null,"salidas totales (J = E   G)",{"$f":"IF(ISBLANK(E200),\"\",SUM(H198:H199))","v":""}]
[null,null,null,"Altas sin recuperación: hombres mayores (E7)",null,null,"Total al final del (período de tiempo) (K = A   DJ)",{"$f":"IF(ISBLANK(E194),\"\",E194+E195+H196+H197-H205)","v":""}]
[null,null,null,"Altas sin recuperación: mujeres mayores (E8)"]
[null,null,null,"Derivados a OTP / SC: hombres mayores (E9)"]
[null,null,null,"Derivados a OTP / SC: mujeres mayores (E10)"]
[null,null,null,"Otras transferencias: hombres mayores (G1)"]
[null,null,null,"Otras transferencias: mujeres mayores (G2)"]
[null,null,"Duración media de la estancia para altas por curación (en días)"]
[null,null,"Valor kcal de la ración suplementaria diaria (kcal / día)"]
[null,null,"Producto provisto"]
[]
["Programas de alimentación suplementaria general"]
[null,"Niños/as 6-23 meses","No. de niños 6-23m nuevos en el programa durante el (período de tiempo)",null,{"$f":"SUM(E218,E219)","v":0},null,"Cálculo automático Niños/as 6-23m"]
[null,null,"Niños",null,null,null,"Número medio de niños/as  6-23m  que participaron en la distribución durante el (periodo de tiempo) ",{"$f":"E220/E223","v":{"$error":"#DIV/0!"}}]
[null,null,"Niñas"]
[null,null,"Número total de niños/as 6-23m que asistieron a la distribución en este (periodo de tiempo) ",null,{"$f":"SUM(E221,E222)","v":0}]
[null,null,"Niños"]
[null,null,"Niñas"]
[null,null,"Número de distribuciones durante este (periodo de tiempo) "]
[null,null,"valor kcal de ración suplementaria diaria (kcal / día)"]
[null,null,"Producto provisto"]
[]
[null,"Niños/as 6-59 meses","No. de niños 6-59m nuevos en el programa durante el (período de tiempo)",null,{"$f":"SUM(E228,E229)","v":0},null,"Cálculo automático Niños/as 6-59m"]
[null,null,"Niños",null,null,null,"Número medio de niños/as 6-59m que participaron en la distribución durante el (periodo de tiempo) ",{"$f":"(E230/E233)","v":{"$error":"#DIV/0!"}}]
[null,null,"Niñas"]
[null,null,"Número total de niños/as 6-23m que asistieron a la distribución en este (periodo de tiempo) ",null,{"$f":"SUM(E231,E232)","v":0}]
[null,null,"Niños"]
[null,null,"Niñas"]
[null,null,null,"Número de distribuciones durante este (periodo de tiempo) "]
[null,null,"valor kcal de ración suplementaria diaria (kcal / día)"]
[null,null,"Producto provisto"]
[]
[null,"Mujeres embarazadas y lactantes","Número de mujeres embarazadas y lactantes recién inscritas durante el (período de tiempo)",null,null,null,"Cálculo automático MEL"]
[null,null,"Número total de mujeres embarazadas y lactantes que asistieron a la distribución en este (periodo de tiempo)",null,null,null,"Promedio de MEL que participaron en la distribución durante el (periodo de tiempo) ",{"$f":"(E238/E239)","v":{"$error":"#DIV/0!"}}]
[null,null,null,"Número de distribuciones durante este (periodo de tiempo)"]
[null,null,"valor kcal de ración suplementaria diaria (kcal / día)"]
[null,null,"Producto provisto"]
[]
[null,"Personas mayores (definición de país de \"persona mayor\" o ≥60 años) ","Nº de personas mayores de nuevo ingreso durante el (período de tiempo)",null,{"$f":"SUM(E244,E245)","v":0},null,"Cálculo automático Personas Mayores"]
[null,null,"Hombres mayores",null,null,null,"Promedio de personas mayores que participaron en la distribución durante el  (periodo de tiempo) ",{"$f":"(E246/E249)","v":{"$error":"#DIV/0!"}}]
[null,null,"Mujeres mayores"]
[null,null,"Número total de personas mayores que asistieron a la distribución en este (periodo de tiempo) ",null,{"$f":"SUM(E247,E248)","v":0}]
[null,null,"Hombres mayores"]
[null,null,"Mujeres mayores"]
[null,null,"Número de distribuciones durante este (periodo de tiempo) "]
[null,null,"valor kcal de ración suplementaria diaria (kcal / día)"]
[null,null,"Producto provisto"]
[]
["Suplementación de micronutrientes"]
[null,"Suplementos de vitamina A administrada a niños de 6-11 meses y 12-59 meses ",null,"Número total de niños/as de 6-11 meses que han recibido  Vit-A durante el (período de tiempo)",{"$f":"SUM(E255:E256)","v":0},null,"Cálculo automático niños/a s 6-11 meses que recibieron vit-A"]
[null,null,null,"Niños",null,null,"% niños ",{"$f":"IF(ISBLANK(E255),\"\",E255/E254)","v":""}]
[null,null,null,"Niñas",null,null,"% niñas",{"$f":"IF(ISBLANK(E256),\"\",E256/E254)","v":""}]
[null,null,null,"Número total de niños/as  de 12-59 meses que han recibido Vit-A durante el (período de tiempo)",{"$f":"SUM(E258:E259)","v":0},null,"Cálculos automático niños/as 12-59 meses que recibieron vit-A"]
[null,null,null,"Niños ",null,null,"% niños ",{"$f":"IF(ISBLANK(E258),\"\",E258/E257)","v":""}]
[null,null,null,"Niñas",null,null,"% niñas",{"$f":"IF(ISBLANK(E259),\"\",E259/E257)","v":""}]
[]
[null,"Suplementos de vitamina A administados a MEL",null,"Número total de mujeres embarazadas y  lactantes que han recibido  Vit-A durante el (período de tiempo)",{"$f":"SUM(E262:E263)","v":0},null,"Cálculo automático MEL que recibieron vit-A"]
[null,null,null,"Embarazadas",null,null,"% mujeres embarazadas",{"$f":"IF(ISBLANK(E262),\"\",E262/E261)","v":""}]
[null,null,null,"Lactantes",null,null,"% mujeres lactantes",{"$f":"IF(ISBLANK(E263),\"\",E263/E261)","v":""}]
[]
[null,"Suplementos de vitamina A administrados a personas mayores (definición de país de \"persona mayor\" o ≥ 60años)",null,"Número total de personas mayores que han recibido  Vit-A durante el (período de tiempo)",{"$f":"SUM(E266:E267)","v":0},null,"Cálculo automático personas mayores que recibieron vit-A"]
[null,null,null,"Hombres mayores",null,null,"% hombres mayores",{"$f":"IF(ISBLANK(E266),\"\",E266/E265)","v":""}]
[null,null,null,"Mujeres mayores",null,null,"% mujeres mayores",{"$f":"IF(ISBLANK(E267),\"\",E267/E265)","v":""}]
[]
[null,"Micronutrientes en Polvo (MNP) administrados a  niños/as de 6-24 meses (polvos)",null,"Número total de niños/as 6-24meses que han recibido  MNP durante el (período de tiempo)",{"$f":"SUM(E270:E271)","v":0},null,"Cálculo automático niños/as  6-24 meses que recibieron MNP"]
[null,null,null,"Niños",null,null,"% niños ",{"$f":"IF(ISBLANK(E270),\"\",E270/E269)","v":""}]
[null,null,null,"Niñas",null,null,"% niñas",{"$f":"IF(ISBLANK(E271),\"\",E271/E269)","v":""}]
[]
[null,"Comprimidos de micronutrientes (MNT) administrados a MEL",null,"Número total de mujeres embarazadas y lactantes que han recibido  MNT durante el (período de tiempo)"]
[]
[null,"Micronutrientes en Polvo / Espolvorear (MNP) dado a las personas mayores ",null,"Número total de personas mayores que han recibido  MNP durante el (período de tiempo)",{"$f":"SUM(E276:E277)","v":0},null,"Cálculo automático personas mayores que recibieron MNP"]
[null,null,null,"Hombres mayores",null,null,"% hombres mayores",{"$f":"IF(ISBLANK(E276),\"\",E276/E275)","v":""}]
[null,null,null,"Mujeres mayores",null,null,"% mujeres mayores",{"$f":"IF(ISBLANK(E277),\"\",E277/E275)","v":""}]
[]
[null,"Hierro y ácido fólico administrado a MEL",null,"Número total de mujeres embarazadas y lactantes que han recibido hierro y ácido fólico durante el (período de tiempo)"]
[]
[null,"Hierro y ácido fólico administrado a  personas mayores",null,"Número total de personas mayores que han recibido hierro y ácido fólico durante el (período de tiempo) ",{"$f":"SUM(E282,E283)","v":0},null,"Cálculo automático personas mayores suplementadas con hierro y ácido fólico"]
[null,null,null,"Hombres mayores",null,null,"% hombres mayores",{"$f":"IF(ISBLANK(E282),\"\",E282/E281)","v":""}]
[null,null,null,"Mujeres mayores",null,null,"% mujeres mayores",{"$f":"IF(ISBLANK(E283),\"\",E283/E281)","v":""}]
[]
["Desparasitación"]
[null,"Nº de niños de 12-59 meses desparasitados",null,"Número total de niños 12-59meses desparasitados durante el (período de tiempo)",{"$f":"SUM(E287:E288)","v":0},null," Cálculo automático niños/as 12-59meses desparasitados"]
[null,null,null,"Niños ",null,null,"% niños ",{"$f":"IF(ISBLANK(E287),\"\",E287/E286)","v":""}]
[null,null,null,"Niñas",null,null,"% niñas",{"$f":"IF(ISBLANK(E288),\"\",E288/E286)","v":""}]
[]
[null,"Número de mujeres embarazadas  y lactantes desparasitadas",null,"Número total de mujeres embarazadas y lactantes desparasitadas durante el (período de tiempo)"]
[]
[null,"Número de personas mayores desparasitadas",null,"Número total de personas mayores desparasitadas durante el (período de tiempo)",{"$f":"SUM(E293:E294)","v":0},null,"Cálculo automático personas mayores desparasitadas"]
[null,null,null,"Hombres mayores",null,null,"% hombres mayores",{"$f":"IF(ISBLANK(E293),\"\",E293/E292)","v":""}]
[null,null,null,"Mujeres mayores",null,null,"% mujeres mayores",{"$f":"IF(ISBLANK(E294),\"\",E294/E292)","v":""}]
[]
["Alimentación de lactantes y niños pequeños"]
[null,"Sesiones individuales (uno a uno)","Mujeres embarazadas que asistieron a sesiones de asesoramiento individual"]
[null,null,"Mujeres lactantes y cuidadores de niños/as <6 meses que asistieron a sesiones de asesoramiento individual",null,null,null,"Cálculo automático MEL y cuidadores que asistieron a la orientación individual"]
[null,null,"Mujeres lactantes y cuidadores de niños/as de 6-24 meses que asistieron a sesiones de asesoramiento individual",null,null,null,"Total",{"$f":"IF(ISBLANK(E298),\"\",SUM(E297:E299))","v":""}]
[null,"ALNP asesoramiento - Las sesiones de grupo","Número de grupos de ALNP (incluidos los grupos de apoyo de madres) en funcionamiento durante el (período de tiempo)"]
[null,null,"Número total de sesiones de grupo (incluidos los grupos de apoyo de madres) mantenidos en el (período de tiempo)"]
[null,null,"Nuevas admisiones de mujeres embarazadas y lactantes y cuidadores en grupos ALNP (incluidos los grupos de apoyo de madres) durante el (período de tiempo)",null,{"$f":"SUM(E303,E304)","v":0},null,"Cálculo automático MEL y cuidadores admitidos en grupos ALNP"]
[null,null,null,"Hombres",null,null,"% hombres ",{"$f":"IF(ISBLANK(E303),\"\",E303/E302)","v":""}]
[null,null,null,"Mujeres",null,null,"% mujeres",{"$f":"IF(ISBLANK(E303),\"\",E304/E302)","v":""}]
[null,null,null,"Número total de mujeres embarazadas y lactantes y cuidadores que asistieron a grupos de ALNP (incluidos los grupos de apoyo de madres) durante el (período de tiempo)",{"$f":"SUM(E306,E307)","v":0}]
[null,null,null,"Hombres"]
[null,null,"Mujeres"]
[null,"alimentación artificial","Número total de lactantes de 0-6 meses que requieren alimentación artificial que han recibido BMS y apoyo apropiado durante el (período de tiempo)",null,null,null,"Nota: las sesiones de asesoramiento ALNP incluyen el inicio temprano de la lactancia materna exclusiva, el contacto piel a piel, relaction, alimentación complementaria, los suplementos de micronutrientes, el VIH y la alimentación infantil, el uso apropiado de BMS, etc ..."]
[null,null,"Número total de lactantes de 6-24 meses de edad que requieren alimentación artificial que han recibido BMS y apoyo apropiado durante el (período de tiempo)"]
[null,"La lactancia materna esquinas / espacios amigos de los niños","Número total de rincones para la lactancia materna / espacios que promueven la lactancia materna abiertos durante el (período de tiempo)"]
[null,null,"Número de rincones para la lactancia materna / espacios que promueven la lactancia materna en funcionamiento durante el (período de tiempo)"]
[null,null,"Nuevas admisiones de madres lactantes durante el (período de tiempo)"]
[null,null,"Número total de mujeres lactantes que asistieron a los rincones para la lactancia materna / espacios que promueven la lactancia materna durante el (período de tiempo)"]
[]
["Desarrollo de capacidades"]
[null,null,"Type/Topic of Training"]
[null,"Entrenamiento en MUAC,  detección, derivación y movilización de la comunidad",null,"Tipo de formación",null,null,"Nº de formaciones"]
[null,null,null,"Categoría principal del personal formado",null,null,"De qué agencia / s"]
[null,null,null,"Hombres",null,null,"Número de días"]
[null,null,null,"Mujeres"]
[null,null,null,"Comentarios"]
[]
[null,null,"Type/Topic of Training",null,null,null,"Automatic calculations Training 2"]
[null,"Formación sobre la gestión integrada de la desnutrición aguda (IMAM): SAM / TF (pacientes hospitalizados)",null,"Tipo de formación",null,null,"Nº de formaciones"]
[null,null,null,"Categoría principal del personal formado",null,null,"De qué agencia / s"]
[null,null,null,"Hombres",null,null,"Número de días"]
[null,null,null,"Mujeres"]
[null,null,null,"Comentarios"]
[]
[null,null,"Type/Topic of Training",null,null,null,"Automatic calculations Training 3"]
[null,"Formación sobre la gestión integrada de la desnutrición aguda (IMAM): SAM / TF (pacientes ambulatorios)",null,"Tipo de formación",null,null,"Nº de formaciones"]
[null,null,null,"Categoría principal del personal formado",null,null,"De qué agencia / s"]
[null,null,null,"Hombres",null,null,"Número de días"]
[null,null,null,"Mujeres"]
[null,null,null,"Comentarios"]
[]
[null,null,"Type/Topic of Training",null,null,null,"Automatic calculations Training 4"]
[null,"Formación sobre la gestión integrada de la desnutrición aguda (IMAM): MAM / TSFP",null,"Tipo de formación",null,null,"Nº de formaciones"]
[null,null,null,"Categoría principal del personal formado",null,null,"De qué agencia / s"]
[null,null,null,"Hombres",null,null,"Número de días"]
[null,null,null,"Mujeres"]
[null,null,null,"Comentarios"]
[]
[null,"Formación sobre alimentación infantil",null,"Tipo de formación",null,null,"Nº de formaciones"]
[null,null,null,"Categoría principal del personal capacitado",null,null,"De qué agencia / s"]
[null,null,null,"Hombres",null,null,"Número de días"]
[null,null,null,"Mujeres"]
[null,null,null,"Comentarios"]
[]
[null,"Formación sobre encuesta de SMART",null,"Tipo de formación",null,null,"Nº de formaciones"]
[null,null,null,"Categoría principal del personal formado",null,null,"De qué agencia / s"]
[null,null,null,"Hombres",null,null,"Número de días"]
[null,null,null,"Mujeres"]
[null,null,null,"Comentarios"]
[]
[null,"Formación de preparación y respuesta a emergencias",null,"Tipo de formación",null,null,"Nº de formaciones"]
[null,null,null,"Categoría principal del personal formado",null,null,"De qué agencia / s"]
[null,null,null,"Hombres",null,null,"Número de días"]
[null,null,null,"Mujeres"]
[null,null,null,"Comentarios"]
[]
[null,"Formación sobre el enfoque de clústeres",null,"Tipo de formación",null,null,"Nº de formaciones"]
[null,null,null,"Categoría principal del personal formado",null,null,"De qué agencia / s"]
[null,null,null,"Hombres",null,null,"Número de días"]
[null,null,null,"Mujeres"]
[null,null,null,"Comentarios"]
[]
["Comentarios"]
[null,"Cualquier comentario sobre programas, lagunas o preocupaciones"]

{"sheet":"Site10","index":11,"n_rows":369,"n_cols":26,"rows_kept":369,"cut":false,"hidden":false,"merged":[[190,2,190,3],[211,2,211,3],[212,2,212,3],[307,1,308,1],[307,2,307,3],[307,6,308,8],[308,2,308,3],[8,1,8,3],[9,1,9,3],[10,1,10,3],[13,1,13,3],[13,6,13,8],[14,1,14,3],[37,1,42,1],[37,2,40,2],[37,6,37,7],[61,0,61,3],[62,1,79,1],[62,2,62,3],[62,6,62,7],[63,2,63,3],[64,2,67,2],[68,2,79,2],[44,1,50,1],[20,6,20,7],[44,2,48,2],[44,6,44,7],[0,0,0,3],[1,0,1,2],[2,1,2,3],[5,1,5,3],[6,1,6,3],[7,1,7,3],[28,1,34,1],[28,2,32,2],[15,1,15,3],[17,1,17,3],[19,0,19,3],[20,1,26,1],[20,2,24,2],[52,1,58,1],[52,2,56,2],[116,0,116,3],[117,1,134,1],[117,2,117,3],[117,6,117,7],[118,2,118,3],[119,2,122,2],[123,2,134,2],[81,1,96,1],[81,2,81,3],[81,6,81,7],[87,2,96,2],[98,1,115,1],[98,2,98,3],[98,6,98,7],[99,2,99,3],[100,2,103,2],[104,2,115,2],[135,1,136,1],[135,2,135,3],[136,2,136,3],[138,1,155,1],[138,2,138,3],[138,6,138,7],[139,2,139,3],[140,2,143,2],[144,2,155,2],[157,0,157,3],[158,1,178,1],[158,2,158,3],[158,6,158,7],[159,2,159,3],[160,2,163,2],[164,2,175,2],[178,2,178,3],[193,1,213,1],[193,2,193,3],[194,6,194,7],[213,2,213,3],[180,1,191,1],[180,2,180,3],[180,6,180,7],[181,2,182,2],[183,2,188,2],[191,2,191,3],[194,2,194,3],[195,2,198,2],[199,2,210,2],[176,2,176,3],[189,2,189,3],[177,2,177,3],[228,2,228,3],[229,2,229,3],[234,2,234,3],[215,0,215,3],[216,1,224,1],[216,6,216,7],[219,2,219,3],[222,2,222,3],[226,6,226,7],[217,2,217,3],[218,2,218,3],[220,2,220,3],[221,2,221,3],[216,2,216,3],[230,2,230,3],[231,2,231,3],[253,6,253,7],[256,6,256,7],[268,1,270,2],[268,6,268,7],[236,1,238,1],[236,2,236,3],[236,6,236,7],[242,1,248,1],[242,2,242,3],[243,2,243,3],[244,2,244,3],[245,2,245,3],[248,2,248,3],[237,2,237,3],[246,2,246,3],[247,2,247,3],[242,6,242,7],[264,6,264,7],[274,1,276,2],[274,6,274,7],[284,0,284,3],[285,1,287,2],[285,6,285,7],[260,1,262,2],[260,6,260,7],[272,1,272,2],[301,6,301,7],[306,2,306,3],[280,1,282,2],[291,1,293,2],[291,6,291,7],[295,0,295,3],[296,1,298,1],[296,2,296,3],[297,2,297,3],[297,6,297,7],[298,2,298,3],[280,6,280,7],[322,2,322,3],[322,6,322,7],[323,1,327,2],[323,6,323,7],[324,6,324,7],[325,6,325,7],[327,4,327,8],[314,0,314,3],[315,2,315,3],[316,1,320,2],[316,6,316,7],[317,6,317,7],[318,6,318,7],[320,4,320,8],[336,2,336,3],[336,6,336,7],[337,1,341,2],[337,6,337,7],[338,6,338,7],[339,6,339,7],[341,4,341,8],[329,2,329,3],[329,6,329,7],[330,1,334,2],[330,6,330,7],[331,6,331,7],[332,6,332,7],[334,4,334,8],[343,1,347,2],[343,6,343,7],[344,6,344,7],[345,6,345,7],[347,4,347,8],[349,1,353,2],[349,6,349,7],[350,6,350,7],[351,6,351,7],[353,4,353,8],[368,1,385,1],[368,2,385,8],[355,1,359,2],[355,6,355,7],[356,6,356,7],[357,6,357,7],[359,4,359,8],[361,1,365,2],[361,6,361,7],[362,6,362,7],[363,6,363,7],[365,4,365,8],[309,1,312,1],[309,2,309,3],[223,2,223,3],[224,2,224,3],[233,2,233,3],[239,2,239,3],[240,2,240,3],[249,2,249,3],[250,2,250,3],[310,2,310,3],[311,2,311,3],[312,2,312,3],[289,1,289,2],[299,1,306,1],[299,2,299,3],[300,2,300,3],[301,2,301,3],[278,1,278,2],[264,1,266,2],[252,0,252,3],[253,1,258,2],[226,1,234,1],[226,2,226,3],[227,2,227,3]]}
["Formulario para la presentación de informes por los socios",null,null,null,null,null,null,null,null,null,null,null,"Localidad","Nilo Alto","Jonglei","Unidad","Warrap","Bahr el Ghazal norte","Bahr el Ghazal Occidental","Lagos","Ecuatoria occidental","Equatoria central","Equatoria Oriental","Mes","Temas de la formación","Tipo de formación"]
["Información general",null,null,null,null,null,null,null,null,null,null,null,"Nilo Alto","Renk","Fangak","Pariang","Abyei","Aweil_Norte","Raga","Cueibet","Tambura","Terekeka","Torit","Enero","Examen con MUAC y derivaciones","Nuevo"]
[null,"Acrónimo de la agencia",null,null,null,null,null,null,null,null,null,null,"Jonglei","Manyo","Canal_Khor_Fulus","Abiemnhom","Twic","Aweil_este","Jur_River","Rumbek_Norte","Nagero","Juba","Lapon","Febrero","Protocolos para pacientes ambulatorios","Repaso"]
[null,null,null,"Nombre de la agencia",{"$f":"VLOOKUP(E3,Lists!A2:B200,2,FALSE)","v":{"$error":"#N/A"}}]
[null,null,null,"Semana del informe "]
[null,"Mes del informe:",null,null,null,null,null,null,null,null,null,null,"Unidad","Fashoda","Ayod","Mayom","Gogrial_occidental","Aweil_Sur","Wau","Rumbek_Centro","Nzara","Lainya","Kapoeta_Norte","Marzo","Protocolos para pacientes hospitalizados"]
[null,"Año del informe",null,null,null,null," ",null,null,null,null,null,"Warrap","Melut","Duk","Rubkona","Gogrial_este","Aweil_oeste",null,"Wulu","Ezo","Yei","Kapoeta_este","Abril","Protocolos para programas de alimentación suplementaria"]
[null,"Fecha de presentación del informe (DD / MM / AA)",null,null,null,null,null,null,null,null,null,null,"Bahr_el_Ghazal_norte","Maban","Uror","Guit","Tonj_Norte","Aweil_Centro",null,"Rumbek_este","Yambio","Morobo","Kapoeta_Sur","Mayo","Movilización comunitaria"]
[null,"Nivel administrativo 1",null,"Nivel administrativo 1",null,null,"P-Code Nivel Admin 1",{"$f":"INDEX(admin1pcode,MATCH(E9,admin1,0))","v":{"$error":"#N/A"}}]
[null,"Nivel administrativo 2",null,null,null,null,"P-Code nivel admin 2",{"$f":"INDEX(admin2pcode,MATCH(E10,admin2,0))","v":{"$error":"#N/A"}},null,null,null,null,"Lagos","Luakpiny_Nasir","Akobo","Leer","Tonj_Sur",null,null,"Yirol_este","Maridi",null,"Ikotos","Julio","Otros (por favor, especificar en la sección de comentarios)"]
[null,"Nivel administrativo 3",null,null,null,null,"P-Code nivel Admin 3",{"$f":"INDEX(admin3pcode,MATCH(E11,admin3,0))","v":{"$error":"#N/A"}},null,null,null,null,"Ecuatoria Occidental","Longochuk","Pochalla","Mayendit",null,null,null,"Awerial","Mvolo",null,"Magwi","Agosto"]
[null,null,null,"Nivel administrativo 4",null,null,"P-Code nivel admin 4",{"$f":"INDEX(admin4pcode,MATCH(E12,admin4,0))","v":{"$error":"#N/A"}}]
[null,null,null,"Nivel administrativo 5",null,null,"P-Code nivel administrativo 5",{"$f":"INDEX(admin5pcode,MATCH(E13,admin5,0))","v":{"$error":"#N/A"}}]
[null,"¿Se ha utilizado criterios expandidos de admisión ?",null,null,null,null,null,null,null,null,null,null,"Ecuatoria Central","Ulang","Pibor","Panyijar",null,"N/A","Operacional","No operacional","Mundri_oeste",null,null,"Septiembre"]
[null,"Centros de estabilización (SC)",null,null,null,null,"Estado del sitio",null,null,null,null,null,"Ecuatoria oriental","Baliet","Twic_este",null,null,null,null,"Sí","No",null,null,"Octubre"]
[null,"Pacientes ambulatorios centros terapéuticos (OTP)",null,null,null,null,"Estado del sitio",null,null,null,null,null,null,"Malakal","Bor_Sur",null,null,null,null,null,null,null,null,"Noviembre"]
[null,null,null,"Sitios de tratamiento a nivel comunitario (BSFPs)",null,null,"Estado del sitio",null,null,null,null,null,null,"Panyikang",null,null,null,null,null,null,null,null,null,"Diciembre"]
[null,"Sitios de alimentación suplementaria (TSFPs)",null,null,null,null,"Estado del sitio"]
[]
["Diagnóstico y derivaciones"]
[null,"Niños 6-59 meses","Revisión \n(mediciones MUAC)","Número examinados",{"$f":"SUM(E22:E25)","v":0},null,"Cálculo automático exámen y derivaciones"]
[null,null,null,"Nº de niños con edema bilateral",null,null,"No. total. (Niños+Niñas) examinados",{"$f":"IF(ISBLANK(E21),(IF(ISBLANK(E29),\"\",E21+E29)),E21+E29)","v":0}]
[null,null,null,"Nº de niños con MUAC rojo (<11.5 cm)",null,null,"No. total. (Niños+niñas) edema",{"$f":"IF(ISBLANK(E22),(IF(ISBLANK(E30),\"\",E22+E30)),E22+E30)","v":""}]
[null,null,null,"Nº de niños 6-59m con MUAC amarillo (≥ 11,5 cm a <12,5 cm)",null,null,"No. total. (Niños+Niñas) Rojo",{"$f":"IF(ISBLANK(E23),(IF(ISBLANK(E31),\"\",E23+E31)),E23+E31)","v":""}]
[null,null,null,"Nº de niños 6-59m con MUAC verde (≥ 12,5 cm)",null,null,"No. total. (Niños+Niñas) Amarillo",""]
[null,null,"Derivaciones","Nº de niños 6-59m derivados a OTP",null,null,"No. total. (Niños+Niñas) Verde",""]
[null,null,null,"Nº de niños 6-59m derivados a TSFP",null,null,"No. total. (Niños+Niñas) derivados a OTP",{"$f":"IF(ISBLANK(E26),(IF(ISBLANK(E34),\"\",E26+E34)),E26+E34)","v":""}]
[null,null,null,null,null,null,"No. total. (Niños+ niñas) derivados a TSFP",""]
[null,"Niñas 6-59 meses","Revisión \n(mediciones MUAC)","Número examinadas",{"$f":"SUM(E30:E33)","v":0},null,"% de niños+niñas con edema",{"$f":"IF(ISBLANK(E21),(IF(ISBLANK(E29),\"\",H23/H22)),H23/H22)","v":{"$error":"#VALUE!"}}]
[null,null,null,"Nº de niñas con edema bilateral",null,null,"% de (Niños+Niñas) Rojo",{"$f":"IF(ISBLANK(E21),(IF(ISBLANK(E29),\"\",H24/H22)),H24/H22)","v":{"$error":"#VALUE!"}}]
[null,null,null,"Nº de niñas 6-59m con MUAC rojo (<11.5 cm)",null,null,"(% De los muchachos de las muchachas  ) Amarillo",{"$f":"IF(ISBLANK(E21),(IF(ISBLANK(E29),\"\",H25/H22)),H25/H22)","v":{"$error":"#VALUE!"}}]
[null,null,null,"Nº de niñas 6-59m con MUAC amarillo (≥ 11,5 cm a <12,5 cm)",null,null,"(% De los muchachos de las muchachas  ) verde",{"$f":"IF(ISBLANK(E21),(IF(ISBLANK(E29),\"\",H26/H22)),H26/H22)","v":{"$error":"#VALUE!"}}]
[null,null,null,"Nº de niñas 6-59m con MUAC verde (≥ 12,5 cm)",null,null,"(% De los muchachos   Girls) se refirió a la PTF",{"$f":"IF(ISBLANK(E21),(IF(ISBLANK(E29),\"\",H27/H22)),H27/H22)","v":{"$error":"#VALUE!"}}]
[null,null,"Derivaciones","Nº de Niñas 6-59m derivadas a OTP",null,null,"% De los muchachos ( ) Las niñas que se refiere TSFP",{"$f":"IF(ISBLANK(E21),(IF(ISBLANK(E29),\"\",H28/H22)),H28/H22)","v":{"$error":"#VALUE!"}}]
[null,null,null,"Nº de niñas 6-59m derivadas a TSFP"]
[]
[]
[null,"Mujeres embarazadas y lactantes","Revisión \n(mediciones MUAC)","Número examinadas",{"$f":"SUM(E39:E41)","v":0},null,"Cálculos automáticos MEL"]
[null,null,null,"Número de mujeres embarazadas y lactantes con MUAC <21.0 cm",null,null,"% MUAC <21.0 cm",{"$f":"IF(ISBLANK(E39),\"\",E39/E38)","v":""}]
[null,null,null,"Número de mujeres embarazadas y lactantes con MUAC ≥21.0 cm a 23.0 cm <",null,null,"MUAC% ≥21.0 cm a <23,0 cm",{"$f":"IF(ISBLANK(E40),\"\",E40/E38)","v":""}]
[null,null,null,"Número de mujeres embarazadas y lactantes con MUAC ≥23.0 cm",null,null,"MUAC% ≥23.0 cm",{"$f":"IF(ISBLANK(E41),\"\",E41/E38)","v":""}]
[null,null,"Derivaciones","Número de mujeres embarazadas y lactantes derivadas a OTP",null,null,"%  mujeres embarzadas y lactantes derivadas a OTP",{"$f":"IF(ISBLANK(E42),\"\",E42/E38)","v":""}]
[null,null,null,"Número de mujeres embarazadas y lactantes derivadas a TSFP",null,null,"% mujeres embarazadas  y lactantes derivadas a TSFP",{"$f":"IF(ISBLANK(E43),\"\",E43/E38)","v":""}]
[]
[null,"Personas mayores\nhombres\n(definición de país de \"persona mayor\" o ≥ 60años)","Revisión \n(mediciones MUAC)","Número examinados: Hombres",{"$f":"SUM(E46:E49)","v":0},null,"Cálculo automático exámen y derivaciones"]
[null,null,null,"Nº de hombres mayoures con edema bilateral",null,null,"No. total. (Hombres mayores+mujeres mayores) examinados",{"$f":"IF(ISBLANK(E45),(IF(ISBLANK(E53),\"\",E45+E53)),E45+E53)","v":0}]
[null,null,null,"Nº de hombres mayores con MUAC <18,5 cm",null,null,"No. total. (Hombres mayores+mujers mayores) edema",{"$f":"IF(ISBLANK(E46),(IF(ISBLANK(E54),\"\",E46+E54)),E46+E54)","v":""}]
[null,null,null,"Nº de hombres mayoures con MUAC ≥18.5 cm a 21.0 cm <",null,null,"No. total. (hombres mayores+mujeres mayores ) con MUAC <18,5 cm",""]
[null,null,null,"Nº de hombres mayores con MUAC ≥21.0 cm",null,null,"No. total. (hombres mayores+mujeres mayores) con MUAC ≥18.5 cm a <21,0 cm",""]
[null,null,"Derivaciones","Nº de hombres mayores derivados a OTP",null,null,"Nº total de (hombres mayores+mujeres mayores) con MUAC ≥21.0 cm",""]
[null,null,null,"Nº de hombres mayores derivados a TSFP",null,null,"No. total. (hombres mayores+mujeres mayores) derivados a OTP",""]
[null,null,null,null,null,null,"No. total. ((hombres mayores+mujeres mayores) derivados a TSFP",""]
[null,"Personas mayores\nMujeres\n (definición de país de \"persona mayor\" o ≥ 60y)","Revisión \n(mediciones MUAC)","Número examinadas: Mujeres",{"$f":"SUM(E54:E57)","v":0},null,"% De edema (hombres mayores+mujeres mayores)",{"$f":"IF(ISBLANK(E45),(IF(ISBLANK(E53),\"\",H47/H46)),H47/H46)","v":{"$error":"#VALUE!"}}]
[null,null,null,"Nº mujeres mayores con edema bilateral",null,null,"% De (  hombres mayores+mujeres mayores) con MUAC <18,5 cm",{"$f":"IF(ISBLANK(E45),(IF(ISBLANK(E53),\"\",H48/H46)),H48/H46)","v":{"$error":"#VALUE!"}}]
[null,null,null,"Nº mujeres mayores con MUAC <18,5 cm",null,null,"% De ( hombres mayores+mujeres mayores) con MUAC ≥18.5 cm a <21.0 cm ",{"$f":"IF(ISBLANK(E45),(IF(ISBLANK(E53),\"\",H49/H46)),H49/H46)","v":{"$error":"#VALUE!"}}]
[null,null,null,"Nº  mujeres mayores con MUAC ≥18.5 cm a <21.0 cm ",null,null,"% De ( hombres mayores+mujeres mayores) con MUAC ≥21.0 cm",{"$f":"IF(ISBLANK(E45),(IF(ISBLANK(E53),\"\",H50/H46)),H50/H46)","v":{"$error":"#VALUE!"}}]
[null,null,null,"Nº mujeres mayoures con MUAC ≥21.0 cm",null,null,"% De (hombres mayores+mujeres mayores) derivados a OTP",{"$f":"IF(ISBLANK(E45),(IF(ISBLANK(E53),\"\",H51/H46)),H51/H46)","v":{"$error":"#VALUE!"}}]
[null,null,"Derivaciones","Nº mujeres mayores derivadas a OTP",null,null,"% De (hombres mayores+mujeres mayores) derivados a TSFP",{"$f":"IF(ISBLANK(E45),(IF(ISBLANK(E53),\"\",H52/H46)),H52/H46)","v":{"$error":"#VALUE!"}}]
[null,null,null,"Nº mujeres mayores derivadas a TSFP"]
[]
[]
["Gestión de la desnutrición aguda grave, para pacientes hospitalizados"]
[null,"Niños 6-59 meses","Final total del último período de tiempo: Niños (A1)",null,null,null,"Cálculo automático Niños/as 6-59m"]
[null,null,"Final total del último período de tiempo: Niñas (A2)",null,null,null,"Total admisión niños (D = B   C)",{"$f":"SUM(E65,E67)","v":0}]
[null,null,"categorías de entrada","Nuevas admisiones: niños (B1)",null,null,"Total admisión niñas (D = B   C)",{"$f":"SUM(E66,E68)","v":0}]
[null,null,null,"Nuevas admisiones: niñas (B2)",null,null,"Total Salidas Boys (H = E   F   G)",{"$f":"SUM(E69+E71+E73+E75+E77+E79)","v":0}]
[null,null,null,"Casos antiguos (derivados de OTP, personas que retoman el tratamiento, translados de otro centro de estabilización) : Niños (C1)",null,null,"Total Salidas niñas (H = E   F   G)",{"$f":"SUM(E70+E72+E74+E76+E78+E80)","v":0}]
[null,null,null,"Casos antiguos (derivados de OTP, personas que retoman el tratamiento, translados de otro centro de estabilización): Niñas (C2)",null,null,"Total al final del (periodo de tiempo) Niños (I = A   DH)",{"$f":"E63+H64-H66","v":0}]
[null,null,"categorías de salida","Pacientes hospitalizados estabilizados y referidos a OTP: niños (E1)",null,null,"Total al final del (periodo de tiempo) Niñas (I = A   DH)",{"$f":"SUM(E64+H65-H67)","v":0}]
[null,null,null,"Pacientes hospitalizados estabilizados y referidos a OTP: niñas (E2)",null,null,"tasa de altas por curación",{"$f":"IF(ISBLANK(E70),\"\",(E71+E72)/(H73))","v":""},"(Min  Normas ESFERA. > 75%)"]
[null,null,null,"Alta por curación (casos especiales que terminan tratamiento): niños (F1)",null,null,"tasa de altas por muerte",{"$f":"IF(ISBLANK(E71),\"\",(E73 + E74)/(H73))","v":""},"(Min  Normas ESFERA.  <10%)"]
[null,null,null,"Alta por curación (casos especiales que terminan tratamiento): niñas (F2)",null,null,"tasa de alta por abandono",{"$f":"IF(ISBLANK(E73),\"\",(E75 + E76)/(H73))","v":""},"(Min  Normas ESFERA. <15%)"]
[null,null,null,"Altas por muerte: niños (F3)",null,null,"salidas totales (J = E   F   G)",{"$f":"IF(ISBLANK(E69:E80),\"\",SUM(H66,H67))","v":""}]
[null,null,null,"Altas por muerte: niñas (F4)",null,null,"Total al final del (período de tiempo) (K = A   DJ)",{"$f":"IF(ISBLANK(E63),\"\",E63+E64+H64+H65-H73)","v":""}]
[null,null,null,"Altas por abandono: niños (F5)"]
[null,null,null,"Altas por abandono: niñas (F6)"]
[null,null,null,"Altas sin curación: niños (F7)"]
[null,null,null,"Altas sin curación: niñas (F8)"]
[null,null,null,"Otras transferencias: niños (G1)"]
[null,null,null,"Otras transferencias: niñas (G2)"]
[]
[null,"Niños <6 meses","Final total del útimo (período de tiempo): niños (A1)",null,null,null,"Cálculo automático niños/as <6m"]
[null,null,null,"Final total del último (período de tiempo): niñas (A2)",null,null,"Total admisiones niños (D = B   C)",{"$f":"SUM(E84,E86)","v":0}]
[null,null,"categorías de entrada","Nuevas admisiones: niños (B1)",null,null,"Total admisiones niñas (D = B   C)",{"$f":"SUM(E85,E87)","v":0}]
[null,null,null,"Nuevas admisiones: niñas (B2)",null,null," Total salidas niños (H = F   G)",{"$f":"SUM(E88+E90+E92+E94+E96+E98)","v":0}]
[null,null,null,"Casos antiguos (derivados de OTP, personas que retoman el tratamiento, translados de otro centro de estabilización) : Niños (C1)",null,null,"Total salidas niñas (H = F   G)",{"$f":"SUM(E89+E91+E93+E95+E97)","v":0}]
[null,null,null,"Casos antiguos (derivados de OTP, personas que retoman el tratamiento, translados de otro centro de estabilización): Niñas (C2)",null,null,"Total niños al final del (periodo de tiempo) (I = A   DH)",{"$f":"E82+H83-H85","v":0}]
[null,null,"categorías de salida","Alta por curación (casos especiales que terminan tratamiento): niños (F1)",null,null,"Total niñas al final del (periodo de tiempo) (I = A   DH)",{"$f":"SUM(E83+H84-H86)","v":0}]
[null,null,null,"Alta por curación (casos especiales que terminan tratamiento): niñas (F2)",null,null,"tasas altas por curación",{"$f":"IF(ISBLANK(E89),\"\",(E89+E88)/(H92))","v":""},"(Min  Normas ESFERA. > 75%)",null,null,null,0.13043478260869565]
[null,null,null,"Altas por muerte: niños (F3)",null,null,"tasa alta por muerte",{"$f":"IF(ISBLANK(E90),\"\",(E90 + E91)/(H92))","v":""},"(Min  Normas ESFERA. <10%)"]
[null,null,null,"Altas por muerte: niñas (F4)",null,null,"tasa alta por abandono",{"$f":"IF(ISBLANK(E92),\"\",(E92 + E93)/(H92))","v":""},"(Min  Normas ESFERA.  <15%)"]
[null,null,null,"Altas por abandono: niños (F5)",null,null,"salidas totales (J = F   G)",{"$f":"IF(ISBLANK(E88:F99),\"\",SUM(H85,H86))","v":0}]
[null,null,null,"Altas por abandono: niñas (F6)",null,null,"Total al final del (período de tiempo) (K = A   DJ)",{"$f":"IF(ISBLANK(E82),\"\",E82+E83+H83+H84-H92)","v":""}]
[null,null,null,"Altas sin curación: niños (F7)"]
[null,null,null,"Altas sin curación: niñas (F8)"]
[null,null,null,"Otras transferencias: niños (G1)"]
[null,null,null,"Otras transferencias: niñas (G2)"]
[]
[null,"Personas mayores (definición de país de \"persona mayor\" o  ≥60años)","Final total del último (período de tiempo): hombres mayores (A1)",null,null,null,"Cálculo automático Personas Mayores"]
[null,null,"Final total del último (período de tiempo): mujeres mayores (A2)",null,null,null,"admisiones totales hombres mayores (D = B   C)",{"$f":"SUM(E101+E103)","v":0}]
[null,null,"categorías de entrada","Nuevas admisiones: Hombres Mayores (B1)",null,null,"Admisiones totales mujeres mayores (D = B   C)",{"$f":"SUM(E102+E104)","v":0}]
[null,null,null,"Nuevas admisiones: mujeres mayores (B2)",null,null,"salidas totales hombres mayores (H = E   F   G)",{"$f":"E105+E107+E109+E111+E113+E115","v":0}]
[null,null,null,"Casos antiguos (derivados de OTP, personas que retoman el tratamiento, translados de otro centro de estabilización): hombres mayores (C1)",null,null,"salidas totales Mayor femenino (H = E   F   G)",{"$f":"E106+E108+E110+E112+E114+E116","v":0}]
[null,null,null,"Casos antiguos (derivados de OTP, personas que retoman el tratamiento, translados de otro centro de estabilización): mujeres mayores (C2)",null,null,"Total al final del (periodo de tiempo) varones de más edad (I = A   DH)",{"$f":"IF(ISBLANK(E99),\"\",E99+H100-H102)","v":""}]
[null,null,"categorías de salida","Pacientes hospitalizados estabilizados y referidos a OTP: hombres mayores (E1)",null,null,"Total al final del (periodo de tiempo) Mayor Femenino (I = A   DH)",{"$f":"IF(ISBLANK(E100),\"\",E100+H101-H103)","v":""}]
[null,null,null,"Pacientes hospitalizados estabilizados y referidos a OTP: mujeres mayores (E2)",null,null,"tasas curados descargadas",{"$f":"IF(ISBLANK(E106),\"\",(E107+E108)/(H109))","v":""},"(Min  Normas ESFERA. > 75%)"]
[null,null,null,"Alta por curación (casos especiales que terminan tratamiento): hombres mayores (F1)",null,null,"tasa muerto descargada",{"$f":"IF(ISBLANK(E107),\"\",(E109 + E110)/(H109))","v":""},"(Min  Normas ESFERA. <10%)"]
[null,null,null,"Alta por curación (casos especiales que terminan tratamiento): mujeres mayores (F2)",null,null,"tasa omitido descargada",{"$f":"IF(ISBLANK(E109),\"\",(E111 + E111)/(H103+H102))","v":""},"(Min  Normas ESFERA. <15%)"]
[null,null,null,"Altas por muerte: hombres mayores (F3)",null,null,"salidas totales (J = E   F   G)",{"$f":"IF(ISBLANK(E105:F116),\"\",SUM(H102,H103))","v":0}]
[null,null,null,"Altas por muerte: mujeres mayores (F4)",null,null,"Total al final del (período de tiempo) (K = A   DJ)",{"$f":"IF(ISBLANK(E99),\"\",E99+E100+H100+H101-H109)","v":""}]
[null,null,null,"Altas por abandono:hombres mayores (F5)"]
[null,null,null,"Altas por abandono: mujeres mayores (F6)"]
[null,null,null,"Altas sin curación: hombres mayores (F7)"]
[null,null,null,"Altas sin curación: mujeres mayores (F8)"]
[null,null,null,"Otras transferencias: hombres mayores (G1)"]
[null,null,null,"Otras transferencias: mujeres mayores (G2)"]
["Gestión de la desnutrición aguda grave, para pacientes ambulatorios"]
[null,"Niños 6-59 meses","Final total del último (período de tiempo): niños (A1)",null,null,null,"Cálculo automático Niños/as 6-59m"]
[null,null,"Final total del último (período de tiempo): niñas (A2)",null,null,null,"Total admisiones  niños (D = B   C)",{"$f":"SUM(E122+E120)","v":0}]
[null,null,"categorías de entrada","Nuevas admisiones: niños(B1)",null,null,"Total admisiones niñas (D = B   C)",{"$f":"SUM(E121+E123)","v":0}]
[null,null,null,"Nuevas admisiones: niñas (B2)",null,null,"Total salidas niños (H = F   G)",{"$f":"SUM(E124+E126+E128+E130+E132+E134)","v":0}]
[null,null,null,"Casos antiguos (derivados de OTP, personas que retoman el tratamiento, translados de otro centro de estabilización) : Niños (C1)",null,null,"Total salidas niñas (H = F   G)",{"$f":"SUM(E125+E127+E129+E131+E133+E135)","v":0}]
[null,null,null,"Casos antiguos (derivados de OTP, personas que retoman el tratamiento, translados de otro centro de estabilización): Niñas (C2)",null,null,"Total niños al final del (periodo de tiempo) (I = A   DH)",{"$f":"IF(ISBLANK(E118),\"\",E118+H119-H121)","v":""}]
[null,null,"categorías de salida","Alta por curación: niños (F1)",null,null,"Total niñas al final del (periodo de tiempo) (I = A   DH)",{"$f":"IF(ISBLANK(E119),\"\",E119+H120-H122)","v":""}]
[null,null,null,"Altas por curación: niñas (F1)",null,null,"tasas altas por curación",{"$f":"IF(ISBLANK(E124),\"\",(E124+E125)/(H128))","v":""},"(Min Normas ESFERA. > 75%)"]
[null,null,null,"Altas por muerte: niños (F2)",null,null,"tasa altas por muerte",{"$f":"IF(ISBLANK(E126),\"\",(E126 + E127)/(H128))","v":""},"(Min Normas ESFERA. <10%)"]
[null,null,null,"Altas por muerte: niñas (F2)",null,null,"tasa altas por abandono",{"$f":"IF(ISBLANK(E128),\"\",(E128 + E129)/(H122+H121))","v":""},"(Min Normas ESFERA.  <15%)"]
[null,null,null,"Altas por abandono: niños (F3)",null,null,"salidas totales (J = F   G)",{"$f":"IF(ISBLANK(E124:E135),\"\",SUM(H121,H122))","v":""}]
[null,null,null,"Altas por abandono: niñas (F3)",null,null,"Total al final del (período de tiempo) (K = A   DJ)",{"$f":"IF(ISBLANK(E118),\"\",E118+E119+H119+H120-H128)","v":""}]
[null,null,null,"Altas sin curación: niños (F4)"]
[null,null,null,"Altas sin curación: niñas (F4)"]
[null,null,null,"Derivaciones a centros de estabilización: niños (F5)"]
[null,null,null,"Derivaciones a centros de estabilización: niñas (F6)"]
[null,null,null,"Otras transferencias: niños (G1)"]
[null,null,null,"Otras transferencias: niñas (G2)"]
[null,null,"Ganancia media diaria de peso (AWG) para el alta por curación (en gramos / kg / día)",null,null,null,"(Recomendado> 4 g / kg / día)"]
[null,null,"Duración media de la estancia (LOS) para el alta por curación (en días)",null,null,null,"(Recomendado <60 días)"]
[]
[null,"Personas mayores (definición de país de \"persona mayor\" o  ≥60años)","fin total de la última (período de tiempo): Hombres Mayor (A1)",null,null,null,"Cálculo automático Personas Mayores"]
[null,null,"fin total de la última (período de tiempo): Mayor femenino (A2)",null,null,null,"admisiones totales hombres mayores (D = B   C)",{"$f":"E141+E143","v":0}]
[null,null,"categorías de entrada","Nuevas admisiones: hombres mayores (B1)",null,null,"Admisiones totales mujeres mayores (D = B   C)",{"$f":"E142+E144","v":0}]
[null,null,null,"Nuevas admisiones: mujeres mayores (B2)",null,null,"salidas totales hombres mayores (H = F   G)",{"$f":"SUM(E145+E147+E149+E151+E153+E155)","v":0}]
[null,null,null,"Casos antiguos (derivados de OTP, personas que retoman el tratamiento, translados de otro centro de estabilización) : hombres mayores (C1)",null,null,"salidas totales mujeres mayores (H = F   G)",{"$f":"SUM(E146+E148+E150+E152+E154+E156)","v":0}]
[null,null,null,"Casos antiguos (derivados de OTP, personas que retoman el tratamiento, translados de otro centro de estabilización) : mujeres mayores (C2)",null,null,"Total hombres mayores al final del (periodo de tiempo) (I = A   DH)",{"$f":"IF(ISBLANK(E139),\"\",E139+H140-H142)","v":""}]
[null,null,"categorías de salida","Altas por curación: hombres mayores (F1)",null,null,"Total mujeres mayores al final del (periodo de tiempo) (I = A   DH)",{"$f":"IF(ISBLANK(E140),\"\",E140+H141-H143)","v":""}]
[null,null,null,"Altas por curación: mujeres mayores (F1)",null,null,"tasa altas por curación",{"$f":"IF(ISBLANK(E145),\"\",(E145+E146)/(H149))","v":""},"(Min Normas ESFERA.> 75%)"]
[null,null,null,"Altas por muerte: hombres mayores (F2)",null,null,"tasa altas por muerte",{"$f":"IF(ISBLANK(E147),\"\",(E147 + E148)/(H149))","v":""},"(Min Normas ESFERA. <10%)"]
[null,null,null,"Altas por muerte: mujeres mayores (F2)",null,null,"tasa altas por abandono",{"$f":"IF(ISBLANK(E149),\"\",(E149 + E150)/(H143+H142))","v":""},"(Min Normas ESFERA. <15%)"]
[null,null,null,"Altas por abandono: hombres mayores (F3)",null,null,"salidas totales (J = F   G)",{"$f":"IF(ISBLANK(E145:F156),\"\",SUM(E145:E154))","v":0}]
[null,null,null,"Altas por abandono: mujers mayores (F3)",null,null,"Total al final del (período de tiempo) (K = A   DJ)",{"$f":"IF(ISBLANK(E139),\"\",E139+E140+H140+H141-H149)","v":""}]
[null,null,null,"Altas sin curación: hombre mayores (F4)"]
[null,null,null,"Altas sin curación: mujeres mayores (F4)"]
[null,null,null,"Derivaciones a centros de estabilización: hombres mayores (F5)"]
[null,null,null,"Derivaciones a centros de estabilización: mujeres mayores (F6)"]
[null,null,null,"Otras transferencias: hombre mayores (G1)"]
[null,null,null,"Otras transferencias: mujeres mayores (G2)"]
[]
["Programas de alimentación suplementaria selectiva"]
[null,"Niños/as 6-59 meses","fin total del último (período de tiempo): Niños (A1)",null,null,null,"Cálculo automático Niños/as 6-59m"]
[null,null,"fin total del último (período de tiempo): niñas (A1)",null,null,null,"Total admisión niños (D = B   C)",{"$f":"SUM(E163+E161)","v":0}]
[null,null,"categorías de entrada","Nuevas admisiones: niños (B1)",null,null,"Total admisión niñas (D = B   C)",{"$f":"SUM(E162+E164)","v":0}]
[null,null,null,"Nuevas admisiones: niñas(B2)",null,null,"Total salidas niños (H = E   G)",{"$f":"SUM(E165+E167+E169+E171+E173+E175)","v":0}]
[null,null,null,"Casos antiguos (derivados de OTP, personas que retoman el tratamiento, translados de otro centro de estabilización): Niños (C1)",null,null,"Total salidas niñas (H = E   G)",{"$f":"SUM(E166+E168+E170+E172+E174+E176)","v":0}]
[null,null,null,"Casos antiguos (derivados de OTP, personas que retoman el tratamiento, translados de otro centro de estabilización): niñas (C2)",null,null,"Total niños al final del (periodo de tiempo) (I = A   DH)",{"$f":"IF(ISBLANK(E159),\"\",E159+H160-H162)","v":""}]
[null,null,"categorías de salida","Altas por curación: Niños (E1)",null,null,"Total niñas al final del (periodo de tiempo) (I = A   DH)",{"$f":"IF(ISBLANK(E160),\"\",E160+H161-H163)","v":""}]
[null,null,null,"Altas por curación: niñas (E2)",null,null,"tasa altas por curación",{"$f":"IF(ISBLANK(E166),\"\",(E166+E165)/(H169))","v":""},"(Min  Normas ESFERA.> 75%)"]
[null,null,null,"Altas por muerte: Niños (E3)",null,null,"tasa altas por muerte",{"$f":"IF(ISBLANK(E167),\"\",(E167 + E168)/(H169))","v":""},"(Las normas de Esfera min. <3%)"]
[null,null,null,"Altas por muerte: niñas (E4)",null,null,"tasa altas por abandono",{"$f":"IF(ISBLANK(E169),\"\",(E169 + E170)/(H169))","v":""},"(Min Normas ESFERA.  <15%)"]
[null,null,null,"Altas por abandono: Niños (E5)",null,null,"salidas totales (J = E   G)",{"$f":"IF(ISBLANK(E165),\"\",SUM(H162:H163))","v":""}]
[null,null,null,"Altas por abandono: niñas (E6)",null,null,"Total al final del (período de tiempo) (K = A   DJ)",{"$f":"IF(ISBLANK(E159),\"\",E159+E160+H160+H161-H169)","v":""}]
[null,null,null,"Alta sin curación: Niños (E7)"]
[null,null,null,"Altas sin curación: niñas (E8)"]
[null,null,null,"Derivados a OTP / SC: niños (E9)"]
[null,null,null,"Derivados a OTP / SC: niñas (E10)"]
[null,null,null,"Otras transferencias niños (G1)"]
[null,null,null,"Otras transferencias niñas (G2)"]
[null,null,"Duración media de la estancia para altas por curación (en días)"]
[null,null,"Valor kcal de la ración suplementaria diaria (kcal / día)"]
[null,null,"Producto provisto"]
[]
[null,"Embarazadas y mujeres lactantes (MEL)","fin total del último (período de tiempo): MEL (A)",null,null,null,"Cálculo automático MEL"]
[null,null,"categorías de entrada","Nuevas admisiones en este (periodo de tiempo): MEL (B)",null,null,"Total admisiones MEL (D = B   C)",{"$f":"IF(ISBLANK(E182),\"\",E182+E183)","v":""}]
[null,null,null,"Casos antiguos (derivados de OTP, personas que retoman el tratamiento, translados de otro centro de estabilización): MEL (C1)",null,null,"tasa de alta por curación",{"$f":"IF(ISBLANK(E184),\"\",E184/(H186))","v":""},"(Min  Normas ESFERA. > 75%)"]
[null,null,"categorías de salida","Alta por curación: MEL (F1)",null,null,"tasa alta por muerte",{"$f":"IF(ISBLANK(E185),\"\",E185/(H186))","v":""},"(Las normas de Esfera min. <3%)"]
[null,null,null,"Alta por muerteo: MEL (F2)",null,null,"tasa alta por abandono",{"$f":"IF(ISBLANK(E187),\"\",E186/(H186))","v":""},"(Min Normas ESFERA. <15%)"]
[null,null,null,"Alta por abandono: MEL (F3)",null,null,"salidas totales (J = F   G)",{"$f":"IF(ISBLANK(E184),\"\",SUM(E184:E189))","v":""}]
[null,null,null,"Alta sin recuperación: MEL (F4)",null,null,"Total al final del (período de tiempo) (K = A   DJ)",{"$f":"IF(ISBLANK(E181),\"\",E181+H182-H186)","v":""}]
[null,null,null,"Derivadas a OTP / SC: MEL (F5)"]
[null,null,null,"Otras transferencias: MEL (G)"]
[null,null,"Duración media de la estancia para altas por curación (en días)"]
[null,null,"Valor kcal de la ración suplementaria diaria (kcal / día)"]
[null,null,"Producto provisto"]
[]
[null,"Personas mayores (definición de país de \"personas mayores\" o  ≥60años)","fin total del último (período de tiempo): Hombres Mayores (A1)"]
[null,null,"fin total del último (período de tiempo): Mujeres mayores (A2)",null,null,null,"Cálculo automático Personas Mayores"]
[null,null,"categorías de entrada","Nuevas admisiones: Hombres Mayor (B1)",null,null,"Admisiones totales hombres mayores (D = B   C)",{"$f":"SUM(E196+E198)","v":0}]
[null,null,null,"Nuevas admisiones: Mayor Femenino (B2)",null,null,"Admisiones totales mujeres mayores (D = B   C)",{"$f":"SUM(E197+E199)","v":0}]
[null,null,null,"Casos antiguos (derivados de OTP, personas que retoman el tratamiento, translados de otro centro de estabilización): hombres mayores (C1)",null,null,"salidas totales hombres mayores (H = E   G)",{"$f":"SUM(E200+E202+E204+E206+E208+E210)","v":0}]
[null,null,null,"Casos antiguos (derivados de OTP, personas que retoman el tratamiento, translados de otro centro de estabilización): Mujeres mayores (C2)",null,null,"salidas totales mujeres mayores (H = E   G)",{"$f":"SUM(E201,E203,E205,E207,E209,E211)","v":0}]
[null,null,"categorías de salida","Alta por curación: hombres mayores (E1)",null,null,"Total hombres mayores al final del (periodo de tiempo) (I = A   DH)",{"$f":"IF(ISBLANK(E194),\"\",E194+H196-H198)","v":""}]
[null,null,null,"Alta por curación: mujres mayores (E2)",null,null,"Total mujeres mayores al final del (periodo de tiempo) (I = A   DH)",{"$f":"IF(ISBLANK(E195),\"\",E195+H197-H199)","v":""}]
[null,null,null,"Altas por muerte: hombres mayores (E3)",null,null,"tasa altas por curación",{"$f":"IF(ISBLANK(E202),\"\",(E200+E201)/(H205))","v":""},"(Min Normas ESFERA.  75%)"]
[null,null,null,"Altas por muerte: mujeres mayores (E4)",null,null,"tasa altas por muerte",{"$f":"IF(ISBLANK(E203),\"\",(E202+ E203)/(H205))","v":""},"(Las normas de Esfera min. <3%)"]
[null,null,null,"Altas por abandano: hombres mayores (E5)",null,null,"tasa altas por abandono",{"$f":"IF(ISBLANK(E205),\"\",(E204+E205)/(H205))","v":""},"(Min Normas ESFERA. <15%)"]
[null,null,null,"Altas por abandono: mujeres mayores (E6)",null,null,"salidas totales (J = E   G)",{"$f":"IF(ISBLANK(E200),\"\",SUM(H198:H199))","v":""}]
[null,null,null,"Altas sin recuperación: hombres mayores (E7)",null,null,"Total al final del (período de tiempo) (K = A   DJ)",{"$f":"IF(ISBLANK(E194),\"\",E194+E195+H196+H197-H205)","v":""}]
[null,null,null,"Altas sin recuperación: mujeres mayores (E8)"]
[null,null,null,"Derivados a OTP / SC: hombres mayores (E9)"]
[null,null,null,"Derivados a OTP / SC: mujeres mayores (E10)"]
[null,null,null,"Otras transferencias: hombres mayores (G1)"]
[null,null,null,"Otras transferencias: mujeres mayores (G2)"]
[null,null,"Duración media de la estancia para altas por curación (en días)"]
[null,null,"Valor kcal de la ración suplementaria diaria (kcal / día)"]
[null,null,"Producto provisto"]
[]
["Programas de alimentación suplementaria general"]
[null,"Niños/as 6-23 meses","No. de niños 6-23m nuevos en el programa durante el (período de tiempo)",null,{"$f":"SUM(E218,E219)","v":0},null,"Cálculo automático Niños/as 6-23m"]
[null,null,"Niños",null,null,null,"Número medio de niños/as  6-23m  que participaron en la distribución durante el (periodo de tiempo) ",{"$f":"E220/E223","v":{"$error":"#DIV/0!"}}]
[null,null,"Niñas"]
[null,null,"Número total de niños/as 6-23m que asistieron a la distribución en este (periodo de tiempo) ",null,{"$f":"SUM(E221,E222)","v":0}]
[null,null,"Niños"]
[null,null,"Niñas"]
[null,null,"Número de distribuciones durante este (periodo de tiempo) "]
[null,null,"valor kcal de ración suplementaria diaria (kcal / día)"]
[null,null,"Producto provisto"]
[]
[null,"Niños/as 6-59 meses","No. de niños 6-59m nuevos en el programa durante el (período de tiempo)",null,{"$f":"SUM(E228,E229)","v":0},null,"Cálculo automático Niños/as 6-59m"]
[null,null,"Niños",null,null,null,"Número medio de niños/as 6-59m que participaron en la distribución durante el (periodo de tiempo) ",{"$f":"(E230/E233)","v":{"$error":"#DIV/0!"}}]
[null,null,"Niñas"]
[null,null,"Número total de niños/as 6-23m que asistieron a la distribución en este (periodo de tiempo) ",null,{"$f":"SUM(E231,E232)","v":0}]
[null,null,"Niños"]
[null,null,"Niñas"]
[null,null,null,"Número de distribuciones durante este (periodo de tiempo) "]
[null,null,"valor kcal de ración suplementaria diaria (kcal / día)"]
[null,null,"Producto provisto"]
[]
[null,"Mujeres embarazadas y lactantes","Número de mujeres embarazadas y lactantes recién inscritas durante el (período de tiempo)",null,null,null,"Cálculo automático MEL"]
[null,null,"Número total de mujeres embarazadas y lactantes que asistieron a la distribución en este (periodo de tiempo)",null,null,null,"Promedio de MEL que participaron en la distribución durante el (periodo de tiempo) ",{"$f":"(E238/E239)","v":{"$error":"#DIV/0!"}}]
[null,null,null,"Número de distribuciones durante este (periodo de tiempo)"]
[null,null,"valor kcal de ración suplementaria diaria (kcal / día)"]
[null,null,"Producto provisto"]
[]
[null,"Personas mayores (definición de país de \"persona mayor\" o ≥60 años) ","Nº de personas mayores de nuevo ingreso durante el (período de tiempo)",null,{"$f":"SUM(E244,E245)","v":0},null,"Cálculo automático Personas Mayores"]
[null,null,"Hombres mayores",null,null,null,"Promedio de personas mayores que participaron en la distribución durante el  (periodo de tiempo) ",{"$f":"(E246/E249)","v":{"$error":"#DIV/0!"}}]
[null,null,"Mujeres mayores"]
[null,null,"Número total de personas mayores que asistieron a la distribución en este (periodo de tiempo) ",null,{"$f":"SUM(E247,E248)","v":0}]
[null,null,"Hombres mayores"]
[null,null,"Mujeres mayores"]
[null,null,"Número de distribuciones durante este (periodo de tiempo) "]
[null,null,"valor kcal de ración suplementaria diaria (kcal / día)"]
[null,null,"Producto provisto"]
[]
["Suplementación de micronutrientes"]
[null,"Suplementos de vitamina A administrada a niños de 6-11 meses y 12-59 meses ",null,"Número total de niños/as de 6-11 meses que han recibido  Vit-A durante el (período de tiempo)",{"$f":"SUM(E255:E256)","v":0},null,"Cálculo automático niños/a s 6-11 meses que recibieron vit-A"]
[null,null,null,"Niños",null,null,"% niños ",{"$f":"IF(ISBLANK(E255),\"\",E255/E254)","v":""}]
[null,null,null,"Niñas",null,null,"% niñas",{"$f":"IF(ISBLANK(E256),\"\",E256/E254)","v":""}]
[null,null,null,"Número total de niños/as  de 12-59 meses que han recibido Vit-A durante el (período de tiempo)",{"$f":"SUM(E258:E259)","v":0},null,"Cálculos automático niños/as 12-59 meses que recibieron vit-A"]
[null,null,null,"Niños ",null,null,"% niños ",{"$f":"IF(ISBLANK(E258),\"\",E258/E257)","v":""}]
[null,null,null,"Niñas",null,null,"% niñas",{"$f":"IF(ISBLANK(E259),\"\",E259/E257)","v":""}]
[]
[null,"Suplementos de vitamina A administados a MEL",null,"Número total de mujeres embarazadas y  lactantes que han recibido  Vit-A durante el (período de tiempo)",{"$f":"SUM(E262:E263)","v":0},null,"Cálculo automático MEL que recibieron vit-A"]
[null,null,null,"Embarazadas",null,null,"% mujeres embarazadas",{"$f":"IF(ISBLANK(E262),\"\",E262/E261)","v":""}]
[null,null,null,"Lactantes",null,null,"% mujeres lactantes",{"$f":"IF(ISBLANK(E263),\"\",E263/E261)","v":""}]
[]
[null,"Suplementos de vitamina A administrados a personas mayores (definición de país de \"persona mayor\" o ≥ 60años)",null,"Número total de personas mayores que han recibido  Vit-A durante el (período de tiempo)",{"$f":"SUM(E266:E267)","v":0},null,"Cálculo automático personas mayores que recibieron vit-A"]
[null,null,null,"Hombres mayores",null,null,"% hombres mayores",{"$f":"IF(ISBLANK(E266),\"\",E266/E265)","v":""}]
[null,null,null,"Mujeres mayores",null,null,"% mujeres mayores",{"$f":"IF(ISBLANK(E267),\"\",E267/E265)","v":""}]
[]
[null,"Micronutrientes en Polvo (MNP) administrados a  niños/as de 6-24 meses (polvos)",null,"Número total de niños/as 6-24meses que han recibido  MNP durante el (período de tiempo)",{"$f":"SUM(E270:E271)","v":0},null,"Cálculo automático niños/as  6-24 meses que recibieron MNP"]
[null,null,null,"Niños",null,null,"% niños ",{"$f":"IF(ISBLANK(E270),\"\",E270/E269)","v":""}]
[null,null,null,"Niñas",null,null,"% niñas",{"$f":"IF(ISBLANK(E271),\"\",E271/E269)","v":""}]
[]
[null,"Comprimidos de micronutrientes (MNT) administrados a MEL",null,"Número total de mujeres embarazadas y lactantes que han recibido  MNT durante el (período de tiempo)"]
[]
[null,"Micronutrientes en Polvo / Espolvorear (MNP) dado a las personas mayores ",null,"Número total de personas mayores que han recibido  MNP durante el (período de tiempo)",{"$f":"SUM(E276:E277)","v":0},null,"Cálculo automático personas mayores que recibieron MNP"]
[null,null,null,"Hombres mayores",null,null,"% hombres mayores",{"$f":"IF(ISBLANK(E276),\"\",E276/E275)","v":""}]
[null,null,null,"Mujeres mayores",null,null,"% mujeres mayores",{"$f":"IF(ISBLANK(E277),\"\",E277/E275)","v":""}]
[]
[null,"Hierro y ácido fólico administrado a MEL",null,"Número total de mujeres embarazadas y lactantes que han recibido hierro y ácido fólico durante el (período de tiempo)"]
[]
[null,"Hierro y ácido fólico administrado a  personas mayores",null,"Número total de personas mayores que han recibido hierro y ácido fólico durante el (período de tiempo) ",{"$f":"SUM(E282,E283)","v":0},null,"Cálculo automático personas mayores suplementadas con hierro y ácido fólico"]
[null,null,null,"Hombres mayores",null,null,"% hombres mayores",{"$f":"IF(ISBLANK(E282),\"\",E282/E281)","v":""}]
[null,null,null,"Mujeres mayores",null,null,"% mujeres mayores",{"$f":"IF(ISBLANK(E283),\"\",E283/E281)","v":""}]
[]
["Desparasitación"]
[null,"Nº de niños de 12-59 meses desparasitados",null,"Número total de niños 12-59meses desparasitados durante el (período de tiempo)",{"$f":"SUM(E287:E288)","v":0},null," Cálculo automático niños/as 12-59meses desparasitados"]
[null,null,null,"Niños ",null,null,"% niños ",{"$f":"IF(ISBLANK(E287),\"\",E287/E286)","v":""}]
[null,null,null,"Niñas",null,null,"% niñas",{"$f":"IF(ISBLANK(E288),\"\",E288/E286)","v":""}]
[]
[null,"Número de mujeres embarazadas  y lactantes desparasitadas",null,"Número total de mujeres embarazadas y lactantes desparasitadas durante el (período de tiempo)"]
[]
[null,"Número de personas mayores desparasitadas",null,"Número total de personas mayores desparasitadas durante el (período de tiempo)",{"$f":"SUM(E293:E294)","v":0},null,"Cálculo automático personas mayores desparasitadas"]
[null,null,null,"Hombres mayores",null,null,"% hombres mayores",{"$f":"IF(ISBLANK(E293),\"\",E293/E292)","v":""}]
[null,null,null,"Mujeres mayores",null,null,"% mujeres mayores",{"$f":"IF(ISBLANK(E294),\"\",E294/E292)","v":""}]
[]
["Alimentación de lactantes y niños pequeños"]
[null,"Sesiones individuales (uno a uno)","Mujeres embarazadas que asistieron a sesiones de asesoramiento individual"]
[null,null,"Mujeres lactantes y cuidadores de niños/as <6 meses que asistieron a sesiones de asesoramiento individual",null,null,null,"Cálculo automático MEL y cuidadores que asistieron a la orientación individual"]
[null,null,"Mujeres lactantes y cuidadores de niños/as de 6-24 meses que asistieron a sesiones de asesoramiento individual",null,null,null,"Total",{"$f":"IF(ISBLANK(E298),\"\",SUM(E297:E299))","v":""}]
[null,"ALNP asesoramiento - Las sesiones de grupo","Número de grupos de ALNP (incluidos los grupos de apoyo de madres) en funcionamiento durante el (período de tiempo)"]
[null,null,"Número total de sesiones de grupo (incluidos los grupos de apoyo de madres) mantenidos en el (período de tiempo)"]
[null,null,"Nuevas admisiones de mujeres embarazadas y lactantes y cuidadores en grupos ALNP (incluidos los grupos de apoyo de madres) durante el (período de tiempo)",null,{"$f":"SUM(E303,E304)","v":0},null,"Cálculo automático MEL y cuidadores admitidos en grupos ALNP"]
[null,null,null,"Hombres",null,null,"% hombres ",{"$f":"IF(ISBLANK(E303),\"\",E303/E302)","v":""}]
[null,null,null,"Mujeres",null,null,"% mujeres",{"$f":"IF(ISBLANK(E303),\"\",E304/E302)","v":""}]
[null,null,null,"Número total de mujeres embarazadas y lactantes y cuidadores que asistieron a grupos de ALNP (incluidos los grupos de apoyo de madres) durante el (período de tiempo)",{"$f":"SUM(E306,E307)","v":0}]
[null,null,null,"Hombres"]
[null,null,"Mujeres"]
[null,"alimentación artificial","Número total de lactantes de 0-6 meses que requieren alimentación artificial que han recibido BMS y apoyo apropiado durante el (período de tiempo)",null,null,null,"Nota: las sesiones de asesoramiento ALNP incluyen el inicio temprano de la lactancia materna exclusiva, el contacto piel a piel, relaction, alimentación complementaria, los suplementos de micronutrientes, el VIH y la alimentación infantil, el uso apropiado de BMS, etc ..."]
[null,null,"Número total de lactantes de 6-24 meses de edad que requieren alimentación artificial que han recibido BMS y apoyo apropiado durante el (período de tiempo)"]
[null,"La lactancia materna esquinas / espacios amigos de los niños","Número total de rincones para la lactancia materna / espacios que promueven la lactancia materna abiertos durante el (período de tiempo)"]
[null,null,"Número de rincones para la lactancia materna / espacios que promueven la lactancia materna en funcionamiento durante el (período de tiempo)"]
[null,null,"Nuevas admisiones de madres lactantes durante el (período de tiempo)"]
[null,null,"Número total de mujeres lactantes que asistieron a los rincones para la lactancia materna / espacios que promueven la lactancia materna durante el (período de tiempo)"]
[]
["Desarrollo de capacidades"]
[null,null,"Type/Topic of Training"]
[null,"Entrenamiento en MUAC,  detección, derivación y movilización de la comunidad",null,"Tipo de formación",null,null,"Nº de formaciones"]
[null,null,null,"Categoría principal del personal formado",null,null,"De qué agencia / s"]
[null,null,null,"Hombres",null,null,"Número de días"]
[null,null,null,"Mujeres"]
[null,null,null,"Comentarios"]
[]
[null,null,"Type/Topic of Training",null,null,null,"Automatic calculations Training 2"]
[null,"Formación sobre la gestión integrada de la desnutrición aguda (IMAM): SAM / TF (pacientes hospitalizados)",null,"Tipo de formación",null,null,"Nº de formaciones"]
[null,null,null,"Categoría principal del personal formado",null,null,"De qué agencia / s"]
[null,null,null,"Hombres",null,null,"Número de días"]
[null,null,null,"Mujeres"]
[null,null,null,"Comentarios"]
[]
[null,null,"Type/Topic of Training",null,null,null,"Automatic calculations Training 3"]
[null,"Formación sobre la gestión integrada de la desnutrición aguda (IMAM): SAM / TF (pacientes ambulatorios)",null,"Tipo de formación",null,null,"Nº de formaciones"]
[null,null,null,"Categoría principal del personal formado",null,null,"De qué agencia / s"]
[null,null,null,"Hombres",null,null,"Número de días"]
[null,null,null,"Mujeres"]
[null,null,null,"Comentarios"]
[]
[null,null,"Type/Topic of Training",null,null,null,"Automatic calculations Training 4"]
[null,"Formación sobre la gestión integrada de la desnutrición aguda (IMAM): MAM / TSFP",null,"Tipo de formación",null,null,"Nº de formaciones"]
[null,null,null,"Categoría principal del personal formado",null,null,"De qué agencia / s"]
[null,null,null,"Hombres",null,null,"Número de días"]
[null,null,null,"Mujeres"]
[null,null,null,"Comentarios"]
[]
[null,"Formación sobre alimentación infantil",null,"Tipo de formación",null,null,"Nº de formaciones"]
[null,null,null,"Categoría principal del personal capacitado",null,null,"De qué agencia / s"]
[null,null,null,"Hombres",null,null,"Número de días"]
[null,null,null,"Mujeres"]
[null,null,null,"Comentarios"]
[]
[null,"Formación sobre encuesta de SMART",null,"Tipo de formación",null,null,"Nº de formaciones"]
[null,null,null,"Categoría principal del personal formado",null,null,"De qué agencia / s"]
[null,null,null,"Hombres",null,null,"Número de días"]
[null,null,null,"Mujeres"]
[null,null,null,"Comentarios"]
[]
[null,"Formación de preparación y respuesta a emergencias",null,"Tipo de formación",null,null,"Nº de formaciones"]
[null,null,null,"Categoría principal del personal formado",null,null,"De qué agencia / s"]
[null,null,null,"Hombres",null,null,"Número de días"]
[null,null,null,"Mujeres"]
[null,null,null,"Comentarios"]
[]
[null,"Formación sobre el enfoque de clústeres",null,"Tipo de formación",null,null,"Nº de formaciones"]
[null,null,null,"Categoría principal del personal formado",null,null,"De qué agencia / s"]
[null,null,null,"Hombres",null,null,"Número de días"]
[null,null,null,"Mujeres"]
[null,null,null,"Comentarios"]
[]
["Comentarios"]
[null,"Cualquier comentario sobre programas, lagunas o preocupaciones"]

{"sheet":"AWG and LOS Calculation Aid","index":12,"n_rows":29,"n_cols":12,"rows_kept":29,"cut":false,"hidden":false,"merged":[[7,4,7,5],[0,1,1,3],[0,5,0,8],[1,5,1,6],[2,5,2,6],[4,1,5,8]]}
[null,"Ayuda para el cálculo diario promedio de ganancia de peso y la duración media de la estancia",null,null,null,"Cálculo de los resultados en base a los datos introducidos abajo"]
[null,null,null,null,null,"Ganancia diaria de peso media:",null,{"$f":"AVERAGE(I10:I29)","v":{"$error":"#DIV/0!"}},"g / kg de peso corporal / día"]
[null,"solo para niños 6-59 meses dados de alta por curación de atención terapéutica para pacientes ambulatorios",null,null,null,"Duración media de la estancia:",null,{"$f":"AVERAGE(G10:G29)","v":{"$error":"#DIV/0!"}},"días"]
[]
[null,"Instrucciones: El promedio diario  de aumento de peso y la duración media de la estancia se calculan sobre una muestra aleatoria de las altas por curación de kwashiorkor y marasmo.\nUna muestra aleatoria razonable de altas por curación es 20. Si las altas por curación durante el período de  tiempo son inferiores a 20 tomaremos todas las altas por curación."]
[]
[]
[null,null,null,"Pacientes con marasmo","Pacientes con kwashiorkor",null,null,null,null,null,null,"Marasmo"]
[null,null,"Tipo de paciente SAM (elegir de la lista desplegable)","peso en el momento de ingreso [kg]","peso mínimo después que el edema haya desaparecido [kg]","Número de días entre que desaparece el edema y el alta [días]","Duración de la estancia: número de días entre la admisión y el alta [días]","peso en el momento del alta [kg]","ganancia diaria de peso [g / kg de peso corporal / día]",null,null,"Kwashiorkor"]
[null,"Alta niño/a 1",null,null,null,null,null,null,{"$f":"IF(C10=\"Marasmus\",(H10*1000-D10*1000)/(D10*G10),(IF(C10=\"Kwashiorkor\",(H10*1000-E10*1000)/(E10*F10),\"\")))","v":""}]
[null,"Alta niño/a 2",null,null,null,null,null,null,""]
[null,"Alta niño/a 3",null,null,null,null,null,null,""]
[null,"Alta niño/a 4",null,null,null,null,null,null,""]
[null,"Alta niño/a 5",null,null,null,null,null,null,""]
[null,"Alta niño/a 6",null,null,null,null,null,null,""]
[null,"Alta niño/a 7",null,null,null,null,null,null,""]
[null,"Alta niño/a 8",null,null,null,null,null,null,""]
[null,"Alta niño/a 9",null,null,null,null,null,null,""]
[null,"Alta niño/a 10",null,null,null,null,null,null,""]
[null,"Alta niño/a 11",null,null,null,null,null,null,""]
[null,"Alta niño/a 12",null,null,null,null,null,null,""]
[null,"Alta niño/a 13",null,null,null,null,null,null,""]
[null,"Alta niño/a 14",null,null,null,null,null,null,""]
[null,"Alta niño/a 15",null,null,null,null,null,null,""]
[null,"Alta niño/a 16",null,null,null,null,null,null,""]
[null,"Alta niño/a 17",null,null,null,null,null,null,""]
[null,"Alta niño/a 18",null,null,null,null,null,null,""]
[null,"Alta niño/a 19",null,null,null,null,null,null,""]
[null,"Alta niño/a 20",null,null,null,null,null,null,""]

{"sheet":"Lists","index":13,"n_rows":13,"n_cols":10,"rows_kept":13,"cut":false,"hidden":false,"merged":[]}
["Acrónimo de la agencia","Agencia Nombre Completo",null,"Semana del informe","Mes del informe:","Año del informe",null,"Sí/No",null,"Operacional"]
["ACF","Acción contra el Hambre",null,1,"enero",2015,null,"Sí",null,"Operacional"]
["UNICEF","Fondo de las Naciones Unidas para la Infancia",null,2,"febrero",2016,null,"No",null,"Fuera de servicio"]
["PMA","Programa Mundial de Alimentos",null,3,"marzo",2017]
[null,null,null,4,"abril"]
[null,null,null,null,"mayo"]
[null,null,null,null,"junio"]
[null,null,null,null,"julio"]
[null,null,null,null,"agosto"]
[null,null,null,null,"septiembre"]
[null,null,null,null,"octubre"]
[null,null,null,null,"noviembre"]
[null,null,null,null,"diciembre"]

{"sheet":"Admin","index":14,"n_rows":5319,"n_cols":18,"rows_kept":5319,"cut":false,"hidden":false,"merged":[]}
["Pcode nivel admin 1","Nivel administrativo 1",null,"Pcode nivel admin 1","Pcode nivel admin 2 ","Nivel administrativo 2 ",null,"Pcode nivel admin 2","Pcode nivel admin 3 ","Nivel administrativo 3",null,"Pcode nivel admin 3 ","Pcode nivel admin 4","Nivel admin 4",null,"Pcode nivel admin 4","Pcode nivel admin 5","Nivel administrativo 5"]
["SY01","Damasco \\ مدينة دمشق",null,"SY01","SY0100","Damasco \\ مدينة دمشق",null,"SY0100","SY010000","Damasco \\ مدينة دمشق",null,"SY010000","C1001","Damasco \\ دمشق",null,"C1001","SY0100153","Abou Jarash \\ أبو جرش"]
["SY02","Alepo \\ حلب",null,"SY02","SY0200","Jebel Saman \\ جبل سمعان",null,"SY0200","SY020000","Jebel Saman \\ مركز جبل سمعان",null,"SY010000","C1002","Yarmuk \\ اليرموك",null,"C1001","SY0100027","Abou Rummaneh \\ أبو رمانة"]
["SY03","Damasco rural \\ ريف دمشق",null,"SY02","SY0202","Al Bab \\ الباب",null,"SY0200","SY020001","Atareb \\ أتارب",null,"SY020000","C1009","Abtin \\ عبطين",null,"C1001","SY0100042","Al Abbas \\ العباس"]
["SY04","Homs \\ حمص",null,"SY02","SY0203","Afrin \\ عفرين",null,"SY0200","SY020002","Tall Ed-Daman \\ تل الضمان",null,"SY020000","c1007","Alepo \\ حلب",null,"C1001","SY0100063","Al 'Adwi \\ العدوي"]
["SY05","Hama \\ حماة",null,"SY02","SY0204","A'zaz \\ اعزاز",null,"SY0200","SY020003","Haritan \\ حريتان",null,"SY020000","C6323","Azan \\ عزان",null,"C1001","SY0100114","Al Arin \\ العرين"]
["SY06","Lattakia \\ اللاذقية",null,"SY02","SY0205","Menbij \\ منبج",null,"SY0200","SY020004","Daret Azza \\ دارة عزة",null,"SY020000","C6325","Dweir Elzaytun \\ دوير الزيتون",null,"C1001","SY0100125","Al Assali \\ العسالي"]
["SY07","Idleb \\ إدلب",null,"SY02","SY0206","Ain Al Arab \\ عين العرب",null,"SY0200","SY020005","Zarbah \\ الزربة",null,"SY020000","C1004","Esan \\ عسان",null,"C1001","SY0100013","Al Fayhaa \\ الفيحاء"]
["SY08","Al-Hasakeh \\ الحسكة",null,"SY02","SY0207","Como-Safira \\ السفيرة",null,"SY0200","SY020006","Hadher \\ الحاضر",null,"SY020000","C1010","Haddadin \\ حدادين",null,"C1001","SY0100045","Al Hurriya (Ish Al werwer) \\ الحرية (عش الورور)"]
["SY09","Deir-ez-Zor \\ دير الزور",null,"SY02","SY0208","Jarablus \\ جرابلس",null,"SY0202","SY020200","Al Bab \\ مركز الباب",null,"SY020000","C1014","Hilan \\ حيلان",null,"C1001","SY0100135","Al Ikhlas \\ الإخلاص"]
["SY10","Tartous \\ طرطوس",null,"SY03","SY0301","Damasco rural \\ مركز ريف دمشق",null,"SY0202","SY020201","Tadaf \\ تادف",null,"SY020000","C1012","Hreibel \\ حريبل",null,"C1001","SY0100054","Al Istiqlal \\ الاستقلال"]
["SY11","Ar-Raqqa \\ الرقة",null,"SY03","SY0302","Duma \\ دوما",null,"SY0202","SY020202","Dayr Hafir \\ دير حافر",null,"SY020000","c1015","Khantuman \\ خانطومان",null,"C1001","SY0100155","Al madaris \\ المدارس"]
["SY12","Dar'a \\ درعا",null,"SY03","SY0303","Al Qutayfah \\ القطيفة",null,"SY0202","SY020203","Ar-Ra'ee \\ الراعي",null,"SY020000","C1016","Poco Kafr \\ كفر صغير",null,"C1001","SY0100026","Al Maliki \\ المالكي"]
["SY13","Como-Sweida \\ السويداء",null,"SY03","SY0304","En Tall \\ التل",null,"SY0202","SY020204","Kwaires Oriental \\ كويرس شرقي",null,"SY020000","C1017","Maratet Elmosalamiyeh \\ معراتة المسلمية",null,"C1001","SY0100043","Al Manara \\ المنارة"]
["SY14","Quneitra \\ القنيطرة",null,"SY03","SY0305","Yabroud \\ يبرود",null,"SY0202","SY020205","Rasm Haram El-Imam \\ رسم حرمل الامام",null,"SY020000","C1003","Musallamiyeh \\ المسلمية",null,"C1001","SY0100025","Al Marabit \\ المرابط"]
[null,null,null,"SY03","SY0306","Un Nabk \\ النبك",null,"SY0202","SY020206","A'rima \\ عريمة",null,"SY020000","C1018","Qarras \\ قراص",null,"C1001","SY0100141","Al Masani '\\ المصانع"]
[null,null,null,"SY03","SY0307","Az-Zabdani \\ الزبداني",null,"SY0203","SY020300","Afrin \\ مركز عفرين",null,"SY020000","C6324","Rasm Assan \\ رسم عسان",null,"C1001","SY0100151","Al Mazra'a \\ المزرعة"]
[null,null,null,"SY03","SY0308","Qatana \\ قطنا",null,"SY0203","SY020301","Bulbul \\ بلبل",null,"SY020000","C1006","Saqlaya \\ صقلايا",null,"C1001","SY0100085","Al Moujtahed \\ المجتهد"]
[null,null,null,"SY03","SY0309","Darayya \\ داريا",null,"SY0203","SY020302","Jandairis \\ جنديرس",null,"SY020000","C6322","Seifat \\ سيفات",null,"C1001","SY0100126","Al Mustafa \\ المصطفى"]
[null,null,null,"SY04","SY0401","Homs \\ مركز حمص",null,"SY0203","SY020303","Raju \\ راجو",null,"SY020000","c1011","Tal Sheer Simaan \\ تل شعير سمعان",null,"C1001","SY0100127","Al Qadam \\ القدم  "]
[null,null,null,"SY04","SY0402","Al-Qusayr \\ القصير",null,"SY0203","SY020304","Sharan \\ شران",null,"SY020000","C1008","Tal Shgheib \\ تل شغيب",null,"C1001","SY0100082","Al Qanawat \\ القنوات"]
[null,null,null,"SY04","SY0403","Tall Kalaj \\ تلكلخ",null,"SY0203","SY020305","Sheikh El-Hadid \\ شيخ الحديد",null,"SY020000","C1005","Thabiyeh \\ الذهبية",null,"C1001","SY0100078","Al Qeimariyyeh \\ القيمرية"]
[null,null,null,"SY04","SY0404","Ar-Rastan \\ الرستن",null,"SY0203","SY020306","Ma'btali \\ معبطلي",null,"SY020000","C1013","Wdeihi \\ الوضيحي",null,"C1001","SY0100065","Al Qusa '\\ القصاع"]
[null,null,null,"SY04","SY0405","Tadmor \\ تدمر",null,"SY0204","SY020400","A'zaz \\ مركز اعزاز",null,"SY020001","C1026","Abin Samaan \\ ابين سمعان",null,"C1001","SY0100066","Al Qusur \\ القصور"]
[null,null,null,"SY04","SY0406","Al Makhrim \\ المخرم",null,"SY0204","SY020401","Aghtrin \\ اخترين",null,"SY020001","C1030","Abzemo \\ الابزمو",null,"C1001","SY0100132","Al Waha \\ الواحة"]
[null,null,null,"SY05","SY0501","Hama \\ مركز حماة",null,"SY0204","SY020402","Tall Refaat \\ تل رفعت",null,"SY020001","C1022","Atareb \\ الأتارب",null,"C1001","SY0100115","Al Woroud \\ الورود"]
[null,null,null,"SY05","SY0502","Como-Suqaylabiyah \\ السقيلبية",null,"SY0204","SY020403","Mare '\\ مارع",null,"SY020001","C1021","Babka \\ بابكة",null,"C1001","SY0100068","Amara Baraniyyeh \\ العمارة البرانية"]
[null,null,null,"SY05","SY0503","Como-Salamiyeh \\ السلمية",null,"SY0204","SY020404","Nabul \\ نبل",null,"SY020001","C1025","Batbu \\ باتبو",null,"C1001","SY0100079","Amara Jowaniyyeh \\ العمارة الجوانية"]
[null,null,null,"SY05","SY0504","Masyaf \\ مصياف",null,"SY0204","SY020405","Suran \\ صوران",null,"SY020001","c1029","Gran Orm \\ أورم الكبرى",null,"C1001","SY0100075","Amin \\ الأمين"]
[null,null,null,"SY05","SY0505","Muhradah \\ محردة",null,"SY0205","SY020500","Menbij \\ مركز منبج",null,"SY020001","c1032","Jeineh \\ الجينة",null,"C1001","SY0100087","Ansari \\ الأنصاري"]
[null,null,null,"SY06","SY0600","Lattakia \\ مركز اللاذقية",null,"SY0205","SY020501","Abu Qalqal \\ أبو قلقل",null,"SY020001","c1039","Kafr Alepo \\ كفر حلب",null,"C1001","SY0100011","Asad Addein \\ أسد الدين"]
[null,null,null,"SY06","SY0602","Jablah \\ جبلة",null,"SY0205","SY020502","Al-Khafsa \\ الخفسة",null,"SY020001","C1033","Kafr Amma \\ كفر عمة",null,"C1001","SY0100014","Ayoubiya \\ الأيوبية"]
[null,null,null,"SY06","SY0603","Al-Haffa \\ الحفة",null,"SY0205","SY020503","Maskana \\ مسكنة",null,"SY020001","C1035","Kafr Karmin \\ كفر كرمين",null,"C1001","SY0100083","Bab Al Jabiyeh \\ باب الجابية"]
[null,null,null,"SY06","SY0604","Al-Qardaha \\ القرداحة",null,"SY0206","SY020600","Ain al Arab \\ مركز عين العرب",null,"SY020001","c1034","Kafr Naha \\ كفر ناها",null,"C1001","SY0100095","Bab Maser \\ باب مصر"]
[null,null,null,"SY07","SY0700","Idleb \\ مركز إدلب",null,"SY0206","SY020601","Bajo Shyookh \\ شيوخ تحتاني",null,"SY020001","C1036","Kafr Naseh Elatareb \\ كفر ناصح الاتارب",null,"C1001","SY0100107","Bab Sharqi \\ باب شرقي"]
[null,null,null,"SY07","SY0702","Al Ma'ra \\ معرة النعمان",null,"SY0206","SY020602","Sarin \\ صرين",null,"SY020001","c1037","Kafr Taal \\ كفر تعال",null,"C1001","SY0100081","Bab Sreijeh \\ باب سريجة"]
[null,null,null,"SY07","SY0703","Harim \\ حارم",null,"SY0207","SY020700","Como-Safira \\ مركز السفيرة",null,"SY020001","C1041","Kafr Thoran \\ كفر نوران",null,"C1001","SY0100076","Bab Touma \\ باب توما"]
[null,null,null,"SY07","SY0704","Jisr-Ash-Shugur \\ جسر الشغور",null,"SY0207","SY020701","Khanaser \\ خناصر",null,"SY020001","C1027","Poco Orm \\ أورم الصغرى",null,"C1001","SY0100088","Baramkeh \\ البرامكة"]
[null,null,null,"SY07","SY0705","Ariha \\ أريحا",null,"SY0207","SY020702","Banan \\ بنان",null,"SY020001","c1038","Maaret Atarib \\ معارة اتارب",null,"C1001","SY0100044","Barza Al Balad \\ برزة البلد"]
[null,null,null,"SY08","SY0800","Al-Hasakeh \\ مركز الحسكة",null,"SY0207","SY020703","Hajeb \\ الحاجب",null,"SY020001","C1024","Oweijel \\ عويجل",null,"C1001","SY0100103","Bilal \\ بلال"]
[null,null,null,"SY08","SY0802","Quamishli \\ القامشلي",null,"SY0208","SY020800","Jarablus \\ مركز جرابلس",null,"SY020001","C1019","Qanater \\ القناطر",null,"C1001","SY0100122","Dahadeel \\ الدحاديل"]
[null,null,null,"SY08","SY0803","Al-Malikeyyeh \\ المالكية",null,"SY0208","SY020801","Ghandorah \\ غندورة",null,"SY020001","C1023","Sáhara \\ السحارة",null,"C1001","SY0100113","Dahiet Dummar \\ ضاحية دمر"]
[null,null,null,"SY08","SY0804","Ras Al Ain \\ رأس العين",null,"SY0301","SY030101","Kisweh \\ الكسوة",null,"SY020001","c1031","Sheikh Ali \\ الشيخ علي",null,"C1001","SY0100093","Daqaq \\ الدقاق"]
[null,null,null,"SY09","SY0901","Deir-ez-Zor \\ مركز دير الزور",null,"SY0301","SY030102","Babella \\ ببيلا",null,"SY020001","C1028","TADIL \\ تديل",null,"C1001","SY0100112","Dummar Gharbiya \\ دمر الغربية"]
[null,null,null,"SY09","SY0902","Abu Kamal \\ البوكمال",null,"SY0301","SY030103","Jaramana \\ جرمانا",null,"SY020001","C1020","Tuwama \\ التوامة",null,"C1001","SY0100111","Dummar Sharqiya \\ دمر الشرقية"]
[null,null,null,"SY09","SY0903","Al Mayadin \\ الميادين",null,"SY0301","SY030104","Maliha \\ المليحة",null,"SY020001","C1040","Western Kafr Jum \\ كفر جوم غربية",null,"C1001","SY0100133","Fardos \\ الفردوس"]
[null,null,null,"SY10","SY1000","Tartous \\ مركز طرطوس",null,"SY0301","SY030105","Kafr Batna \\ كفر بطنا",null,"SY020002","C1043","Aabad \\ اعبد",null,"C1001","SY0100067","Faris Al Khouri \\ فارس الخوري"]
[null,null,null,"SY10","SY1002","Banyas \\ بانياس",null,"SY0301","SY030106","Arbin \\ عربين",null,"SY020002","C6329","Abu Elmajaher \\ ابو المجاهر",null,"C1001","SY0100037","Fealat Gharbiyeh \\ فيلات غربية"]
[null,null,null,"SY10","SY1003","Safita \\ صافيتا",null,"SY0301","SY030107","Qudsiya \\ قدسيا",null,"SY020002","C1048","Abu Rweil \\ أبو رويل",null,"C1001","SY0100033","Fealat Sharqiyeh \\ فيلات شرقية"]
[null,null,null,"SY10","SY1004","Dreikish \\ دريكيش",null,"SY0302","SY030200","Duma \\ مركز دوما",null,"SY020002","C1074","Andan Elsheikh \\ عندان الشيخ",null,"C1001","SY0100021","Haboubi \\ الحبوبي"]
[null,null,null,"SY10","SY1005","Sheikh Badr \\ الشيخ بدر",null,"SY0302","SY030201","Harasta \\ حرستا",null,"SY020002","c1086","Anu Mreir \\ أبو مرير",null,"C1001","SY0100073","Hameidiyyeh \\ الحميدية"]
[null,null,null,"SY11","SY1101","Ar-Raqqa \\ مركز الرقة",null,"SY0302","SY030202","Sabe Byar \\ السبع بيار",null,"SY020002","C1057","Arjel \\ ارجل",null,"C1001","SY0100094","Haqleh \\ الحقلة"]
[null,null,null,"SY11","SY1102","Dile Abiad \\ تل أبيض",null,"SY0302","SY030203","Dhameer \\ الضمير",null,"SY020002","C6326","Bakat \\ الباكات",null,"C1001","SY0100071","Hariqa \\ الحريقة"]
[null,null,null,"SY11","SY1103","Ath-Thawrah \\ الثورة",null,"SY0302","SY030204","Nashabiyeh \\ النشابية",null,"SY020002","c1076","Ballas \\ بلاس",null,"C1001","SY0100089","Hijaz \\ الحجاز"]
[null,null,null,"SY12","SY1200","Dar'a \\ درعا",null,"SY0302","SY030205","Ghizlaniyyeh \\ الغزلانية",null,"SY020002","C1072","Batha \\ بطحة",null,"C1001","SY0100102","Ibn Asaker \\ ابن عساكر"]
[null,null,null,"SY12","SY1202","Como-Sanamayn \\ الصنمين",null,"SY0302","SY030206","Haran Al'awameed \\ حران العواميد",null,"SY020002","c1044","Batranah \\ بطرانة",null,"C1001","SY0100035","Jalaa \\ الجلاء"]
[null,null,null,"SY12","SY1203","Izra '\\ ازرع",null,"SY0303","SY030300","Al Qutayfah \\ مركز القطيفة",null,"SY020002","c1081","Gran Bayaa \\ بياعة كبيرة",null,"C1001","SY0100052","Joubar Gharbi \\ جوبر الغربي"]
[null,null,null,"SY13","SY1300","Como-Sweida \\ مركز السويداء",null,"SY0303","SY030301","Jirud \\ جيرود",null,"SY020002","C1082","Gran Bweideh \\ بويضة كبيرة",null,"C1001","SY0100053","Joubar Sharqi \\ جوبر الشرقي"]
[null,null,null,"SY13","SY1302","Salkhad \\ صلخد",null,"SY0303","SY030302","Ma'loula \\ معلولا",null,"SY020002","C1111","Gran Madayen \\ مداين الكبير",null,"C1001","SY0100077","Joura \\ الجورة"]
[null,null,null,"SY13","SY1303","Shahba \\ شهبا",null,"SY0303","SY030303","Raheiba \\ الرحيبة",null,"SY020002","C1067","Gran Oweinat \\ عوينات كبيرة",null,"C1001","SY0100123","Jouret Shreibati \\ جورة الشريباتي"]
[null,null,null,"SY14","SY1400","Quneitra \\ مركز القنيطرة",null,"SY0304","SY030400","En Tall \\ مركز التل",null,"SY020002","C1063","Burda \\ بردة",null,"C1001","SY0100131","Kafr Souseh Al Balad \\ كفر سوسة البلد"]
[null,null,null,"SY14","SY1402","Al Fiq \\ فيق",null,"SY0304","SY030401","Sidnaya \\ صيدنايا",null,"SY020002","C1061","Deir Saliba \\ دير صليبة",null,"C1001","SY0100134","Lwan \\ اللوان"]
[null,null,null,null,null,null,null,"SY0304","SY030402","Rankus \\ رنكوس",null,"SY020002","C1090","Atshana Oriental \\ عطشانة شرقية",null,"C1001","SY0100051","Ma'amouniyyeh \\ المأمونية"]
[null,null,null,null,null,null,null,"SY0305","SY030500","Yabroud \\ مركز يبرود",null,"SY020002","C6330","Ein Elgharf \\ عين الغرف",null,"C1001","SY0100074","Ma'azanet Ash Shahm \\ مأذنة الشحم"]
[null,null,null,null,null,null,null,"SY0305","SY030501","El Esal-Ward \\ عسال الورد",null,"SY020002","C1045","Eliyeh \\ علية",null,"C1001","SY0100041","Masakin Barza \\ مساكن برزة"]
[null,null,null,null,null,null,null,"SY0306","SY030600","Un Nabk \\ مركز النبك",null,"SY020002","C1051","Establat \\ اصطبلات",null,"C1001","SY0100064","Masjid Aqsab \\ مسجد أقصاب"]
[null,null,null,null,null,null,null,"SY0306","SY030601","Deir Attiyeh \\ دير عطية",null,"SY020002","C6328","Gharirifeh \\ غريريفة",null,"C1001","SY0100024","Mastaba \\ المصطبة"]
[null,null,null,null,null,null,null,"SY0307","SY030700","Az-Zabdani \\ مركز الزبداني",null,"SY020002","c1119","Ghaytal - Ghaythal \\ غيطل_غيظل",null,"C1001","SY0100032","Mazzeh 86 \\ 86 مزة"]
[null,null,null,null,null,null,null,"SY0307","SY030701","Dimas \\ الديماس",null,"SY020002","c1099","Hamidiyah \\ حميدية",null,"C1001","SY0100034","Al Mazzeh Qadimeh \\ المزة القديمة"]
[null,null,null,null,null,null,null,"SY0307","SY030702","Ein Elfijeh \\ عين الفيجة",null,"SY020002","C1075","Hayyaniyeh \\ الحيانية",null,"C1001","SY0100136","Mazzeh Basatin \\ مزة بساتين"]
[null,null,null,null,null,null,null,"SY0307","SY030703","Madaya \\ مضايا",null,"SY020002","C1104","Hazani \\ هزاني",null,"C1001","SY0100036","Mazzej Jabal \\ مزة جبل"]
[null,null,null,null,null,null,null,"SY0307","SY030704","Sarghaya \\ سرغايا",null,"SY020002","C1092","Hilwiyeh \\ حلوية",null,"C1001","SY0100096","Midan Wastani \\ ميدان وسطاني"]
[null,null,null,null,null,null,null,"SY0308","SY030800","Qatana \\ مركز قطنا",null,"SY020002","C1059","Hmeidi \\ الحميدي",null,"C1001","SY0100012","Naqshabandi \\ النقشبندي"]
[null,null,null,null,null,null,null,"SY0308","SY030801","Cebo Ene \\ بيت جن",null,"SY020002","C1115","Hober \\ هوبر",null,"C1001","SY0100106","Nidal \\ النضال"]
[null,null,null,null,null,null,null,"SY0308","SY030802","Sa'sa '\\ سعسع",null,"SY020002","c1097","Jafr Mansur Simaan \\ جفر منصور سمعان",null,"C1001","SY0100046","Nuzha \\ النزهة"]
[null,null,null,null,null,null,null,"SY0309","SY030900","Markaz Darayya \\ مركز داريا",null,"SY020002","C1049","Jeb Eleis \\ جب عليص",null,"C1001","SY0100062","Oqaiba \\ العقيبة"]
[null,null,null,null,null,null,null,"SY0309","SY030901","Sahnaya \\ صحنايا",null,"SY020002","C1047","Jeb Elkhafi Simaan \\ جب الخفي سمعان",null,"C1001","SY0100092","Qa'a \\ القاعة"]
[null,null,null,null,null,null,null,"SY0309","SY030902","Hajar Aswad \\ الحجر الأسود",null,"SY020002","C1106","Kafr Eibesh \\ كفر إيبش",null,"C1001","SY0100142","Qaboun \\ القابون"]
[null,null,null,null,null,null,null,"SY0401","SY040100","Homs \\ مركز حمص",null,"SY020002","C1112","Kafr Obeid \\ كفر عبيد",null,"C1001","SY0100086","Qabr Atikah \\ قبر عاتكة"]
[null,null,null,null,null,null,null,"SY0401","SY040101","Taldu \\ تلدو",null,"SY020002","C1116","Kulet Elbweider \\ كولة البويدر",null,"C1001","SY0100124","Qadam Sharqi \\ القدم الشرقي"]
[null,null,null,null,null,null,null,"SY0401","SY040102","Kherbet estaño Noor \\ خربة تين نور",null,"SY020002","C1100","Poco Bweideh \\ بويضة صغيرة",null,"C1001","SY0100152","Qasyoun \\ قاسيون"]
[null,null,null,null,null,null,null,"SY0401","SY040103","Ein Elniser \\ عين النسر",null,"SY020002","C1098","Littler Bayaa \\ بياعة صغيرة",null,"C1001","SY0100031","Rabwa \\ الربوة"]
[null,null,null,null,null,null,null,"SY0401","SY040104","Farqalas \\ الفرقلس",null,"SY020002","C1108","Majas \\ مجاص",null,"C1001","SY0100022","Rawda \\ الروضة"]
[null,null,null,null,null,null,null,"SY0401","SY040105","Raqama \\ الرقاما",null,"SY020002","C1080","Mansura \\ المنصورة",null,"C1001","SY0100104","Rawdet Al Midan \\ روضة الميدان"]
[null,null,null,null,null,null,null,"SY0401","SY040106","Qaryatein \\ القريتين",null,"SY020002","c1114","Maqtal Elzaydi \\ مقتل الزيدي",null,"C1001","SY0100061","Saroujah \\ ساروجا"]
[null,null,null,null,null,null,null,"SY0401","SY040107","Mahin \\ مهين",null,"SY020002","C1105","Marhamiya \\ مرحمية",null,"C1001","SY0100121","Sayyida Aisha \\ السيدة عائشة"]
[null,null,null,null,null,null,null,"SY0401","SY040108","Hasyaa \\ حسياء",null,"SY020002","c1113","Mashrafet Arjol \\ مشرفة ارجل",null,"C1001","SY0100101","Shaghour Barani \\ شاغور براني"]
[null,null,null,null,null,null,null,"SY0401","SY040109","Sadad \\ صدد",null,"SY020002","C1107","Mashrafet Elbuwaiditein \\ مشرفة البويضتين",null,"C1001","SY0100072","Shaghour Jowani \\ شاغور جواني"]
[null,null,null,null,null,null,null,"SY0401","SY040110","Qabu \\ القبو",null,"SY020002","C6327","Mashrafet Elhallaj \\ مشرفة الحلاج",null,"C1001","SY0100154","Sheikh Muhie Addin \\ الشيخ محي الدين"]
[null,null,null,null,null,null,null,"SY0401","SY040111","Shin \\ شين",null,"SY020002","c1117","Mashrafet Elmarij \\ مشرفة المريج",null,"C1001","SY0100023","Shura \\ شورى"]
[null,null,null,null,null,null,null,"SY0402","SY040200","Al Quasir \\ مركز القصير",null,"SY020002","C1110","Masih \\ ماسح",null,"C1001","SY0100156","Shuhada \\ الشهداء"]
[null,null,null,null,null,null,null,"SY0403","SY040300","Tall Kalaj \\ مركز تلكلخ",null,"SY020002","C1089","Mintar \\ المنطار",null,"C1001","SY0100038","Soumariyyeh \\ السومرية"]
[null,null,null,null,null,null,null,"SY0403","SY040301","Hadideh \\ حديدة",null,"SY020002","c1118","Mreiqes \\ مريقص",null,"C1001","SY0100084","Suweiqa \\ السويقة"]
[null,null,null,null,null,null,null,"SY0403","SY040303","Nasra \\ الناصرة",null,"SY020002","C1054","Numaniyeh \\ النعمانية",null,"C1001","SY0100097","Tadamon \\ التضامن"]
[null,null,null,null,null,null,null,"SY0403","SY040304","Hawash \\ الحواش",null,"SY020002","C1101","Nuwara \\ نوارة",null,"C1001","SY0100143","Tishrine \\ تشرين"]
[null,null,null,null,null,null,null,"SY0404","SY040400","Ar-Rastan \\ مركز الرستن",null,"SY020002","C1073","Oleis \\ عليص",null,"C1001","SY0100108","Wihdeh \\ الوحدة"]
[null,null,null,null,null,null,null,"SY0404","SY040401","Talbiseh \\ تلبيسة",null,"SY020002","C1109","Qaree Elghazal \\ قرع الغزال",null,"C1001","SY0100091","Zahreh \\ الزاهرة"]
[null,null,null,null,null,null,null,"SY0405","SY040500","Tadmor \\ مركز تدمر",null,"SY020002","C1068","Rajm Omeirat \\ رجم عميرات",null,"C1001","SY0100105","Zohour \\ الزهور"]
[null,null,null,null,null,null,null,"SY0405","SY040501","Sokhneh \\ السخنة",null,"SY020002","C1042","Rasm Eljahsh \\ رسم الجحش",null,"C1002","SY01010101","Yarmuk \\ اليرموك"]
[null,null,null,null,null,null,null,"SY0406","SY040600","Al Makhrim \\ المخرم",null,"SY020002","C1094","Rasm Elmofakker - Hilu Mofakker \\ رسم المفكر_حلو مفكر",null,"c1007","SY0200031","Abraj \\ الأبراج"]
[null,null,null,null,null,null,null,"SY0406","SY040601","Jeb Ej-Jarrah \\ جب الجراح",null,"SY020002","C1083","Rasm Elsafa \\ رسم الصفا",null,"c1007","SY0200019","A'jaam \\ الأعجام"]
[null,null,null,null,null,null,null,"SY0501","SY050100","Hama \\ مركز حماة",null,"SY020002","c1079","Saeebiyeh \\ صعيبية",null,"c1007","SY0200126","Al Wafaa \\ الوفاء"]
[null,null,null,null,null,null,null,"SY0501","SY050101","Suran \\ صوران",null,"SY020002","C1052","Sayah - sayah Thahriyeh \\ الصياح_صياح ظاهرية",null,"c1007","SY0200046","Almaji \\ الألمه جي"]
[null,null,null,null,null,null,null,"SY0501","SY050102","Harbanifse \\ حربنفسه",null,"SY020002","c1085","Sfira \\ صفيرة",null,"c1007","SY0200063","Ansari-Mash tenía \\ أنصاري مشهد"]
[null,null,null,null,null,null,null,"SY0501","SY050103","Hamra \\ الحمراء",null,"SY020002","C1120","Castillo Sheikh \\ قلعة الشيخ",null,"c1007","SY0200012","Aqaba \\ العقبة"]
[null,null,null,null,null,null,null,"SY0502","SY050200","Como-Suqaylabiyah \\ مركز السقيلبية",null,"SY020002","c1088","Shweihet Elbu Issa \\ شويحة البو عيسى",null,"c1007","SY0200045","Aqyoul \\ اقيول"]
[null,null,null,null,null,null,null,"SY0502","SY050201","Dile Salhib \\ تلسلحب",null,"SY020002","C1077","Shweihet Ellahib \\ شويحة اللهيب",null,"c1007","SY0200065","Ard Sabagh \\ أرض الصباغ"]
[null,null,null,null,null,null,null,"SY0502","SY050202","Ziyara \\ الزيارة",null,"SY020002","C1046","Tabara Elksheir \\ تبارة الخشير",null,"c1007","SY0200116","Ashrafiyeh \\ الأشرفية"]
[null,null,null,null,null,null,null,"SY0502","SY050203","Shat-ja \\ شطحة",null,"SY020002","C1066","Tal Ahmar \\ تل احمر",null,"c1007","SY0200042","Aziziyeh \\ العزيزية"]
[null,null,null,null,null,null,null,"SY0502","SY050204","Castillo Madiq \\ قلعة المضيق",null,"SY020002","C1071","Tal Aqareb \\ تل عقارب",null,"c1007","SY0200022","Bab Al Maqam \\ باب المقام"]
[null,null,null,null,null,null,null,"SY0503","SY050300","Como-Salamiyeh \\ مركز السلمية",null,"SY020002","C1060","Tal Hattabat Semaan \\ تل حطابات سمعان",null,"c1007","SY0200033","Balat \\ بلاط"]
[null,null,null,null,null,null,null,"SY0503","SY050301","Oriental Bari \\ بري شرقي",null,"SY020002","c1062","Tal Hawasid - Hanuteh \\ تل حواصيد_حانوتة",null,"c1007","SY0200016","Bayada \\ البياضة"]
[null,null,null,null,null,null,null,"SY0503","SY050302","Como-Saan \\ السعن",null,"SY020002","C1050","Tal Masih \\ تل ماسح",null,"c1007","SY0200043","Beit Moheb \\ بيت محب"]
[null,null,null,null,null,null,null,"SY0503","SY050303","Saboura \\ صبورة",null,"SY020002","C1070","Tal Sabha \\ تل صبحة",null,"c1007","SY0200105","Bustan Al Basha \\ بستان الباشا"]
[null,null,null,null,null,null,null,"SY0503","SY050304","Oqeirbat \\ عقيربات",null,"SY020002","C1058","Tall Ed-Daman \\ تل الضمان",null,"c1007","SY0200054","Bustan Al Qasr \\ بستان القصر"]
[null,null,null,null,null,null,null,"SY0504","SY050400","Masyaf \\ مركز مصياف",null,"SY020002","C1078","Tarfawi \\ طرفاوي",null,"c1007","SY0200055","Bustan Az Zahra \\ بستان الزهرة"]
[null,null,null,null,null,null,null,"SY0504","SY050401","Jeb Ramleh \\ جب رملة",null,"SY020002","C1095","Um Aj \\ أم عج",null,"c1007","SY0200086","Dahret Awad \\ ضهرة عواد"]
[null,null,null,null,null,null,null,"SY0504","SY050402","OJ \\ عوج",null,"SY020002","C1053","Um Elamad Qabli \\ أم العمد قبلي",null,"c1007","SY0200039","Dallalein \\ الدلالين"]
[null,null,null,null,null,null,null,"SY0504","SY050403","Ein Halaqim \\ عين حلاقيم",null,"SY020002","C1056","Um Elhoteh \\ أم الهوته",null,"c1007","SY0200032","Doudou \\ الضوضو"]
[null,null,null,null,null,null,null,"SY0504","SY050404","Wadi El-Oyoun \\ وادي العيون",null,"SY020002","C1065","Um Elkaramel \\ أم الكراميل",null,"c1007","SY0200097","Ein Al Tall \\ عين التل"]
[null,null,null,null,null,null,null,"SY0505","SY050500","Muhradah \\ مركز محردة",null,"SY020002","C1091","Um Gobar \\ أم غبار",null,"c1007","SY0200011","Farafra \\ الفرافرة"]
[null,null,null,null,null,null,null,"SY0505","SY050501","Kafr Zeita \\ كفرزيتا",null,"SY020002","C1087","Um Graf \\ أم غراف",null,"c1007","SY0200023","Fardos \\ الفردوس"]
[null,null,null,null,null,null,null,"SY0505","SY050502","Karnaz \\ كرناز",null,"SY020002","C1064","Um Jrein \\ أم جرين",null,"c1007","SY0200056","FEID \\ الفيض"]
[null,null,null,null,null,null,null,"SY0600","SY060000","Lattakia \\ مركز اللاذقية",null,"SY020002","c1084","Um Qrun - Um Jaran \\ أم قرون_أم جرن",null,"c1007","SY0200127","Ghazali \\ الغزالي"]
[null,null,null,null,null,null,null,"SY0600","SY060001","Bahlawaniyeh \\ البهلولية",null,"SY020002","c1069","Um Tinet Simaan \\ أم تينة سمعان",null,"c1007","SY0200125","Al Halab Jadeedah \\ حلب الجديدة"]
[null,null,null,null,null,null,null,"SY0600","SY060002","Rabee'a \\ ربيعة",null,"SY020002","c1055","Um Tmakh Samaan \\ أم طماخ سمعان",null,"c1007","SY0200085","Halawaniyeh \\ الحلوانية"]
[null,null,null,null,null,null,null,"SY0600","SY060003","Ein El-Bayda \\ عين البيضا",null,"SY020002","C1096","Um lecho de un río \\ أم وادي",null,"c1007","SY0200141","Hamadaniyeh (1) \\ الحمدانية (1)"]
[null,null,null,null,null,null,null,"SY0600","SY060004","Qastal MAAF \\ قسطل معاف",null,"SY020002","C1103","Wadi Eldibis \\ وادي الدبس",null,"c1007","SY0200142","Hamadaniyeh (2) \\ الحمدانية (2)"]
[null,null,null,null,null,null,null,"SY0600","SY060005","Kiseb \\ كسب",null,"SY020002","C1102","Wadi Elsonue \\ وادي الصنوع",null,"c1007","SY0200143","Hamadaniyeh (3) \\ الحمدانية (3)"]
[null,null,null,null,null,null,null,"SY0600","SY060006","Hanadi \\ هنادي",null,"SY020002","C1093","Western Atshana \\ عطشانة غربية",null,"c1007","SY0200144","Hamadaniyeh (4) \\ الحمدانية (4)"]
[null,null,null,null,null,null,null,"SY0602","SY060200","Jablah \\ مركز جبلة",null,"SY020003","C1131","Afrin \\ عفرين",null,"c1007","SY0200047","Hameidiyyeh \\ الحميدية"]
[null,null,null,null,null,null,null,"SY0602","SY060201","Ein Elshaqiyeh \\ عين الشرقية",null,"SY020003","C1121","Andan \\ عندان",null,"c1007","SY0200161","Hanano (1) \\ هنانو (1)"]
[null,null,null,null,null,null,null,"SY0602","SY060202","Qteilbiyyeh \\ القطيلبية",null,"SY020003","C6331","Babis \\ بابيص",null,"c1007","SY0200162","Hanano (2) \\ هنانو (2)"]
[null,null,null,null,null,null,null,"SY0602","SY060203","Ein Shaqaq \\ عين شقاق",null,"SY020003","C1125","Bashkwi Samaan \\ باشكوي سمعان",null,"c1007","SY0200163","Hanano (3) \\ هنانو (3)"]
[null,null,null,null,null,null,null,"SY0602","SY060204","Dalyeh \\ دالية",null,"SY020003","C1137","Fah \\ فاح",null,"c1007","SY0200164","Hanano (4) \\ هنانو (4)"]
[null,null,null,null,null,null,null,"SY0602","SY060205","Beit Yashout \\ بيت ياشوط",null,"SY020003","C1130","Haritan \\ حريتان",null,"c1007","SY0200098","Haydariyeh \\ الحيدرية"]
[null,null,null,null,null,null,null,"SY0603","SY060300","Al-Haffa \\ مركزالحفة",null,"SY020003","C1127","Hayyān \\ حيان",null,"c1007","SY0200048","Hazzaza \\ الهزازة"]
[null,null,null,null,null,null,null,"SY0603","SY060301","Salanfa \\ صلنفة",null,"SY020003","C1123","Jeb Ghabsheh \\ جب غبشة",null,"c1007","SY0200037","Ibn Yaqoub \\ ابن يعقوب"]
[null,null,null,null,null,null,null,"SY0603","SY060302","Ein-Et Teeneh \\ عين التينة",null,"SY020003","C1135","Kafr Bssin \\ كفر بسين",null,"c1007","SY0200107","Jabal Al Ghazalat \\ جبل الغزالات"]
[null,null,null,null,null,null,null,"SY0603","SY060303","Kansaba \\ كنسبا",null,"SY020003","c1134","Kafr Hamra \\ كفر حمرة",null,"c1007","SY0200103","Jaberiyeh \\ الجابرية"]
[null,null,null,null,null,null,null,"SY0603","SY060304","Mzair'a \\ مزيرعة",null,"SY020003","C1136","Maaret Elartiq \\ معارة الأرتيق",null,"c1007","SY0200051","Jameilieh \\ الجميلية"]
[null,null,null,null,null,null,null,"SY0604","SY060400","Al-Qardaha \\ مركز القرداحة",null,"SY020003","C1133","Muqbia \\ مقبلة",null,"c1007","SY0200013","Jloum \\ الجلوم"]
[null,null,null,null,null,null,null,"SY0604","SY060401","Harf Elmseitra \\ حرف المسيترة",null,"SY020003","C6332","Naqqarin \\ نقارين",null,"c1007","SY0200083","Jouret Awad \\ جورة عواد"]
[null,null,null,null,null,null,null,"SY0604","SY060402","Fakhura \\ الفاخورة",null,"SY020003","C1129","Semer \\ شامر",null,"c1007","SY0200053","Kalaseh \\ الكلاسة"]
[null,null,null,null,null,null,null,"SY0604","SY060403","Jobet Berghal \\ جوبة برغال",null,"SY020003","C1128","Sheikh Zayat \\ شيخ زيات",null,"c1007","SY0200073","Karm Al Da'ada'a \\ كرم الدعدع"]
[null,null,null,null,null,null,null,"SY0700","SY070000","Idleb \\ مركز إدلب",null,"SY020003","c1124","Sifa \\ صفة",null,"c1007","SY0200109","Karm Al Jabal \\ كرم الجبل"]
[null,null,null,null,null,null,null,"SY0700","SY070001","Abul Thohur \\ أبو الظهور",null,"SY020003","C1126","Tamura \\ الطامورة",null,"c1007","SY0200081","Karm Al Qaterji \\ كرم القاطرجي"]
[null,null,null,null,null,null,null,"SY0700","SY070002","Bennsh \\ بنش",null,"SY020003","C1122","Tiyara \\ تيارة",null,"c1007","SY0200084","Karm Myasar \\ كرم ميسر"]
[null,null,null,null,null,null,null,"SY0700","SY070003","Saraqab \\ سراقب",null,"SY020003","C1132","Yaqed Eladas \\ ياقد العدس",null,"c1007","SY0200124","Kawakbi \\ الكواكبي"]
[null,null,null,null,null,null,null,"SY0700","SY070004","Teftnaz \\ تفتناز",null,"SY020004","C1144","Anjara \\ عنجارة",null,"c1007","SY0200115","Khalidiyeh \\ الخالدية"]
[null,null,null,null,null,null,null,"SY0700","SY070005","Maaret Tamsrin \\ معرة تمصرين",null,"SY020004","C1142","Arhab \\ ارحاب",null,"c1007","SY0200131","Leirmoun \\ الليرمون"]
[null,null,null,null,null,null,null,"SY0700","SY070006","Sarmin \\ سرمين",null,"SY020004","C1145","Bishqatine \\ بشقاتين",null,"c1007","SY0200041","Mahattet Bagdad \\ محطة بغداد"]
[null,null,null,null,null,null,null,"SY0702","SY070200","Un Ma'arrat Numan \\ مركز معرة النعمان",null,"SY020004","C1147","Bsartun \\ بسرطون",null,"c1007","SY0200071","Al Maqar Anbiya'a \\ مقر الأنبياء"]
[null,null,null,null,null,null,null,"SY0702","SY070201","Khan Shaykun \\ خان شيخون",null,"SY020004","C1141","Bshantara \\ بشنطرة",null,"c1007","SY0200154","Un Medyafet Neyrab \\ مضيافة النيرب"]
[null,null,null,null,null,null,null,"SY0702","SY070202","Sanjar \\ سنجار",null,"SY020004","C1139","Daret Azza \\ دارة عزة",null,"c1007","SY0200101","Midan \\ الميدان"]
[null,null,null,null,null,null,null,"SY0702","SY070203","Kafr Nobol \\ كفر نبل",null,"SY020004","C1146","Hoteh \\ الهوتة",null,"c1007","SY0200121","Mohafaza \\ المحافظة"]
[null,null,null,null,null,null,null,"SY0702","SY070204","Tamanaah \\ التمانعة",null,"SY020004","C1140","Hur \\ حور",null,"c1007","SY0200021","Mohammad Bek \\ محمد بك"]
[null,null,null,null,null,null,null,"SY0702","SY070205","Heish \\ حيش",null,"SY020004","C1149","Kafrantin \\ كفرانتين",null,"c1007","SY0200165","Mokhayam Handarat \\ مخيم حندرات"]
[null,null,null,null,null,null,null,"SY0703","SY070300","Harim \\ مركز حارم",null,"SY020004","C1148","Majbineh \\ مجبينة",null,"c1007","SY0200052","Msharqah \\ المشارقة"]
[null,null,null,null,null,null,null,"SY0703","SY070301","Dana \\ دانا",null,"SY020004","C1150","Qabtan Eljabal \\ قبتان الجبل",null,"c1007","SY0200135","Nasr \\ النصر"]
[null,null,null,null,null,null,null,"SY0703","SY070302","Salqin \\ سلقين",null,"SY020004","C1143","Tqad \\ تقاد",null,"c1007","SY0200155","Neyrab \\ النيرب"]
[null,null,null,null,null,null,null,"SY0703","SY070303","Kafr Takharim \\ كفر تخاريم",null,"SY020004","C1138","Zarzita \\ زرزيتا",null,"c1007","SY0200049","Orouba \\ العروبة"]
[null,null,null,null,null,null,null,"SY0703","SY070304","Qourqeena \\ قورقينا",null,"SY020005","C1160","Abad \\ اباد",null,"c1007","SY0200094","Oweijeh \\ عويجة"]
[null,null,null,null,null,null,null,"SY0703","SY070305","Armanáz \\ أرمناز",null,"SY020005","c1164","Arada \\ عرادة",null,"c1007","SY0200035","Qadi Askar \\ قاضي عسكر"]
[null,null,null,null,null,null,null,"SY0704","SY070400","Jisr-Ash-Shugur \\ مركز جسر الشغور",null,"SY020005","C1163","Banes \\ بانص",null,"c1007","SY0200018","Qal'et Shareef \\ قلعة شريف"]
[null,null,null,null,null,null,null,"SY0704","SY070401","Badama \\ بداما",null,"SY020005","C1153","Barqum \\ برقوم",null,"c1007","SY0200038","Qarleq \\ قارلق"]
[null,null,null,null,null,null,null,"SY0704","SY070402","Darkosh \\ دركوش",null,"SY020005","c1169","Bawabiyeh \\ بوابية",null,"c1007","SY0200014","Qasileh \\ القصيلة"]
[null,null,null,null,null,null,null,"SY0704","SY070403","Janudiyeh \\ الجانودية",null,"SY020005","C1154","Berna \\ برنة",null,"c1007","SY0200044","Al Qastal Mesht \\ قسطل المشط"]
[null,null,null,null,null,null,null,"SY0705","SY070500","Ariha \\ مركز أريحا",null,"SY020005","C1157","Gran Othmaniya \\ عثمانية كبيرة",null,"c1007","SY0200117","Rusafa \\ الرصافة"]
[null,null,null,null,null,null,null,"SY0705","SY070501","Ehsem \\ احسم",null,"SY020005","C1172","Hawir Elis \\ حوير العيس",null,"c1007","SY0200064","Saad Al Ansari \\ سعد الأنصاري"]
[null,null,null,null,null,null,null,"SY0705","SY070502","Mhambal \\ محمبل",null,"SY020005","C1152","Hmeira \\ حميرة",null,"c1007","SY0200122","Sabil \\ السبيل"]
[null,null,null,null,null,null,null,"SY0800","SY080000","Al-Hasakeh \\ مركز الحسكة",null,"SY020005","C1168","Jazraya \\ جزرايا",null,"c1007","SY0200017","Sahet Bazeh \\ ساحة بزة"]
[null,null,null,null,null,null,null,"SY0800","SY080001","Tal Tamer \\ تل تمر",null,"SY020005","C1166","Jeb Kas \\ جب كاس",null,"c1007","SY0200034","Sajleikhan \\ صاجليخان"]
[null,null,null,null,null,null,null,"SY0800","SY080002","Shadadah \\ شدادة",null,"SY020005","C1176","Kassibeh \\ كسيبة",null,"c1007","SY0200091","Sakhour (1) \\ الصاخور (1)"]
[null,null,null,null,null,null,null,"SY0800","SY080003","Markada \\ مركدة",null,"SY020005","C1175","Kusniya \\ كوسنيا",null,"c1007","SY0200092","Sakhour (2) \\ الصاخور (2)"]
[null,null,null,null,null,null,null,"SY0800","SY080004","Be'r Al-Al-Hulo Wardeyyeh \\ بئر الحلو الوردية",null,"SY020005","C1174","Qamari \\ قماري",null,"c1007","SY0200093","Sakhour (3) \\ الصاخور (3)"]
[null,null,null,null,null,null,null,"SY0800","SY080005","Areesheh \\ العريشة",null,"SY020005","C1162","Rasm Eliss \\ رسم العيس",null,"c1007","SY0200062","Salah Addein \\ صلاح الدين"]
[null,null,null,null,null,null,null,"SY0800","SY080006","Agujero \\ الهول",null,"SY020005","C1155","Sheikh Ahmed \\ الشيخ احمد",null,"c1007","SY0200072","Saliheen \\ الصالحين"]
[null,null,null,null,null,null,null,"SY0802","SY080200","Quamishli \\ مركز القامشلي",null,"SY020005","C1171","Tal Allush \\ تل علوش",null,"c1007","SY0200061","Sayf al Dawleh \\ سيف الدولة"]
[null,null,null,null,null,null,null,"SY0802","SY080201","Tal HMIS \\ تل حميس",null,"SY020005","c1161","Tal Bajer \\ تل باجر",null,"c1007","SY0200112","Seryan \\ السريان"]
[null,null,null,null,null,null,null,"SY0802","SY080202","Amuda \\ عامودا",null,"SY020005","C1158","Tal Heddiyeh \\ تل حدية",null,"c1007","SY0200123","Shahbaa \\ الشهباء"]
[null,null,null,null,null,null,null,"SY0802","SY080203","Qahtaniyyeh \\ قحطانية",null,"SY020005","C1173","Tal Mamu \\ تل ممو",null,"c1007","SY0200108","Sheikh Abu Baker, \\ الشيخ أبو بكر"]
[null,null,null,null,null,null,null,"SY0803","SY080300","Al-Malikeyyeh \\ مركز المالكية",null,"SY020005","C1165","Talafeh \\ طلافح",null,"c1007","SY0200095","Sheikh Faris \\ الشيخ فارس"]
[null,null,null,null,null,null,null,"SY0803","SY080301","Jawadiyah \\ جوادية",null,"SY020005","C1159","Um Atba \\ أم عتبة",null,"c1007","SY0200096","Sheikh Kheder \\ الشيخ خضر"]
[null,null,null,null,null,null,null,"SY0803","SY080302","Ya'robiyah \\ يعربية",null,"SY020005","c1170","Zarbah \\ الزربة",null,"c1007","SY0200118","Sheikh Maqsoud (1) \\ الشيخ مقصود (1)"]
[null,null,null,null,null,null,null,"SY0804","SY080400","Ras Al Ain \\ مركز رأس العين",null,"SY020005","c1167","Zeitan \\ زيتان",null,"c1007","SY0200074","Sheikh Saeed \\ الشيخ سعيد"]
[null,null,null,null,null,null,null,"SY0804","SY080401","Darbasiyah \\ درباسية",null,"SY020005","C1156","Zmar \\ زمار",null,"c1007","SY0200104","Suleiman al Halabi \\ سليمان الحلبي"]
[null,null,null,null,null,null,null,"SY0901","SY090100","Deir-ez-Zor \\ مركز دير الزور",null,"SY020005","C1151","Zyare Semaan \\ زيارة سمعان",null,"c1007","SY0200067","Sukkari \\ السكري"]
[null,null,null,null,null,null,null,"SY0901","SY090101","Kisreh \\ كسرة",null,"SY020006","C1178","Dalama \\ دلامة",null,"c1007","SY0200102","Suleimaniyeh \\ السليمانية"]
[null,null,null,null,null,null,null,"SY0901","SY090102","Basira \\ بصيرة",null,"SY020006","C1182","Hadher \\ الحاضر",null,"c1007","SY0200066","De altura Az Zarazeer \\ تل الزرازير"]
[null,null,null,null,null,null,null,"SY0901","SY090103","Muhasan \\ موحسن",null,"SY020006","C1181","Iss \\ العيس",null,"c1007","SY0200111","Tarek Ibn Ziyad \\ طارق بن زياد"]
[null,null,null,null,null,null,null,"SY0901","SY090104","Tabni \\ التبني",null,"SY020006","C1184","Makhala \\ مكحلة",null,"c1007","SY0200036","Tatarlar \\ تاتارلر"]
[null,null,null,null,null,null,null,"SY0901","SY090105","Khasham \\ خشام",null,"SY020006","C1179","Mamimeh \\ جميمة",null,"c1007","SY0200114","Tishrine \\ تشرين"]
[null,null,null,null,null,null,null,"SY0901","SY090106","Sur \\ صور",null,"SY020006","c1183","Maryuda \\ مريودة",null,"c1007","SY0200015","Tonbouga \\ التونبوغا"]
[null,null,null,null,null,null,null,"SY0902","SY090200","Abu Kamal \\ مركز البوكمال",null,"SY020006","C1185","Mreimin Simaan \\ مريمين سمعان",null,"c1007","SY0200106","Al turab Halac \\ تراب الهلك"]
[null,null,null,null,null,null,null,"SY0902","SY090201","Hajin \\ هجين",null,"SY020006","C1180","Tal dadine \\ تل دادين",null,"c1007","SY0200082","Turbet Lala \\ تربة لالا"]
[null,null,null,null,null,null,null,"SY0902","SY090202","Jalaa \\ الجلاء",null,"SY020006","C1177","Tleilat \\ تليلات",null,"c1007","SY0200134","Zahraa \\ الزهراء"]
[null,null,null,null,null,null,null,"SY0902","SY090203","Susat \\ سوسة",null,"SY020200","C1194","Aabad \\ اعبد",null,"c1007","SY0200113","Zohour \\ الزهور"]
[null,null,null,null,null,null,null,"SY0903","SY090300","Al Mayadin \\ مركز الميادين",null,"SY020200","C1202","Al Bab \\ الباب",null,"C2528","SY0400044","Abbasiyeh \\ العباسية"]
[null,null,null,null,null,null,null,"SY0903","SY090301","Thiban \\ ذيبان",null,"SY020200","C1188","Bazagha \\ بزاعة",null,"C2528","SY0400023","Al Khedr \\ الخضر"]
[null,null,null,null,null,null,null,"SY0903","SY090302","Asara \\ عشارة",null,"SY020200","C1203","Gran Sarja \\ سرجة كبيرة",null,"C2528","SY0400091","Amr wa Sultaniya \\ عمرو و السلطانية"]
[null,null,null,null,null,null,null,"SY1000","SY100000","Tartous \\ مركز طرطوس",null,"SY020200","C1192","Borj \\ البرج",null,"C2528","SY0400046","Arman \\ الأرمن"]
[null,null,null,null,null,null,null,"SY1000","SY100001","Arwad \\ أرواد",null,"SY020200","C1198","Hadath \\ حدث",null,"C2528","SY0400031","Bab Ad-Dreib \\ باب الدريب"]
[null,null,null,null,null,null,null,"SY1000","SY100002","Hameidiyyeh \\ الحميدية",null,"SY020200","C1191","Hazwan \\ حزوان",null,"C2528","SY0400011","Bab Houd \\ باب هود"]
[null,null,null,null,null,null,null,"SY1000","SY100003","Kherbet Elma'aza \\ خربة المعزة",null,"SY020200","C1193","Maqri \\ المقري",null,"C2528","SY0400022","Bab Sebaa \\ باب السباع"]
[null,null,null,null,null,null,null,"SY1000","SY100004","Soda Khawabi \\ سودا خوابي",null,"SY020200","C1210","MRAN \\ مران",null,"C2528","SY0400041","Bab Tadmor \\ باب تدمر"]
[null,null,null,null,null,null,null,"SY1000","SY100005","Kareemeh \\ كريمة",null,"SY020200","C1186","Nayrabiyeh \\ النيربية",null,"C2528","SY0400013","Baghtasiyeh \\ البغطاسية"]
[null,null,null,null,null,null,null,"SY1000","SY100006","Safsafa \\ صفصافة",null,"SY020200","C1213","Noman \\ نعمان",null,"C2528","SY0400021","Bani Sbaie \\ بني السباعي"]
[null,null,null,null,null,null,null,"SY1002","SY100200","Banyas \\ مركز بانياس",null,"SY020200","C1204","Olan \\ عولان",null,"C2528","SY0400083","Bayada \\ البياضة"]
[null,null,null,null,null,null,null,"SY1002","SY100201","Rawda \\ الروضة",null,"SY020200","C1209","Qabasin \\ قباسين",null,"C2528","SY0400082","Deir Ba'alba Janoubi \\ دير بعلبة جنوبي"]
[null,null,null,null,null,null,null,"SY1002","SY100202","Anaza \\ العنازة",null,"SY020200","C1211","Qdeiran \\ قديران",null,"C2528","SY0400081","Deir Ba'alba Shamali \\ دير بعلبة شمالي"]
[null,null,null,null,null,null,null,"SY1002","SY100203","Qadmous \\ القدموس",null,"SY020200","C1208","Qemmet Daghelbash \\ قمة داغلباش",null,"C2528","SY0400015","Fardos \\ الفردوس"]
[null,null,null,null,null,null,null,"SY1002","SY100204","Hamam Wasil \\ حمام واصل",null,"SY020200","C1214","Qubbet Elsheikh \\ قبة الشيخ",null,"C2528","SY0400014","Ghota \\ الغوطة"]
[null,null,null,null,null,null,null,"SY1002","SY100205","Tawahin \\ الطواحين",null,"SY020200","C1200","Saflaniyeh \\ سفلانية",null,"C2528","SY0400051","Hameidiyyeh \\ الحميدية"]
[null,null,null,null,null,null,null,"SY1002","SY100206","Taleen \\ تالين",null,"SY020200","C1189","Shaala \\ شعالة",null,"C2528","SY0400072","Al dobladillos Jadeedeh \\ حمص الجديدة-الوعر"]
[null,null,null,null,null,null,null,"SY1003","SY100300","Safita \\ مركز صافيتا",null,"SY020200","C1206","Shdud \\ شدود",null,"C2528","SY0400024","Ikrima \\ عكرمة"]
[null,null,null,null,null,null,null,"SY1003","SY100301","Mashta Elhiu \\ مشتى الحلو",null,"SY020200","C1196","Sheikh Alwán \\ شيخ علوان",null,"C2528","SY0400032","Jamal Addein \\ جمال الدين"]
[null,null,null,null,null,null,null,"SY1003","SY100302","Bariqiyeh \\ البارقية",null,"SY020200","C1195","Sheikh Jarrah \\ شيخ جراح",null,"C2528","SY0400033","Jeb Al Jandali \\ جب الجندلي"]
[null,null,null,null,null,null,null,"SY1003","SY100303","Sibbeh \\ سبة",null,"SY020200","C1207","Sheikh Kif \\ الشيخ كيف",null,"C2528","SY0400061","Al Jouret Sheyah \\ جورة الشياح"]
[null,null,null,null,null,null,null,"SY1003","SY100304","Sisniyyeh \\ السيسنية",null,"SY020200","C1187","Sosyan \\ سوسيان",null,"C2528","SY0400052","Kalidiyeh \\ الخالدية"]
[null,null,null,null,null,null,null,"SY1003","SY100305","Ras El-Khashufeh \\ رأس الخشوفة",null,"SY020200","C1190","Su Sinbat \\ سو سنباط",null,"C2528","SY0400025","Karm Ash-Shami \\ كرم الشامي"]
[null,null,null,null,null,null,null,"SY1004","SY100400","Dreikish \\ مركز دريكيش",null,"SY020200","C1197","Suran \\ صوران",null,"C2528","SY0400037","Karm Az Zeitoun \\ كرم الزيتون"]
[null,null,null,null,null,null,null,"SY1004","SY100401","Jneinet Raslan \\ جنينة رسلان",null,"SY020200","C1199","Tal Jerji \\ تل جرجي",null,"C2528","SY0400042","Karm Shamsham \\ كرم شمشم"]
[null,null,null,null,null,null,null,"SY1004","SY100402","Hamin \\ حمين",null,"SY020200","C1205","Tal Rahhal \\ تل رحال",null,"C2528","SY0400012","Mahatta \\ المحطة"]
[null,null,null,null,null,null,null,"SY1004","SY100403","Dweir Raslan \\ دوير رسلان",null,"SY020200","C1201","Um Elamad Elbab \\ أم العمد الباب",null,"C2528","SY0400071","Mimas \\ الميماس"]
[null,null,null,null,null,null,null,"SY1005","SY100500","Sheikh Badr \\ مركز الشيخ بدر",null,"SY020200","C1212","Waqqah \\ وقاح",null,"C2528","SY0400034","Mreija \\ المريجة"]
[null,null,null,null,null,null,null,"SY1005","SY100501","Baramanet Elmashayekh \\ برمانة المشايخ",null,"SY020201","C1216","Abu Jabbar \\ أبو جبار",null,"C2528","SY0400035","Nuzha \\ النزهة"]
[null,null,null,null,null,null,null,"SY1005","SY100502","Qumseyyeh \\ قمصية",null,"SY020201","C1218","Abu Taltal \\ أبو طلطل",null,"C2528","SY0400062","Qosour \\ القصور"]
[null,null,null,null,null,null,null,"SY1101","SY110100","Ar-Raqqa \\ مركز الرقة",null,"SY020201","C1215","Arran \\ عران",null,"C2528","SY0400045","Sabil \\ السبيل"]
[null,null,null,null,null,null,null,"SY1101","SY110101","Sabka \\ السبخة",null,"SY020201","C1230","Barhalin \\ برلهين",null,"C2528","SY0400063","Sina'a y Haswiyeh \\ الصناعة و الحصوية"]
[null,null,null,null,null,null,null,"SY1101","SY110102","Karama \\ الكرامة",null,"SY020201","C1220","Gran Amya \\ عمية كبيرة",null,"C2528","SY0400038","Wadi Ad-Dahab \\ وادي الذهب"]
[null,null,null,null,null,null,null,"SY1101","SY110103","Maadan \\ معدان",null,"SY020201","C1235","Gran Fikha \\ فيخة كبيرة",null,"C2528","SY0400043","Zahraa \\ الزهراء"]
[null,null,null,null,null,null,null,"SY1102","SY110200","Dile Abiad \\ مركز تل أبيض",null,"SY020201","C1225","Biret Elbab \\ البيرة الباب",null,"C2987","SY0500045","Abi Al Fedaa \\ أبي الفداء"]
[null,null,null,null,null,null,null,"SY1102","SY110201","Suluk \\ سلوك",null,"SY020201","C1231","Btoshiyet Elbab \\ بطوشية الباب",null,"C2987","SY0500014","Aedin \\ العائدين"]
[null,null,null,null,null,null,null,"SY1102","SY110202","Ein Issa \\ عين عيسى",null,"SY020201","C1221","Deir Qaq \\ دير قاق",null,"C2987","SY0500055","Al Fayhaa \\ الفيحاء"]
[null,null,null,null,null,null,null,"SY1103","SY110300","Al-Thawrah \\ مركز الثورة",null,"SY020201","C2233","Ein El-Bayda \\ عين البيضا",null,"C2987","SY0500042","Aleiliyat \\ العليليات"]
[null,null,null,null,null,null,null,"SY1103","SY110301","Mansura \\ المنصورة",null,"SY020201","C1228","Eisheh \\ عيشة",null,"C2987","SY0500034","Andalus \\ الأندلس"]
[null,null,null,null,null,null,null,"SY1103","SY110302","Jurneyyeh \\ الجرنية",null,"SY020201","C1223","Kherbet Kiyar \\ خربة كيار",null,"C2987","SY0500027","Baas \\ البعث"]
[null,null,null,null,null,null,null,"SY1200","SY120000","Dar'a \\ مركز درعا",null,"SY020201","c1217","Kita \\ الكيطة",null,"C2987","SY0500021","Bab Al Jesr \\ باب الجسر"]
[null,null,null,null,null,null,null,"SY1200","SY120001","Busra Esh-Sham \\ بصرى الشام",null,"SY020201","C1234","Magharet Abu Jabbar \\ مغارة أبو جبار",null,"C2987","SY0500024","Bab Qebli \\ باب القبلي"]
[null,null,null,null,null,null,null,"SY1200","SY120002","Kherbet Ghazala \\ خربة غزالة",null,"SY020201","C1226","Oweishiyeh \\ عويشية",null,"C2987","SY0500051","Baroudiyeh \\ البارودية"]
[null,null,null,null,null,null,null,"SY1200","SY120003","Ash-Shajara \\ الشجرة",null,"SY020201","C1233","Qasr Elbreij \\ قصر البريج",null,"C2987","SY0500022","Bashoura \\ الباشورة"]
[null,null,null,null,null,null,null,"SY1200","SY120004","Da'el \\ داعل",null,"SY020201","C1232","Qatar \\ قطر",null,"C2987","SY0500031","Dabagha \\ الدباغة"]
[null,null,null,null,null,null,null,"SY1200","SY120005","Mzeireb \\ مزيريب",null,"SY020201","C1227","Sarhan \\ سرحان",null,"C2987","SY0500015","Dahriyeh \\ الضاهرية"]
[null,null,null,null,null,null,null,"SY1200","SY120006","Jizeh \\ الجيزة",null,"SY020201","C1229","Sheikh Dan \\ شيخ دن",null,"C2987","SY0500038","Al Ein Louzeh \\ عين اللوزة"]
[null,null,null,null,null,null,null,"SY1200","SY120007","Mseifra \\ المسيفرة",null,"SY020201","C1219","Tadaf \\ تادف",null,"C2987","SY0500037","Frayeh \\ الفراية"]
[null,null,null,null,null,null,null,"SY1202","SY120200","Como-Sanamayn \\ مركز الصنمين",null,"SY020201","C1222","Toman \\ طومان",null,"C2987","SY0500054","Granada \\ غرناطة"]
[null,null,null,null,null,null,null,"SY1202","SY120201","Masmiyyeh \\ المسمية",null,"SY020201","C1224","Um Khorzet Elbab \\ أم خرزة الباب",null,"C2987","SY0500053","Hameidiyyeh \\ الحميدية"]
[null,null,null,null,null,null,null,"SY1202","SY120202","Ghabagheb \\ غباغب",null,"SY020202","C1241","Akula \\ عاكولة",null,"C2987","SY0500033","Hawarneh \\ الحوارنة"]
[null,null,null,null,null,null,null,"SY1203","SY120300","Izra '\\ مركز ازرع",null,"SY020202","C1242","Gran Hmeimeh \\ حميمة كبيرة",null,"C2987","SY0500035","Jalaa \\ الجلاء"]
[null,null,null,null,null,null,null,"SY1203","SY120301","Jasim \\ جاسم",null,"SY020202","C1240","Dayr Hafir \\ دير حافر",null,"C2987","SY0500025","Jarajmeh \\ الجراجمة"]
[null,null,null,null,null,null,null,"SY1203","SY120302","Hrak \\ الحراك",null,"SY020202","C1236","Hazaza \\ حزازة",null,"C2987","SY0500028","Kazou \\ كازو"]
[null,null,null,null,null,null,null,"SY1203","SY120303","Nawa \\ نوى",null,"SY020202","C1245","Poco Hmeimeh \\ حميمة صغيرة",null,"C2987","SY0500023","Madina \\ المدينة"]
[null,null,null,null,null,null,null,"SY1203","SY120304","Sheikh Miskine \\ الشيخ مسكين",null,"SY020202","C1246","Mabuja \\ مبعوجة",null,"C2987","SY0500036","Mahalbeh \\ المحالبة"]
[null,null,null,null,null,null,null,"SY1203","SY120305","Tassil \\ تسيل",null,"SY020202","c1243","Sur Rasm Elharmal \\ رسم الحرمل الجنوبي",null,"C2987","SY0500026","Mohafaza \\ المحافظة"]
[null,null,null,null,null,null,null,"SY1300","SY130000","Como-Sweida \\ مركز السويداء",null,"SY020202","C1238","Tal Ayub \\ تل أيوب",null,"C2987","SY0500039","Nasr \\ النصر"]
[null,null,null,null,null,null,null,"SY1300","SY130001","Mazra'a \\ المزرعة",null,"SY020202","C1239","Um Elmara \\ أم المرا",null,"C2987","SY0500044","Riyadi \\ الرياضي"]
[null,null,null,null,null,null,null,"SY1300","SY130002","Mashnaf \\ المشنف",null,"SY020202","c1244","Um Zleila \\ أم زليلة",null,"C2987","SY0500056","Sabil \\ السبيل"]
[null,null,null,null,null,null,null,"SY1302","SY130200","Salkhad \\ مركز صلخد",null,"SY020202","C1237","Zubaida \\ زبيدة",null,"C2987","SY0500043","Sabouniyeh \\ صابونية"]
[null,null,null,null,null,null,null,"SY1302","SY130201","Qarayya \\ القريا",null,"SY020203","c1260","Ameriyeh \\ العامرية",null,"C2987","SY0500012","Shahbaa \\ الشهباء"]
[null,null,null,null,null,null,null,"SY1302","SY130202","Gharyeh \\ الغارية",null,"SY020203","C1250","Ar-Ra'ee \\ الراعي",null,"C2987","SY0500052","Shamaliyeh \\ الشمالية"]
[null,null,null,null,null,null,null,"SY1302","SY130203","Thibeen \\ ذيبين",null,"SY020203","C1264","Atharia \\ الأثرية",null,"C2987","SY0500041","Shari'a \\ الشريعة"]
[null,null,null,null,null,null,null,"SY1302","SY130204","Milh \\ ملح",null,"SY020203","c1270","Ayyasha \\ عياشة",null,"C2987","SY0500032","Souq Ash Shajra \\ سوق الشجرة"]
[null,null,null,null,null,null,null,"SY1303","SY130300","Shahba \\ مركز شهبا",null,"SY020203","c1272","Bab Laymun \\ باب ليمون",null,"C2987","SY0500013","Tishrine \\ تشرين"]
[null,null,null,null,null,null,null,"SY1303","SY130301","Shaqa \\ شقا",null,"SY020203","c1273","Hadabat \\ هضبات",null,"C2987","SY0500011","Zanbaqi \\ الزنبقي"]
[null,null,null,null,null,null,null,"SY1303","SY130302","Ariqa \\ العريقة",null,"SY020203","C1253","Haji Kusa \\ حاجي كوسة",null,"C3480","SY0600033","7 Nisan \\ السابع من نيسان"]
[null,null,null,null,null,null,null,"SY1303","SY130303","Poco Sura \\ الصورة الصغيرة",null,"SY020203","C1252","Haji Wali \\ حاجي ولي",null,"C3480","SY0600052","Al Asad \\ الأسد"]
[null,null,null,null,null,null,null,"SY1400","SY140000","Quneitra \\ مركز القنيطرة",null,"SY020203","C1251","Hleisa \\ حليصة",null,"C3480","SY0600031","Al- Thawrah \\ الثورة"]
[null,null,null,null,null,null,null,"SY1400","SY140001","Khan Arnaba \\ خان أرنبة",null,"SY020203","c1256","Jbine \\ جبين",null,"C3480","SY0600032","Baas \\ البعث"]
[null,null,null,null,null,null,null,"SY1400","SY140002","Al-Khashniyyeh \\ الخشنية",null,"SY020203","C1274","Karsanli \\ كرسنلي",null,"C3480","SY0600042","Basnada \\ بسنادا"]
[null,null,null,null,null,null,null,"SY1400","SY140003","Masaada \\ مسعدة",null,"SY020203","C1262","Khalilieyh \\ خليلية",null,"C3480","SY0600022","Jame'et Tishrine \\ جامعة تشرين"]
[null,null,null,null,null,null,null,"SY1402","SY140200","Fiq \\ مركز فيق",null,"SY020203","C1249","Matmana \\ المتمنة",null,"C3480","SY0600051","Jomhouriyeh \\ الجمهورية"]
[null,null,null,null,null,null,null,"SY1402","SY140201","Al-Butayhah \\ البطيحة",null,"SY020203","C1254","Misannah Bab \\ المسنة الباب",null,"C3480","SY0600041","Ogharit \\ أوغاريت"]
[null,null,null,null,null,null,null,null,null,null,null,"SY020203","C1257","Nahda \\ النهضة",null,"C3480","SY0600012","Oweina \\ العوينة"]
[null,null,null,null,null,null,null,null,null,null,null,"SY020203","C1275","Qantaret Elbab \\ قنطرة الباب",null,"C3480","SY0600015","Qalaa \\ القلعة"]
[null,null,null,null,null,null,null,null,null,null,null,"SY020203","C1248","Sandi \\ صندي",null,"C3480","SY0600021","Quds \\ القدس"]
[null,null,null,null,null,null,null,null,null,null,null,"SY020203","C1255","Shawa \\ شاوة",null,"C3480","SY0600011","Sheikh Daher \\ الشيخ ضاهر"]
[null,null,null,null,null,null,null,null,null,null,null,"SY020203","c1261","Silsileh \\ سلسلة",null,"C3480","SY0600013","Sleiba \\ الصليبة"]
[null,null,null,null,null,null,null,null,null,null,null,"SY020203","C1271","Tal Atieh \\ تل عطية",null,"C3480","SY0600014","Tabiyat \\ الطابيات"]
[null,null,null,null,null,null,null,null,null,null,null,"SY020203","c1267","Tal Eisheh \\ تل عيشة",null,"C3480","SY0600034","Tishrine \\ تشرين"]
[null,null,null,null,null,null,null,null,null,null,null,"SY020203","C1269","Tal elhawa \\ تل الهوى",null,"C3871","SY0700021","Ashrafiyeh \\ الأشرفية"]
[null,null,null,null,null,null,null,null,null,null,null,"SY020203","C1258","Tal Mizab \\ تل ميزاب",null,"C3871","SY0700042","Hettin \\ حطين"]
[null,null,null,null,null,null,null,null,null,null,null,"SY020203","c1263","Tlilet Elbab \\ تليلة الباب",null,"C3871","SY0700041","Hijaz \\ الحجاز"]
[null,null,null,null,null,null,null,null,null,null,null,"SY020203","C1259","Tweiran \\ طويران",null,"C3871","SY0700031","Hurriyeh \\ الحرية"]
[null,null,null,null,null,null,null,null,null,null,null,"SY020203","C1265","Um Elthadaya Mamli \\ أم الثدايا_ماملي",null,"C3871","SY0700011","Qosour \\ القصور"]
[null,null,null,null,null,null,null,null,null,null,null,"SY020203","C1247","Waqf \\ الوقف",null,"C3871","SY0700032","Wasat Al Madinah \\ وسط المدينة"]
[null,null,null,null,null,null,null,null,null,null,null,"SY020203","c1266","Zalaf \\ زلف",null,"C4360","SY0800032","16 Tishrine \\ 16 تشرين"]
[null,null,null,null,null,null,null,null,null,null,null,"SY020203","C1268","Zyaret Elbab \\ زيارة الباب",null,"C4360","SY0800026","Abu Amsha \\ أبو عمشة"]
[null,null,null,null,null,null,null,null,null,null,null,"SY020204","c1276","Abu Danneh \\ أبو ضنة",null,"C4360","SY0800036","Abu Baker, \\ أبو بكر"]
[null,null,null,null,null,null,null,null,null,null,null,"SY020204","c1277","Gran Arbid \\ عربيد كبير",null,"C4360","SY0800015","Al Askari \\ العسكري"]
[null,null,null,null,null,null,null,null,null,null,null,"SY020204","C1290","Dikwaneh \\ دكوانة",null,"C4360","SY0800024","Al Ghazal \\ الغزل"]
[null,null,null,null,null,null,null,null,null,null,null,"SY020204","C1294","Kwaires Oriental \\ كويرس شرقي",null,"C4360","SY0800034","Al Madina Al Riyadiah \\ المدينة الرياضية"]
[null,null,null,null,null,null,null,null,null,null,null,"SY020204","c1288","Efesh \\ عفش",null,"C4360","SY0800013","Al Malab Al Baladi \\ الملعب البلدي"]
[null,null,null,null,null,null,null,null,null,null,null,"SY020204","C1285","Ein Eljamajmeh \\ عين الجماجمة",null,"C4360","SY0800025","Al Mashfa Al Watani \\ المشفى الوطني"]
[null,null,null,null,null,null,null,null,null,null,null,"SY020204","C1283","Halabiyeh \\ الحلبية",null,"C4360","SY0800022","Al Mufti \\ المفتي"]
[null,null,null,null,null,null,null,null,null,null,null,"SY020204","c1282","Jaberiyeh \\ الجابرية",null,"C4360","SY0800023","Al Tala'e '\\ الطلائع"]
[null,null,null,null,null,null,null,null,null,null,null,"SY020204","C1280","Jbul \\ الجبول",null,"C4360","SY0800011","Al Wusta \\ الوسطى"]
[null,null,null,null,null,null,null,null,null,null,null,"SY020204","C6304","Jeb Elsafa \\ جب الصفا",null,"C4360","SY0800031","Ath- Thawrah \\ الثورة"]
[null,null,null,null,null,null,null,null,null,null,null,"SY020204","C1296","Kaskis \\ كصكيص",null,"C4360","SY0800046","Baytara \\ البيطرة"]
[null,null,null,null,null,null,null,null,null,null,null,"SY020204","C1284","Mufliseh \\ المفلسة",null,"C4360","SY0800053","Feilat \\ الفيلات"]
[null,null,null,null,null,null,null,null,null,null,null,"SY020204","C1287","Rasm Elabed \\ رسم العبد",null,"C4360","SY0800044","Kalaseh \\ الكلاسة"]
[null,null,null,null,null,null,null,null,null,null,null,"SY020204","C1291","Sein \\ السين",null,"C4360","SY0800054","Khabour \\ الخابور"]
[null,null,null,null,null,null,null,null,null,null,null,"SY020204","C1278","Sheikh Ahmed \\ شيخ أحمد",null,"C4360","SY0800052","Leiliyeh \\ الليلية"]
[null,null,null,null,null,null,null,null,null,null,null,"SY020204","c1293","Tal Ahmar Elbab \\ تل احمر الباب",null,"C4360","SY0800051","Masaken \\ المساكن"]
[null,null,null,null,null,null,null,null,null,null,null,"SY020204","C1289","Tal Maksur \\ تل مكسور",null,"C4360","SY0800047","Mashtal \\ المشتل"]
[null,null,null,null,null,null,null,null,null,null,null,"SY020204","C1292","Tal Sabeen \\ تل سبعين",null,"C4360","SY0800014","Matar Janoubi \\ المطار الجنوبي"]
[null,null,null,null,null,null,null,null,null,null,null,"SY020204","C1279","Tiba Elesm \\ طيبة الاسم",null,"C4360","SY0800012","Matar Shamali \\ المطار الشمالي"]
[null,null,null,null,null,null,null,null,null,null,null,"SY020204","C1281","Um Arkileh \\ أم أركيلة",null,"C4360","SY0800045","M'eishiyeh \\ المعيشية"]
[null,null,null,null,null,null,null,null,null,null,null,"SY020204","C1298","Wadeeah \\ وديعة",null,"C4360","SY0800042","Msheirfeh \\ مشيرفة"]
[null,null,null,null,null,null,null,null,null,null,null,"SY020204","C1295","Western Kweires \\ كويرس غربي",null,"C4360","SY0800043","Qosour \\ القصور"]
[null,null,null,null,null,null,null,null,null,null,null,"SY020205","C1305","Abu Salma Jadha \\ أبو جدحة_صلمة",null,"C4360","SY0800055","Rusafa \\ الرصافة"]
[null,null,null,null,null,null,null,null,null,null,null,"SY020205","C1316","Ahmadia \\ أحمدية",null,"C4360","SY0800021","Salhiyeh \\ الصالحية"]
[null,null,null,null,null,null,null,null,null,null,null,"SY020205","C1304","Bijan Elbab \\ بيجان الباب",null,"C4360","SY0800041","Tal Hajar \\ تل حجر"]
[null,null,null,null,null,null,null,null,null,null,null,"SY020205","C1306","Jruf \\ جروف",null,"C4360","SY0800033","Taqaddom \\ التقدم"]
[null,null,null,null,null,null,null,null,null,null,null,"SY020205","C1310","Kayariyeh \\ الكيارية",null,"C4360","SY0800035","Zohour \\ الزهور"]
[null,null,null,null,null,null,null,null,null,null,null,"SY020205","C1300","Poco Abu Jadha \\ أبو جدحة صغير",null,"C5086","SY0900031","Abu Abed \\ أبو عابد"]
[null,null,null,null,null,null,null,null,null,null,null,"SY020205","C1318","Manatir Elsifer \\ مناطير الصفر",null,"C5086","SY0900021","Al Jami 'Al Kabeer wa Al Wasat \\ الجامع الكبير والوسط"]
[null,null,null,null,null,null,null,null,null,null,null,"SY020205","c1319","Mazbura \\ مزبورة",null,"C5086","SY0900022","Ali Bek wa Abd Al Aziz \\ علي بك وعبد العزيز"]
[null,null,null,null,null,null,null,null,null,null,null,"SY020205","C1320","Nasr Allah \\ نصر الله",null,"C5086","SY0900013","Ba'ajein \\ البعاجين"]
[null,null,null,null,null,null,null,null,null,null,null,"SY020205","C1321","Njara \\ نجارة",null,"C5086","SY0900033","Hameidiyyeh \\ الحميدية"]
[null,null,null,null,null,null,null,null,null,null,null,"SY020205","C1313","Rasm Abbud \\ رسم عبود",null,"C5086","SY0900041","Hettin \\ حطين"]
[null,null,null,null,null,null,null,null,null,null,null,"SY020205","C1308","Rasm Elkbar - Kherbet Zaaraya \\ رسم الكبار_خربة زعرايا",null,"C5086","SY0900042","Maysalun \\ ميسلون"]
[null,null,null,null,null,null,null,null,null,null,null,"SY020205","C1315","Rasm Elkhabbaz \\ رسم الخباز",null,"C5086","SY0900023","Othmaniyeh \\ العثمانية"]
[null,null,null,null,null,null,null,null,null,null,null,"SY020205","C1312","Rasm Elkibir - Ilkana \\ رسم الكبير_علكانة",null,"C5086","SY0900011","Qosour \\ القصور"]
[null,null,null,null,null,null,null,null,null,null,null,"SY020205","C1307","Rasm Elkrum \\ رسم الكروم",null,"C5086","SY0900012","Rashdiyeh \\ الرشدية"]
[null,null,null,null,null,null,null,null,null,null,null,"SY020205","C1314","Rasm Elsheikh \\ رسم الشيخ",null,"C5086","SY0900032","Sheikh Yasin \\ الشيخ ياسين"]
[null,null,null,null,null,null,null,null,null,null,null,"SY020205","C1309","Rasm Haram El-Imam \\ رسم الحرمل الامام",null,"C5086","SY0900014","Shuhuda \\ الشهداء"]
[null,null,null,null,null,null,null,null,null,null,null,"SY020205","C1317","Sharbaa \\ شربع",null,"C5086","SY0900043","Tishrine \\ تشرين"]
[null,null,null,null,null,null,null,null,null,null,null,"SY020205","C1303","Tabara Madi \\ تبارة ماضي",null,"C5221","SY1000031","Ghamqa \\ الغمقة"]
[null,null,null,null,null,null,null,null,null,null,null,"SY020205","C1302","Tal Elsus - Abu Sus \\ تل السوس_أبو سوس",null,"C5221","SY1000023","Hamrat \\ الحمرات"]
[null,null,null,null,null,null,null,null,null,null,null,"SY020205","C1299","Tal Hattabat Elbab \\ تل حطابات الباب",null,"C5221","SY1000021","Karama \\ الكرامة"]
[null,null,null,null,null,null,null,null,null,null,null,"SY020205","C1311","Um Elamad Rasm Elharmal \\ أم العمد رسم الحرمل",null,"C5221","SY1000042","Mahatta \\ المحطة"]
[null,null,null,null,null,null,null,null,null,null,null,"SY020205","C1301","Zaaraya \\ زعرايا",null,"C5221","SY1000012","Mala'ab \\ الملعب"]
[null,null,null,null,null,null,null,null,null,null,null,"SY020206","C1329","A'rima \\ العريمة",null,"C5221","SY1000011","Mina \\ المينا"]
[null,null,null,null,null,null,null,null,null,null,null,"SY020206","C1346","Barshaya \\ برشايا",null,"C5221","SY1000041","Rabieh \\ الرابية"]
[null,null,null,null,null,null,null,null,null,null,null,"SY020206","C1349","Gran Nabata \\ نباتة كبيرة",null,"C5221","SY1000022","Raml \\ الرمل"]
[null,null,null,null,null,null,null,null,null,null,null,"SY020206","C1339","Gran Sukariyeh \\ سكرية كبيرة",null,"C5710","SY1100064","Ad Dari'yeh \\ الدرعية"]
[null,null,null,null,null,null,null,null,null,null,null,"SY020206","C1348","Bir Tafreeah \\ تفريعة كبيرة",null,"C5710","SY1100032","Al- Thawrah \\ الثورة"]
[null,null,null,null,null,null,null,null,null,null,null,"SY020206","C1325","Hjeileh - Elbab \\ الحجلية- الباب",null,"C5710","SY1100012","Amin \\ الأمين"]
[null,null,null,null,null,null,null,null,null,null,null,"SY020206","C1323","Hota \\ حوتة",null,"C5710","SY1100044","Ammar Ibn Yaser \\ عمار بن ياسر"]
[null,null,null,null,null,null,null,null,null,null,null,"SY020206","C1331","Ilan \\ ايلان",null,"C5710","SY1100021","Andalus \\ الأندلس"]
[null,null,null,null,null,null,null,null,null,null,null,"SY020206","C1340","Jablet Elhamra \\ جبلة الحمرة",null,"C5710","SY1100034","Baas \\ البعث"]
[null,null,null,null,null,null,null,null,null,null,null,"SY020206","C1333","Jeb Eldam Elbab \\ جب الدم الباب",null,"C5710","SY1100045","Batani \\ البتاني"]
[null,null,null,null,null,null,null,null,null,null,null,"SY020206","C1337","Jeb Naassan \\ جب نعسان",null,"C5710","SY1100013","Furat \\ الفرات"]
[null,null,null,null,null,null,null,null,null,null,null,"SY020206","C1335","Jeb Sultan \\ جب سلطان",null,"C5710","SY1100061","Hettin \\ حطين"]
[null,null,null,null,null,null,null,null,null,null,null,"SY020206","C1327","Jurneyyeh \\ الجرنية",null,"C5710","SY1100053","Hisham Ibn Abd Al Malek \\ هشام بن عبد الملك"]
[null,null,null,null,null,null,null,null,null,null,null,"SY020206","C1330","Kreidiyeh \\ الكريدية",null,"C5710","SY1100023","Hurriyeh \\ الحرية"]
[null,null,null,null,null,null,null,null,null,null,null,"SY020206","C1322","Poco Sukariyeh \\ سكرية صغيرة",null,"C5710","SY1100043","Ma'amoun \\ المأمون"]
[null,null,null,null,null,null,null,null,null,null,null,"SY020206","C1347","Poco Tafreeah \\ تفريعة صغيرة",null,"C5710","SY1100042","Mahdi \\ المهدي"]
[null,null,null,null,null,null,null,null,null,null,null,"SY020206","C1350","Madiq Bu Azar \\ مضيق بو غاز",null,"C5710","SY1100041","Mansour \\ المنصور"]
[null,null,null,null,null,null,null,null,null,null,null,"SY020206","C1324","Mazrufeh \\ المزروفة",null,"C5710","SY1100011","Nahda \\ النهضة"]
[null,null,null,null,null,null,null,null,null,null,null,"SY020206","C1328","Olasha \\ أولاشة",null,"C5710","SY1100062","Qadessiyeh \\ القادسية"]
[null,null,null,null,null,null,null,null,null,null,null,"SY020206","C1326","Omyaniye - Korhyok \\ العميانة_كورهيوك",null,"C5710","SY1100051","Rafqa \\ الرافقة"]
[null,null,null,null,null,null,null,null,null,null,null,"SY020206","C1338","Oruba Bab - Árabe Wiran \\ العروبة الباب_عرب ويران",null,"C5710","SY1100052","Rashidiyeh \\ الرشيد"]
[null,null,null,null,null,null,null,null,null,null,null,"SY020206","C1343","Shdar \\ شدار",null,"C5710","SY1100031","Salhiyeh \\ الصالحية"]
[null,null,null,null,null,null,null,null,null,null,null,"SY020206","C1344","Shweiha \\ شويحة",null,"C5710","SY1100014","Tas-heeh \\ التصحيح"]
[null,null,null,null,null,null,null,null,null,null,null,"SY020206","C1332","Sunbula - Saboyran \\ السنبلة_صابويران",null,"C5710","SY1100033","Tishrine \\ تشرين"]
[null,null,null,null,null,null,null,null,null,null,null,"SY020206","C1345","Tarhin \\ ترحين",null,"C5710","SY1100022","Wihdeh \\ الوحدة"]
[null,null,null,null,null,null,null,null,null,null,null,"SY020206","C1336","Thalabiyeh - Big Jqal \\ الثعلبية_جقال كبير",null,"C5710","SY1100063","Yarmuk \\ اليرموك"]
[null,null,null,null,null,null,null,null,null,null,null,"SY020206","C1342","Um Adae Ajami \\ أم عدسةعجمي",null,"C5993","SY1200023","Abbasiyeen \\ العباسيين"]
[null,null,null,null,null,null,null,null,null,null,null,"SY020206","C1341","Um Shakif \\ أم شكيف",null,"C5993","SY1200017","Al Mantiqa Al Sina'iyeh \\ المنطقة الصناعية"]
[null,null,null,null,null,null,null,null,null,null,null,"SY020206","C1334","Wadi - Little Jqal \\ الوادي_جقال صغير",null,"C5993","SY1200042","Al- Thawrah \\ الثورة"]
[null,null,null,null,null,null,null,null,null,null,null,"SY020300","C1353","Abin - Efrin \\ ابين- عفرين",null,"C5993","SY1200026","Arbaine \\ الأربعين"]
[null,null,null,null,null,null,null,null,null,null,null,"SY020300","C1366","Afrin \\ عفرين",null,"C5993","SY1200018","Como Sadd \\ السد"]
[null,null,null,null,null,null,null,null,null,null,null,"SY020300","C1351","Bablit \\ بابليت",null,"C5993","SY1200032","Baas \\ البعث"]
[null,null,null,null,null,null,null,null,null,null,null,"SY020300","C1373","BAEE \\ باعي",null,"C5993","SY1200027","Bahar \\ البحار"]
[null,null,null,null,null,null,null,null,null,null,null,"SY020300","C1371","Baselhaya \\ باصلحايا",null,"C5993","SY1200043","Elshahid albahaca Elasad \\ الشهيد باسل الأسد"]
[null,null,null,null,null,null,null,null,null,null,null,"SY020300","c1374","Basufan \\ باصوفان",null,"C5993","SY1200015","Ghernata \\ غرناطة"]
[null,null,null,null,null,null,null,null,null,null,null,"SY020300","C1376","Basuta \\ باسوطة",null,"C5993","SY1200014","Hettin \\ حطين"]
[null,null,null,null,null,null,null,null,null,null,null,"SY020300","C1375","Brad \\ براد",null,"C5993","SY1200021","Karak \\ الكرك"]
[null,null,null,null,null,null,null,null,null,null,null,"SY020300","C1369","Bseileh \\ البصلية",null,"C5993","SY1200024","Manshiyeh \\ المنشية"]
[null,null,null,null,null,null,null,null,null,null,null,"SY020300","C1372","Bteita \\ بتيتة",null,"C5993","SY1200013","Maysalun \\ ميسلون"]
[null,null,null,null,null,null,null,null,null,null,null,"SY020300","C1377","Burj Abdallah \\ برج عبد الله",null,"C5993","SY1200031","Oumawiyeen \\ الأمويين"]
[null,null,null,null,null,null,null,null,null,null,null,"SY020300","C1354","Burj Haydar \\ برج حيدر",null,"C5993","SY1200025","Qadessiyeh \\ القادسية"]
[null,null,null,null,null,null,null,null,null,null,null,"SY020300","C1370","Ein Dara \\ عين دارة",null,"C5993","SY1200016","Quneitra \\ القنيطرة"]
[null,null,null,null,null,null,null,null,null,null,null,"SY020300","C1367","Enab \\ اناب",null,"C5993","SY1200011","Shuhada \\ الشهداء"]
[null,null,null,null,null,null,null,null,null,null,null,"SY020300","C1352","Eskan \\ اسكان",null,"C5993","SY1200041","Tishrine \\ تشرين"]
[null,null,null,null,null,null,null,null,null,null,null,"SY020300","C1383","Fafertein \\ فافرتين",null,"C5993","SY1200022","Yarmuk \\ اليرموك"]
[null,null,null,null,null,null,null,null,null,null,null,"SY020300","C1378","Ghazawiyet Afrin \\ غزاوية عفرين",null,"C5993","SY1200012","Zahraa \\ الزهراء"]
[null,null,null,null,null,null,null,null,null,null,null,"SY020300","C1362","Hawa \\ الهوى",null,"C6147","SY1300031","Al- Thawrah \\ الثورة"]
[null,null,null,null,null,null,null,null,null,null,null,"SY020300","C1360","Jalbal \\ جلبل",null,"C6147","SY1300022","Fursan \\ الفرسان"]
[null,null,null,null,null,null,null,null,null,null,null,"SY020300","C1380","Kabashin \\ كباشين",null,"C6147","SY1300012","Hurriyeh \\ الحرية"]
[null,null,null,null,null,null,null,null,null,null,null,"SY020300","C1390","Kafir \\ كفير",null,"C6147","SY1300023","Istiqlal \\ الاستقلال"]
[null,null,null,null,null,null,null,null,null,null,null,"SY020300","C1388","Kafr Batra \\ كفر بطرة",null,"C6147","SY1300032","Yihad \\ الجهاد"]
[null,null,null,null,null,null,null,null,null,null,null,"SY020300","C1389","Kafr Zeid \\ كفر زيد",null,"C6147","SY1300041","Joulan \\ الجولان"]
[null,null,null,null,null,null,null,null,null,null,null,"SY020300","C1385","Kafrshil \\ كفرشيل",null,"C6147","SY1300042","Mazra'a \\ المزرعة"]
[null,null,null,null,null,null,null,null,null,null,null,"SY020300","C1381","Kawkabeh \\ كوكبة",null,"C6147","SY1300013","Nahda \\ النهضة"]
[null,null,null,null,null,null,null,null,null,null,null,"SY020300","C1365","Khadraa \\ الخضراء",null,"C6147","SY1300021","Shuhada \\ الشهداء"]
[null,null,null,null,null,null,null,null,null,null,null,"SY020300","C1364","Khaldiyet Afrin \\ خالدية عفرين",null,"C6147","SY1300011","Wihdeh \\ الوحدة"]
[null,null,null,null,null,null,null,null,null,null,null,"SY020300","C1382","Kimar \\ كيمار"]
[null,null,null,null,null,null,null,null,null,null,null,"SY020300","C1384","Marata \\ معراتة"]
[null,null,null,null,null,null,null,null,null,null,null,"SY020300","C1386","Mreimin Afrin \\ مريمين عفرين"]
[null,null,null,null,null,null,null,null,null,null,null,"SY020300","C1368","Nireh \\ النيرة"]
[null,null,null,null,null,null,null,null,null,null,null,"SY020300","C1361","Oqayba \\ عقيبة"]
[null,null,null,null,null,null,null,null,null,null,null,"SY020300","C1387","Qarzihel \\ قرزيحل"]
[null,null,null,null,null,null,null,null,null,null,null,"SY020300","C1357","Shawarghet Elarz \\ شوارغة الأرز"]
[null,null,null,null,null,null,null,null,null,null,null,"SY020300","C1356","Shawarghet Eljoz \\ شوارغة الجوز"]
[null,null,null,null,null,null,null,null,null,null,null,"SY020300","C1359","Sheikh Eldeir \\ شيخ الدير"]
[null,null,null,null,null,null,null,null,null,null,null,"SY020300","C6333","Tal Tawil \\ تل طويل"]
[null,null,null,null,null,null,null,null,null,null,null,"SY020300","C1355","Tellef \\ تللف"]
[null,null,null,null,null,null,null,null,null,null,null,"SY020300","C1363","Tharifa \\ الظريفة"]
[null,null,null,null,null,null,null,null,null,null,null,"SY020300","C1379","Zahrat Elhayat \\ زهرةالحياة"]
[null,null,null,null,null,null,null,null,null,null,null,"SY020300","C1358","Ziyara Afrin \\ الزيارة عفرين"]
[null,null,null,null,null,null,null,null,null,null,null,"SY020301","C1397","Abel \\ أبل"]
[null,null,null,null,null,null,null,null,null,null,null,"SY020301","c1408","Ali Elatrash - Olikar \\ علي الأطرش_عليكار"]
[null,null,null,null,null,null,null,null,null,null,null,"SY020301","c1411","Ashani \\ عشاني"]
[null,null,null,null,null,null,null,null,null,null,null,"SY020301","c1407","Bali - Koy \\ بالي_كوي"]
[null,null,null,null,null,null,null,null,null,null,null,"SY020301","C1391","Bulbul \\ بلبل"]
[null,null,null,null,null,null,null,null,null,null,null,"SY020301","c1399","Deir Hasan \\ دير حسن"]
[null,null,null,null,null,null,null,null,null,null,null,"SY020301","C1398","Dik \\ الديك"]
[null,null,null,null,null,null,null,null,null,null,null,"SY020301","c1402","Hajeb - Qash Ogli \\ الحاجب_قاش أوغلي"]
[null,null,null,null,null,null,null,null,null,null,null,"SY020301","C1417","Hozan \\ هوزان"]
[null,null,null,null,null,null,null,null,null,null,null,"SY020301","C1394","Khader \\ خضر"]
[null,null,null,null,null,null,null,null,null,null,null,"SY020301","C1404","Khalil - Khleilak \\ الخليل_خليلاك"]
[null,null,null,null,null,null,null,null,null,null,null,"SY020301","C1414","Marwiyeh \\ المروية"]
[null,null,null,null,null,null,null,null,null,null,null,"SY020301","c1413","Mudallala Afrin - Kotanly Oriental \\ المدللة عفرين_كوتانلي شرقي"]
[null,null,null,null,null,null,null,null,null,null,null,"SY020301","C1393","Oba Oba Beik Basi \\ أوبة_بيك أوبه باسي"]
[null,null,null,null,null,null,null,null,null,null,null,"SY020301","C1395","Obudan \\ عبودان"]
[null,null,null,null,null,null,null,null,null,null,null,"SY020301","c1409","Okan \\ عوكان"]
[null,null,null,null,null,null,null,null,null,null,null,"SY020301","c1416","Qastal Miqdad \\ قسطل مقداد"]
[null,null,null,null,null,null,null,null,null,null,null,"SY020301","C1418","Qorna \\ قورنة"]
[null,null,null,null,null,null,null,null,null,null,null,"SY020301","C1415","Qotan \\ قوطان"]
[null,null,null,null,null,null,null,null,null,null,null,"SY020301","C1403","Ras Ahmar \\ الرأس الأحمر"]
[null,null,null,null,null,null,null,null,null,null,null,"SY020301","c1405","Sagher - Sagher Oba Si \\ صاغر_صاغر أوبه سي"]
[null,null,null,null,null,null,null,null,null,null,null,"SY020301","C1392","Samha Kilani \\ السمحة_كيلانلي"]
[null,null,null,null,null,null,null,null,null,null,null,"SY020301","C1400","Sara \\ السعرة"]
[null,null,null,null,null,null,null,null,null,null,null,"SY020301","C1396","Sharqan \\ شرقان"]
[null,null,null,null,null,null,null,null,null,null,null,"SY020301","C1410","Sheikh Khoraz \\ شيخ خورز"]
[null,null,null,null,null,null,null,null,null,null,null,"SY020301","C1412","Tafla \\ الطفلة"]
[null,null,null,null,null,null,null,null,null,null,null,"SY020301","C1401","Yabseh \\ اليابسة"]
[null,null,null,null,null,null,null,null,null,null,null,"SY020301","c1406","Za'ra \\ زعرة"]
[null,null,null,null,null,null,null,null,null,null,null,"SY020302","c1434","Bayada - Jendris \\ البياضة - جنديرس"]
[null,null,null,null,null,null,null,null,null,null,null,"SY020302","c1428","Burj Kmush \\ برج كموش"]
[null,null,null,null,null,null,null,null,null,null,null,"SY020302","c1423","Dakhm \\ الضخم"]
[null,null,null,null,null,null,null,null,null,null,null,"SY020302","c1435","Deir Ballut \\ دير بلوط"]
[null,null,null,null,null,null,null,null,null,null,null,"SY020302","c1441","Eshkan Oriental \\ اشكان شرقي"]
[null,null,null,null,null,null,null,null,null,null,null,"SY020302","c1440","Fasha \\ الفسحة"]
[null,null,null,null,null,null,null,null,null,null,null,"SY020302","C1446","Freiriyeh \\ فريرية"]
[null,null,null,null,null,null,null,null,null,null,null,"SY020302","c1420","Haj Eskandar \\ حاج اسكندر"]
[null,null,null,null,null,null,null,null,null,null,null,"SY020302","c1427","Hamam \\ الحمام"]
[null,null,null,null,null,null,null,null,null,null,null,"SY020302","c1425","Jalaq \\ جلق"]
[null,null,null,null,null,null,null,null,null,null,null,"SY020302","C1424","Jalma \\ جلمة"]
[null,null,null,null,null,null,null,null,null,null,null,"SY020302","c1426","Jandairis \\ جنديرس"]
[null,null,null,null,null,null,null,null,null,null,null,"SY020302","c1421","Jum Afrin \\ جوم عفرين"]
[null,null,null,null,null,null,null,null,null,null,null,"SY020302","C1449","Kafr Safra \\ كفر صفرة"]
[null,null,null,null,null,null,null,null,null,null,null,"SY020302","c1432","Kharzan \\ خرزان"]
[null,null,null,null,null,null,null,null,null,null,null,"SY020302","C1447","Koran Jandris \\ كوران جنديرس"]
[null,null,null,null,null,null,null,null,null,null,null,"SY020302","c1445","Kordan \\ كوردان"]
[null,null,null,null,null,null,null,null,null,null,null,"SY020302","C1448","Bajo Kafardali \\ كفردلي تحتاني"]
[null,null,null,null,null,null,null,null,null,null,null,"SY020302","c1439","Nisriyeh \\ النسرية"]
[null,null,null,null,null,null,null,null,null,null,null,"SY020302","C1422","Ramadiyeh \\ رمادية"]
[null,null,null,null,null,null,null,null,null,null,null,"SY020302","c1429","Ras Elosud - Qarablish \\ راس الأسود_قراباش"]
[null,null,null,null,null,null,null,null,null,null,null,"SY020302","c1419","Sheikh Abel Rahman \\ شيخ عبد الرحمن"]
[null,null,null,null,null,null,null,null,null,null,null,"SY020302","c1430","Tal Hamo \\ تل حمو"]
[null,null,null,null,null,null,null,null,null,null,null,"SY020302","c1433","Tal Slur \\ تل سلور"]
[null,null,null,null,null,null,null,null,null,null,null,"SY020302","c1431","Alta Diwan \\ ديوان فوقاني"]
[null,null,null,null,null,null,null,null,null,null,null,"SY020302","c1442","Alta Kafardali \\ كفردلي فوقاني"]
[null,null,null,null,null,null,null,null,null,null,null,"SY020302","c1443","Alta Marwana \\ مروانة فوقاني"]
[null,null,null,null,null,null,null,null,null,null,null,"SY020302","c1444","Alta Maskeh \\ مسكة فوقاني"]
[null,null,null,null,null,null,null,null,null,null,null,"SY020302","c1437","Western Eshkab \\ اشكان غربي"]
[null,null,null,null,null,null,null,null,null,null,null,"SY020302","c1436","Western Khaltan \\ خلطان غربي"]
[null,null,null,null,null,null,null,null,null,null,null,"SY020302","c1438","Zanda \\ زندة"]
[null,null,null,null,null,null,null,null,null,null,null,"SY020303","C1458","Aaliaa - Ali Baski \\ العلياء_علي بسكي"]
[null,null,null,null,null,null,null,null,null,null,null,"SY020303","C1479","Ada \\ ادة"]
[null,null,null,null,null,null,null,null,null,null,null,"SY020303","c1467","Almadar \\ علمدار"]
[null,null,null,null,null,null,null,null,null,null,null,"SY020303","C1481","Atman \\ عطمان"]
[null,null,null,null,null,null,null,null,null,null,null,"SY020303","C1465","BARBAND \\ بربند"]
[null,null,null,null,null,null,null,null,null,null,null,"SY020303","c1459","Batra \\ البتراء"]
[null,null,null,null,null,null,null,null,null,null,null,"SY020303","C1473","Beit Adin \\ بيت عدين"]
[null,null,null,null,null,null,null,null,null,null,null,"SY020303","C1478","Gran Siwan \\ الصوان الكبير"]
[null,null,null,null,null,null,null,null,null,null,null,"SY020303","c1468","Bilaliyeh - Blaliko \\ بلالية_بلاليكو"]
[null,null,null,null,null,null,null,null,null,null,null,"SY020303","C1471","Birein - Jtal Qoyo \\ البئرين_جتال قويو"]
[null,null,null,null,null,null,null,null,null,null,null,"SY020303","C1456","Darwishiyeh \\ الدرويشية"]
[null,null,null,null,null,null,null,null,null,null,null,"SY020303","C1454","Dawdaw \\ ضوضو"]
[null,null,null,null,null,null,null,null,null,null,null,"SY020303","C1451","Ghizlan - Jilani \\ الغزلان_جيلاني"]
[null,null,null,null,null,null,null,null,null,null,null,"SY020303","C1455","Haj Khalil \\ حاج خليل"]
[null,null,null,null,null,null,null,null,null,null,null,"SY020303","C1463","Hajman \\ حجمان"]
[null,null,null,null,null,null,null,null,null,null,null,"SY020303","C1489","Halil - Holilo \\ هليل_هوليلو"]
[null,null,null,null,null,null,null,null,null,null,null,"SY020303","C1452","Hamshu - Hamashtlak \\ حمشو_حمشتلك"]
[null,null,null,null,null,null,null,null,null,null,null,"SY020303","C1485","Hjeij - Haji Kanli \\ الحجيج_حجي كانلي"]
[null,null,null,null,null,null,null,null,null,null,null,"SY020303","C1475","Jablieh - Tag Obeh Si \\ الجبلية_طاغ أوبه سي"]
[null,null,null,null,null,null,null,null,null,null,null,"SY020303","c1477","Jalqama \\ جلقمة"]
[null,null,null,null,null,null,null,null,null,null,null,"SY020303","C1476","Janjaleh \\ جنجلة"]
[null,null,null,null,null,null,null,null,null,null,null,"SY020303","C1492","Koran Afrin \\ كوران عفرين"]
[null,null,null,null,null,null,null,null,null,null,null,"SY020303","C1490","Kusan \\ كوسان"]
[null,null,null,null,null,null,null,null,null,null,null,"SY020303","C1470","Poco Siwan - Little Jaqmaq \\ الصوان الصغير_جقمق صغير"]
[null,null,null,null,null,null,null,null,null,null,null,"SY020303","C1474","Bajo Dhak - Kolyan \\ الضحاك التحتاني_كوليان"]
[null,null,null,null,null,null,null,null,null,null,null,"SY020303","C1457","Maamel - Oshagi \\ المعامل_أوشاغي"]
[null,null,null,null,null,null,null,null,null,null,null,"SY020303","C1491","Masikan \\ ماسيكان"]
[null,null,null,null,null,null,null,null,null,null,null,"SY020303","C1488","Meidan Ekbis \\ ميدان أكبس"]
[null,null,null,null,null,null,null,null,null,null,null,"SY020303","C1460","Murtafiah \\ المرتفعة_قودة كوي"]
[null,null,null,null,null,null,null,null,null,null,null,"SY020303","C1487","Musiyeh - Oba Si \\ موسيه_أوبه سي"]
[null,null,null,null,null,null,null,null,null,null,null,"SY020303","C1461","Omar - Omar Oshaghi \\ عمر_عمر أوشاغي"]
[null,null,null,null,null,null,null,null,null,null,null,"SY020303","C1486","Omsiya - Donbaly \\ الأمسية_دونبللي"]
[null,null,null,null,null,null,null,null,null,null,null,"SY020303","C1480","Qalam - Bandrak \\ القلم_بندرك"]
[null,null,null,null,null,null,null,null,null,null,null,"SY020303","C1462","Raee - Jobanli \\ الراعي_جوبانلي"]
[null,null,null,null,null,null,null,null,null,null,null,"SY020303","C1484","Raju \\ راجو"]
[null,null,null,null,null,null,null,null,null,null,null,"SY020303","c1482","Shankal \\ شنكل"]
[null,null,null,null,null,null,null,null,null,null,null,"SY020303","C1453","Sheikh Mohammed \\ شيخ محمد"]
[null,null,null,null,null,null,null,null,null,null,null,"SY020303","C1450","Shyukh - Sheikh Oba Si \\ الشيوخ_شيخ أوبه سي"]
[null,null,null,null,null,null,null,null,null,null,null,"SY020303","C1483","Talleh - Zarkani \\ الطلة_زركانلي"]
[null,null,null,null,null,null,null,null,null,null,null,"SY020303","C1464","Taqiyeh - Kamrash \\ الطاقية_كمرش"]
[null,null,null,null,null,null,null,null,null,null,null,"SY020303","C1472","Thadi - Mamali \\ الثدي_مامالي"]
[null,null,null,null,null,null,null,null,null,null,null,"SY020303","c1469","Tholathiyeh \\ الثلاثية"]
[null,null,null,null,null,null,null,null,null,null,null,"SY020303","c1466","Alta Dhak - Alta Kolyan \\ الضحاك فوقاني_كوليان فوقاني"]
[null,null,null,null,null,null,null,null,null,null,null,"SY020304","C1512","Ali Bazan \\ علي بازان"]
[null,null,null,null,null,null,null,null,null,null,null,"SY020304","C1511","Amud \\ العمود"]
[null,null,null,null,null,null,null,null,null,null,null,"SY020304","C1507","Bafelyun \\ بافليون"]
[null,null,null,null,null,null,null,null,null,null,null,"SY020304","C1503","Bayaa \\ البياعة"]
[null,null,null,null,null,null,null,null,null,null,null,"SY020304","C1496","Gran Bostan \\ البستان الكبير"]
[null,null,null,null,null,null,null,null,null,null,null,"SY020304","C1513","Gran Dib \\ الديب الكبير"]
[null,null,null,null,null,null,null,null,null,null,null,"SY020304","C1504","Gran Hallubi \\ حلوبي كبير"]
[null,null,null,null,null,null,null,null,null,null,null,"SY020304","C1495","Dama - Ayki presa \\ دامة_أيكي دام"]
[null,null,null,null,null,null,null,null,null,null,null,"SY020304","C1494","Deir Siwan \\ ديرصوان"]
[null,null,null,null,null,null,null,null,null,null,null,"SY020304","C1515","Doha \\ الضحى"]
[null,null,null,null,null,null,null,null,null,null,null,"SY020304","C1506","Doraq \\ دوراقا"]
[null,null,null,null,null,null,null,null,null,null,null,"SY020304","C1493","Jiman \\ جمان"]
[null,null,null,null,null,null,null,null,null,null,null,"SY020304","c1518","Kafr Janna \\ كفر جنة"]
[null,null,null,null,null,null,null,null,null,null,null,"SY020304","c1522","Kafroum \\ كفرروم"]
[null,null,null,null,null,null,null,null,null,null,null,"SY020304","C1516","Poco Dib \\ الديب الصغير"]
[null,null,null,null,null,null,null,null,null,null,null,"SY020304","C1501","Poco Hallubi \\ حلوبي صغير"]
[null,null,null,null,null,null,null,null,null,null,null,"SY020304","c1523","Marsawa \\ مرساوا"]
[null,null,null,null,null,null,null,null,null,null,null,"SY020304","c1520","Mashaala \\ مشعلة"]
[null,null,null,null,null,null,null,null,null,null,null,"SY020304","C1505","Maydan Afrin \\ الميدان عفرين"]
[null,null,null,null,null,null,null,null,null,null,null,"SY020304","C1502","Mhabbaba - Naz Oshaghi \\ المحببة_ناز أوشاغي"]
[null,null,null,null,null,null,null,null,null,null,null,"SY020304","C1510","Omariyeh Afrin \\ العمرية عفرين"]
[null,null,null,null,null,null,null,null,null,null,null,"SY020304","C1509","Qarra \\ القارة"]
[null,null,null,null,null,null,null,null,null,null,null,"SY020304","C1514","Qastal \\ القسطل"]
[null,null,null,null,null,null,null,null,null,null,null,"SY020304","C1521","Qastal Jend \\ قسطل جند"]
[null,null,null,null,null,null,null,null,null,null,null,"SY020304","C1519","Qatireh \\ قطيرة"]
[null,null,null,null,null,null,null,null,null,null,null,"SY020304","c1524","Qatmet Efrin \\ قاطمة عفرين"]
[null,null,null,null,null,null,null,null,null,null,null,"SY020304","C1508","Ser - Sarnjak \\ السعر_سعرنجاك"]
[null,null,null,null,null,null,null,null,null,null,null,"SY020304","C1497","Sharan \\ شران"]
[null,null,null,null,null,null,null,null,null,null,null,"SY020304","C1517","Sim Omariyeh \\ السيم_العمرية"]
[null,null,null,null,null,null,null,null,null,null,null,"SY020304","C1498","Tal Elosud \\ تل الاسود"]
[null,null,null,null,null,null,null,null,null,null,null,"SY020304","C1500","Yiji \\ اليجي"]
[null,null,null,null,null,null,null,null,null,null,null,"SY020304","C1499","Zaytuneh \\ زيتونة"]
[null,null,null,null,null,null,null,null,null,null,null,"SY020305","C1528","Anqala \\ انقلة"]
[null,null,null,null,null,null,null,null,null,null,null,"SY020305","C1531","Darmash - Darmashkanli \\ درمش_درمشكانلي"]
[null,null,null,null,null,null,null,null,null,null,null,"SY020305","c1527","Khazafiyeh - Qorret Matlaq \\ خزفية_قرة متلق"]
[null,null,null,null,null,null,null,null,null,null,null,"SY020305","C1533","Maghar - Maghar JEQ \\ مغار_مغار جق"]
[null,null,null,null,null,null,null,null,null,null,null,"SY020305","C1530","Mazineh - Aranda \\ المزينة_أرندة"]
[null,null,null,null,null,null,null,null,null,null,null,"SY020305","c1534","Mostakan \\ مستكان"]
[null,null,null,null,null,null,null,null,null,null,null,"SY020305","c1525","Sheikh El-Hadid \\ شيخ الحديد"]
[null,null,null,null,null,null,null,null,null,null,null,"SY020305","c1529","Sinnara \\ سنارة"]
[null,null,null,null,null,null,null,null,null,null,null,"SY020305","c1526","Tal Elthaaleb - Sheikh Jqali \\ تل الثعالب_شيخ جقاللي"]
[null,null,null,null,null,null,null,null,null,null,null,"SY020305","C1532","Wadi Elthaalab - Bajo Jqal \\ وادي الثعالب_جقال تحتاني"]
[null,null,null,null,null,null,null,null,null,null,null,"SY020306","c1547","ABRAz \\ أبرز"]
[null,null,null,null,null,null,null,null,null,null,null,"SY020306","C1543","Amiriya - Meirkan \\ الأميرية_ميركان"]
[null,null,null,null,null,null,null,null,null,null,null,"SY020306","C1549","Anbar \\ أنبار"]
[null,null,null,null,null,null,null,null,null,null,null,"SY020306","c1537","Ashur \\ عاشور"]
[null,null,null,null,null,null,null,null,null,null,null,"SY020306","C1548","Awlad el Arab - Oshagi Árabe \\ أولاد العرب_عرب أوشاغي"]
[null,null,null,null,null,null,null,null,null,null,null,"SY020306","c1535","Bermaja \\ برماجة"]
[null,null,null,null,null,null,null,null,null,null,null,"SY020306","C1542","Gran Dar \\ دار كبير"]
[null,null,null,null,null,null,null,null,null,null,null,"SY020306","C1541","Haj Qassem \\ حاج قاسم"]
[null,null,null,null,null,null,null,null,null,null,null,"SY020306","c1538","Hamu Raju \\ حمو راجو"]
[null,null,null,null,null,null,null,null,null,null,null,"SY020306","C1551","Jazruniyeh \\ الجزرونية"]
[null,null,null,null,null,null,null,null,null,null,null,"SY020306","C1544","Jomrokiyeh \\ الجمركية"]
[null,null,null,null,null,null,null,null,null,null,null,"SY020306","C1546","Maasara - Maasaret Jaq \\ المعصرة_معصرةجق"]
[null,null,null,null,null,null,null,null,null,null,null,"SY020306","c1552","Ma'btali \\ المعبطلي"]
[null,null,null,null,null,null,null,null,null,null,null,"SY020306","C1553","Mazuleh - Rotanli \\ المعزولة_روطانلي"]
[null,null,null,null,null,null,null,null,null,null,null,"SY020306","C1554","Sheikh Aqraa - Kilo \\ الشيخ الأقرع_كيلو"]
[null,null,null,null,null,null,null,null,null,null,null,"SY020306","C1540","Sherkan - Sherkanli \\ شيركان_شيركانلي"]
[null,null,null,null,null,null,null,null,null,null,null,"SY020306","C1539","Shorba \\ الشوربة"]
[null,null,null,null,null,null,null,null,null,null,null,"SY020306","C1550","Smal \\ السمال"]
[null,null,null,null,null,null,null,null,null,null,null,"SY020306","C1536","Surra - Kobak \\ الصرة_كوباك"]
[null,null,null,null,null,null,null,null,null,null,null,"SY020306","c1555","Yakhur - Ayki Yakhur \\ ياخور_أيكي أخور"]
[null,null,null,null,null,null,null,null,null,null,null,"SY020306","C1545","Yatimeh - Oksozli \\ اليتيمة_أوكسوزلي"]
[null,null,null,null,null,null,null,null,null,null,null,"SY020400","C1563","Al-Malikeyyeh \\ المالكية"]
[null,null,null,null,null,null,null,null,null,null,null,"SY020400","C1564","Azaz \\ أعزاز"]
[null,null,null,null,null,null,null,null,null,null,null,"SY020400","C1560","Ferziyeh \\ الفيرزية"]
[null,null,null,null,null,null,null,null,null,null,null,"SY020400","C1562","Jarez \\ جارز"]
[null,null,null,null,null,null,null,null,null,null,null,"SY020400","C1568","Kafr Kalbein \\ كفر كلبين"]
[null,null,null,null,null,null,null,null,null,null,null,"SY020400","C1567","Kafr Khasher \\ كفر خاشر"]
[null,null,null,null,null,null,null,null,null,null,null,"SY020400","c1575","Kaljibrin \\ كلجبرين"]
[null,null,null,null,null,null,null,null,null,null,null,"SY020400","C1565","Krum \\ الكروم"]
[null,null,null,null,null,null,null,null,null,null,null,"SY020400","C1574","Maarin \\ معرين"]
[null,null,null,null,null,null,null,null,null,null,null,"SY020400","C1569","Manaq \\ منق"]
[null,null,null,null,null,null,null,null,null,null,null,"SY020400","c1570","Maraanaz \\ مرعناز"]
[null,null,null,null,null,null,null,null,null,null,null,"SY020400","C1573","Nayara \\ نيارة"]
[null,null,null,null,null,null,null,null,null,null,null,"SY020400","C1572","Niddeh \\ ندة"]
[null,null,null,null,null,null,null,null,null,null,null,"SY020400","C1561","Salama \\ السلامة"]
[null,null,null,null,null,null,null,null,null,null,null,"SY020400","C1566","Shamarin \\ شمارين"]
[null,null,null,null,null,null,null,null,null,null,null,"SY020400","C1557","Shmarekh \\ شمارخ"]
[null,null,null,null,null,null,null,null,null,null,null,"SY020400","C1556","Sijraz \\ سيجراز"]
[null,null,null,null,null,null,null,null,null,null,null,"SY020400","c1559","Talil Elsham \\ تليل الشام"]
[null,null,null,null,null,null,null,null,null,null,null,"SY020400","C1558","Tatiyeh \\ طاطية"]
[null,null,null,null,null,null,null,null,null,null,null,"SY020400","C1571","Yahmul \\ يحمول"]
[null,null,null,null,null,null,null,null,null,null,null,"SY020401","C1584","Abla \\ عبلة"]
[null,null,null,null,null,null,null,null,null,null,null,"SY020401","C1581","Akhtrein \\ أخترين"]
[null,null,null,null,null,null,null,null,null,null,null,"SY020401","C6334","Arshaf \\ ارشاف"]
[null,null,null,null,null,null,null,null,null,null,null,"SY020401","C1578","Aziziyeh \\ العزيزية"]
[null,null,null,null,null,null,null,null,null,null,null,"SY020401","C1582","Baruz \\ باروزة"]
[null,null,null,null,null,null,null,null,null,null,null,"SY020401","C1580","Bayada - Aq Burhan \\ البياضية_آق برهان"]
[null,null,null,null,null,null,null,null,null,null,null,"SY020401","C1593","Bgheidine \\ بغيدين"]
[null,null,null,null,null,null,null,null,null,null,null,"SY020401","C1577","Bhorta \\ بحورته"]
[null,null,null,null,null,null,null,null,null,null,null,"SY020401","C1583","Bleikha \\ بليخة"]
[null,null,null,null,null,null,null,null,null,null,null,"SY020401","c1597","Dabeq \\ دابق"]
[null,null,null,null,null,null,null,null,null,null,null,"SY020401","C1591","Dweidan \\ دوديان"]
[null,null,null,null,null,null,null,null,null,null,null,"SY020401","C1586","Dweir elhawa \\ دوير الهوا"]
[null,null,null,null,null,null,null,null,null,null,null,"SY020401","C1594","Tal oriente Aar \\ تل عار شرقية"]
[null,null,null,null,null,null,null,null,null,null,null,"SY020401","C1601","Tal oriente Battal \\ تل بطال شرقي"]
[null,null,null,null,null,null,null,null,null,null,null,"SY020401","C1604","Ein Elosud \\ عين الاسود"]
[null,null,null,null,null,null,null,null,null,null,null,"SY020401","C1598","Eskar \\ اكسار"]
[null,null,null,null,null,null,null,null,null,null,null,"SY020401","c1614","Ghaytun \\ غيطون"]
[null,null,null,null,null,null,null,null,null,null,null,"SY020401","C1608","Gheilaniyeh \\ الغيلانية"]
[null,null,null,null,null,null,null,null,null,null,null,"SY020401","C1603","Ghorur \\ غرور"]
[null,null,null,null,null,null,null,null,null,null,null,"SY020401","C1607","Ghoz \\ الغوز"]
[null,null,null,null,null,null,null,null,null,null,null,"SY020401","C1585","Hardana \\ الحردانة"]
[null,null,null,null,null,null,null,null,null,null,null,"SY020401","C1600","Jakkeh \\ جكة"]
[null,null,null,null,null,null,null,null,null,null,null,"SY020401","c1609","Kaeebeh \\ كعيبة"]
[null,null,null,null,null,null,null,null,null,null,null,"SY020401","c1610","Kardish \\ كدريش"]
[null,null,null,null,null,null,null,null,null,null,null,"SY020401","C1576","Khalfatli \\ خلفتلي"]
[null,null,null,null,null,null,null,null,null,null,null,"SY020401","C1599","Masudiyeh \\ المسعودية"]
[null,null,null,null,null,null,null,null,null,null,null,"SY020401","C1587","Oweilin \\ عويلين"]
[null,null,null,null,null,null,null,null,null,null,null,"SY020401","c1616","Qaar Kalbein \\ قعر كلبين"]
[null,null,null,null,null,null,null,null,null,null,null,"SY020401","C1611","Qabtan \\ قبتان"]
[null,null,null,null,null,null,null,null,null,null,null,"SY020401","c1613","Qazam - Qesset Jak \\ قزم_قصه جك"]
[null,null,null,null,null,null,null,null,null,null,null,"SY020401","c1612","Qorra Mazraa \\ قره مزرعة"]
[null,null,null,null,null,null,null,null,null,null,null,"SY020401","C1596","Samuqet Aazaz \\ سموقة اعزاز"]
[null,null,null,null,null,null,null,null,null,null,null,"SY020401","C1588","Sandara \\ صندرة"]
[null,null,null,null,null,null,null,null,null,null,null,"SY020401","C1590","Taanah \\ طعانة"]
[null,null,null,null,null,null,null,null,null,null,null,"SY020401","C1592","Tal Sheer Aazaz \\ تل شعير اعزاز"]
[null,null,null,null,null,null,null,null,null,null,null,"SY020401","C1602","Tat Homs \\ طاط حمس"]
[null,null,null,null,null,null,null,null,null,null,null,"SY020401","C1606","Teltana \\ تلتانة"]
[null,null,null,null,null,null,null,null,null,null,null,"SY020401","C1605","Turkman Bareh \\ تركمان بارح"]
[null,null,null,null,null,null,null,null,null,null,null,"SY020401","C1589","Tweis \\ طويس"]
[null,null,null,null,null,null,null,null,null,null,null,"SY020401","c1615","Lavar \\ واش"]
[null,null,null,null,null,null,null,null,null,null,null,"SY020401","C1595","Tal occidental Aar \\ تل عار غربية"]
[null,null,null,null,null,null,null,null,null,null,null,"SY020401","C1579","Zayadiyeh \\ زيادية"]
[null,null,null,null,null,null,null,null,null,null,null,"SY020402","c1623","Ahras \\ احرص"]
[null,null,null,null,null,null,null,null,null,null,null,"SY020402","c1620","Deir Jmal \\ دير جمال"]
[null,null,null,null,null,null,null,null,null,null,null,"SY020402","c1628","Kafr Naseh Tal Refaat \\ كفر ناصح تل رفعت"]
[null,null,null,null,null,null,null,null,null,null,null,"SY020402","c1626","Kafrnaya \\ كفرنايا"]
[null,null,null,null,null,null,null,null,null,null,null,"SY020402","c1625","Kashtaar \\ كشتعار"]
[null,null,null,null,null,null,null,null,null,null,null,"SY020402","c1627","Masqan \\ مسقان"]
[null,null,null,null,null,null,null,null,null,null,null,"SY020402","c1624","Sheikh Issa \\ الشيخ عيسى"]
[null,null,null,null,null,null,null,null,null,null,null,"SY020402","c1617","Tal Jbine \\ تل جبين"]
[null,null,null,null,null,null,null,null,null,null,null,"SY020402","c1621","Tall Refaat \\ تل رفعت"]
[null,null,null,null,null,null,null,null,null,null,null,"SY020402","c1619","Tanab \\ تنب"]
[null,null,null,null,null,null,null,null,null,null,null,"SY020402","c1622","Tatemrash \\ طاطمراش"]
[null,null,null,null,null,null,null,null,null,null,null,"SY020402","c1618","Tellejar \\ تلعجار"]
[null,null,null,null,null,null,null,null,null,null,null,"SY020403","c1633","Alsayed Ali \\ السيد علي"]
[null,null,null,null,null,null,null,null,null,null,null,"SY020403","c1629","Asanbal \\ اسنبل"]
[null,null,null,null,null,null,null,null,null,null,null,"SY020403","c1640","Fafin \\ فافين"]
[null,null,null,null,null,null,null,null,null,null,null,"SY020403","c1631","Harbal \\ حربل"]
[null,null,null,null,null,null,null,null,null,null,null,"SY020403","c1637","Hissiyeh \\ الحصية"]
[null,null,null,null,null,null,null,null,null,null,null,"SY020403","c1636","Hiwar Elnahr \\ حوار النهر"]
[null,null,null,null,null,null,null,null,null,null,null,"SY020403","c1634","Hosniyeh - Hsajek \\ الحسنية_حساجك"]
[null,null,null,null,null,null,null,null,null,null,null,"SY020403","c1642","Kafr Elward \\ كفر الورد"]
[null,null,null,null,null,null,null,null,null,null,null,"SY020403","c1641","Maratet Um Hosh \\ معراتة أم حوش"]
[null,null,null,null,null,null,null,null,null,null,null,"SY020403","c1643","Mare '\\ مارع"]
[null,null,null,null,null,null,null,null,null,null,null,"SY020403","c1639","Qaramel \\ قرامل"]
[null,null,null,null,null,null,null,null,null,null,null,"SY020403","c1630","Saed - Qlsroj \\ الساعد_قولسروج"]
[null,null,null,null,null,null,null,null,null,null,null,"SY020403","c1635","Tal Madeeq \\ تل مضيق"]
[null,null,null,null,null,null,null,null,null,null,null,"SY020403","c1638","Telqraq \\ تلقراح"]
[null,null,null,null,null,null,null,null,null,null,null,"SY020403","c1632","Tlaline \\ تلالين"]
[null,null,null,null,null,null,null,null,null,null,null,"SY020403","c1644","Wahshiyeh \\ وحشية"]
[null,null,null,null,null,null,null,null,null,null,null,"SY020404","C1650","Bashmra \\ باشمرة"]
[null,null,null,null,null,null,null,null,null,null,null,"SY020404","c1645","Gran Zawraq \\ زوق الكبير"]
[null,null,null,null,null,null,null,null,null,null,null,"SY020404","c1648","Burj Elqas \\ برج القاص"]
[null,null,null,null,null,null,null,null,null,null,null,"SY020404","c1649","Byanun \\ بيانون"]
[null,null,null,null,null,null,null,null,null,null,null,"SY020404","c1647","Hardatnin \\ حردتنين"]
[null,null,null,null,null,null,null,null,null,null,null,"SY020404","c1652","Kafin \\ كفين"]
[null,null,null,null,null,null,null,null,null,null,null,"SY020404","c1653","Maarset Elkhan \\ معرسة الخان"]
[null,null,null,null,null,null,null,null,null,null,null,"SY020404","c1654","Mayasa \\ مياسة"]
[null,null,null,null,null,null,null,null,null,null,null,"SY020404","c1656","Mayer \\ ماير"]
[null,null,null,null,null,null,null,null,null,null,null,"SY020404","c1655","Nabul \\ نبل"]
[null,null,null,null,null,null,null,null,null,null,null,"SY020404","c1651","Retyan \\ رتيان"]
[null,null,null,null,null,null,null,null,null,null,null,"SY020404","c1646","Zahraa \\ الزهراء"]
[null,null,null,null,null,null,null,null,null,null,null,"SY020405","c1669","Albil \\ البل"]
[null,null,null,null,null,null,null,null,null,null,null,"SY020405","c1663","Baraghideh \\ براغيدة"]
[null,null,null,null,null,null,null,null,null,null,null,"SY020405","c1659","Dweibeq \\ دويبق"]
[null,null,null,null,null,null,null,null,null,null,null,"SY020405","c1667","Ehteimlat \\ احتيملات"]
[null,null,null,null,null,null,null,null,null,null,null,"SY020405","c1661","Hiwar Kalas \\ حوار كلس"]
[null,null,null,null,null,null,null,null,null,null,null,"SY020405","c1662","Jdideh \\ الجديدة"]
[null,null,null,null,null,null,null,null,null,null,null,"SY020405","c1671","Kafr Barja \\ كفر بارجة"]
[null,null,null,null,null,null,null,null,null,null,null,"SY020405","c1672","Kafra \\ كفرة"]
[null,null,null,null,null,null,null,null,null,null,null,"SY020405","c1673","Kafrshush \\ كفرشوش"]
[null,null,null,null,null,null,null,null,null,null,null,"SY020405","c1670","Mreigel \\ مريغل"]
[null,null,null,null,null,null,null,null,null,null,null,"SY020405","c1668","Odaya \\ العدية"]
[null,null,null,null,null,null,null,null,null,null,null,"SY020405","c1665","Rael \\ راعل"]
[null,null,null,null,null,null,null,null,null,null,null,"SY020405","c1660","Shweirin \\ شويرين"]
[null,null,null,null,null,null,null,null,null,null,null,"SY020405","c1664","Suran \\ صوران"]
[null,null,null,null,null,null,null,null,null,null,null,"SY020405","C1666","Thaheriya Azaz \\ الظاهرية أعزاز"]
[null,null,null,null,null,null,null,null,null,null,null,"SY020405","c1657","Yarobiyeh \\ اليعربية"]
[null,null,null,null,null,null,null,null,null,null,null,"SY020405","c1658","Zayzafun - Ekdeh \\ الزيزفون_إيكدة"]
[null,null,null,null,null,null,null,null,null,null,null,"SY020500","C1713","Abu Jrin Manbaj \\ أبو جرين منبج"]
[null,null,null,null,null,null,null,null,null,null,null,"SY020500","C1757","Abu Kahf \\ أبو كهف"]
[null,null,null,null,null,null,null,null,null,null,null,"SY020500","C1740","Abu Mandil \\ ابو منديل"]
[null,null,null,null,null,null,null,null,null,null,null,"SY020500","C1751","Abu Tawil \\ أبو طويل"]
[null,null,null,null,null,null,null,null,null,null,null,"SY020500","c1693","Amudiyeh \\ عامودية"]
[null,null,null,null,null,null,null,null,null,null,null,"SY020500","c1699","Anzawiyeh Manbaj \\ عنزاوية منبج"]
[null,null,null,null,null,null,null,null,null,null,null,"SY020500","C1758","Arnabiet Doshan \\ ارنبية_دوشان"]
[null,null,null,null,null,null,null,null,null,null,null,"SY020500","C1678","Asaliyeh \\ عسلية"]
[null,null,null,null,null,null,null,null,null,null,null,"SY020500","C1759","Gran Abu Jadha \\ أبو جدحة كبير"]
[null,null,null,null,null,null,null,null,null,null,null,"SY020500","C1683","Gran Árabe Hasan \\ عرب حسن كبير"]
[null,null,null,null,null,null,null,null,null,null,null,"SY020500","C1731","Gran Hayyeh \\ حية كبيرة"]
[null,null,null,null,null,null,null,null,null,null,null,"SY020500","c1706","Gran Jeb Elkalb \\ جب الكلب كبير"]
[null,null,null,null,null,null,null,null,null,null,null,"SY020500","C1756","Gran Jern \\ جرن كبير"]
[null,null,null,null,null,null,null,null,null,null,null,"SY020500","C1783","Gran Kaber - Big Kaberjeh \\ كابر كبير_كابرجة كبيرة"]
[null,null,null,null,null,null,null,null,null,null,null,"SY020500","C1754","Gran Kharufiyeh \\ خاروفية كبيرة"]
[null,null,null,null,null,null,null,null,null,null,null,"SY020500","C1781","Gran Madneh \\ مدنة كبيرة"]
[null,null,null,null,null,null,null,null,null,null,null,"SY020500","C1792","Gran Maqtaa Elhajar \\ مقطع حجر كبير"]
[null,null,null,null,null,null,null,null,null,null,null,"SY020500","C1782","Gran Mohtaraq \\ محترق كبير"]
[null,null,null,null,null,null,null,null,null,null,null,"SY020500","c1687","Gran Osajli \\ عوسجلي كبير"]
[null,null,null,null,null,null,null,null,null,null,null,"SY020500","C1749","Gran Tahna \\ طحنة كبيرة"]
[null,null,null,null,null,null,null,null,null,null,null,"SY020500","C1714","Bir Kello \\ بئر خللو"]
[null,null,null,null,null,null,null,null,null,null,null,"SY020500","C1779","Bir Quraa \\ قرعة كبيرة"]
[null,null,null,null,null,null,null,null,null,null,null,"SY020500","c1692","Biret Manbaj \\ البيرة منبج"]
[null,null,null,null,null,null,null,null,null,null,null,"SY020500","C1707","Boyer \\ بوير"]
[null,null,null,null,null,null,null,null,null,null,null,"SY020500","c1677","Btoshiyet Manbaj \\ بطوشية منبج"]
[null,null,null,null,null,null,null,null,null,null,null,"SY020500","C1717","Dadat \\ دادات"]
[null,null,null,null,null,null,null,null,null,null,null,"SY020500","c1688","Dandaniya \\ دندنية"]
[null,null,null,null,null,null,null,null,null,null,null,"SY020500","C1729","Ein Elnakhil \\ عين النخيل"]
[null,null,null,null,null,null,null,null,null,null,null,"SY020500","c1679","Farat \\ الفارات"]
[null,null,null,null,null,null,null,null,null,null,null,"SY020500","C1755","Hajar Abyad \\ الحجر الأبيض"]
[null,null,null,null,null,null,null,null,null,null,null,"SY020500","C1728","Halisiyeh \\ حليسية"]
[null,null,null,null,null,null,null,null,null,null,null,"SY020500","c1712","Hamduniyeh \\ الحمدونية"]
[null,null,null,null,null,null,null,null,null,null,null,"SY020500","C1727","Hamran \\ الحمران"]
[null,null,null,null,null,null,null,null,null,null,null,"SY020500","C1725","Himar Jis \\ حيمر جيس"]
[null,null,null,null,null,null,null,null,null,null,null,"SY020500","C1764","Hudhud \\ هدهد"]
[null,null,null,null,null,null,null,null,null,null,null,"SY020500","C1702","Jamusiyeh \\ جاموسية"]
[null,null,null,null,null,null,null,null,null,null,null,"SY020500","C1745","Janat Abu Jadha Jarkas \\ جناة ابو جدحةجركس"]
[null,null,null,null,null,null,null,null,null,null,null,"SY020500","C1744","Janat Saleh Eltayyeb \\ جناة صالح الطيب"]
[null,null,null,null,null,null,null,null,null,null,null,"SY020500","c1701","Jeb Abyad \\ جب ابيض"]
[null,null,null,null,null,null,null,null,null,null,null,"SY020500","C1722","Jeb Elarus \\ جب العروس"]
[null,null,null,null,null,null,null,null,null,null,null,"SY020500","c1695","Jeb Elhamam Sultan \\ جب الحمام سلطان"]
[null,null,null,null,null,null,null,null,null,null,null,"SY020500","C1703","Jeb Elkhafi - Manbaj \\ جب الخفي_منبج"]
[null,null,null,null,null,null,null,null,null,null,null,"SY020500","C1684","Jeb Elqader \\ جب القادر"]
[null,null,null,null,null,null,null,null,null,null,null,"SY020500","c1697","Jeb Elthor - Akrash \\ جب الثور_عكرش"]
[null,null,null,null,null,null,null,null,null,null,null,"SY020500","c1690","Jeb Majzum \\ جب مخزوم"]
[null,null,null,null,null,null,null,null,null,null,null,"SY020500","C1741","Jota \\ جوتة"]
[null,null,null,null,null,null,null,null,null,null,null,"SY020500","C1748","Kabiret Manbaj - Bashli \\ الكبيرة منبج_باشلي"]
[null,null,null,null,null,null,null,null,null,null,null,"SY020500","C1768","Karsan \\ كرسان"]
[null,null,null,null,null,null,null,null,null,null,null,"SY020500","C1675","Kherbet Elhsan \\ خربة الحصان"]
[null,null,null,null,null,null,null,null,null,null,null,"SY020500","c1680","Kherbet Elsheyab \\ خربة الشياب"]
[null,null,null,null,null,null,null,null,null,null,null,"SY020500","C1708","Kherbet Massi \\ خربة ماصي"]
[null,null,null,null,null,null,null,null,null,null,null,"SY020500","C1709","Kherbet Nafakh \\ خربة نفخ"]
[null,null,null,null,null,null,null,null,null,null,null,"SY020500","C1716","Khirfan \\ خرفان"]
[null,null,null,null,null,null,null,null,null,null,null,"SY020500","c1696","Khishfet Um Adaseh \\ خشفة ام عدسة"]
[null,null,null,null,null,null,null,null,null,null,null,"SY020500","C1786","Labda - Milo Yran \\ لابدة_ميلو يران"]
[null,null,null,null,null,null,null,null,null,null,null,"SY020500","C1732","Poco Arbaa \\ أربعة صغيرة"]
[null,null,null,null,null,null,null,null,null,null,null,"SY020500","C1724","Poco Hamam \\ حمام صغير"]
[null,null,null,null,null,null,null,null,null,null,null,"SY020500","C1752","Poco Hayyeh \\ حية صغيرة"]
[null,null,null,null,null,null,null,null,null,null,null,"SY020500","C1761","Poco Jern \\ جرن صغير"]
[null,null,null,null,null,null,null,null,null,null,null,"SY020500","C1790","Poco Kaber - Little Kaberjeh \\ كابر صغير_كابرجة صغيرة"]
[null,null,null,null,null,null,null,null,null,null,null,"SY020500","C1733","Poco Kharufiyeh \\ خاروفية صغيرة"]
[null,null,null,null,null,null,null,null,null,null,null,"SY020500","C1780","Poco Madneh \\ مدنة صغير"]
[null,null,null,null,null,null,null,null,null,null,null,"SY020500","C1794","Poco Maqtaa Elhajar \\ مقطع الحجر صغير"]
[null,null,null,null,null,null,null,null,null,null,null,"SY020500","C1784","Poco Mohtaraq \\ محترق صغير"]
[null,null,null,null,null,null,null,null,null,null,null,"SY020500","C1682","Poco Osajli \\ عوسجلي صغير"]
[null,null,null,null,null,null,null,null,null,null,null,"SY020500","C1763","Bajo Majra \\ مجرى تحتاني"]
[null,null,null,null,null,null,null,null,null,null,null,"SY020500","C1723","Mahsana - Bak Weiran \\ المحسنة_باك ويران"]
[null,null,null,null,null,null,null,null,null,null,null,"SY020500","C1772","Manilla Asaad \\ منلا اسعد"]
[null,null,null,null,null,null,null,null,null,null,null,"SY020500","C1738","Mankubeh \\ المنكوبة"]
[null,null,null,null,null,null,null,null,null,null,null,"SY020500","C1766","Manther Eljarf \\ مناظر الجرف"]
[null,null,null,null,null,null,null,null,null,null,null,"SY020500","C1787","Maqtala \\ مقتلة"]
[null,null,null,null,null,null,null,null,null,null,null,"SY020500","C1775","Mashrafet Elbweir \\ مشرفة البوير"]
[null,null,null,null,null,null,null,null,null,null,null,"SY020500","C1767","Menbij \\ منبج"]
[null,null,null,null,null,null,null,null,null,null,null,"SY020500","C1765","Mgheirat \\ مغيرات"]
[null,null,null,null,null,null,null,null,null,null,null,"SY020500","C1793","Medio Majra \\ مجرى وسطاني"]
[null,null,null,null,null,null,null,null,null,null,null,"SY020500","C1774","Medio Warideh \\ وريدة المركز"]
[null,null,null,null,null,null,null,null,null,null,null,"SY020500","C1795","Miloyran \\ ميلويران"]
[null,null,null,null,null,null,null,null,null,null,null,"SY020500","C1789","Moaysera \\ معيصرة"]
[null,null,null,null,null,null,null,null,null,null,null,"SY020500","C1788","Moruh Manbaj \\ مروح منبج"]
[null,null,null,null,null,null,null,null,null,null,null,"SY020500","C1770","Mostarihet Jafatlak \\ مستريحة جفتلك"]
[null,null,null,null,null,null,null,null,null,null,null,"SY020500","C1778","Muqbilet Elbireh \\ مقبلة البيرة"]
[null,null,null,null,null,null,null,null,null,null,null,"SY020500","C1776","Nahliya - Nahliya \\ نحلية_ناحلية"]
[null,null,null,null,null,null,null,null,null,null,null,"SY020500","C1777","Castillo Nejem \\ قلعة نجم"]
[null,null,null,null,null,null,null,null,null,null,null,"SY020500","C1710","Omriyeh \\ عمرية"]
[null,null,null,null,null,null,null,null,null,null,null,"SY020500","C1762","Oshrieh \\ أوشرية"]
[null,null,null,null,null,null,null,null,null,null,null,"SY020500","C1791","Qabab Bonyeh - Qarajleh \\ قبب بنية_قراجلة"]
[null,null,null,null,null,null,null,null,null,null,null,"SY020500","C1785","Qaber Imu \\ قبر إيمو"]
[null,null,null,null,null,null,null,null,null,null,null,"SY020500","C1769","Qanat Elghrra \\ قناة الغرة"]
[null,null,null,null,null,null,null,null,null,null,null,"SY020500","C1771","Qatmet Manbaj - Katma \\ قاطمة منبج_قطمة"]
[null,null,null,null,null,null,null,null,null,null,null,"SY020500","C1704","Rafeeah \\ رفيعة"]
[null,null,null,null,null,null,null,null,null,null,null,"SY020500","C1739","Rasm Elakhdar \\ رسم الأخضر"]
[null,null,null,null,null,null,null,null,null,null,null,"SY020500","C1674","Rasm Elmashrafeh \\ رسم المشرفة"]
[null,null,null,null,null,null,null,null,null,null,null,"SY020500","C1742","Ratwaniyeh \\ راطونية"]
[null,null,null,null,null,null,null,null,null,null,null,"SY020500","C1715","Saan Elghazal - Buz Kij \\ سعن الغزال_بوز كيج"]
[null,null,null,null,null,null,null,null,null,null,null,"SY020500","C1753","Safi \\ صافي"]
[null,null,null,null,null,null,null,null,null,null,null,"SY020500","C1720","Saidiyeh \\ سعيدية"]
[null,null,null,null,null,null,null,null,null,null,null,"SY020500","C1737","Sayada \\ صيادة"]
[null,null,null,null,null,null,null,null,null,null,null,"SY020500","C1735","Sghireh \\ صغيرة"]
[null,null,null,null,null,null,null,null,null,null,null,"SY020500","C1747","Shanhasa \\ شنهصة"]
[null,null,null,null,null,null,null,null,null,null,null,"SY020500","C1750","Sheikh Yehya \\ شيخ يحيى"]
[null,null,null,null,null,null,null,null,null,null,null,"SY020500","C1743","Shweihet Kheznawi \\ شويحة خزناوي"]
[null,null,null,null,null,null,null,null,null,null,null,"SY020500","C1721","Sultahiyeh \\ سلطانية"]
[null,null,null,null,null,null,null,null,null,null,null,"SY020500","c1694","Tal Abu Jadha - Tayara \\ تل أبو جدحة_طيارة"]
[null,null,null,null,null,null,null,null,null,null,null,"SY020500","c1711","Tal Akhdar \\ تل اخضر"]
[null,null,null,null,null,null,null,null,null,null,null,"SY020500","c1689","Tal Rafei \\ تل رفيع"]
[null,null,null,null,null,null,null,null,null,null,null,"SY020500","c1676","Tal Yasti \\ تل ياسطي"]
[null,null,null,null,null,null,null,null,null,null,null,"SY020500","C1760","Tayha \\ تايهة"]
[null,null,null,null,null,null,null,null,null,null,null,"SY020500","c1705","Tlilet Manbaj \\ تليلة منبج"]
[null,null,null,null,null,null,null,null,null,null,null,"SY020500","c1686","Toq Elkhalil \\ طوق الخليل"]
[null,null,null,null,null,null,null,null,null,null,null,"SY020500","c1691","Twal \\ طوال"]
[null,null,null,null,null,null,null,null,null,null,null,"SY020500","C1726","Um Adase cerca Manbaj \\ أم عدسة قرب منبج"]
[null,null,null,null,null,null,null,null,null,null,null,"SY020500","C1730","Um Adaset Elfarat \\ أم عدسة الفارات"]
[null,null,null,null,null,null,null,null,null,null,null,"SY020500","C1746","Um Edam \\ أم عظام"]
[null,null,null,null,null,null,null,null,null,null,null,"SY020500","C6335","Um Elsafa \\ أم الصفا"]
[null,null,null,null,null,null,null,null,null,null,null,"SY020500","C1700","Um Elsateh \\ أم السطح"]
[null,null,null,null,null,null,null,null,null,null,null,"SY020500","c1685","Um Jalal \\ أم جلال"]
[null,null,null,null,null,null,null,null,null,null,null,"SY020500","c1681","Um Jlud \\ أم جلود"]
[null,null,null,null,null,null,null,null,null,null,null,"SY020500","c1698","Um Khorzet Manbaj \\ أم خرزة منبج"]
[null,null,null,null,null,null,null,null,null,null,null,"SY020500","C1734","Um Myal Jafatlak \\ أم ميال جفتلك"]
[null,null,null,null,null,null,null,null,null,null,null,"SY020500","C1736","Um Myal Miri \\ أم ميال ميري"]
[null,null,null,null,null,null,null,null,null,null,null,"SY020500","C1773","Alta Majra \\ مجرى فوقاني"]
[null,null,null,null,null,null,null,null,null,null,null,"SY020500","C1719","Zornaqal \\ زونقل"]
[null,null,null,null,null,null,null,null,null,null,null,"SY020501","C1798","Abu Qalqal \\ أبو قلقل"]
[null,null,null,null,null,null,null,null,null,null,null,"SY020501","c1830","Gran Fors \\ فرس كبير"]
[null,null,null,null,null,null,null,null,null,null,null,"SY020501","c1810","Gran Ghorra \\ غرة كبيرة"]
[null,null,null,null,null,null,null,null,null,null,null,"SY020501","C1805","Gran Hama \\ حما كبير"]
[null,null,null,null,null,null,null,null,null,null,null,"SY020501","C1813","Gran Sandaliyeh \\ صندلية كبيرة"]
[null,null,null,null,null,null,null,null,null,null,null,"SY020501","C1800","Halula \\ حالولة"]
[null,null,null,null,null,null,null,null,null,null,null,"SY020501","C1796","Himar Labda \\ حيمر لابدة"]
[null,null,null,null,null,null,null,null,null,null,null,"SY020501","C1808","Hizeh \\ الحيزة"]
[null,null,null,null,null,null,null,null,null,null,null,"SY020501","C1801","Jdidet Faras \\ جديدة فرس"]
[null,null,null,null,null,null,null,null,null,null,null,"SY020501","C1802","Jeb Elbashama \\ جب النشامة"]
[null,null,null,null,null,null,null,null,null,null,null,"SY020501","C1804","Jeb Elkajli \\ جب الكجلي"]
[null,null,null,null,null,null,null,null,null,null,null,"SY020501","C1811","Jeb Eltawil \\ جب الطويل"]
[null,null,null,null,null,null,null,null,null,null,null,"SY020501","C1822","Jeb Hamza \\ جب حمزة"]
[null,null,null,null,null,null,null,null,null,null,null,"SY020501","C1819","Jeb Hassan Agha \\ جب حسن آغا"]
[null,null,null,null,null,null,null,null,null,null,null,"SY020501","C1817","Jeb Nahid \\ جب ناهد"]
[null,null,null,null,null,null,null,null,null,null,null,"SY020501","C1823","Jeb jeque Obeid \\ جب شيخ عبيد"]
[null,null,null,null,null,null,null,null,null,null,null,"SY020501","C1807","Jeifiyet Elmashi \\ جعيفية الماشي"]
[null,null,null,null,null,null,null,null,null,null,null,"SY020501","C1816","Kherbet Bashar \\ خربة بشار"]
[null,null,null,null,null,null,null,null,null,null,null,"SY020501","C1799","Kherbet Elashra \\ خربة العشرة"]
[null,null,null,null,null,null,null,null,null,null,null,"SY020501","C1814","Kherbet Elrus \\ خربة الروس"]
[null,null,null,null,null,null,null,null,null,null,null,"SY020501","C1812","Kherbet Elsawda Manbaj \\ خربة السودة منبج"]
[null,null,null,null,null,null,null,null,null,null,null,"SY020501","C1821","Kherbet Khaled \\ خربة خالد"]
[null,null,null,null,null,null,null,null,null,null,null,"SY020501","C6336","Kherbet Tweini \\ خربة تويني"]
[null,null,null,null,null,null,null,null,null,null,null,"SY020501","c1820","Kherbet ZAMALA \\ خربة زمالة"]
[null,null,null,null,null,null,null,null,null,null,null,"SY020501","C1797","Khofiyet Abu Qalqal \\ خفية أبو قلقل"]
[null,null,null,null,null,null,null,null,null,null,null,"SY020501","C1833","Poco Fors \\ فرس صغير"]
[null,null,null,null,null,null,null,null,null,null,null,"SY020501","C1815","Poco Ghorra \\ غرة صغيرة"]
[null,null,null,null,null,null,null,null,null,null,null,"SY020501","C1831","Poco Quraa \\ قرعة صغيرة"]
[null,null,null,null,null,null,null,null,null,null,null,"SY020501","C1824","Bajo Qana \\ قنا تحتاني"]
[null,null,null,null,null,null,null,null,null,null,null,"SY020501","C1836","Medinet triste Tishrine \\ مدينة سد تشرين"]
[null,null,null,null,null,null,null,null,null,null,null,"SY020501","C1832","Mahshiet Elsheikh Obeid \\ محشية الشيخ عبيد"]
[null,null,null,null,null,null,null,null,null,null,null,"SY020501","C1828","Mahshiet Eltawahin \\ محشية الطواحين"]
[null,null,null,null,null,null,null,null,null,null,null,"SY020501","C1835","Nmuqbilet Hassan Agha \\ مقبلة حسن آغا"]
[null,null,null,null,null,null,null,null,null,null,null,"SY020501","C1837","Noaimeh \\ نعيمة"]
[null,null,null,null,null,null,null,null,null,null,null,"SY020501","C1825","Norte Qana \\ قنا شمالي"]
[null,null,null,null,null,null,null,null,null,null,null,"SY020501","C1826","Qanaqebli \\ قناقبلي"]
[null,null,null,null,null,null,null,null,null,null,null,"SY020501","C1834","Qeshlet Yusef Basha \\ قشلة يوسف باشا"]
[null,null,null,null,null,null,null,null,null,null,null,"SY020501","C1829","Qokhar \\ قوخار"]
[null,null,null,null,null,null,null,null,null,null,null,"SY020501","C1809","Sakawiyeh \\ سكاوية"]
[null,null,null,null,null,null,null,null,null,null,null,"SY020501","C1806","Shjif Dahabiyeh \\ شجيف ذهبية"]
[null,null,null,null,null,null,null,null,null,null,null,"SY020501","C1818","Tal sur Arish \\ تل عريش جنوبي"]
[null,null,null,null,null,null,null,null,null,null,null,"SY020501","C1803","Um Jern Manbaj \\ أم جرن منبج"]
[null,null,null,null,null,null,null,null,null,null,null,"SY020501","C1827","Walia - Akirdali \\ والية_اكيردالي"]
[null,null,null,null,null,null,null,null,null,null,null,"SY020502","C1857","Abaja \\ عباجة"]
[null,null,null,null,null,null,null,null,null,null,null,"SY020502","C1864","Abu Hanaya \\ أبو حنايا"]
[null,null,null,null,null,null,null,null,null,null,null,"SY020502","C1871","Abu Maqbara \\ أبو مقبرة"]
[null,null,null,null,null,null,null,null,null,null,null,"SY020502","C1848","Ajuziyeh \\ العاجوزية"]
[null,null,null,null,null,null,null,null,null,null,null,"SY020502","c1894","Al-Khafsa \\ الخفسة"]
[null,null,null,null,null,null,null,null,null,null,null,"SY020502","C6338","Aridiyeh \\ العريضية"]
[null,null,null,null,null,null,null,null,null,null,null,"SY020502","c1850","Ashini \\ عشيني"]
[null,null,null,null,null,null,null,null,null,null,null,"SY020502","C1879","Atireh \\ عطيرة"]
[null,null,null,null,null,null,null,null,null,null,null,"SY020502","C1872","Atshana Jeb Mirri \\ عطشانة جب ميري"]
[null,null,null,null,null,null,null,null,null,null,null,"SY020502","C1883","Gran Arbaa \\ أربعة كبيرة"]
[null,null,null,null,null,null,null,null,null,null,null,"SY020502","c1844","Gran Aruda \\ عارودة كبير"]
[null,null,null,null,null,null,null,null,null,null,null,"SY020502","C1901","Gran Drubiyeh \\ الدروبية كبيرة"]
[null,null,null,null,null,null,null,null,null,null,null,"SY020502","c1896","Este gran Rasm Elkhamis \\ رسم الخميس شرقي كبير"]
[null,null,null,null,null,null,null,null,null,null,null,"SY020502","c1902","Gran Habbuba \\ حبوبة كبيرة"]
[null,null,null,null,null,null,null,null,null,null,null,"SY020502","C1862","Gran Jarrah \\ جراح كبير"]
[null,null,null,null,null,null,null,null,null,null,null,"SY020502","c1908","Gran Maarada \\ معرضة كبيرة"]
[null,null,null,null,null,null,null,null,null,null,null,"SY020502","c1905","Gran Qobab \\ قبب كبير"]
[null,null,null,null,null,null,null,null,null,null,null,"SY020502","C1852","Gran Rasm Elharmal \\ رسم الحرمل الكبير"]
[null,null,null,null,null,null,null,null,null,null,null,"SY020502","C1884","Gran Sheib Elhomor \\ شعيب الحمركبير"]
[null,null,null,null,null,null,null,null,null,null,null,"SY020502","C1878","Dakhireh \\ دخيرة"]
[null,null,null,null,null,null,null,null,null,null,null,"SY020502","c1893","Dreisiyeh \\ دريسية"]
[null,null,null,null,null,null,null,null,null,null,null,"SY020502","c1845","Ghadini \\ غديني"]
[null,null,null,null,null,null,null,null,null,null,null,"SY020502","c1840","Hadidi \\ حديدي"]
[null,null,null,null,null,null,null,null,null,null,null,"SY020502","C1885","Jafr Mansur Manbaj \\ جفر منصور منبج"]
[null,null,null,null,null,null,null,null,null,null,null,"SY020502","C1866","Janat Salameh \\ جناة سلامة"]
[null,null,null,null,null,null,null,null,null,null,null,"SY020502","C1849","Jdidet Elhomor \\ جديدة الحمر"]
[null,null,null,null,null,null,null,null,null,null,null,"SY020502","C1854","Jdidet Mistaha \\ جديدة مسطاحة"]
[null,null,null,null,null,null,null,null,null,null,null,"SY020502","C1868","Jeb Elhamam Mestaha \\ جب الحمام مسطاحة"]
[null,null,null,null,null,null,null,null,null,null,null,"SY020502","c1875","Jeb Hamad Elshlal \\ جب حمد الشلال"]
[null,null,null,null,null,null,null,null,null,null,null,"SY020502","c1874","Jeb Khamis \\ جب خميس"]
[null,null,null,null,null,null,null,null,null,null,null,"SY020502","C1839","Jeb Madi \\ جب ماضي"]
[null,null,null,null,null,null,null,null,null,null,null,"SY020502","c1847","Jeb Qahwa \\ جب قهوة"]
[null,null,null,null,null,null,null,null,null,null,null,"SY020502","c1898","Jfeiret Ghazal \\ جفيرة غزال"]
[null,null,null,null,null,null,null,null,null,null,null,"SY020502","C1876","Kasra \\ الكسرة"]
[null,null,null,null,null,null,null,null,null,null,null,"SY020502","C1881","Khan Elhomor \\ خان الحمر"]
[null,null,null,null,null,null,null,null,null,null,null,"SY020502","C1838","Kherbet Barguth \\ خربة برغوث"]
[null,null,null,null,null,null,null,null,null,null,null,"SY020502","C1851","Kherbet Elkhathdraf \\ خربة الخذراف"]
[null,null,null,null,null,null,null,null,null,null,null,"SY020502","c1890","Kherbet Salameh \\ خربة سلامة"]
[null,null,null,null,null,null,null,null,null,null,null,"SY020502","C1899","Kherbet Shihab \\ خربة شهاب"]
[null,null,null,null,null,null,null,null,null,null,null,"SY020502","c1880","Khofiyet Elhomor \\ خفية الحمر"]
[null,null,null,null,null,null,null,null,null,null,null,"SY020502","C1897","Kisumeh \\ الكيصومة"]
[null,null,null,null,null,null,null,null,null,null,null,"SY020502","c1904","Kiyariya \\ كيارية"]
[null,null,null,null,null,null,null,null,null,null,null,"SY020502","c1903","Lala Mohammed \\ لاله محمد"]
[null,null,null,null,null,null,null,null,null,null,null,"SY020502","C1846","Poco Aruda \\ عارودة صغيرة"]
[null,null,null,null,null,null,null,null,null,null,null,"SY020502","C1888","Poco Habbuba \\ حبوبة صغيرة"]
[null,null,null,null,null,null,null,null,null,null,null,"SY020502","c1910","Poco Qobab \\ قبب صغير"]
[null,null,null,null,null,null,null,null,null,null,null,"SY020502","C1867","Poco occidental Rasm Elkhamis \\ رسم الخميس غربي صغير"]
[null,null,null,null,null,null,null,null,null,null,null,"SY020502","C1886","Mahsana Khefseh \\ المحسنة خفسة"]
[null,null,null,null,null,null,null,null,null,null,null,"SY020502","c1909","Majmaa Mbaqer Maskana \\ مجمع مباقر مسكنة"]
[null,null,null,null,null,null,null,null,null,null,null,"SY020502","C1859","Mamura - Mahdum \\ المعمورة_المهدوم"]
[null,null,null,null,null,null,null,null,null,null,null,"SY020502","C1916","Mashrafet Qurb Khifseh - Elhamed \\ مشرفة قرب خفسة_الحامض"]
[null,null,null,null,null,null,null,null,null,null,null,"SY020502","C1907","Mazyunet Elhomor \\ مزيونة الحمر"]
[null,null,null,null,null,null,null,null,null,null,null,"SY020502","c1906","Mazyunet Eljaberi \\ مزيونة الجابري"]
[null,null,null,null,null,null,null,null,null,null,null,"SY020502","c1856","Norte Jeb Abyad \\ جب ابيض شمالي"]
[null,null,null,null,null,null,null,null,null,null,null,"SY020502","C1912","Qasr Hadleh \\ قصر هدلة"]
[null,null,null,null,null,null,null,null,null,null,null,"SY020502","c1915","Qasr Sallum - Tannuza \\ قصر سلوم_طنوزة"]
[null,null,null,null,null,null,null,null,null,null,null,"SY020502","C1855","Ras El Ein homor \\ رأس العين حمر"]
[null,null,null,null,null,null,null,null,null,null,null,"SY020502","C1873","Rasm Abbud Jaftalak \\ رسم عبود جفتلك"]
[null,null,null,null,null,null,null,null,null,null,null,"SY020502","C1841","Rasm Elahmar \\ رسم الأحمر"]
[null,null,null,null,null,null,null,null,null,null,null,"SY020502","C6337","Rasm Elfaleh \\ رسم الفالح"]
[null,null,null,null,null,null,null,null,null,null,null,"SY020502","C1882","Rasm Elhamam Miri \\ رسم الحمام ميري"]
[null,null,null,null,null,null,null,null,null,null,null,"SY020502","C1869","Rasm Eljis \\ رسم الجيس"]
[null,null,null,null,null,null,null,null,null,null,null,"SY020502","C1843","Rasm Elmasatiha \\ رسم المسطاحة"]
[null,null,null,null,null,null,null,null,null,null,null,"SY020502","C1860","Rummana \\ رمانة"]
[null,null,null,null,null,null,null,null,null,null,null,"SY020502","C1889","Shajra \\ شجرة"]
[null,null,null,null,null,null,null,null,null,null,null,"SY020502","C1865","Shash Hamdan \\ شاش حمدان"]
[null,null,null,null,null,null,null,null,null,null,null,"SY020502","C1858","Sheikh Abyad \\ شيخ ابيض"]
[null,null,null,null,null,null,null,null,null,null,null,"SY020502","C1863","Sikhni \\ سخني"]
[null,null,null,null,null,null,null,null,null,null,null,"SY020502","C1900","Tabara Kalash \\ تبارة كلش"]
[null,null,null,null,null,null,null,null,null,null,null,"SY020502","c1892","Tal Aakuleh \\ تل عاكولة"]
[null,null,null,null,null,null,null,null,null,null,null,"SY020502","c1870","Tal Aber \\ تل عابر"]
[null,null,null,null,null,null,null,null,null,null,null,"SY020502","C1895","Tal Aswad \\ تل اسود"]
[null,null,null,null,null,null,null,null,null,null,null,"SY020502","C1891","Tal Hassan \\ تل حسان"]
[null,null,null,null,null,null,null,null,null,null,null,"SY020502","C1887","Talhuthan \\ تلحوذان"]
[null,null,null,null,null,null,null,null,null,null,null,"SY020502","C1877","Um Adase Khalilieh \\ أم عدسة خليلية"]
[null,null,null,null,null,null,null,null,null,null,null,"SY020502","C1853","Um RSUM \\ أم رسوم"]
[null,null,null,null,null,null,null,null,null,null,null,"SY020502","C1861","Um Tinet Manbaj \\ أم تينة منبج"]
[null,null,null,null,null,null,null,null,null,null,null,"SY020502","C1842","Alta Nasriyeh \\ الناصرية فوقاني"]
[null,null,null,null,null,null,null,null,null,null,null,"SY020503","C6339","Aziziyeh \\ العزيزية"]
[null,null,null,null,null,null,null,null,null,null,null,"SY020503","C1932","Babiri - Bajo Babiri \\ بابيري_بابيري تحتاني"]
[null,null,null,null,null,null,null,null,null,null,null,"SY020503","c1920","Gran Raddeh \\ ردة كبيرة"]
[null,null,null,null,null,null,null,null,null,null,null,"SY020503","C1919","Hamra \\ الحمرة"]
[null,null,null,null,null,null,null,null,null,null,null,"SY020503","c1925","Hurriyeh \\ الحرية"]
[null,null,null,null,null,null,null,null,null,null,null,"SY020503","C1928","Jeb Elhamam Jtala \\ جب الحمام جتالة"]
[null,null,null,null,null,null,null,null,null,null,null,"SY020503","C1930","Khan Elshaar \\ خان الشعر"]
[null,null,null,null,null,null,null,null,null,null,null,"SY020503","C1922","Kherbet Salib \\ خربة صليب"]
[null,null,null,null,null,null,null,null,null,null,null,"SY020503","C1935","Medinet Elghar \\ مدينة الغار"]
[null,null,null,null,null,null,null,null,null,null,null,"SY020503","C1933","Maskana - Onaiza \\ مسكنة_عنيزة"]
[null,null,null,null,null,null,null,null,null,null,null,"SY020503","C1924","Muftahiyeh \\ المفتاحية"]
[null,null,null,null,null,null,null,null,null,null,null,"SY020503","C6305","Mujamaa Hettin \\ مجمع حطين"]
[null,null,null,null,null,null,null,null,null,null,null,"SY020503","C1923","Neimiyeh \\ النعيمية"]
[null,null,null,null,null,null,null,null,null,null,null,"SY020503","C1934","Qawas \\ قواص"]
[null,null,null,null,null,null,null,null,null,null,null,"SY020503","C1929","Rajm Elaqraa \\ رجم الأقرع"]
[null,null,null,null,null,null,null,null,null,null,null,"SY020503","C1931","Ras El Ein Bumane \\ رأس العين البومانع"]
[null,null,null,null,null,null,null,null,null,null,null,"SY020503","C1917","Rasm Elbokhar \\ رسم البوخر"]
[null,null,null,null,null,null,null,null,null,null,null,"SY020503","C1927","Samuqet Manbaj \\ سموقة منبج"]
[null,null,null,null,null,null,null,null,null,null,null,"SY020503","C1926","Shahda \\ الشهداء"]
[null,null,null,null,null,null,null,null,null,null,null,"SY020503","C1921","Sur Jdeiah \\ جنوب جديعة"]
[null,null,null,null,null,null,null,null,null,null,null,"SY020503","c1918","Tal Totun \\ تل توتون"]
[null,null,null,null,null,null,null,null,null,null,null,"SY020600","C1946","Ain Al Arab \\ عين العرب"]
[null,null,null,null,null,null,null,null,null,null,null,"SY020600","c1970","Ayoubiyeh - Karoz \\ الأيوبية_كاروز"]
[null,null,null,null,null,null,null,null,null,null,null,"SY020600","c1974","Aziziyeh - Moman Azu \\ عزيزية_مومان عزو"]
[null,null,null,null,null,null,null,null,null,null,null,"SY020600","C1966","BABN - Boban \\ بابان_بوبان"]
[null,null,null,null,null,null,null,null,null,null,null,"SY020600","c1978","Gran Doha - Big Qabajeq \\ دوحة كبير_قباجق كبير"]
[null,null,null,null,null,null,null,null,null,null,null,"SY020600","C1957","Gran Ein Elbat \\ عين البط كبير"]
[null,null,null,null,null,null,null,null,null,null,null,"SY020600","c1981","Gran Mazraet Sofi \\ مزرعة صوفي كبير"]
[null,null,null,null,null,null,null,null,null,null,null,"SY020600","c1942","Gran Salama - Big Danquz \\ سلامة كبير_دونقوز كبير"]
[null,null,null,null,null,null,null,null,null,null,null,"SY020600","C1961","Bijan Tramk \\ بيجان_ترمك"]
[null,null,null,null,null,null,null,null,null,null,null,"SY020600","C1959","Bir Omar \\ بئر عمر"]
[null,null,null,null,null,null,null,null,null,null,null,"SY020600","C1975","Estiqama \\ الاستقامة_كوربا"]
[null,null,null,null,null,null,null,null,null,null,null,"SY020600","C1954","Firazdaq - Arsalan Tash \\ الفرزدق_أرسلان طاش"]
[null,null,null,null,null,null,null,null,null,null,null,"SY020600","c1943","Gharib \\ غريب"]
[null,null,null,null,null,null,null,null,null,null,null,"SY020600","C1971","Ghassaniyeh - Qorret Halanj \\ الغسانية_قرة حلنج"]
[null,null,null,null,null,null,null,null,null,null,null,"SY020600","C1963","Hazineh \\ حزينة"]
[null,null,null,null,null,null,null,null,null,null,null,"SY020600","C1976","Hbab - Yadi Qawi \\ الحباب_ يدي قوي"]
[null,null,null,null,null,null,null,null,null,null,null,"SY020600","C1964","Jil Jilak \\ جيل_جيلك"]
[null,null,null,null,null,null,null,null,null,null,null,"SY020600","C1960","Joban - Sheikh Joban \\ جوبان_الشيخ جوبان"]
[null,null,null,null,null,null,null,null,null,null,null,"SY020600","C6341","Kalmad \\ كلمد"]
[null,null,null,null,null,null,null,null,null,null,null,"SY020600","c1991","Karb Karbalak \\ كرب_كربلك"]
[null,null,null,null,null,null,null,null,null,null,null,"SY020600","c1992","Kas kaska \\ كأس_كاسكان"]
[null,null,null,null,null,null,null,null,null,null,null,"SY020600","C1967","Kharab Nas \\ خراب ناس"]
[null,null,null,null,null,null,null,null,null,null,null,"SY020600","C6342","Kharab Rasset \\ خراب رست"]
[null,null,null,null,null,null,null,null,null,null,null,"SY020600","C1968","Kharan Kort \\ خراب كورت"]
[null,null,null,null,null,null,null,null,null,null,null,"SY020600","C1944","Poco Salameh - Little Danquz \\ سلامة صغير_دونقوز صغير"]
[null,null,null,null,null,null,null,null,null,null,null,"SY020600","c1952","Bajo Beith Lehem - Etweiran \\ بيت لحم تحتاني__إيتويران"]
[null,null,null,null,null,null,null,null,null,null,null,"SY020600","c1945","Bajo Jbeileh - Qorrat Quri \\ جبيلة تحتاني_قرة قوري"]
[null,null,null,null,null,null,null,null,null,null,null,"SY020600","c1941","Tal bajar Abyad - Bajo Bozhyuk \\ تل ابيض تحتاني_بوزهيوك تحتاني"]
[null,null,null,null,null,null,null,null,null,null,null,"SY020600","C1947","Tal bajar Elhajar - Tashluk \\ تل الحجر تحتاني_طاشلوك"]
[null,null,null,null,null,null,null,null,null,null,null,"SY020600","c1986","Makhraj \\ مخرج"]
[null,null,null,null,null,null,null,null,null,null,null,"SY020600","C1953","Maydan - Kork Kitan \\ الميدان_كورك كيتان"]
[null,null,null,null,null,null,null,null,null,null,null,"SY020600","c1982","Mazraet Elamud \\ مزرعة العامود"]
[null,null,null,null,null,null,null,null,null,null,null,"SY020600","C6340","Minas \\ ميناس"]
[null,null,null,null,null,null,null,null,null,null,null,"SY020600","c1987","Morshed morshed Binar \\ مرشد مرشد بينار"]
[null,null,null,null,null,null,null,null,null,null,null,"SY020600","C1962","Nabaa - Korbinar \\ النبعة_كوربينار"]
[null,null,null,null,null,null,null,null,null,null,null,"SY020600","c1988","Naf Karab - Karabnaf \\ ناف كرب_كربناف"]
[null,null,null,null,null,null,null,null,null,null,null,"SY020600","c1965","Natheriyeh - Koran \\ الناظرية_كوران"]
[null,null,null,null,null,null,null,null,null,null,null,"SY020600","C1956","Oruba - Kor Ali \\ عروبة_كور علي"]
[null,null,null,null,null,null,null,null,null,null,null,"SY020600","C1936","Qantarra - Qantaret Kikan \\ القنطرة_قنطرة كيكان"]
[null,null,null,null,null,null,null,null,null,null,null,"SY020600","c1983","Qantarte Beith Serri \\ قنطرة بيت سري"]
[null,null,null,null,null,null,null,null,null,null,null,"SY020600","c1985","Qarruf \\ قروف"]
[null,null,null,null,null,null,null,null,null,null,null,"SY020600","c1990","Qola \\ قولا"]
[null,null,null,null,null,null,null,null,null,null,null,"SY020600","c1940","Sharan \\ شران"]
[null,null,null,null,null,null,null,null,null,null,null,"SY020600","C1973","Shoruq - Holaqi \\ الشروق_هولاقي"]
[null,null,null,null,null,null,null,null,null,null,null,"SY020600","C1980","Sus - Susan \\ صوص_صوصان"]
[null,null,null,null,null,null,null,null,null,null,null,"SY020600","C1958","Tafsh - Tafsho \\ طفش_طفشو"]
[null,null,null,null,null,null,null,null,null,null,null,"SY020600","C1951","Tal Ghazal \\ تل غزال"]
[null,null,null,null,null,null,null,null,null,null,null,"SY020600","C1949","Tal Hajib \\ تل حاجب"]
[null,null,null,null,null,null,null,null,null,null,null,"SY020600","C1969","Thahireh - Bil Weiran \\ ظهيرة_بيل ويران"]
[null,null,null,null,null,null,null,null,null,null,null,"SY020600","C1950","Beith superior Lehem - Etweiran \\ بيت لحم فوقاني_إيتويران"]
[null,null,null,null,null,null,null,null,null,null,null,"SY020600","c1972","Alta Jbeileh - Qorrat Quri \\ جبيلة فوقاني_قرة قوري"]
[null,null,null,null,null,null,null,null,null,null,null,"SY020600","C1939","Alta Khaldiyeh - Alta Tahtak \\ خالدية فوقاني_تحتك فوقاني"]
[null,null,null,null,null,null,null,null,null,null,null,"SY020600","c1979","Tamizar superior - Siftek \\ سفت فوقاني_سفتك"]
[null,null,null,null,null,null,null,null,null,null,null,"SY020600","C1955","Tal superior Hajar \\ تل حجر فوقاني"]
[null,null,null,null,null,null,null,null,null,null,null,"SY020600","C1937","Zarafet Zarafik \\ زرافة_زرافيك"]
[null,null,null,null,null,null,null,null,null,null,null,"SY020600","C1948","Zobar - Zorabi \\ زوبار_زورابي"]
[null,null,null,null,null,null,null,null,null,null,null,"SY020600","C1977","Zogher \\ زوغر"]
[null,null,null,null,null,null,null,null,null,null,null,"SY020601","c1998","Gran Duwara - Jraqli \\ الدوارة الكبيرة_جارقلي"]
[null,null,null,null,null,null,null,null,null,null,null,"SY020601","C2004","Gran Jeb Faraj \\ جب فرج كبير"]
[null,null,null,null,null,null,null,null,null,null,null,"SY020601","C2010","Billeh \\ بلة"]
[null,null,null,null,null,null,null,null,null,null,null,"SY020601","C2009","Dadi - Dada Li \\ دادي_دادة لي"]
[null,null,null,null,null,null,null,null,null,null,null,"SY020601","C2011","Darb Elnob \\ درب النوب"]
[null,null,null,null,null,null,null,null,null,null,null,"SY020601","C2013","Hifyana - Bugas \\ الحفيانة_بوغاز"]
[null,null,null,null,null,null,null,null,null,null,null,"SY020601","C2018","Hilala - Medio Kord \\ هلالة_كرد وسطاني"]
[null,null,null,null,null,null,null,null,null,null,null,"SY020601","c1995","Jebnet \\ جبنة"]
[null,null,null,null,null,null,null,null,null,null,null,"SY020601","C2016","Khalil - Khalijak \\ خليل_خليلجك"]
[null,null,null,null,null,null,null,null,null,null,null,"SY020601","C2001","Kherbet Atu \\ خربة عطو"]
[null,null,null,null,null,null,null,null,null,null,null,"SY020601","C2007","Bajo Shyookh \\ شيوخ تحتاني"]
[null,null,null,null,null,null,null,null,null,null,null,"SY020601","C2017","Mazdalfa - Bistek \\ مزدلفة_بستك"]
[null,null,null,null,null,null,null,null,null,null,null,"SY020601","c1996","Oweina \\ عوينة"]
[null,null,null,null,null,null,null,null,null,null,null,"SY020601","C2019","Qanaya \\ قناية"]
[null,null,null,null,null,null,null,null,null,null,null,"SY020601","C2020","Qubbeh \\ قبة"]
[null,null,null,null,null,null,null,null,null,null,null,"SY020601","c1997","Rajabiyeh - Medio Qojli \\ رجبية_قوجلي وسط"]
[null,null,null,null,null,null,null,null,null,null,null,"SY020601","C1999","Sawaniyet - Qamlaq \\ صوانية_قملق"]
[null,null,null,null,null,null,null,null,null,null,null,"SY020601","C2000","Seif Ali \\ سيف علي"]
[null,null,null,null,null,null,null,null,null,null,null,"SY020601","c1994","Shakriyeh - Mashko \\ الشاكرية_مشكو"]
[null,null,null,null,null,null,null,null,null,null,null,"SY020601","C2014","Shamaliyeh - Boraz Ogli \\ الشمالية_بوراز أوغلي"]
[null,null,null,null,null,null,null,null,null,null,null,"SY020601","C2012","Shehama - Bandar \\ الشهامة_بندر"]
[null,null,null,null,null,null,null,null,null,null,null,"SY020601","C2006","Taala \\ تعلا"]
[null,null,null,null,null,null,null,null,null,null,null,"SY020601","C2008","Tal Amar Ein El Arab \\ تل أحمر عين العرب"]
[null,null,null,null,null,null,null,null,null,null,null,"SY020601","C2015","Tal Elebar \\ تل العبر"]
[null,null,null,null,null,null,null,null,null,null,null,"SY020601","C2005","Dar superior Elbaz \\ دار الباز فوقاني"]
[null,null,null,null,null,null,null,null,null,null,null,"SY020601","C2021","Alta Qurran \\ قران فوقاني"]
[null,null,null,null,null,null,null,null,null,null,null,"SY020601","C2002","Alta Shyookh \\ شيوخ فوقاني"]
[null,null,null,null,null,null,null,null,null,null,null,"SY020601","C2003","Wawiyeh - Jaql Wabran \\ الواوية_جقل وبران"]
[null,null,null,null,null,null,null,null,null,null,null,"SY020602","C2083","Abu Daameh al Massoudieh \\ أبو دعمة_المسعودية"]
[null,null,null,null,null,null,null,null,null,null,null,"SY020602","C2032","Assad - Aslan Koy \\ الأسد_آصلان كوي"]
[null,null,null,null,null,null,null,null,null,null,null,"SY020602","C2030","Athamiya - Eastern Krana \\ الأعظمية_كرانة شرقي"]
[null,null,null,null,null,null,null,null,null,null,null,"SY020602","C2087","Bab Elhadid - Damer Qabusi \\ باب الحديد_دامر قابوسي"]
[null,null,null,null,null,null,null,null,null,null,null,"SY020602","C2027","Barakeh - Dweirek \\ البركة_دوبيرك"]
[null,null,null,null,null,null,null,null,null,null,null,"SY020602","C2031","Baroudiyeh \\ البارودية"]
[null,null,null,null,null,null,null,null,null,null,null,"SY020602","C2048","Bathiyeh - Kardoshan \\ البعثية_كردوشان"]
[null,null,null,null,null,null,null,null,null,null,null,"SY020602","C2055","Gran Dabaa \\ ضبعة كبيرة"]
[null,null,null,null,null,null,null,null,null,null,null,"SY020602","C2099","Gran Kamit - Big Kojeh Kamit \\ كميت كبيرة_كوجه كميت كبيرة"]
[null,null,null,null,null,null,null,null,null,null,null,"SY020602","C2085","Gran Khushkhash \\ خشخاش كبير"]
[null,null,null,null,null,null,null,null,null,null,null,"SY020602","C2050","Bir Amaa \\ بئر الأعمى"]
[null,null,null,null,null,null,null,null,null,null,null,"SY020602","C2036","Bir Bakkar \\ بئر بكار"]
[null,null,null,null,null,null,null,null,null,null,null,"SY020602","C2044","Bir Dalleh \\ بئر دلة"]
[null,null,null,null,null,null,null,null,null,null,null,"SY020602","C2051","Bir Eldam \\ بئر الدم"]
[null,null,null,null,null,null,null,null,null,null,null,"SY020602","C2052","Bir Hsu - Kherbet Kalye \\ بئر حسو_خربة كلايع"]
[null,null,null,null,null,null,null,null,null,null,null,"SY020602","C2094","Bir Malli \\ بئر محلي"]
[null,null,null,null,null,null,null,null,null,null,null,"SY020602","C2092","Bir Obedo - bir Abdel Rahman \\ بئر عبيدو_بئرعبد الرحمن"]
[null,null,null,null,null,null,null,null,null,null,null,"SY020602","C2089","Bir Rash - Kiktan \\ بئر رش_كيتكان"]
[null,null,null,null,null,null,null,null,null,null,null,"SY020602","C2056","Damman - Krana occidental \\ الدمام_كرانة غربي"]
[null,null,null,null,null,null,null,null,null,null,null,"SY020602","C2093","Dandushan \\ دندوشان"]
[null,null,null,null,null,null,null,null,null,null,null,"SY020602","C2076","Darb Eltakht \\ درب التخت"]
[null,null,null,null,null,null,null,null,null,null,null,"SY020602","C2069","Duwadiyeh Kik Dada \\ الداوودية_كيك دادا"]
[null,null,null,null,null,null,null,null,null,null,null,"SY020602","C2046","Este Shallal - Jokhar Oriental \\ شلال شرقي_جوخر شرقي"]
[null,null,null,null,null,null,null,null,null,null,null,"SY020602","C2045","Eskeif - Koshkar \\ اسكيف_كوشكار"]
[null,null,null,null,null,null,null,null,null,null,null,"SY020602","C2070","Golan - Qurret Qawaqez \\ جولان_قرة قوزاق"]
[null,null,null,null,null,null,null,null,null,null,null,"SY020602","C2116","Castillo Hadid \\ قلعة حديد"]
[null,null,null,null,null,null,null,null,null,null,null,"SY020602","C2059","Hafyan \\ حفيان"]
[null,null,null,null,null,null,null,null,null,null,null,"SY020602","C2062","Halanja \\ حلنجة"]
[null,null,null,null,null,null,null,null,null,null,null,"SY020602","C2067","Hamdun \\ حمدون"]
[null,null,null,null,null,null,null,null,null,null,null,"SY020602","C2078","Haql - Bujaq \\ الحقل_بوجاق"]
[null,null,null,null,null,null,null,null,null,null,null,"SY020602","C2098","Hyala - Kweik \\ هيالة_كويك"]
[null,null,null,null,null,null,null,null,null,null,null,"SY020602","C2064","Ibrahimiya - Alta Koktaba \\ ابراهيمية_كوكتبة فوقاني"]
[null,null,null,null,null,null,null,null,null,null,null,"SY020602","C2038","Jaadet Elmaghara \\ جعدة المغارة"]
[null,null,null,null,null,null,null,null,null,null,null,"SY020602","C2039","Jaadet Elsamawat \\ جعدة السمعاوات"]
[null,null,null,null,null,null,null,null,null,null,null,"SY020602","C2063","Jableh - Berdag \\ الجبلة_برداغ"]
[null,null,null,null,null,null,null,null,null,null,null,"SY020602","C2068","Jalabiyeh \\ الجلبية"]
[null,null,null,null,null,null,null,null,null,null,null,"SY020602","C2061","Jorat - Jor Tanque \\ الجورات_جور تانك"]
[null,null,null,null,null,null,null,null,null,null,null,"SY020602","C2115","Kerak \\ كرك"]
[null,null,null,null,null,null,null,null,null,null,null,"SY020602","C2037","Khan Mamid - Mohammed Khan \\ خان ماميد_خان محمد"]
[null,null,null,null,null,null,null,null,null,null,null,"SY020602","C2040","Kharab Elasheq - kharab Ishq \\ خراب العاشق_خراب عشق"]
[null,null,null,null,null,null,null,null,null,null,null,"SY020602","C2053","Kharkhari \\ خرخري"]
[null,null,null,null,null,null,null,null,null,null,null,"SY020602","C2088","Kharufiyeh - Burj Battan \\ الخاروفية_برج بطان"]
[null,null,null,null,null,null,null,null,null,null,null,"SY020602","C2042","Kherbet Eljamal \\ خربة الجمل"]
[null,null,null,null,null,null,null,null,null,null,null,"SY020602","C2073","Kherbet Elkafer - Kawer khrab \\ خربة الكافر_كاور خراب"]
[null,null,null,null,null,null,null,null,null,null,null,"SY020602","C2090","Khrus \\ خروص"]
[null,null,null,null,null,null,null,null,null,null,null,"SY020602","C2109","Kreidan \\ كريدان"]
[null,null,null,null,null,null,null,null,null,null,null,"SY020602","C2104","Kufyan \\ كوفيان"]
[null,null,null,null,null,null,null,null,null,null,null,"SY020602","C2086","Poco Khushkhash \\ خشخاش صغير"]
[null,null,null,null,null,null,null,null,null,null,null,"SY020602","C2025","Bajo Tarmak - Bajo Tarmak Sheikhan \\ ترمك تحتاني_ترمك شيخان تحتاني"]
[null,null,null,null,null,null,null,null,null,null,null,"SY020602","C2111","Mand - Mandak \\ مند_مندك"]
[null,null,null,null,null,null,null,null,null,null,null,"SY020602","C2112","Mansiyeh \\ منسية"]
[null,null,null,null,null,null,null,null,null,null,null,"SY020602","C2071","Marufa - Sakuleh \\ المعروفة_صايكولة"]
[null,null,null,null,null,null,null,null,null,null,null,"SY020602","C2103","Masrab \\ مسرب"]
[null,null,null,null,null,null,null,null,null,null,null,"SY020602","C2096","Mattin \\ متين"]
[null,null,null,null,null,null,null,null,null,null,null,"SY020602","C2119","Mazghana \\ مزغنة"]
[null,null,null,null,null,null,null,null,null,null,null,"SY020602","C2122","Mil \\ ميل"]
[null,null,null,null,null,null,null,null,null,null,null,"SY020602","C2108","Milheh \\ ملحة"]
[null,null,null,null,null,null,null,null,null,null,null,"SY020602","C2106","Mitras \\ متراس"]
[null,null,null,null,null,null,null,null,null,null,null,"SY020602","C2113","Monif \\ منيف"]
[null,null,null,null,null,null,null,null,null,null,null,"SY020602","C2120","Moruh Ein Elarab \\ مروح عين العرب"]
[null,null,null,null,null,null,null,null,null,null,null,"SY020602","C2107","Mweileh \\ مويلح"]
[null,null,null,null,null,null,null,null,null,null,null,"SY020602","C2117","Naqut \\ ناقوط"]
[null,null,null,null,null,null,null,null,null,null,null,"SY020602","C2110","Norte Qasaq \\ قصق شمالي"]
[null,null,null,null,null,null,null,null,null,null,null,"SY020602","C2054","Nuhassiyeh - Qazani \\ النحاسية_قازاني"]
[null,null,null,null,null,null,null,null,null,null,null,"SY020602","C2097","Nur Ali \\ نور علي"]
[null,null,null,null,null,null,null,null,null,null,null,"SY020602","C2077","Okuwa - Alta DO Qardash \\ الأخوة_أوج قارداش فوقاني"]
[null,null,null,null,null,null,null,null,null,null,null,"SY020602","C2084","Omariyeh - Omrek \\ العمرية_أومرك"]
[null,null,null,null,null,null,null,null,null,null,null,"SY020602","C2047","Qaderiyeh \\ القادرية"]
[null,null,null,null,null,null,null,null,null,null,null,"SY020602","C2114","Qolana \\ قولانة"]
[null,null,null,null,null,null,null,null,null,null,null,"SY020602","C2121","Qrat \\ قراط"]
[null,null,null,null,null,null,null,null,null,null,null,"SY020602","C2023","Ramala \\ رمالة"]
[null,null,null,null,null,null,null,null,null,null,null,"SY020602","C2022","Ramilet Elhenno \\ رميلة_الحنو"]
[null,null,null,null,null,null,null,null,null,null,null,"SY020602","C2034","Ras El Ein Qabli \\ رأس العين قبلي"]
[null,null,null,null,null,null,null,null,null,null,null,"SY020602","C2118","Castillo erupción \\ قلعة رش"]
[null,null,null,null,null,null,null,null,null,null,null,"SY020602","C2091","Safriyeh \\ سفرية"]
[null,null,null,null,null,null,null,null,null,null,null,"SY020602","C2029","Safwaniyeh \\ الصفوانية_كورتك شيخان"]
[null,null,null,null,null,null,null,null,null,null,null,"SY020602","C2057","Saharij Eljabal \\ صهاريج الجبل"]
[null,null,null,null,null,null,null,null,null,null,null,"SY020602","C2080","Sahm - Shish \\ السهم_شيش"]
[null,null,null,null,null,null,null,null,null,null,null,"SY020602","C2058","Sana \\ صنع"]
[null,null,null,null,null,null,null,null,null,null,null,"SY020602","C2079","SAQ \\ ساق"]
[null,null,null,null,null,null,null,null,null,null,null,"SY020602","C2074","Sarin \\ صرين"]
[null,null,null,null,null,null,null,null,null,null,null,"SY020602","C2081","Sayyeda Khatuniyeh \\ السيدة_خاتونية"]
[null,null,null,null,null,null,null,null,null,null,null,"SY020602","C2043","Seifiyeh \\ سيفية"]
[null,null,null,null,null,null,null,null,null,null,null,"SY020602","C2060","SFIT \\ صفيط"]
[null,null,null,null,null,null,null,null,null,null,null,"SY020602","C2065","Shakif \\ شكيف"]
[null,null,null,null,null,null,null,null,null,null,null,"SY020602","C2066","Sheikh Ghali \\ شيخ غالي"]
[null,null,null,null,null,null,null,null,null,null,null,"SY020602","C2082","Siyaha - Western Saykul \\ السياحة_صايكول غربي"]
[null,null,null,null,null,null,null,null,null,null,null,"SY020602","C2026","Tal Elakhdar - Bajo Koktaba \\ تل الاخضر_كوكتبة تحتاني"]
[null,null,null,null,null,null,null,null,null,null,null,"SY020602","C2024","Tal Elbanat \\ تل البنات"]
[null,null,null,null,null,null,null,null,null,null,null,"SY020602","C2033","Tiba Ein Árabe \\ الطيبة عين العرب"]
[null,null,null,null,null,null,null,null,null,null,null,"SY020602","C2028","Toq - Toqli \\ الطوق_طوقلي"]
[null,null,null,null,null,null,null,null,null,null,null,"SY020602","C2049","Tuwabiyeh - Kubet Rab \\ التوابية_كبة رب"]
[null,null,null,null,null,null,null,null,null,null,null,"SY020602","C2035","Um Tleil \\ أم تليل"]
[null,null,null,null,null,null,null,null,null,null,null,"SY020602","C2102","Alta Fajer \\ فجر فوقاني"]
[null,null,null,null,null,null,null,null,null,null,null,"SY020602","C2101","Alta Mawa - Alta Khanik \\ مأوى فوقاني_خانيك فوقاني"]
[null,null,null,null,null,null,null,null,null,null,null,"SY020602","C2100","Wadi Elnur - Kur Wadin \\ وادي النور_كور وادين"]
[null,null,null,null,null,null,null,null,null,null,null,"SY020602","C2041","Western Kharab Sehrij \\ خراب صهريج غربية"]
[null,null,null,null,null,null,null,null,null,null,null,"SY020602","C2072","Shallal Occidental - Jokhar occidental \\ شلال غربي_جوخر غربي"]
[null,null,null,null,null,null,null,null,null,null,null,"SY020602","C2105","Yaramaz \\ ياراماز"]
[null,null,null,null,null,null,null,null,null,null,null,"SY020602","C2075","Zreik \\ زريك"]
[null,null,null,null,null,null,null,null,null,null,null,"SY020700","C2144","Abu Dreikha al Safira \\ أبو دريخة السفيرة"]
[null,null,null,null,null,null,null,null,null,null,null,"SY020700","C2149","Abu al-Safira Jrin \\ أبو جرين السفيرة"]
[null,null,null,null,null,null,null,null,null,null,null,"SY020700","C2142","Abu Sfeita \\ أبو صفيطة"]
[null,null,null,null,null,null,null,null,null,null,null,"SY020700","C2130","Aqraba \\ عقربة"]
[null,null,null,null,null,null,null,null,null,null,null,"SY020700","C2132","Aqrabuz \\ عقربوز"]
[null,null,null,null,null,null,null,null,null,null,null,"SY020700","C2154","Como-Safira \\ السفيرة"]
[null,null,null,null,null,null,null,null,null,null,null,"SY020700","C2129","Balat \\ بلاط"]
[null,null,null,null,null,null,null,null,null,null,null,"SY020700","C2143","Bashkwi Safira \\ باشكوي سفيرة"]
[null,null,null,null,null,null,null,null,null,null,null,"SY020700","C2135","Baydura \\ بيدورة"]
[null,null,null,null,null,null,null,null,null,null,null,"SY020700","C2140","Burj Elrumman \\ برج الرمان"]
[null,null,null,null,null,null,null,null,null,null,null,"SY020700","C2146","Ein Assan \\ عين عسان"]
[null,null,null,null,null,null,null,null,null,null,null,"SY020700","C2153","Ein Sabel \\ عين سابل"]
[null,null,null,null,null,null,null,null,null,null,null,"SY020700","C2141","Emeiriyeh \\ العميرية"]
[null,null,null,null,null,null,null,null,null,null,null,"SY020700","C2161","Fajdan \\ فجدان"]
[null,null,null,null,null,null,null,null,null,null,null,"SY020700","C2139","Habshiyeh \\ حبشية"]
[null,null,null,null,null,null,null,null,null,null,null,"SY020700","C2131","Hekleh \\ حكلة"]
[null,null,null,null,null,null,null,null,null,null,null,"SY020700","C2126","Htani \\ الحتاني"]
[null,null,null,null,null,null,null,null,null,null,null,"SY020700","C2155","Hweijeineh \\ حويجينة"]
[null,null,null,null,null,null,null,null,null,null,null,"SY020700","C2150","Jafret Elhos \\ جفرة الحص"]
[null,null,null,null,null,null,null,null,null,null,null,"SY020700","C2151","Jalaghim \\ جلاغيم"]
[null,null,null,null,null,null,null,null,null,null,null,"SY020700","C2136","Jalghum \\ جلغوم"]
[null,null,null,null,null,null,null,null,null,null,null,"SY020700","C2158","Jneid \\ جنيد"]
[null,null,null,null,null,null,null,null,null,null,null,"SY020700","C2162","Kabara \\ كبارة"]
[null,null,null,null,null,null,null,null,null,null,null,"SY020700","C2159","Masyadeh \\ مصيدة"]
[null,null,null,null,null,null,null,null,null,null,null,"SY020700","C2160","Qabtin \\ قبتين"]
[null,null,null,null,null,null,null,null,null,null,null,"SY020700","C2163","Qasir Elward \\ قصير الورد"]
[null,null,null,null,null,null,null,null,null,null,null,"SY020700","C2152","Radwaniyeh \\ رضوانية"]
[null,null,null,null,null,null,null,null,null,null,null,"SY020700","C2123","Rayan \\ ريان"]
[null,null,null,null,null,null,null,null,null,null,null,"SY020700","C2138","Smad \\ صماد"]
[null,null,null,null,null,null,null,null,null,null,null,"SY020700","C2134","Tal Abur \\ تل عابور"]
[null,null,null,null,null,null,null,null,null,null,null,"SY020700","C2133","Tal Alam \\ تل علم"]
[null,null,null,null,null,null,null,null,null,null,null,"SY020700","C2137","Tal Aran \\ تل عرن"]
[null,null,null,null,null,null,null,null,null,null,null,"SY020700","C2147","Tal Establ \\ تل اصطبل"]
[null,null,null,null,null,null,null,null,null,null,null,"SY020700","C2125","Tal Hasel \\ تل حاصل"]
[null,null,null,null,null,null,null,null,null,null,null,"SY020700","C2157","Tata \\ طاط"]
[null,null,null,null,null,null,null,null,null,null,null,"SY020700","C2145","Terkan \\ تركان"]
[null,null,null,null,null,null,null,null,null,null,null,"SY020700","C2148","Um Amud \\ ام عامود"]
[null,null,null,null,null,null,null,null,null,null,null,"SY020700","C2124","Um Elamad Alsafira \\ أم العمد السفيرة"]
[null,null,null,null,null,null,null,null,null,null,null,"SY020700","C2128","Zaalana \\ زعلانة"]
[null,null,null,null,null,null,null,null,null,null,null,"SY020700","C2156","Zanyan \\ زنيان"]
[null,null,null,null,null,null,null,null,null,null,null,"SY020701","C2176","Abda Musa \\ عبده موسى"]
[null,null,null,null,null,null,null,null,null,null,null,"SY020701","C2166","Gran Hajjara \\ حجارة كبيرة"]
[null,null,null,null,null,null,null,null,null,null,null,"SY020701","C2175","Gran Shallala \\ شلالة كبيرة"]
[null,null,null,null,null,null,null,null,null,null,null,"SY020701","C6343","Habs \\ حبس"]
[null,null,null,null,null,null,null,null,null,null,null,"SY020701","C2178","Harbikeh \\ هربكية"]
[null,null,null,null,null,null,null,null,null,null,null,"SY020701","C2177","Hawaz \\ هواز"]
[null,null,null,null,null,null,null,null,null,null,null,"SY020701","C2164","Jeb Elali \\ جب العلي"]
[null,null,null,null,null,null,null,null,null,null,null,"SY020701","C2167","Jeb elämää \\ جب الاعمى"]
[null,null,null,null,null,null,null,null,null,null,null,"SY020701","C2165","Jeb Qassem \\ جب جاسم"]
[null,null,null,null,null,null,null,null,null,null,null,"SY020701","C2169","Khanaser \\ خناصر"]
[null,null,null,null,null,null,null,null,null,null,null,"SY020701","C2179","Qleiah \\ قليعة"]
[null,null,null,null,null,null,null,null,null,null,null,"SY020701","C2168","Raheb \\ راهب"]
[null,null,null,null,null,null,null,null,null,null,null,"SY020701","C2170","Ramleh \\ رملة"]
[null,null,null,null,null,null,null,null,null,null,null,"SY020701","C2171","Rasm Elnafal \\ رسم النفل"]
[null,null,null,null,null,null,null,null,null,null,null,"SY020701","C2172","Rasm Elsayaleh \\ رسم السيالة"]
[null,null,null,null,null,null,null,null,null,null,null,"SY020701","C2173","Rasm Hamad \\ رسم حمد"]
[null,null,null,null,null,null,null,null,null,null,null,"SY020701","C2174","Zabad \\ زبد"]
[null,null,null,null,null,null,null,null,null,null,null,"SY020702","C2185","Banan \\ بنان"]
[null,null,null,null,null,null,null,null,null,null,null,"SY020702","C2188","Bluzeh \\ بلوزة"]
[null,null,null,null,null,null,null,null,null,null,null,"SY020702","C2186","Diman \\ ديمان"]
[null,null,null,null,null,null,null,null,null,null,null,"SY020702","C2183","Jaara \\ جعارة"]
[null,null,null,null,null,null,null,null,null,null,null,"SY020702","C2189","Qteirat \\ قتيطرات"]
[null,null,null,null,null,null,null,null,null,null,null,"SY020702","C2187","Sadaaya \\ صدعايا"]
[null,null,null,null,null,null,null,null,null,null,null,"SY020702","C6344","Fare Sarj \\ سرج فارع"]
[null,null,null,null,null,null,null,null,null,null,null,"SY020702","C2181","Smeiriyeh \\ السميرية"]
[null,null,null,null,null,null,null,null,null,null,null,"SY020702","C2180","Um Jern Elsafira \\ أم جرن السفبرة"]
[null,null,null,null,null,null,null,null,null,null,null,"SY020702","C2182","Ziraa \\ زراعة"]
[null,null,null,null,null,null,null,null,null,null,null,"SY020703","C2200","Abu Abdeh \\ أبو عبدة"]
[null,null,null,null,null,null,null,null,null,null,null,"SY020703","C2203","Abu JLUS \\ أبو جلوس"]
[null,null,null,null,null,null,null,null,null,null,null,"SY020703","C2206","Bisheh \\ بيشة"]
[null,null,null,null,null,null,null,null,null,null,null,"SY020703","C2184","Burj Azawi \\ برج عزاوي"]
[null,null,null,null,null,null,null,null,null,null,null,"SY020703","C2193","Burj Elsama \\ برج الساما"]
[null,null,null,null,null,null,null,null,null,null,null,"SY020703","C2202","Hajeb \\ الحاجب"]
[null,null,null,null,null,null,null,null,null,null,null,"SY020703","C2199","Hawir Elhus \\ حوير الحص"]
[null,null,null,null,null,null,null,null,null,null,null,"SY020703","C2198","Jarmakiyeh \\ الجرمكية"]
[null,null,null,null,null,null,null,null,null,null,null,"SY020703","C2204","Jeb Tinehir \\ جب تينة"]
[null,null,null,null,null,null,null,null,null,null,null,"SY020703","C2209","Kafr pitido \\ كفر حوت"]
[null,null,null,null,null,null,null,null,null,null,null,"SY020703","C2194","Bajo Jeb Antash \\ جب انطاش تحتاني"]
[null,null,null,null,null,null,null,null,null,null,null,"SY020703","C2208","Madrasa \\ مدرسة"]
[null,null,null,null,null,null,null,null,null,null,null,"SY020703","C2207","Maktaba \\ مكتبة"]
[null,null,null,null,null,null,null,null,null,null,null,"SY020703","C2211","Manaaya \\ منعايا"]
[null,null,null,null,null,null,null,null,null,null,null,"SY020703","C2212","Marbaat Bisha \\ مربعة بيشة"]
[null,null,null,null,null,null,null,null,null,null,null,"SY020703","C2210","Mgheirat Shibli \\ مغيرات شبلي"]
[null,null,null,null,null,null,null,null,null,null,null,"SY020703","C2205","Rabeeah Elhanuteh \\ ربيعة الحانوتة"]
[null,null,null,null,null,null,null,null,null,null,null,"SY020703","C2191","Rasm Omeish \\ رسم عميش"]
[null,null,null,null,null,null,null,null,null,null,null,"SY020703","C2195","Shur \\ سحور"]
[null,null,null,null,null,null,null,null,null,null,null,"SY020703","C2197","Suyan \\ سويان"]
[null,null,null,null,null,null,null,null,null,null,null,"SY020703","C2192","Tal Anbar \\ تل عنبر"]
[null,null,null,null,null,null,null,null,null,null,null,"SY020703","C2190","Tiba Safira \\ الطيبة سفيرة"]
[null,null,null,null,null,null,null,null,null,null,null,"SY020703","C2201","Ubu Getteh \\ ابو غتة"]
[null,null,null,null,null,null,null,null,null,null,null,"SY020703","C2196","Jeb superior Antash \\ جب انطاش فوقاني"]
[null,null,null,null,null,null,null,null,null,null,null,"SY020800","C2235","Gran Majra \\ مجرى كبير"]
[null,null,null,null,null,null,null,null,null,null,null,"SY020800","C2217","Dabis \\ الدابس"]
[null,null,null,null,null,null,null,null,null,null,null,"SY020800","C2231","Hadra - Big Baldaq \\ الحاضرة_بلدق كبير"]
[null,null,null,null,null,null,null,null,null,null,null,"SY020800","C2219","Halawaniyeh \\ الحلوانية"]
[null,null,null,null,null,null,null,null,null,null,null,"SY020800","C2214","Halawanji \\ حلونجي"]
[null,null,null,null,null,null,null,null,null,null,null,"SY020800","C2229","Himar \\ حيمر"]
[null,null,null,null,null,null,null,null,null,null,null,"SY020800","C2215","Hjeileh - Jrables \\ الحجلية - جرابلس"]
[null,null,null,null,null,null,null,null,null,null,null,"SY020800","C2224","Jamel \\ الجامل"]
[null,null,null,null,null,null,null,null,null,null,null,"SY020800","C2227","Jarablus \\ جرابلس"]
[null,null,null,null,null,null,null,null,null,null,null,"SY020800","C2239","Poco Majra \\ مجرى صغير"]
[null,null,null,null,null,null,null,null,null,null,null,"SY020800","C2216","Bajo Bir \\ البير التحتاني"]
[null,null,null,null,null,null,null,null,null,null,null,"SY020800","C2226","Bajo Jrables \\ جرابلس تحتاني"]
[null,null,null,null,null,null,null,null,null,null,null,"SY020800","C2223","Bajo Um Rotha \\ أم روثة تحتاني"]
[null,null,null,null,null,null,null,null,null,null,null,"SY020800","C2218","Maghayer - Qorq Mghar \\ المغاير_قرق مغار"]
[null,null,null,null,null,null,null,null,null,null,null,"SY020800","C2232","Mahsana - Mahsanli \\ المحسنة_محسنلي"]
[null,null,null,null,null,null,null,null,null,null,null,"SY020800","C2238","Marma Elhajar \\ مرمى الحجر"]
[null,null,null,null,null,null,null,null,null,null,null,"SY020800","C2240","Mazaalah \\ مزعلة"]
[null,null,null,null,null,null,null,null,null,null,null,"SY020800","C2241","Qandariya \\ قندرية"]
[null,null,null,null,null,null,null,null,null,null,null,"SY020800","C2237","Qirata \\ قيراطة"]
[null,null,null,null,null,null,null,null,null,null,null,"SY020800","C2230","Sreisat \\ صريصات"]
[null,null,null,null,null,null,null,null,null,null,null,"SY020800","C2213","Tal Elamara \\ تل العمارة"]
[null,null,null,null,null,null,null,null,null,null,null,"SY020800","C2221","Thahr Elmaghayer \\ ظهر المغاير"]
[null,null,null,null,null,null,null,null,null,null,null,"SY020800","C2222","Treikhem \\ طريخم"]
[null,null,null,null,null,null,null,null,null,null,null,"SY020800","C2228","Um Sosa \\ أم سوسة"]
[null,null,null,null,null,null,null,null,null,null,null,"SY020800","C2225","Um superior Rotha \\ أم روثة فوقاني"]
[null,null,null,null,null,null,null,null,null,null,null,"SY020800","C2236","Yusef Elbeik \\ يوسف بك"]
[null,null,null,null,null,null,null,null,null,null,null,"SY020800","C2220","Zoghra \\ زوغرة"]
[null,null,null,null,null,null,null,null,null,null,null,"SY020801","C2242","Árabe Azzah \\ عرب عزة"]
[null,null,null,null,null,null,null,null,null,null,null,"SY020801","C2265","Gran Mortafaa \\ مرتفع كبير"]
[null,null,null,null,null,null,null,null,null,null,null,"SY020801","C2264","Gran Nabgha \\ نبغة كبيرة"]
[null,null,null,null,null,null,null,null,null,null,null,"SY020801","C2267","Gran Qantara \\ قنطرة كبيرة"]
[null,null,null,null,null,null,null,null,null,null,null,"SY020801","C2246","Bilis \\ بيليس"]
[null,null,null,null,null,null,null,null,null,null,null,"SY020801","C2252","Forsan - Sabahiler \\ الفرسان_سباهيلر"]
[null,null,null,null,null,null,null,null,null,null,null,"SY020801","C2266","Ghanameh \\ غنمة"]
[null,null,null,null,null,null,null,null,null,null,null,"SY020801","C2250","Ghandorah \\ الغندورة"]
[null,null,null,null,null,null,null,null,null,null,null,"SY020801","C2251","Ghassaniyeh - Jrables \\ الغسانية جرابلس"]
[null,null,null,null,null,null,null,null,null,null,null,"SY020801","C2249","Hajar Elabyad \\ حجر الابيض"]
[null,null,null,null,null,null,null,null,null,null,null,"SY020801","C2243","Hfeira \\ حفيرة"]
[null,null,null,null,null,null,null,null,null,null,null,"SY020801","C2258","Hmeireh - Ashkaji \\ الحميرة_آشكجي"]
[null,null,null,null,null,null,null,null,null,null,null,"SY020801","C2262","Jeb Eldam Jrables \\ جب الدم جرابلس"]
[null,null,null,null,null,null,null,null,null,null,null,"SY020801","C2247","Kuliyeh \\ الكلية"]
[null,null,null,null,null,null,null,null,null,null,null,"SY020801","C2268","Lilawa \\ ليلوة"]
[null,null,null,null,null,null,null,null,null,null,null,"SY020801","C2256","Poco Hasan Árabe \\ عرب حسن صغير"]
[null,null,null,null,null,null,null,null,null,null,null,"SY020801","C2254","Qadi Jrables \\ القاضي جرابلس"]
[null,null,null,null,null,null,null,null,null,null,null,"SY020801","C2263","Qubbet Elturkman \\ قبة التركمان"]
[null,null,null,null,null,null,null,null,null,null,null,"SY020801","C2255","Sabuniyeh \\ الصابونية"]
[null,null,null,null,null,null,null,null,null,null,null,"SY020801","C2261","Shahid \\ الشهيد"]
[null,null,null,null,null,null,null,null,null,null,null,"SY020801","C2253","Sheib \\ الشعيب"]
[null,null,null,null,null,null,null,null,null,null,null,"SY020801","C2248","Sheineh \\ شعينة"]
[null,null,null,null,null,null,null,null,null,null,null,"SY020801","C2259","Sweida - Qorret Tashli \\ السويدة_قرة طاشلي"]
[null,null,null,null,null,null,null,null,null,null,null,"SY020801","C2260","Tal Aghbar - Tal Elagher \\ تل أغبر_تل الاغر"]
[null,null,null,null,null,null,null,null,null,null,null,"SY020801","C2245","Tal ali - Karbajli \\ تل علي_كربجلي"]
[null,null,null,null,null,null,null,null,null,null,null,"SY020801","C2244","Tal Elhajar - Tal Elahamar \\ تل الحجر_تل الاحمر"]
[null,null,null,null,null,null,null,null,null,null,null,"SY020801","C2257","Thaheriya Jrables \\ الظاهرية جرابلس"]
[null,null,null,null,null,null,null,null,null,null,null,"SY030101","C2283","Adleiyeh \\ العادلية"]
[null,null,null,null,null,null,null,null,null,null,null,"SY030101","C2274","Al Matalleh \\ المطله"]
[null,null,null,null,null,null,null,null,null,null,null,"SY030101","C2277","Arkis \\ أركيس"]
[null,null,null,null,null,null,null,null,null,null,null,"SY030101","C2284","Deir Ali \\ دير علي"]
[null,null,null,null,null,null,null,null,null,null,null,"SY030101","C2287","Deir Khabiyeh \\ ديرخبية"]
[null,null,null,null,null,null,null,null,null,null,null,"SY030101","C2269","Ein Elbeida \\ عين البيضة"]
[null,null,null,null,null,null,null,null,null,null,null,"SY030101","C2276","Ein Elsoda \\ عين السودة"]
[null,null,null,null,null,null,null,null,null,null,null,"SY030101","C2272","Harjal \\ الحرجلة"]
[null,null,null,null,null,null,null,null,null,null,null,"SY030101","C2286","Jeb Elsafa \\ جب الصفا"]
[null,null,null,null,null,null,null,null,null,null,null,"SY030101","C2275","Khan Danoun \\ خان دنون"]
[null,null,null,null,null,null,null,null,null,null,null,"SY030101","C2270","Kherbet Elsheyab \\ خربة الشياب"]
[null,null,null,null,null,null,null,null,null,null,null,"SY030101","C2273","Khiyarat Danoun \\ خيارة دنون"]
[null,null,null,null,null,null,null,null,null,null,null,"SY030101","C2280","Kisweh \\ الكسوة"]
[null,null,null,null,null,null,null,null,null,null,null,"SY030101","C2288","Marana \\ مرانة"]
[null,null,null,null,null,null,null,null,null,null,null,"SY030101","C2291","Morjana \\ مرجانة"]
[null,null,null,null,null,null,null,null,null,null,null,"SY030101","C2290","Mqeilibeh \\ مقيليبة"]
[null,null,null,null,null,null,null,null,null,null,null,"SY030101","C2289","Qara \\ قارا"]
[null,null,null,null,null,null,null,null,null,null,null,"SY030101","C2271","Saada \\ السعادة"]
[null,null,null,null,null,null,null,null,null,null,null,"SY030101","C2278","Shaqhab \\ شقحب"]
[null,null,null,null,null,null,null,null,null,null,null,"SY030101","C2281","Tiba \\ الطيبة"]
[null,null,null,null,null,null,null,null,null,null,null,"SY030101","C2282","Um Elawamid \\ أم العواميد"]
[null,null,null,null,null,null,null,null,null,null,null,"SY030101","C2279","Zakyeh \\ زاكية"]
[null,null,null,null,null,null,null,null,null,null,null,"SY030101","C2285","Zreiqa \\ الزريقية"]
[null,null,null,null,null,null,null,null,null,null,null,"SY030102","C2292","Aqraba \\ عقربا"]
[null,null,null,null,null,null,null,null,null,null,null,"SY030102","C2300","Babella \\ ببيلا"]
[null,null,null,null,null,null,null,null,null,null,null,"SY030102","C2297","Bahdaliya \\ البحدلية"]
[null,null,null,null,null,null,null,null,null,null,null,"SY030102","C2295","Beit Sahm \\ بيت سحم"]
[null,null,null,null,null,null,null,null,null,null,null,"SY030102","C2296","Buwayda \\ البويضة"]
[null,null,null,null,null,null,null,null,null,null,null,"SY030102","C2293","Hjeireh \\ حجيرة"]
[null,null,null,null,null,null,null,null,null,null,null,"SY030102","C2294","Hosh Sahya \\ حوش صهيا"]
[null,null,null,null,null,null,null,null,null,null,null,"SY030102","C2298","Kherbet Elward \\ خربة الورد"]
[null,null,null,null,null,null,null,null,null,null,null,"SY030102","C2303","Najha \\ نجها"]
[null,null,null,null,null,null,null,null,null,null,null,"SY030102","C2299","Sayyeda Zeinab \\ السيدة زينب"]
[null,null,null,null,null,null,null,null,null,null,null,"SY030102","C2301","Sbeineh \\ السبينة"]
[null,null,null,null,null,null,null,null,null,null,null,"SY030102","C2302","Yalda \\ يلدا"]
[null,null,null,null,null,null,null,null,null,null,null,"SY030103","C2304","Jaramana \\ جرمانا"]
[null,null,null,null,null,null,null,null,null,null,null,"SY030104","C2306","Ahdaf \\ الأهداف"]
[null,null,null,null,null,null,null,null,null,null,null,"SY030104","C2309","Deir Elasafir \\ دير العصافير"]
[null,null,null,null,null,null,null,null,null,null,null,"SY030104","C2310","Hosh Elsultan \\ حوش السلطان"]
[null,null,null,null,null,null,null,null,null,null,null,"SY030104","C2311","Hteitet Elturkman \\ حتيتة التركمان"]
[null,null,null,null,null,null,null,null,null,null,null,"SY030104","C2308","Maliha \\ المليحة"]
[null,null,null,null,null,null,null,null,null,null,null,"SY030104","C2305","Shabaa \\ شبعا"]
[null,null,null,null,null,null,null,null,null,null,null,"SY030104","C2307","Zabadin \\ زبدين"]
[null,null,null,null,null,null,null,null,null,null,null,"SY030105","C2318","Beit Sawa \\ بيت سوا"]
[null,null,null,null,null,null,null,null,null,null,null,"SY030105","C2312","Eftreis \\ افتريس"]
[null,null,null,null,null,null,null,null,null,null,null,"SY030105","C2315","Ein Terma \\ عين ترما"]
[null,null,null,null,null,null,null,null,null,null,null,"SY030105","C2316","Hammura \\ حمورة"]
[null,null,null,null,null,null,null,null,null,null,null,"SY030105","C2313","Hezzeh \\ حزة"]
[null,null,null,null,null,null,null,null,null,null,null,"SY030105","C2317","Jisrein \\ جسرين"]
[null,null,null,null,null,null,null,null,null,null,null,"SY030105","C2319","Kafr Batna \\ كفر بطنا"]
[null,null,null,null,null,null,null,null,null,null,null,"SY030105","C2314","Saqba \\ سقبا"]
[null,null,null,null,null,null,null,null,null,null,null,"SY030106","C2321","Arbin \\ عربين"]
[null,null,null,null,null,null,null,null,null,null,null,"SY030106","C2320","Zamalka \\ زملكا"]
[null,null,null,null,null,null,null,null,null,null,null,"SY030107","C2324","Ashrafiet Elwadi \\ أشرفية الوادي"]
[null,null,null,null,null,null,null,null,null,null,null,"SY030107","C2326","Bseimeh \\ بسيمة"]
[null,null,null,null,null,null,null,null,null,null,null,"SY030107","C2323","Hama \\ الهامة"]
[null,null,null,null,null,null,null,null,null,null,null,"SY030107","C2325","Jamraya \\ جمرايا"]
[null,null,null,null,null,null,null,null,null,null,null,"SY030107","C2322","Jdidet Elwadi \\ جديدة الوادي"]
[null,null,null,null,null,null,null,null,null,null,null,"SY030107","C2327","Nueva Dahiet Qdosiya Elsakina \\ ضاحية قدسيا السكنية الجديدة"]
[null,null,null,null,null,null,null,null,null,null,null,"SY030107","C2328","Qudsiya \\ قدسيا"]
[null,null,null,null,null,null,null,null,null,null,null,"SY030200","C2331","Adra \\ عدرا"]
[null,null,null,null,null,null,null,null,null,null,null,"SY030200","C2330","Btihet Elwafedine \\ بطيحة الوافدين"]
[null,null,null,null,null,null,null,null,null,null,null,"SY030200","C2338","Duma \\ دوما"]
[null,null,null,null,null,null,null,null,null,null,null,"SY030200","C2332","Hosh Eldawahreh \\ حوش الضواهره"]
[null,null,null,null,null,null,null,null,null,null,null,"SY030200","C2333","Hosh Elfara \\ حوش الفاره"]
[null,null,null,null,null,null,null,null,null,null,null,"SY030200","C2329","Hosh Nasri \\ حوش نصري"]
[null,null,null,null,null,null,null,null,null,null,null,"SY030200","C2336","Bajo Hfeir \\ حفير التحتا"]
[null,null,null,null,null,null,null,null,null,null,null,"SY030200","C2340","Medinet Elshahid albahaca Elasad Alomaliyeh Baadra \\ مدينة الشهيد باسل الأسد العمالية بعدرا"]
[null,null,null,null,null,null,null,null,null,null,null,"SY030200","C2339","Meidaa \\ ميدعا"]
[null,null,null,null,null,null,null,null,null,null,null,"SY030200","C2337","Rihan \\ الريحان"]
[null,null,null,null,null,null,null,null,null,null,null,"SY030200","C2334","Shafuniyeh \\ الشفونية"]
[null,null,null,null,null,null,null,null,null,null,null,"SY030200","C2335","Tal Elswan \\ تل الصوان"]
[null,null,null,null,null,null,null,null,null,null,null,"SY030201","C2341","Dahiet Elasad \\ ضاحية الأسد"]
[null,null,null,null,null,null,null,null,null,null,null,"SY030201","C2342","Harasta \\ حرستا"]
[null,null,null,null,null,null,null,null,null,null,null,"SY030201","C2344","Misraba \\ مسرابا"]
[null,null,null,null,null,null,null,null,null,null,null,"SY030201","C2343","Modira \\ مديرا"]
[null,null,null,null,null,null,null,null,null,null,null,"SY030202","C2345","Sabe Byar \\ السبع بيار"]
[null,null,null,null,null,null,null,null,null,null,null,"SY030203","C2346","Dhameer \\ الضمير"]
[null,null,null,null,null,null,null,null,null,null,null,"SY030203","C6321","Ramadán (no oficial PR Camp) \\ مخيم الرمدان"]
[null,null,null,null,null,null,null,null,null,null,null,"SY030204","C2353","Ahmadia \\ الأحمدية"]
[null,null,null,null,null,null,null,null,null,null,null,"SY030204","C2349","Bahariya \\ البحارية"]
[null,null,null,null,null,null,null,null,null,null,null,"SY030204","C2354","Balaliyeh \\ البلالية"]
[null,null,null,null,null,null,null,null,null,null,null,"SY030204","C2363","Beit Nayem \\ بيت نايم"]
[null,null,null,null,null,null,null,null,null,null,null,"SY030204","C2347","Bzeineh \\ بزينة"]
[null,null,null,null,null,null,null,null,null,null,null,"SY030204","C2359","Deir Salman \\ دير سلمان"]
[null,null,null,null,null,null,null,null,null,null,null,"SY030204","C2352","Harasta Elqantara \\ حرستا القنطرة"]
[null,null,null,null,null,null,null,null,null,null,null,"SY030204","C2361","Jarba \\ الجربا"]
[null,null,null,null,null,null,null,null,null,null,null,"SY030204","C2358","Kamissiyeh \\ الخامسية"]
[null,null,null,null,null,null,null,null,null,null,null,"SY030204","C2364","Mansura \\ المنصورة"]
[null,null,null,null,null,null,null,null,null,null,null,"SY030204","C2366","Marj Elsultan \\ مرج السلطان"]
[null,null,null,null,null,null,null,null,null,null,null,"SY030204","C2355","Nashabiyeh \\ النشابية"]
[null,null,null,null,null,null,null,null,null,null,null,"SY030204","C2365","Nula \\ نولة"]
[null,null,null,null,null,null,null,null,null,null,null,"SY030204","C2357","Obada \\ العبادة"]
[null,null,null,null,null,null,null,null,null,null,null,"SY030204","C2350","Otania \\ أوتايا"]
[null,null,null,null,null,null,null,null,null,null,null,"SY030204","C2348","Otayba \\ العتيبة"]
[null,null,null,null,null,null,null,null,null,null,null,"SY030204","C2356","Qasemiyeh \\ القاسمية"]
[null,null,null,null,null,null,null,null,null,null,null,"SY030204","C2351","Qisa \\ القيسا"]
[null,null,null,null,null,null,null,null,null,null,null,"SY030204","C2360","Salhiyeh \\ الصالحية"]
[null,null,null,null,null,null,null,null,null,null,null,"SY030204","C2367","Widyan Elrabee \\ وديان الربيع"]
[null,null,null,null,null,null,null,null,null,null,null,"SY030204","C2362","Zamaiyeh \\ الزمانية"]
[null,null,null,null,null,null,null,null,null,null,null,"SY030205","C2374","Bayad \\ البياض"]
[null,null,null,null,null,null,null,null,null,null,null,"SY030205","C2369","Bitariyeh \\ البيطارية"]
[null,null,null,null,null,null,null,null,null,null,null,"SY030205","C2376","Deir Elhajar \\ دير الحجر"]
[null,null,null,null,null,null,null,null,null,null,null,"SY030205","C2377","Delbeh \\ دلبة"]
[null,null,null,null,null,null,null,null,null,null,null,"SY030205","C2375","Ghassuleh \\ غسولة"]
[null,null,null,null,null,null,null,null,null,null,null,"SY030205","C2370","Ghizlaniyyeh \\ الغزلانية"]
[null,null,null,null,null,null,null,null,null,null,null,"SY030205","C2371","Hayajneh \\ الهيجانة"]
[null,null,null,null,null,null,null,null,null,null,null,"SY030205","C2378","Qarhata \\ قرحتا"]
[null,null,null,null,null,null,null,null,null,null,null,"SY030205","C2372","Qarmashiyeh \\ القرمشية"]
[null,null,null,null,null,null,null,null,null,null,null,"SY030205","C2368","Saka \\ سكا"]
[null,null,null,null,null,null,null,null,null,null,null,"SY030205","C2373","Tal Maskan \\ تل مسكن"]
[null,null,null,null,null,null,null,null,null,null,null,"SY030206","C2380","Haran Al'awameed \\ حران العواميد"]
[null,null,null,null,null,null,null,null,null,null,null,"SY030206","C2381","Jdidet Elkhas \\ جديدة الخاص"]
[null,null,null,null,null,null,null,null,null,null,null,"SY030206","C2382","Kafrein \\ الكفرين"]
[null,null,null,null,null,null,null,null,null,null,null,"SY030206","c2379","Mbarka \\ المباركة"]
[null,null,null,null,null,null,null,null,null,null,null,"SY030300","C2384","Al Qutayfah \\ القطيفة"]
[null,null,null,null,null,null,null,null,null,null,null,"SY030300","C2383","Helleh \\ حله"]
[null,null,null,null,null,null,null,null,null,null,null,"SY030300","C2385","Madamiyet Elqalmun \\ معضمية القلمون"]
[null,null,null,null,null,null,null,null,null,null,null,"SY030301","C2388","Atna \\ العطنة"]
[null,null,null,null,null,null,null,null,null,null,null,"SY030301","C2387","Jirud \\ جيرود"]
[null,null,null,null,null,null,null,null,null,null,null,"SY030301","C2386","Nasriyeh \\ الناصرية"]
[null,null,null,null,null,null,null,null,null,null,null,"SY030302","c2390","Ein-Et Teeneh \\ عين التينة"]
[null,null,null,null,null,null,null,null,null,null,null,"SY030302","C2391","Jabaadin \\ جبعدين"]
[null,null,null,null,null,null,null,null,null,null,null,"SY030302","C2393","Ma'loula \\ معلولا"]
[null,null,null,null,null,null,null,null,null,null,null,"SY030302","c2392","Twani \\ التواني"]
[null,null,null,null,null,null,null,null,null,null,null,"SY030303","C2394","Raheiba \\ الرحيبة"]
[null,null,null,null,null,null,null,null,null,null,null,"SY030400","C2395","En Tall \\ التل"]
[null,null,null,null,null,null,null,null,null,null,null,"SY030400","C2398","Dreij \\ الدريج"]
[null,null,null,null,null,null,null,null,null,null,null,"SY030400","C2397","Halbun \\ حلبون"]
[null,null,null,null,null,null,null,null,null,null,null,"SY030400","C2400","Maaruna \\ معرونة"]
[null,null,null,null,null,null,null,null,null,null,null,"SY030400","C2401","Meraba \\ معربا"]
[null,null,null,null,null,null,null,null,null,null,null,"SY030400","C2399","Monin \\ منين"]
[null,null,null,null,null,null,null,null,null,null,null,"SY030400","C2396","Talfita \\ تلفيتا"]
[null,null,null,null,null,null,null,null,null,null,null,"SY030401","C2402","Bada \\ بدا"]
[null,null,null,null,null,null,null,null,null,null,null,"SY030401","C2406","Maaret Sednaya \\ معرة صيدنايا"]
[null,null,null,null,null,null,null,null,null,null,null,"SY030401","C2403","Okobar \\ عكوبر"]
[null,null,null,null,null,null,null,null,null,null,null,"SY030401","C2404","Sidnaya \\ صيدنايا"]
[null,null,null,null,null,null,null,null,null,null,null,"SY030401","C2405","Alta Hfeir \\ حفير الفوقا"]
[null,null,null,null,null,null,null,null,null,null,null,"SY030402","C2408","Fayadiyeh \\ الفياضية"]
[null,null,null,null,null,null,null,null,null,null,null,"SY030402","C2407","Hosh Arab \\ حوش عرب"]
[null,null,null,null,null,null,null,null,null,null,null,"SY030402","C2409","Jurneyyeh \\ الجرنية"]
[null,null,null,null,null,null,null,null,null,null,null,"SY030402","C2411","Mahabba \\ المحبة"]
[null,null,null,null,null,null,null,null,null,null,null,"SY030402","C2410","Rankus \\ رنكوس"]
[null,null,null,null,null,null,null,null,null,null,null,"SY030500","C2415","Ras El Ein - Yabrud \\ رأس العين - يبرود"]
[null,null,null,null,null,null,null,null,null,null,null,"SY030500","C2413","Ras Elmaarra \\ رأس المعرة"]
[null,null,null,null,null,null,null,null,null,null,null,"SY030500","C2412","Rima \\ ريما"]
[null,null,null,null,null,null,null,null,null,null,null,"SY030500","C2414","Sarkha \\ الصرخه"]
[null,null,null,null,null,null,null,null,null,null,null,"SY030500","C2416","Yabroud \\ يبرود"]
[null,null,null,null,null,null,null,null,null,null,null,"SY030501","C2417","El Esal-Ward \\ عسال الورد"]
[null,null,null,null,null,null,null,null,null,null,null,"SY030501","C2418","Jobbeh \\ الجبة"]
[null,null,null,null,null,null,null,null,null,null,null,"SY030600","C2419","Un Nabk \\ النبك"]
[null,null,null,null,null,null,null,null,null,null,null,"SY030600","C2422","Mashrafet Falita \\ مشرفة فليطة"]
[null,null,null,null,null,null,null,null,null,null,null,"SY030600","C2423","Qaldun Elmarah \\ قلدون المراح"]
[null,null,null,null,null,null,null,null,null,null,null,"SY030600","C2421","Qastal \\ القسطل"]
[null,null,null,null,null,null,null,null,null,null,null,"SY030600","C2420","Sahl \\ السحل"]
[null,null,null,null,null,null,null,null,null,null,null,"SY030601","C2424","Deir Attiyeh \\ دير عطية"]
[null,null,null,null,null,null,null,null,null,null,null,"SY030601","C2425","Hmeireh \\ الحميرة"]
[null,null,null,null,null,null,null,null,null,null,null,"SY030601","C2426","Jarajir \\ الجراجير"]
[null,null,null,null,null,null,null,null,null,null,null,"SY030601","C2427","Qarra \\ قارة"]
[null,null,null,null,null,null,null,null,null,null,null,"SY030700","C2429","Az-Zabdani \\ الزبداني"]
[null,null,null,null,null,null,null,null,null,null,null,"SY030700","C2433","Barhaliya \\ برهليا"]
[null,null,null,null,null,null,null,null,null,null,null,"SY030700","C2434","Bludan \\ بلودان"]
[null,null,null,null,null,null,null,null,null,null,null,"SY030700","C2432","Hosh BJID \\ حوش بجد"]
[null,null,null,null,null,null,null,null,null,null,null,"SY030700","C2435","Kafr Elawamid \\ كفر العواميد"]
[null,null,null,null,null,null,null,null,null,null,null,"SY030700","C2431","Rawda Batroneh \\ الروضة_البطرونة"]
[null,null,null,null,null,null,null,null,null,null,null,"SY030700","C2430","Suq Wadi Burda \\ سوق وادي بردى"]
[null,null,null,null,null,null,null,null,null,null,null,"SY030701","C2437","Dimas \\ الديماس"]
[null,null,null,null,null,null,null,null,null,null,null,"SY030701","C2436","Jdidet Yabus \\ جديدة يابوس"]
[null,null,null,null,null,null,null,null,null,null,null,"SY030701","C2440","Kafir Yabus \\ كفير يابوس"]
[null,null,null,null,null,null,null,null,null,null,null,"SY030701","C2438","Maadar \\ معدر"]
[null,null,null,null,null,null,null,null,null,null,null,"SY030701","C2439","Qura Elasad \\ قرى الأسد"]
[null,null,null,null,null,null,null,null,null,null,null,"SY030701","C2441","Yabus \\ يابوس"]
[null,null,null,null,null,null,null,null,null,null,null,"SY030702","C2443","Afra \\ افرة"]
[null,null,null,null,null,null,null,null,null,null,null,"SY030702","C2444","Deir Maqran \\ دير مقرن"]
[null,null,null,null,null,null,null,null,null,null,null,"SY030702","C2445","Deir Qanun \\ دير قانون"]
[null,null,null,null,null,null,null,null,null,null,null,"SY030702","C2447","Ein Elfijeh \\ عين الفيجة"]
[null,null,null,null,null,null,null,null,null,null,null,"SY030702","C2446","Hseiniyeh \\ الحسينية"]
[null,null,null,null,null,null,null,null,null,null,null,"SY030702","C2448","Kafir Elzeit \\ كفير الزيت"]
[null,null,null,null,null,null,null,null,null,null,null,"SY030703","C2449","Bqine \\ بقين"]
[null,null,null,null,null,null,null,null,null,null,null,"SY030703","C2451","Horayra \\ هريرة"]
[null,null,null,null,null,null,null,null,null,null,null,"SY030703","C2450","Madaya \\ مضايا"]
[null,null,null,null,null,null,null,null,null,null,null,"SY030704","C2452","Ein Hur \\ عين حور"]
[null,null,null,null,null,null,null,null,null,null,null,"SY030704","C2453","Sarghaya \\ سرغايا"]
[null,null,null,null,null,null,null,null,null,null,null,"SY030800","C2455","Amiba \\ أمبيا"]
[null,null,null,null,null,null,null,null,null,null,null,"SY030800","C2460","Amrat \\ العمرات"]
[null,null,null,null,null,null,null,null,null,null,null,"SY030800","C2465","Arna \\ عرنة"]
[null,null,null,null,null,null,null,null,null,null,null,"SY030800","C2459","Artuz \\ عرطوز"]
[null,null,null,null,null,null,null,null,null,null,null,"SY030800","C2463","Beja \\ البجاع"]
[null,null,null,null,null,null,null,null,null,null,null,"SY030800","C2461","Bqaasam \\ بقعسم"]
[null,null,null,null,null,null,null,null,null,null,null,"SY030800","C2458","Darwasheh \\ دروشه"]
[null,null,null,null,null,null,null,null,null,null,null,"SY030800","C2467","Castillo jandal \\ قلعة الجندل"]
[null,null,null,null,null,null,null,null,null,null,null,"SY030800","C2457","Jdidet Artuz \\ جديدة عرطوز"]
[null,null,null,null,null,null,null,null,null,null,null,"SY030800","C2471","Kafrquq \\ كفرقوق"]
[null,null,null,null,null,null,null,null,null,null,null,"SY030800","C2472","Kawkab \\ كوكب"]
[null,null,null,null,null,null,null,null,null,null,null,"SY030800","C2466","Khan Elshih \\ خان الشيح"]
[null,null,null,null,null,null,null,null,null,null,null,"SY030800","C2469","Manshiyet Khan Elshih \\ منشية خان الشيح"]
[null,null,null,null,null,null,null,null,null,null,null,"SY030800","C2442","Mazraet Deir Elashayer \\ مزرعة دير العشائر"]
[null,null,null,null,null,null,null,null,null,null,null,"SY030800","C2470","Qatana \\ قطنا"]
[null,null,null,null,null,null,null,null,null,null,null,"SY030800","C2462","Rakhleh \\\\ رخلة"]
[null,null,null,null,null,null,null,null,null,null,null,"SY030800","C2456","Ras El Ein Qatna \\ رأس العين قطنا"]
[null,null,null,null,null,null,null,null,null,null,null,"SY030800","C2454","Rimah \\ ريمه"]
[null,null,null,null,null,null,null,null,null,null,null,"SY030800","C2464","Sabbura \\ الصبورة"]
[null,null,null,null,null,null,null,null,null,null,null,"SY030800","C2468","Yafur \\ يعفور"]
[null,null,null,null,null,null,null,null,null,null,null,"SY030801","C2478","Cebo Ene \\ بيت جن"]
[null,null,null,null,null,null,null,null,null,null,null,"SY030801","C2473","Darbal \\ دربل"]
[null,null,null,null,null,null,null,null,null,null,null,"SY030801","C2474","Ein Elshaara \\ عين الشعره"]
[null,null,null,null,null,null,null,null,null,null,null,"SY030801","C2476","Herfa \\ حرفا"]
[null,null,null,null,null,null,null,null,null,null,null,"SY030801","C2477","Hina \\ حينة"]
[null,null,null,null,null,null,null,null,null,null,null,"SY030801","C2479","Kherbet Elsawda \\ خربة السودا"]
[null,null,null,null,null,null,null,null,null,null,null,"SY030801","C2480","Maghar Elmir \\ مغرالمير"]
[null,null,null,null,null,null,null,null,null,null,null,"SY030801","C2475","Maqrusa \\ المقروصه"]
[null,null,null,null,null,null,null,null,null,null,null,"SY030801","C2481","Mazraet Beit Jin \\ مزرعة بيت جن"]
[null,null,null,null,null,null,null,null,null,null,null,"SY030802","C2492","Abu Qawooq \\ أبو قاووق"]
[null,null,null,null,null,null,null,null,null,null,null,"SY030802","C2489","Saber Beit \\ بيت سابر"]
[null,null,null,null,null,null,null,null,null,null,null,"SY030802","C2491","Betima \\ بيتيما"]
[null,null,null,null,null,null,null,null,null,null,null,"SY030802","C2483","Deir fabricante \\ دير ماكر"]
[null,null,null,null,null,null,null,null,null,null,null,"SY030802","C2490","Dinaji \\ دناجي"]
[null,null,null,null,null,null,null,null,null,null,null,"SY030802","C2484","Durin \\ دورين"]
[null,null,null,null,null,null,null,null,null,null,null,"SY030802","C2494","Hamrit \\ حمريت"]
[null,null,null,null,null,null,null,null,null,null,null,"SY030802","C2488","Hbariyeh \\ الهبارية"]
[null,null,null,null,null,null,null,null,null,null,null,"SY030802","C2482","Hosh Elnofur \\ حوش النفور"]
[null,null,null,null,null,null,null,null,null,null,null,"SY030802","C2495","Kafr Hoor \\ كفر حور"]
[null,null,null,null,null,null,null,null,null,null,null,"SY030802","C2497","Kanaker \\ كناكر"]
[null,null,null,null,null,null,null,null,null,null,null,"SY030802","C2496","Maes \\ ماعص"]
[null,null,null,null,null,null,null,null,null,null,null,"SY030802","C2487","Nofur \\ النفور"]
[null,null,null,null,null,null,null,null,null,null,null,"SY030802","C2486","Qleiah \\ القليعة"]
[null,null,null,null,null,null,null,null,null,null,null,"SY030802","C2493","Sa'sa '\\ سعسع"]
[null,null,null,null,null,null,null,null,null,null,null,"SY030802","C2485","Shokteliyeh \\ الشوكتلية"]
[null,null,null,null,null,null,null,null,null,null,null,"SY030900","C2498","Darayya \\ داريا"]
[null,null,null,null,null,null,null,null,null,null,null,"SY030900","C2499","Madamiyet Elsham \\ معضمية الشام"]
[null,null,null,null,null,null,null,null,null,null,null,"SY030901","C2500","Ashrafiet Sahnaya \\ أشرفية صحنايا"]
[null,null,null,null,null,null,null,null,null,null,null,"SY030901","C2501","Sahnaya \\ صحنايا"]
[null,null,null,null,null,null,null,null,null,null,null,"SY030902","C2502","Hajar Aswad \\ الحجر الأسود"]
[null,null,null,null,null,null,null,null,null,null,null,"SY040100","C2518","Aabel \\ آبل"]
[null,null,null,null,null,null,null,null,null,null,null,"SY040100","C2521","Abu Dali \\ أبو دالي"]
[null,null,null,null,null,null,null,null,null,null,null,"SY040100","C2514","Ashrafiya \\ الأشرفية"]
[null,null,null,null,null,null,null,null,null,null,null,"SY040100","C2511","Daffa - Halmuz \\ الضفة-الحلموز"]
[null,null,null,null,null,null,null,null,null,null,null,"SY040100","C2524","Dar Kabira \\ الدار الكبيرة"]
[null,null,null,null,null,null,null,null,null,null,null,"SY040100","C2533","Oriental Jdideh \\ جديدة الشرقية"]
[null,null,null,null,null,null,null,null,null,null,null,"SY040100","C2507","Esmailiyeh - Almoktaria \\ اسماعيلية-المختارية"]
[null,null,null,null,null,null,null,null,null,null,null,"SY040100","C2508","Fahileh \\ الفحيلة"]
[null,null,null,null,null,null,null,null,null,null,null,"SY040100","C2536","Fayruza \\ فيروزة"]
[null,null,null,null,null,null,null,null,null,null,null,"SY040100","C2509","Ghazala \\ غزالة"]
[null,null,null,null,null,null,null,null,null,null,null,"SY040100","C2535","Hobub Elrih \\ هبوب الريح"]
[null,null,null,null,null,null,null,null,null,null,null,"SY040100","C2528","Homs \\ حمص"]
[null,null,null,null,null,null,null,null,null,null,null,"SY040100","C2510","Jamiliya \\ الجميلية"]
[null,null,null,null,null,null,null,null,null,null,null,"SY040100","C2531","Jdidet Elasi \\ جديدة العاصي"]
[null,null,null,null,null,null,null,null,null,null,null,"SY040100","C2532","Jludiyeh \\ جلودية"]
[null,null,null,null,null,null,null,null,null,null,null,"SY040100","C2504","Jober \\ جوبر"]
[null,null,null,null,null,null,null,null,null,null,null,"SY040100","C2538","Kafr Aaya \\ كفر عايا"]
[null,null,null,null,null,null,null,null,null,null,null,"SY040100","C2537","Kafr Abed \\ كفر عبد"]
[null,null,null,null,null,null,null,null,null,null,null,"SY040100","C2522","Kalidiyeh \\ الخالدية"]
[null,null,null,null,null,null,null,null,null,null,null,"SY040100","C2534","Maskana \\ مسكنة"]
[null,null,null,null,null,null,null,null,null,null,null,"SY040100","C2583","Mazraa - Wa'ar \\ المزرعة وعر"]
[null,null,null,null,null,null,null,null,null,null,null,"SY040100","C2506","Mbarkiyeh \\ المباركية"]
[null,null,null,null,null,null,null,null,null,null,null,"SY040100","C2530","Muhajerine \\ المهاجرين"]
[null,null,null,null,null,null,null,null,null,null,null,"SY040100","C2503","Naqira \\ النقيرة"]
[null,null,null,null,null,null,null,null,null,null,null,"SY040100","C2527","Nejmeh \\ النجمة"]
[null,null,null,null,null,null,null,null,null,null,null,"SY040100","C2519","Obudiyeh \\ العبودية"]
[null,null,null,null,null,null,null,null,null,null,null,"SY040100","C2539","Qotniyeh \\ قطينة"]
[null,null,null,null,null,null,null,null,null,null,null,"SY040100","C2512","Rayyan \\ الريان"]
[null,null,null,null,null,null,null,null,null,null,null,"SY040100","C2523","Riyad \\ الرياض"]
[null,null,null,null,null,null,null,null,null,null,null,"SY040100","C2525","Sakra \\ سكرة"]
[null,null,null,null,null,null,null,null,null,null,null,"SY040100","C2515","Tal Ahmar \\ تل أحمر"]
[null,null,null,null,null,null,null,null,null,null,null,"SY040100","C2529","Tal Elnaqa \\ تل الناقة"]
[null,null,null,null,null,null,null,null,null,null,null,"SY040100","C2516","Tal Elshur \\ تل الشور"]
[null,null,null,null,null,null,null,null,null,null,null,"SY040100","C2505","Tal Zbeideh \\ تل زبيدة"]
[null,null,null,null,null,null,null,null,null,null,null,"SY040100","C2517","Thabetiyeh \\ الثابتية"]
[null,null,null,null,null,null,null,null,null,null,null,"SY040100","C2513","Tir Maallah \\ تير معلة"]
[null,null,null,null,null,null,null,null,null,null,null,"SY040100","C2526","Zaydal \\ زيدل"]
[null,null,null,null,null,null,null,null,null,null,null,"SY040100","C6307","Zhuriyeh \\ الزهرية"]
[null,null,null,null,null,null,null,null,null,null,null,"SY040101","C2552","Arqaya \\ عرقايا"]
[null,null,null,null,null,null,null,null,null,null,null,"SY040101","C2548","Burj Qaei \\ برج قاعي"]
[null,null,null,null,null,null,null,null,null,null,null,"SY040101","C2542","Hadatha \\ حداثة"]
[null,null,null,null,null,null,null,null,null,null,null,"SY040101","C2554","Heisa \\ الحيصة"]
[null,null,null,null,null,null,null,null,null,null,null,"SY040101","C2559","Hiraql \\ هرقل"]
[null,null,null,null,null,null,null,null,null,null,null,"SY040101","C2540","Hishmeh \\ الحشمة"]
[null,null,null,null,null,null,null,null,null,null,null,"SY040101","C2544","Hmeimeh \\ الحميمة"]
[null,null,null,null,null,null,null,null,null,null,null,"SY040101","C2545","Jarnaya \\ جرنايا"]
[null,null,null,null,null,null,null,null,null,null,null,"SY040101","C2520","Jawalek \\ جوالك"]
[null,null,null,null,null,null,null,null,null,null,null,"SY040101","C2556","Kafr Laha \\ كفر لاها"]
[null,null,null,null,null,null,null,null,null,null,null,"SY040101","C2558","Mihnaya \\ محناية"]
[null,null,null,null,null,null,null,null,null,null,null,"SY040101","C2555","Mjeidel \\ مجيدل"]
[null,null,null,null,null,null,null,null,null,null,null,"SY040101","C2550","Rafeen \\ رفعين"]
[null,null,null,null,null,null,null,null,null,null,null,"SY040101","C2549","Samalil \\ سمعليل"]
[null,null,null,null,null,null,null,null,null,null,null,"SY040101","C2553","Sensil \\ سنيسل"]
[null,null,null,null,null,null,null,null,null,null,null,"SY040101","C2551","Shama - Krad Dasniyeh \\ الشامة-كراد داسنية"]
[null,null,null,null,null,null,null,null,null,null,null,"SY040101","C2547","Tal Dahab \\ تل ذهب"]
[null,null,null,null,null,null,null,null,null,null,null,"SY040101","C2541","Taldu \\ تلدو"]
[null,null,null,null,null,null,null,null,null,null,null,"SY040101","C6318","Talil \\ تليل"]
[null,null,null,null,null,null,null,null,null,null,null,"SY040101","C2560","Ghor Occidental - Ghor Samaalil \\ غور غربية-غور سمعليل"]
[null,null,null,null,null,null,null,null,null,null,null,"SY040101","C2546","Western Tiba \\ الطيبة الغربية"]
[null,null,null,null,null,null,null,null,null,null,null,"SY040101","C2543","Zaybaq \\ زيبق"]
[null,null,null,null,null,null,null,null,null,null,null,"SY040102","C2569","Aisun \\ عيصون"]
[null,null,null,null,null,null,null,null,null,null,null,"SY040102","C2578","Balqasa \\ بلقسة"]
[null,null,null,null,null,null,null,null,null,null,null,"SY040102","C2589","Brabo \\ برابو"]
[null,null,null,null,null,null,null,null,null,null,null,"SY040102","C2585","Bteiseh \\ بتيسة"]
[null,null,null,null,null,null,null,null,null,null,null,"SY040102","C2565","Dahieh Ommaliyeh \\ الضاحية العمالية"]
[null,null,null,null,null,null,null,null,null,null,null,"SY040102","C2572","Ghazileh \\ غزيلة"]
[null,null,null,null,null,null,null,null,null,null,null,"SY040102","C2570","Kherbet Elhamam \\ خربة الحمام"]
[null,null,null,null,null,null,null,null,null,null,null,"SY040102","C2563","Kherbet Elsawda \\ خربة السودا"]
[null,null,null,null,null,null,null,null,null,null,null,"SY040102","C2571","Kherbet Ghazi \\ خربة غازي"]
[null,null,null,null,null,null,null,null,null,null,null,"SY040102","C2584","Kherbet Hayek \\ خربة حايك"]
[null,null,null,null,null,null,null,null,null,null,null,"SY040102","C2579","Kherbet estaño Mahmud \\ خربة تين محمود"]
[null,null,null,null,null,null,null,null,null,null,null,"SY040102","C2580","Kherbet estaño Noor \\ خربة تين نور"]
[null,null,null,null,null,null,null,null,null,null,null,"SY040102","C2595","Kniseh \\ كنيسة"]
[null,null,null,null,null,null,null,null,null,null,null,"SY040102","C2597","Leftaya \\ لفتايا"]
[null,null,null,null,null,null,null,null,null,null,null,"SY040102","C2592","Marj Bulad \\ مرج بولاد"]
[null,null,null,null,null,null,null,null,null,null,null,"SY040102","C2594","Marj Elqata \\ مرج القطا"]
[null,null,null,null,null,null,null,null,null,null,null,"SY040102","C2599","Mashahdeh - Kherbet Elsawda \\ مشاهدة_خربة السودا"]
[null,null,null,null,null,null,null,null,null,null,null,"SY040102","C2591","Nweiha \\ النويحة"]
[null,null,null,null,null,null,null,null,null,null,null,"SY040102","C2593","Qazhal \\ قزحل"]
[null,null,null,null,null,null,null,null,null,null,null,"SY040102","C2598","Qebbi \\ قبي"]
[null,null,null,null,null,null,null,null,null,null,null,"SY040102","C2573","Rabee'a \\ ربيعة"]
[null,null,null,null,null,null,null,null,null,null,null,"SY040102","C2586","Rabwa \\ الربوة"]
[null,null,null,null,null,null,null,null,null,null,null,"SY040102","C2568","Radwaniyeh \\ الرضوانية"]
[null,null,null,null,null,null,null,null,null,null,null,"SY040102","C2574","Ram Elanz \\ رام العنز"]
[null,null,null,null,null,null,null,null,null,null,null,"SY040102","C2561","Ram Jabal \\ رام جبل"]
[null,null,null,null,null,null,null,null,null,null,null,"SY040102","C2576","Sannun \\ صنون"]
[null,null,null,null,null,null,null,null,null,null,null,"SY040102","C2587","Shalluh \\ شلوح"]
[null,null,null,null,null,null,null,null,null,null,null,"SY040102","C2588","Sindyana \\ سنديانة"]
[null,null,null,null,null,null,null,null,null,null,null,"SY040102","C2590","Tadrin \\ تارين"]
[null,null,null,null,null,null,null,null,null,null,null,"SY040102","C2567","Tannuna \\ تنونة"]
[null,null,null,null,null,null,null,null,null,null,null,"SY040102","C2566","Um Eledam \\ أم العظام"]
[null,null,null,null,null,null,null,null,null,null,null,"SY040102","C2581","Um Elqasab \\ أم القصب"]
[null,null,null,null,null,null,null,null,null,null,null,"SY040102","C2575","Um Hartein \\ أم حارتين"]
[null,null,null,null,null,null,null,null,null,null,null,"SY040102","C2596","Wajh Elhajar \\ وجه الحجر"]
[null,null,null,null,null,null,null,null,null,null,null,"SY040102","C2582","Zarzuriyeh \\ الزرزورية"]
[null,null,null,null,null,null,null,null,null,null,null,"SY040102","C2577","Zeiti Elbahra \\ زيتي البحرة"]
[null,null,null,null,null,null,null,null,null,null,null,"SY040102","C2562","Zor Baqraya \\ زور بقرايا"]
[null,null,null,null,null,null,null,null,null,null,null,"SY040103","C2600","Bado \\ بادو"]
[null,null,null,null,null,null,null,null,null,null,null,"SY040103","C2611","Burza \\ برزة"]
[null,null,null,null,null,null,null,null,null,null,null,"SY040103","C2601","Ein Eldananir \\ عين الدنانير"]
[null,null,null,null,null,null,null,null,null,null,null,"SY040103","C2605","Ein Elniser \\ عين النسر"]
[null,null,null,null,null,null,null,null,null,null,null,"SY040103","C2564","Faysiyeh \\ الفايزية"]
[null,null,null,null,null,null,null,null,null,null,null,"SY040103","C2610","Hmeidiyeh - Mohajerin \\ الحميدية-مهاجرين"]
[null,null,null,null,null,null,null,null,null,null,null,"SY040103","C2612","Hmeimeh \\ حميمة"]
[null,null,null,null,null,null,null,null,null,null,null,"SY040103","C2609","Jaberiyeh \\ الجابرية"]
[null,null,null,null,null,null,null,null,null,null,null,"SY040103","C2608","Mashrafa \\ المشرفة"]
[null,null,null,null,null,null,null,null,null,null,null,"SY040103","C2606","Maydan \\ الميدان"]
[null,null,null,null,null,null,null,null,null,null,null,"SY040103","C2603","El norte de Ein Hssein \\ عين حسين شمالي"]
[null,null,null,null,null,null,null,null,null,null,null,"SY040103","C2607","Sheikh Hmeid \\ شيخ حميد"]
[null,null,null,null,null,null,null,null,null,null,null,"SY040103","C2613","Talaamari \\ تلعمري"]
[null,null,null,null,null,null,null,null,null,null,null,"SY040103","C2614","Warideh \\ وريدة"]
[null,null,null,null,null,null,null,null,null,null,null,"SY040103","C2615","Wazeiyet Efir \\ وازعية عيفير"]
[null,null,null,null,null,null,null,null,null,null,null,"SY040103","C2604","Occidental Ein Hssein \\ عين حسين غربي"]
[null,null,null,null,null,null,null,null,null,null,null,"SY040103","C2602","Yamama \\ اليمامة"]
[null,null,null,null,null,null,null,null,null,null,null,"SY040104","C2626","Abbasiyeh \\ العباسية"]
[null,null,null,null,null,null,null,null,null,null,null,"SY040104","C2636","Aifir \\ عيفير"]
[null,null,null,null,null,null,null,null,null,null,null,"SY040104","C2632","Bisseh \\ البسة"]
[null,null,null,null,null,null,null,null,null,null,null,"SY040104","C2639","Farha \\ فرحة"]
[null,null,null,null,null,null,null,null,null,null,null,"SY040104","C2633","Farqalas \\ الفرقلس"]
[null,null,null,null,null,null,null,null,null,null,null,"SY040104","C2616","Ghelwet Elzakam \\ غلوة الزكم"]
[null,null,null,null,null,null,null,null,null,null,null,"SY040104","C2618","Hamrat Elsiwana \\ حمرة الصوانة"]
[null,null,null,null,null,null,null,null,null,null,null,"SY040104","C2634","Hazzeh \\ الهزة"]
[null,null,null,null,null,null,null,null,null,null,null,"SY040104","C2625","Holaya \\ حولايا"]
[null,null,null,null,null,null,null,null,null,null,null,"SY040104","C2622","Jarbuiyeh - Fteim Arnuq \\ الجربوعية-فطيم عرنوق"]
[null,null,null,null,null,null,null,null,null,null,null,"SY040104","C2637","Jbab Hamad \\ جباب حمد"]
[null,null,null,null,null,null,null,null,null,null,null,"SY040104","C2629","Jeb Elshami \\ جب الشامي"]
[null,null,null,null,null,null,null,null,null,null,null,"SY040104","C2623","Khaliliyeh \\ الخليلية"]
[null,null,null,null,null,null,null,null,null,null,null,"SY040104","C2621","Milaja - Khrijet Sleibi \\ الملاجة-خريجة الصليبي"]
[null,null,null,null,null,null,null,null,null,null,null,"SY040104","C2640","MRAN Elfawareh \\ مران الفواعرة"]
[null,null,null,null,null,null,null,null,null,null,null,"SY040104","C2631","Nasriyeh \\ الناصرية"]
[null,null,null,null,null,null,null,null,null,null,null,"SY040104","C2620","Rajm Taqo \\ رجم طقو"]
[null,null,null,null,null,null,null,null,null,null,null,"SY040104","C2617","Sabuniyeh \\ الصابونية"]
[null,null,null,null,null,null,null,null,null,null,null,"SY040104","C2624","Sayed \\ الصايد"]
[null,null,null,null,null,null,null,null,null,null,null,"SY040104","C2630","Shtaya \\ الشتاية"]
[null,null,null,null,null,null,null,null,null,null,null,"SY040104","C2627","Um Eltababir \\ أم التبابير"]
[null,null,null,null,null,null,null,null,null,null,null,"SY040104","C2635","Um Eltoyur \\ أم الطيور"]
[null,null,null,null,null,null,null,null,null,null,null,"SY040104","C2638","Um Jrein \\ أم جرين"]
[null,null,null,null,null,null,null,null,null,null,null,"SY040104","C2628","Um Samuk \\ أم ساموك"]
[null,null,null,null,null,null,null,null,null,null,null,"SY040104","C2619","Um Tinet Fadous \\ أم تينة فدعوس"]
[null,null,null,null,null,null,null,null,null,null,null,"SY040105","C2641","Alyat \\ العاليات"]
[null,null,null,null,null,null,null,null,null,null,null,"SY040105","C2643","Awar \\ الاعور"]
[null,null,null,null,null,null,null,null,null,null,null,"SY040105","C2656","Aziziyeh \\ العزيزية"]
[null,null,null,null,null,null,null,null,null,null,null,"SY040105","C2645","Balha \\ البلها"]
[null,null,null,null,null,null,null,null,null,null,null,"SY040105","C2660","Dardaa - Dardaghan \\ درداء-دردغان"]
[null,null,null,null,null,null,null,null,null,null,null,"SY040105","C2649","Qanniyeh Oriental \\ القنية الشرقية"]
[null,null,null,null,null,null,null,null,null,null,null,"SY040105","C2658","Ghalyeh \\ الغالية"]
[null,null,null,null,null,null,null,null,null,null,null,"SY040105","C2661","Hamrat \\ الحمرات"]
[null,null,null,null,null,null,null,null,null,null,null,"SY040105","C2648","Harbiya \\ الحربية"]
[null,null,null,null,null,null,null,null,null,null,null,"SY040105","C2651","Jbab Elzeit \\ جباب الزيت"]
[null,null,null,null,null,null,null,null,null,null,null,"SY040105","C2646","Madabe \\ المضابع"]
[null,null,null,null,null,null,null,null,null,null,null,"SY040105","C2652","Manzul \\ المنزول"]
[null,null,null,null,null,null,null,null,null,null,null,"SY040105","C2655","Naamiyeh \\ النعامية"]
[null,null,null,null,null,null,null,null,null,null,null,"SY040105","C2657","Nuzha \\ النزهة"]
[null,null,null,null,null,null,null,null,null,null,null,"SY040105","C2642","Raqama \\ الرقاما"]
[null,null,null,null,null,null,null,null,null,null,null,"SY040105","C2654","Rawda \\ الروضة"]
[null,null,null,null,null,null,null,null,null,null,null,"SY040105","C2644","Rdeifat \\ الرضيفات"]
[null,null,null,null,null,null,null,null,null,null,null,"SY040105","C2659","Shoayrat \\ الشعيرات"]
[null,null,null,null,null,null,null,null,null,null,null,"SY040105","C2647","Um dulab - Almadharia \\ أم دولاب-المظهرية"]
[null,null,null,null,null,null,null,null,null,null,null,"SY040105","C2653","Wazeiyeh \\ الوازعية"]
[null,null,null,null,null,null,null,null,null,null,null,"SY040106","C2663","Qaryatein \\ القريتين"]
[null,null,null,null,null,null,null,null,null,null,null,"SY040106","C2662","Safa Eltayyas \\ الصفا_التياس"]
[null,null,null,null,null,null,null,null,null,null,null,"SY040107","C2665","Hadath \\ الحدث"]
[null,null,null,null,null,null,null,null,null,null,null,"SY040107","C2664","Hawarin \\ حوارين"]
[null,null,null,null,null,null,null,null,null,null,null,"SY040107","C2667","Mahin \\ مهين"]
[null,null,null,null,null,null,null,null,null,null,null,"SY040107","C2668","Qanat Elomyan \\ قناة العمياء"]
[null,null,null,null,null,null,null,null,null,null,null,"SY040107","C2666","Qasr - Ghanthar \\ القصر-الغنثر"]
[null,null,null,null,null,null,null,null,null,null,null,"SY040108","C2669","Breij \\ البريج"]
[null,null,null,null,null,null,null,null,null,null,null,"SY040108","C2672","Dibeh \\ الديبة"]
[null,null,null,null,null,null,null,null,null,null,null,"SY040108","C2675","Hasyaa \\ حسياء"]
[null,null,null,null,null,null,null,null,null,null,null,"SY040108","C2671","Jandar \\ جندر"]
[null,null,null,null,null,null,null,null,null,null,null,"SY040108","C2673","Jeb Elsada \\ جب الصدى"]
[null,null,null,null,null,null,null,null,null,null,null,"SY040108","C2670","Kashf \\ الكشف"]
[null,null,null,null,null,null,null,null,null,null,null,"SY040108","C2674","Shamsin \\ شمسين"]
[null,null,null,null,null,null,null,null,null,null,null,"SY040109","C2676","Hafr \\ الحفر"]
[null,null,null,null,null,null,null,null,null,null,null,"SY040109","C2677","Sadad \\ صدد"]
[null,null,null,null,null,null,null,null,null,null,null,"SY040110","C2684","Fahel \\ فاحل"]
[null,null,null,null,null,null,null,null,null,null,null,"SY040110","C2557","Kafram \\ كفرام"]
[null,null,null,null,null,null,null,null,null,null,null,"SY040110","C2678","Otan \\ أوتان"]
[null,null,null,null,null,null,null,null,null,null,null,"SY040110","C2680","Qabu \\ القبو"]
[null,null,null,null,null,null,null,null,null,null,null,"SY040110","C2681","Qanafiyeh \\ القناقية"]
[null,null,null,null,null,null,null,null,null,null,null,"SY040110","C2682","Rabah \\ رباح"]
[null,null,null,null,null,null,null,null,null,null,null,"SY040110","C2679","Sharqaliyeh \\ شرقلية"]
[null,null,null,null,null,null,null,null,null,null,null,"SY040110","C2683","Shenniyeh \\ الشنية"]
[null,null,null,null,null,null,null,null,null,null,null,"SY040111","C2688","Bohur \\ بحور"]
[null,null,null,null,null,null,null,null,null,null,null,"SY040111","C2685","Bteiset Eljerd \\ بتيسة الجرد"]
[null,null,null,null,null,null,null,null,null,null,null,"SY040111","C2700","Diyabiyeh - Thahaiyeh \\ ديابية-ذهبية"]
[null,null,null,null,null,null,null,null,null,null,null,"SY040111","C2687","Hasur \\ حاصور"]
[null,null,null,null,null,null,null,null,null,null,null,"SY040111","C2697","Heddiyeh \\ حدية"]
[null,null,null,null,null,null,null,null,null,null,null,"SY040111","C2695","Jablaya \\ جبلايا"]
[null,null,null,null,null,null,null,null,null,null,null,"SY040111","C2686","Jeb Elbustan \\ جب البستان"]
[null,null,null,null,null,null,null,null,null,null,null,"SY040111","C2698","Jweikat \\ الجويخات"]
[null,null,null,null,null,null,null,null,null,null,null,"SY040111","C2690","Khweikha \\ خويخة"]
[null,null,null,null,null,null,null,null,null,null,null,"SY040111","C2702","Mahfura \\ محفورة"]
[null,null,null,null,null,null,null,null,null,null,null,"SY040111","C2701","Marana \\ مرانة"]
[null,null,null,null,null,null,null,null,null,null,null,"SY040111","C2703","Motaared \\ متعارض"]
[null,null,null,null,null,null,null,null,null,null,null,"SY040111","C2694","Oyun Elwadi \\ عيون الوادي"]
[null,null,null,null,null,null,null,null,null,null,null,"SY040111","C2692","Safsafa \\ صفصافة"]
[null,null,null,null,null,null,null,null,null,null,null,"SY040111","C2689","Shin \\ شين"]
[null,null,null,null,null,null,null,null,null,null,null,"SY040111","C2691","Sifr - Soqur Abu Warda \\ صفر-صقور أبو وردة"]
[null,null,null,null,null,null,null,null,null,null,null,"SY040111","C2693","Sur Tweiza \\ طويز الجنوبية"]
[null,null,null,null,null,null,null,null,null,null,null,"SY040111","C2696","Sweiri \\ صويري"]
[null,null,null,null,null,null,null,null,null,null,null,"SY040111","C2699","Western Zafarana \\ زعفرانة غربية"]
[null,null,null,null,null,null,null,null,null,null,null,"SY040200","C2712","Abu Juri \\ أبو جوري"]
[null,null,null,null,null,null,null,null,null,null,null,"SY040200","C2733","Al-Qusayr \\ القصير"]
[null,null,null,null,null,null,null,null,null,null,null,"SY040200","C2713","Arjun \\ عرجون"]
[null,null,null,null,null,null,null,null,null,null,null,"SY040200","C2737","Bluzeh \\ بلوزة"]
[null,null,null,null,null,null,null,null,null,null,null,"SY040200","C2730","Borhaniya - Rehwaniyeh \\ البرهانية-الرهوانية"]
[null,null,null,null,null,null,null,null,null,null,null,"SY040200","C2741","Buweit \\ البويت"]
[null,null,null,null,null,null,null,null,null,null,null,"SY040200","C2726","Dabaa \\ الضبعة"]
[null,null,null,null,null,null,null,null,null,null,null,"SY040200","C2720","Dahiet Elmajd \\ ضاحية المجد"]
[null,null,null,null,null,null,null,null,null,null,null,"SY040200","C2709","Dahrij \\ دحيرج"]
[null,null,null,null,null,null,null,null,null,null,null,"SY040200","C2710","Debbin \\ دبين"]
[null,null,null,null,null,null,null,null,null,null,null,"SY040200","C2738","Diyabiyeh \\ ديابية"]
[null,null,null,null,null,null,null,null,null,null,null,"SY040200","C6312","Tierra ideal \\ دريم لاند"]
[null,null,null,null,null,null,null,null,null,null,null,"SY040200","C2715","Buwayda Oriental \\ البويضة الشرقية"]
[null,null,null,null,null,null,null,null,null,null,null,"SY040200","C2706","Damina Oriental \\ دمينة الشرقية"]
[null,null,null,null,null,null,null,null,null,null,null,"SY040200","C2731","Smaqiyat Oriental \\ سماقيات شرقية"]
[null,null,null,null,null,null,null,null,null,null,null,"SY040200","C2735","Ein Elsafa - Akum \\ عين الصفا-أكوم"]
[null,null,null,null,null,null,null,null,null,null,null,"SY040200","C2728","Fadeliyeh \\ الفاضلية"]
[null,null,null,null,null,null,null,null,null,null,null,"SY040200","C2749","Ghassaniyeh \\ الغسانية"]
[null,null,null,null,null,null,null,null,null,null,null,"SY040200","C2748","Hamam \\ الحمام"]
[null,null,null,null,null,null,null,null,null,null,null,"SY040200","C2716","Hamediyeh \\ الحامدية"]
[null,null,null,null,null,null,null,null,null,null,null,"SY040200","C2743","Hamra \\ الحمراء"]
[null,null,null,null,null,null,null,null,null,null,null,"SY040200","C2724","Hawi - Hawik \\ الحاوي_الحاويك"]
[null,null,null,null,null,null,null,null,null,null,null,"SY040200","C2714","Haydariyeh \\ الحيدرية"]
[null,null,null,null,null,null,null,null,null,null,null,"SY040200","C2751","Hosh Elsayed Ali \\ حوش السيد علي"]
[null,null,null,null,null,null,null,null,null,null,null,"SY040200","C2729","Hosh Morshed Samaan \\ حوش مرشد سمعان"]
[null,null,null,null,null,null,null,null,null,null,null,"SY040200","C2750","Hoz \\ الحوز"]
[null,null,null,null,null,null,null,null,null,null,null,"SY040200","C2725","Hseiniyeh \\ الحسينية"]
[null,null,null,null,null,null,null,null,null,null,null,"SY040200","C2747","Jobaniyeh - Ram Tut \\ جوبانية-رام توت"]
[null,null,null,null,null,null,null,null,null,null,null,"SY040200","C2707","Josiyet Elemar \\ جوسية العمار"]
[null,null,null,null,null,null,null,null,null,null,null,"SY040200","C2734","Kalidiyeh \\ الخالدية"]
[null,null,null,null,null,null,null,null,null,null,null,"SY040200","C2754","Kāmam \\ كمام"]
[null,null,null,null,null,null,null,null,null,null,null,"SY040200","C2755","Kokran - Seidat \\ كوكران-السعديات"]
[null,null,null,null,null,null,null,null,null,null,null,"SY040200","C2745","Masriyeh \\ المصرية"]
[null,null,null,null,null,null,null,null,null,null,null,"SY040200","C2739","Moh \\ الموح"]
[null,null,null,null,null,null,null,null,null,null,null,"SY040200","C2744","Mseitbeh \\ المصيطبة"]
[null,null,null,null,null,null,null,null,null,null,null,"SY040200","C2756","Mudan \\ مودان"]
[null,null,null,null,null,null,null,null,null,null,null,"SY040200","C2740","Naem \\ الناعم"]
[null,null,null,null,null,null,null,null,null,null,null,"SY040200","C2727","Nizariyeh \\ النيزارية"]
[null,null,null,null,null,null,null,null,null,null,null,"SY040200","C2708","Antiguo Um Hartein \\ أم حارتين عتيق"]
[null,null,null,null,null,null,null,null,null,null,null,"SY040200","C2757","Qadesh - Tal Elnabi Mandu \\ قادش-تل النبي مندو"]
[null,null,null,null,null,null,null,null,null,null,null,"SY040200","C2742","Qorniyeh \\ القرنية"]
[null,null,null,null,null,null,null,null,null,null,null,"SY040200","C2705","Rableh \\ ربلة"]
[null,null,null,null,null,null,null,null,null,null,null,"SY040200","C2711","Sakher Hit \\ الصخر-هيت"]
[null,null,null,null,null,null,null,null,null,null,null,"SY040200","C2752","Sallumiyeh \\ السلومية"]
[null,null,null,null,null,null,null,null,null,null,null,"SY040200","C2746","Saqraja - Ein Eltannur \\ سقرجة-عين التنور"]
[null,null,null,null,null,null,null,null,null,null,null,"SY040200","C2721","Sawadiya \\ السوادية"]
[null,null,null,null,null,null,null,null,null,null,null,"SY040200","C2723","Shayahat \\ الشياحات"]
[null,null,null,null,null,null,null,null,null,null,null,"SY040200","C2736","Shinshar \\ شنشار"]
[null,null,null,null,null,null,null,null,null,null,null,"SY040200","C2717","Shomriyeh \\ الشومرية"]
[null,null,null,null,null,null,null,null,null,null,null,"SY040200","C2753","Wadi Hanna \\ وادي حنا"]
[null,null,null,null,null,null,null,null,null,null,null,"SY040200","C2722","Western Buwayda - Aqrabiya \\ البويضة الغربية-العقربية"]
[null,null,null,null,null,null,null,null,null,null,null,"SY040200","C2704","Western Damina \\ دمينة الغربية"]
[null,null,null,null,null,null,null,null,null,null,null,"SY040200","C2732","Western Smaqiyat \\ سماقيات غربية"]
[null,null,null,null,null,null,null,null,null,null,null,"SY040200","C2718","Western Zeita \\ زيتا الغربية"]
[null,null,null,null,null,null,null,null,null,null,null,"SY040200","C2719","Ziraa \\ زراعة"]
[null,null,null,null,null,null,null,null,null,null,null,"SY040300","C2790","Abul Mashaeeb \\ أبو المشاعيب"]
[null,null,null,null,null,null,null,null,null,null,null,"SY040300","C2763","Adlein \\ ادلين"]
[null,null,null,null,null,null,null,null,null,null,null,"SY040300","C2786","Akkari \\ عكاري"]
[null,null,null,null,null,null,null,null,null,null,null,"SY040300","C2768","Ameriyeh \\ العامرية"]
[null,null,null,null,null,null,null,null,null,null,null,"SY040300","C2783","Arida \\ عريضة"]
[null,null,null,null,null,null,null,null,null,null,null,"SY040300","C2779","Aziz \\ عزير"]
[null,null,null,null,null,null,null,null,null,null,null,"SY040300","C2764","Bahlawaniyeh \\ البهلوانية"]
[null,null,null,null,null,null,null,null,null,null,null,"SY040300","C2778","Baruha \\ باروحة"]
[null,null,null,null,null,null,null,null,null,null,null,"SY040300","C2765","Beit Qarin \\ بيت قرين"]
[null,null,null,null,null,null,null,null,null,null,null,"SY040300","C2776","Burj Arab \\ برج عرب"]
[null,null,null,null,null,null,null,null,null,null,null,"SY040300","C2759","Burj Elmaksur \\ برج المكسور"]
[null,null,null,null,null,null,null,null,null,null,null,"SY040300","C2782","Ein Elshaara \\ عين الشعرة"]
[null,null,null,null,null,null,null,null,null,null,null,"SY040300","C2775","Ein Elsoda \\ عين السودة"]
[null,null,null,null,null,null,null,null,null,null,null,"SY040300","C2789","Hajar Abyad \\ الحجر الأبيض"]
[null,null,null,null,null,null,null,null,null,null,null,"SY040300","C2767","Halat \\ الحالات"]
[null,null,null,null,null,null,null,null,null,null,null,"SY040300","C2773","Hasrajiyeh \\ حصرجية"]
[null,null,null,null,null,null,null,null,null,null,null,"SY040300","C2774","Jaafariyat \\ جعفريات"]
[null,null,null,null,null,null,null,null,null,null,null,"SY040300","C2795","Kafrish \\ كفريش"]
[null,null,null,null,null,null,null,null,null,null,null,"SY040300","C2771","Kherbet Eljbab \\ خربة الجباب"]
[null,null,null,null,null,null,null,null,null,null,null,"SY040300","C2793","Marabo - Albusiyeh \\ معربو_الدبوسية"]
[null,null,null,null,null,null,null,null,null,null,null,"SY040300","C2791","Masyadeh \\ مصيدة"]
[null,null,null,null,null,null,null,null,null,null,null,"SY040300","C2796","Naara \\ نعرة"]
[null,null,null,null,null,null,null,null,null,null,null,"SY040300","C2794","Qanuta \\ قنوتة"]
[null,null,null,null,null,null,null,null,null,null,null,"SY040300","C2797","Qrayat \\ قريات"]
[null,null,null,null,null,null,null,null,null,null,null,"SY040300","C2792","Qumayra \\ قميرة"]
[null,null,null,null,null,null,null,null,null,null,null,"SY040300","C2787","Riyaf \\ الرياف"]
[null,null,null,null,null,null,null,null,null,null,null,"SY040300","C2769","Shabaq - Jabaq \\ الشبق-جبق"]
[null,null,null,null,null,null,null,null,null,null,null,"SY040300","C2758","Shabroniyeh \\ الشبرونية"]
[null,null,null,null,null,null,null,null,null,null,null,"SY040300","C2760","Shalluh \\ شلوح"]
[null,null,null,null,null,null,null,null,null,null,null,"SY040300","C2761","Shamsiyeh \\ شميسة"]
[null,null,null,null,null,null,null,null,null,null,null,"SY040300","C2770","Sheikh Ali \\ الشيخ علي"]
[null,null,null,null,null,null,null,null,null,null,null,"SY040300","C2784","Sindyana \\ سنديانة"]
[null,null,null,null,null,null,null,null,null,null,null,"SY040300","C2788","Smikeh \\ سميكة"]
[null,null,null,null,null,null,null,null,null,null,null,"SY040300","C2766","Tal Hosh \\ تل حوش"]
[null,null,null,null,null,null,null,null,null,null,null,"SY040300","C2781","Tal Sarine \\ تل سارين"]
[null,null,null,null,null,null,null,null,null,null,null,"SY040300","C2762","Tall Kalaj \\ تلكلخ"]
[null,null,null,null,null,null,null,null,null,null,null,"SY040300","C2780","Occidental Ein Eltineh \\ عين التينة الغربية"]
[null,null,null,null,null,null,null,null,null,null,null,"SY040300","C2785","Wreidat \\ الوريدات"]
[null,null,null,null,null,null,null,null,null,null,null,"SY040300","C2777","Zara \\ الزارة"]
[null,null,null,null,null,null,null,null,null,null,null,"SY040300","C2772","Zenbiyeh \\ الزينبية"]
[null,null,null,null,null,null,null,null,null,null,null,"SY040301","C2814","Baroudiyeh \\ البارودية"]
[null,null,null,null,null,null,null,null,null,null,null,"SY040301","C2810","Bayun \\ بعيون"]
[null,null,null,null,null,null,null,null,null,null,null,"SY040301","C2811","Beznaya \\ بزناية"]
[null,null,null,null,null,null,null,null,null,null,null,"SY040301","C2802","Dardariyeh \\ دردارية"]
[null,null,null,null,null,null,null,null,null,null,null,"SY040301","C2807","Oriental Ein Eltineh \\ عين التينة الشرقية"]
[null,null,null,null,null,null,null,null,null,null,null,"SY040301","C2818","Msheirfeh Oriental \\ مشيرفة الشرقية"]
[null,null,null,null,null,null,null,null,null,null,null,"SY040301","C2812","Hadideh \\ حديدة"]
[null,null,null,null,null,null,null,null,null,null,null,"SY040301","C2803","Hartein \\ الحارتين"]
[null,null,null,null,null,null,null,null,null,null,null,"SY040301","C2805","Khansaa - Qazlakher \\ خنساء-قزلاخر"]
[null,null,null,null,null,null,null,null,null,null,null,"SY040301","C2800","Kherbet Elmanqaleh \\ خربة المنقلة"]
[null,null,null,null,null,null,null,null,null,null,null,"SY040301","C2819","Lweibdeh \\ لويبدة"]
[null,null,null,null,null,null,null,null,null,null,null,"SY040301","C2817","Marasiyeh \\ مراسية"]
[null,null,null,null,null,null,null,null,null,null,null,"SY040301","C2820","Naesiyeh \\ ناعسية"]
[null,null,null,null,null,null,null,null,null,null,null,"SY040301","C2799","Naura \\ الناعورة"]
[null,null,null,null,null,null,null,null,null,null,null,"SY040301","C2809","Rabyeh - Qoz Elkhas \\ الرابية-قز الخاص"]
[null,null,null,null,null,null,null,null,null,null,null,"SY040301","C2808","Rajabliyeh \\ رجبلية"]
[null,null,null,null,null,null,null,null,null,null,null,"SY040301","C2804","Rawdet Elwer - Alzanabil \\ روضة الوعر-الزنابيل"]
[null,null,null,null,null,null,null,null,null,null,null,"SY040301","C2806","Rihaniya \\ ريحانية"]
[null,null,null,null,null,null,null,null,null,null,null,"SY040301","C2813","Siwana \\ الصوانة"]
[null,null,null,null,null,null,null,null,null,null,null,"SY040301","C2816","Tal Elsafa - Tal Jardon \\ تل الصفا-تل جردون"]
[null,null,null,null,null,null,null,null,null,null,null,"SY040301","C2815","Um Eldawali \\ أم الدوالي"]
[null,null,null,null,null,null,null,null,null,null,null,"SY040301","C2801","Um Elmis \\ أم الميس"]
[null,null,null,null,null,null,null,null,null,null,null,"SY040301","C2798","Um Jameh \\ أم جامع"]
[null,null,null,null,null,null,null,null,null,null,null,"SY040303","C2830","Ammar \\ عمار"]
[null,null,null,null,null,null,null,null,null,null,null,"SY040303","C2822","Bahzina \\ بحزينا"]
[null,null,null,null,null,null,null,null,null,null,null,"SY040303","C2829","Baydar Rafie \\ بيدر رفيع"]
[null,null,null,null,null,null,null,null,null,null,null,"SY040303","C2831","Daghleh \\ دغلة"]
[null,null,null,null,null,null,null,null,null,null,null,"SY040303","C2834","Ein Elbardeh \\ عين الباردة"]
[null,null,null,null,null,null,null,null,null,null,null,"SY040303","C2833","Ein Elraheb \\ عين الراهب"]
[null,null,null,null,null,null,null,null,null,null,null,"SY040303","C2827","Habnumra \\ حبنمرة"]
[null,null,null,null,null,null,null,null,null,null,null,"SY040303","C2825","Jankamra \\ جنكمرة"]
[null,null,null,null,null,null,null,null,null,null,null,"SY040303","C2823","Jiwar Elafas \\ جوار العفص"]
[null,null,null,null,null,null,null,null,null,null,null,"SY040303","C2840","Kafra \\ كفرة"]
[null,null,null,null,null,null,null,null,null,null,null,"SY040303","C2835","Kima \\ كيمة"]
[null,null,null,null,null,null,null,null,null,null,null,"SY040303","C2838","Marmarita \\ مرمريتا"]
[null,null,null,null,null,null,null,null,null,null,null,"SY040303","C2836","Mashta Azar \\ مشتى عازار"]
[null,null,null,null,null,null,null,null,null,null,null,"SY040303","C2824","Mishtaya \\ المشتاية"]
[null,null,null,null,null,null,null,null,null,null,null,"SY040303","C2828","Nasra \\ الناصرة"]
[null,null,null,null,null,null,null,null,null,null,null,"SY040303","C2839","Qalatya \\ قلاطية"]
[null,null,null,null,null,null,null,null,null,null,null,"SY040303","C2837","Qurb Ali \\ قرب علي"]
[null,null,null,null,null,null,null,null,null,null,null,"SY040303","C2826","Tannurine \\ تنورين"]
[null,null,null,null,null,null,null,null,null,null,null,"SY040303","C2832","Zweitiniyeh \\ زويتينة"]
[null,null,null,null,null,null,null,null,null,null,null,"SY040304","C2852","Balat \\ بلاط"]
[null,null,null,null,null,null,null,null,null,null,null,"SY040304","C2850","Bsas \\ بساس"]
[null,null,null,null,null,null,null,null,null,null,null,"SY040304","C2845","Bsomaa \\ بصومع"]
[null,null,null,null,null,null,null,null,null,null,null,"SY040304","C2846","Dweir Ellin \\ دوير اللين"]
[null,null,null,null,null,null,null,null,null,null,null,"SY040304","C2844","Ein Elghara \\ عين الغارة"]
[null,null,null,null,null,null,null,null,null,null,null,"SY040304","C2847","Ennaz \\ عناز"]
[null,null,null,null,null,null,null,null,null,null,null,"SY040304","C2843","Esh Elshoha \\ عش الشوحة"]
[null,null,null,null,null,null,null,null,null,null,null,"SY040304","C2821","Haret Mahfud \\ حارة محفوض"]
[null,null,null,null,null,null,null,null,null,null,null,"SY040304","C2842","Hawash \\ الحواش"]
[null,null,null,null,null,null,null,null,null,null,null,"SY040304","C2841","Hisn \\ الحصن"]
[null,null,null,null,null,null,null,null,null,null,null,"SY040304","C2849","Inata \\ عيناتا"]
[null,null,null,null,null,null,null,null,null,null,null,"SY040304","C2853","Jwaniyat \\ جوانيات"]
[null,null,null,null,null,null,null,null,null,null,null,"SY040304","C2854","Maqlas \\ مقلس"]
[null,null,null,null,null,null,null,null,null,null,null,"SY040304","C2857","Mazraa \\ مزرعة"]
[null,null,null,null,null,null,null,null,null,null,null,"SY040304","C2855","Mizyeneh \\ مزينة"]
[null,null,null,null,null,null,null,null,null,null,null,"SY040304","C2856","Mqaabara \\ مقعبرة"]
[null,null,null,null,null,null,null,null,null,null,null,"SY040304","C2858","Qale Elsaqa - Ein Elmilla \\ قلع السقا-عين الملا"]
[null,null,null,null,null,null,null,null,null,null,null,"SY040304","C2848","Shawahed \\ شواهد"]
[null,null,null,null,null,null,null,null,null,null,null,"SY040304","C2851","Talleh \\ تلة"]
[null,null,null,null,null,null,null,null,null,null,null,"SY040400","C2866","Abu Homama \\ أبو همامة"]
[null,null,null,null,null,null,null,null,null,null,null,"SY040400","C2870","Ar-Rastan \\ الرستن"]
[null,null,null,null,null,null,null,null,null,null,null,"SY040400","C2863","Asaliyeh \\ عسيلة"]
[null,null,null,null,null,null,null,null,null,null,null,"SY040400","C2861","Ballan \\ البلان"]
[null,null,null,null,null,null,null,null,null,null,null,"SY040400","C2871","Dalfin \\ دلفين"]
[null,null,null,null,null,null,null,null,null,null,null,"SY040400","C2860","Ez Eldin \\ عز الدين"]
[null,null,null,null,null,null,null,null,null,null,null,"SY040400","C2867","Ghasbiyeh \\ الغاصبية"]
[null,null,null,null,null,null,null,null,null,null,null,"SY040400","C2868","Abuelo \\ غرناطة"]
[null,null,null,null,null,null,null,null,null,null,null,"SY040400","C2869","Hmeis \\ الحميس"]
[null,null,null,null,null,null,null,null,null,null,null,"SY040400","C2875","Kafrnan \\ كفرنان"]
[null,null,null,null,null,null,null,null,null,null,null,"SY040400","C2876","Kisein \\ كيسين"]
[null,null,null,null,null,null,null,null,null,null,null,"SY040400","C2864","Manara \\ المنارة"]
[null,null,null,null,null,null,null,null,null,null,null,"SY040400","C2874","Marj Eldur \\ مرج الدر"]
[null,null,null,null,null,null,null,null,null,null,null,"SY040400","C2872","Qneitrat \\ القنيطرات"]
[null,null,null,null,null,null,null,null,null,null,null,"SY040400","C2865","Salim \\ سليم"]
[null,null,null,null,null,null,null,null,null,null,null,"SY040400","C2873","Tesnine \\ تسنين"]
[null,null,null,null,null,null,null,null,null,null,null,"SY040400","C2862","Wazeiyeh \\ الوازعية"]
[null,null,null,null,null,null,null,null,null,null,null,"SY040400","C2859","Zmeimer \\ زميمير"]
[null,null,null,null,null,null,null,null,null,null,null,"SY040401","C2878","Deir Loco \\ دير فول"]
[null,null,null,null,null,null,null,null,null,null,null,"SY040401","C2887","Farhaniyeh \\ الفرحانية"]
[null,null,null,null,null,null,null,null,null,null,null,"SY040401","C2885","Ghanto \\ الغنطو"]
[null,null,null,null,null,null,null,null,null,null,null,"SY040401","C2877","Hashemiyeh \\ الهاشمية"]
[null,null,null,null,null,null,null,null,null,null,null,"SY040401","C2879","Makrumiyeh \\ المكرمية"]
[null,null,null,null,null,null,null,null,null,null,null,"SY040401","C2884","Qanniyeh \\ القنية"]
[null,null,null,null,null,null,null,null,null,null,null,"SY040401","C2881","Saan Elosud \\ سعن الاسود"]
[null,null,null,null,null,null,null,null,null,null,null,"SY040401","C2886","Shabaaniyeh \\ الشبعانية"]
[null,null,null,null,null,null,null,null,null,null,null,"SY040401","C2880","Tal Jyorine \\ تل جيورين"]
[null,null,null,null,null,null,null,null,null,null,null,"SY040401","C2882","Talbiseh \\ تلبيسة"]
[null,null,null,null,null,null,null,null,null,null,null,"SY040401","C2883","Um Sharshouh \\ أم شرشوح"]
[null,null,null,null,null,null,null,null,null,null,null,"SY040401","C2888","Zafaraniya \\ الزعفرانية"]
[null,null,null,null,null,null,null,null,null,null,null,"SY040500","C2891","Alianiyeh \\ العليانية"]
[null,null,null,null,null,null,null,null,null,null,null,"SY040500","C2890","Arak \\ آراك"]
[null,null,null,null,null,null,null,null,null,null,null,"SY040500","C2889","Tadmor \\ تدمر"]
[null,null,null,null,null,null,null,null,null,null,null,"SY040501","C2898","Karim \\ كريم"]
[null,null,null,null,null,null,null,null,null,null,null,"SY040501","C2895","Kdir \\ الكدير"]
[null,null,null,null,null,null,null,null,null,null,null,"SY040501","C2894","Kum \\ الكوم"]
[null,null,null,null,null,null,null,null,null,null,null,"SY040501","C2893","Sokhneh \\ السخنة"]
[null,null,null,null,null,null,null,null,null,null,null,"SY040501","C2896","Tiba \\ الطيبة"]
[null,null,null,null,null,null,null,null,null,null,null,"SY040501","C2892","Tweinat \\ التوينات"]
[null,null,null,null,null,null,null,null,null,null,null,"SY040600","C2922","Abu Khashbeh \\ أبو خشبة"]
[null,null,null,null,null,null,null,null,null,null,null,"SY040600","C2902","Bab elhawa \\ باب الهوى"]
[null,null,null,null,null,null,null,null,null,null,null,"SY040600","C2899","Batma \\ البطمة"]
[null,null,null,null,null,null,null,null,null,null,null,"SY040600","C2923","Bweidet Rihaniya \\ بويضة ريحانية"]
[null,null,null,null,null,null,null,null,null,null,null,"SY040600","C2924","Bweidet Salimeh \\ بويضة سلمية"]
[null,null,null,null,null,null,null,null,null,null,null,"SY040600","C2909","Hamudiyeh \\ الحمودية"]
[null,null,null,null,null,null,null,null,null,null,null,"SY040600","C2911","Hraki \\ الحراكي"]
[null,null,null,null,null,null,null,null,null,null,null,"SY040600","C2910","Jamaliyeh \\ الجمالية"]
[null,null,null,null,null,null,null,null,null,null,null,"SY040600","C2926","Jeb Abbas \\ جب عباس"]
[null,null,null,null,null,null,null,null,null,null,null,"SY040600","C2904","Jneinat \\ الجنينات"]
[null,null,null,null,null,null,null,null,null,null,null,"SY040600","C2917","Khilfah \\ خلفة"]
[null,null,null,null,null,null,null,null,null,null,null,"SY040600","C2927","Bajo Makhram \\ مخرم التحتاني"]
[null,null,null,null,null,null,null,null,null,null,null,"SY040600","C2928","Nawa \\ نوى"]
[null,null,null,null,null,null,null,null,null,null,null,"SY040600","C2925","Norhern Abu Hakfa \\ أبو حكفة الشمالي"]
[null,null,null,null,null,null,null,null,null,null,null,"SY040600","C2906","Nothern Um Elsarj \\ أم السرج الشمالي"]
[null,null,null,null,null,null,null,null,null,null,null,"SY040600","C2912","Othmaniya \\ العثمانية"]
[null,null,null,null,null,null,null,null,null,null,null,"SY040600","C2914","Sankari \\ السنكري"]
[null,null,null,null,null,null,null,null,null,null,null,"SY040600","C2903","Shoketliyeh \\ شوكتلية"]
[null,null,null,null,null,null,null,null,null,null,null,"SY040600","C2921","El sur de Abu Hakfa \\ أبو حكفة الجنوبي"]
[null,null,null,null,null,null,null,null,null,null,null,"SY040600","C2920","Tal Elaghar \\ تل الاغر"]
[null,null,null,null,null,null,null,null,null,null,null,"SY040600","C2916","Tal Elward \\ تل الورد"]
[null,null,null,null,null,null,null,null,null,null,null,"SY040600","C2908","Tal Shnan \\ تل شنان"]
[null,null,null,null,null,null,null,null,null,null,null,"SY040600","C2913","Um Dali \\ أم دالي"]
[null,null,null,null,null,null,null,null,null,null,null,"SY040600","C2915","Um Elamad \\ أم العمد"]
[null,null,null,null,null,null,null,null,null,null,null,"SY040600","C2907","Um Elsarj Elqabli \\ أم السرج القبلي"]
[null,null,null,null,null,null,null,null,null,null,null,"SY040600","C2919","Um Jameh \\ أم جامع"]
[null,null,null,null,null,null,null,null,null,null,null,"SY040600","C2918","Um Jbab \\ أم جباب"]
[null,null,null,null,null,null,null,null,null,null,null,"SY040600","C2900","Un Estaño - Um Tweini \\ ام التين-ام تويني"]
[null,null,null,null,null,null,null,null,null,null,null,"SY040600","C2901","Alta Makhrim \\ المخرم الفوقاني"]
[null,null,null,null,null,null,null,null,null,null,null,"SY040601","C2939","Abu Qatur \\ أبو قاطور"]
[null,null,null,null,null,null,null,null,null,null,null,"SY040601","C2905","Abul Alaya \\ أبو العلايا"]
[null,null,null,null,null,null,null,null,null,null,null,"SY040601","C2945","Arida - Khatamlo \\ العريضة-خطملو"]
[null,null,null,null,null,null,null,null,null,null,null,"SY040601","C2930","Asmad \\ اصمد"]
[null,null,null,null,null,null,null,null,null,null,null,"SY040601","C2929","Ashrafiyeh Oriental - Dweir Oriental \\ الاشرفية الشرقية-دويعر الشرقي"]
[null,null,null,null,null,null,null,null,null,null,null,"SY040601","C2957","Habra Oriental \\ هبرة شرقية"]
[null,null,null,null,null,null,null,null,null,null,null,"SY040601","C2948","Salam Oriental \\ سلام شرقي"]
[null,null,null,null,null,null,null,null,null,null,null,"SY040601","C2935","Eliyet Elalyan - Eliyet Elomyan \\ علية العليان-علية العميان"]
[null,null,null,null,null,null,null,null,null,null,null,"SY040601","C2944","Ghazla - Ghazileh \\ غزالة-غزيلة"]
[null,null,null,null,null,null,null,null,null,null,null,"SY040601","C2937","Hweisis \\ حويسيس"]
[null,null,null,null,null,null,null,null,null,null,null,"SY040601","C2947","Jeb Ej-Jarrah \\ جب الجراح"]
[null,null,null,null,null,null,null,null,null,null,null,"SY040601","C2954","Maksar Elhisan \\ مكسر الحصان"]
[null,null,null,null,null,null,null,null,null,null,null,"SY040601","C2952","Masaada \\ مسعدة"]
[null,null,null,null,null,null,null,null,null,null,null,"SY040601","C2950","Masudiyeh \\ مسعودية"]
[null,null,null,null,null,null,null,null,null,null,null,"SY040601","C2951","Mintar Elabal \\ منطار العبل"]
[null,null,null,null,null,null,null,null,null,null,null,"SY040601","C2956","Mizyen Elbaqar \\ مزين البقر"]
[null,null,null,null,null,null,null,null,null,null,null,"SY040601","C2955","Mqeizel \\ مقيزل"]
[null,null,null,null,null,null,null,null,null,null,null,"SY040601","C2949","Msheirfeh Qabliyeh \\ مشيرفة قبلية"]
[null,null,null,null,null,null,null,null,null,null,null,"SY040601","C2942","Norte Um Tweini \\ ام تويني شمالية"]
[null,null,null,null,null,null,null,null,null,null,null,"SY040601","C2932","Ráhum \\ رحوم"]
[null,null,null,null,null,null,null,null,null,null,null,"SY040601","C2936","Rasm Eltawil \\ رسم الطويل"]
[null,null,null,null,null,null,null,null,null,null,null,"SY040601","C2940","Rasm Hamideh \\ رسم حميدة"]
[null,null,null,null,null,null,null,null,null,null,null,"SY040601","C2943","Shiha \\ شيحة"]
[null,null,null,null,null,null,null,null,null,null,null,"SY040601","C2933","Talaqta \\ تلقطا"]
[null,null,null,null,null,null,null,null,null,null,null,"SY040601","C2946","Tarfawi \\ طرفاوي"]
[null,null,null,null,null,null,null,null,null,null,null,"SY040601","C2941","Tawil \\ طويل"]
[null,null,null,null,null,null,null,null,null,null,null,"SY040601","C2934","Teladi \\ تلعداي"]
[null,null,null,null,null,null,null,null,null,null,null,"SY040601","C2938","Um Elrif - Elrish \\ أم الريف-الريش"]
[null,null,null,null,null,null,null,null,null,null,null,"SY040601","C2931","Ashrafiyeh Occidental - Dweir occidental \\ الاشرفية الغربية_دويعر الغربي"]
[null,null,null,null,null,null,null,null,null,null,null,"SY040601","C2953","Habra occidental \\ هبرة غربية"]
[null,null,null,null,null,null,null,null,null,null,null,"SY050100","C2989","Absirin \\ أبسيرين"]
[null,null,null,null,null,null,null,null,null,null,null,"SY050100","C2990","Abu Dorra \\ أبو دردة"]
[null,null,null,null,null,null,null,null,null,null,null,"SY050100","C2978","Abu Mansaf \\ أبو منسف"]
[null,null,null,null,null,null,null,null,null,null,null,"SY050100","C2982","Adabas \\ عدبس"]
[null,null,null,null,null,null,null,null,null,null,null,"SY050100","C2988","Alamein \\ العلمين"]
[null,null,null,null,null,null,null,null,null,null,null,"SY050100","C2997","Amara Aslan \\ عمارة أصلان"]
[null,null,null,null,null,null,null,null,null,null,null,"SY050100","C2962","Arzet Eldabaa \\ أرزة_الضبعة"]
[null,null,null,null,null,null,null,null,null,null,null,"SY050100","C2992","Ayo \\ أيو"]
[null,null,null,null,null,null,null,null,null,null,null,"SY050100","C3002","Bahra \\ البحرة"]
[null,null,null,null,null,null,null,null,null,null,null,"SY050100","C2981","Barraq \\ البراق"]
[null,null,null,null,null,null,null,null,null,null,null,"SY050100","C2963","Bayad \\ البياض"]
[null,null,null,null,null,null,null,null,null,null,null,"SY050100","C2994","Dmeineh \\ الدمينة"]
[null,null,null,null,null,null,null,null,null,null,null,"SY050100","C2984","Oriental Sweida \\ السويدة الشرقية"]
[null,null,null,null,null,null,null,null,null,null,null,"SY050100","C3010","Ghor Elasi \\ غور العاصي"]
[null,null,null,null,null,null,null,null,null,null,null,"SY050100","C2987","Hama \\ حماة"]
[null,null,null,null,null,null,null,null,null,null,null,"SY050100","C2966","Hashemiyeh \\ الهاشمية"]
[null,null,null,null,null,null,null,null,null,null,null,"SY050100","C3001","Un Hawayes Jern \\ حوايس أم جرن"]
[null,null,null,null,null,null,null,null,null,null,null,"SY050100","C2971","Hawir Elsalib \\ حوير الصليب"]
[null,null,null,null,null,null,null,null,null,null,null,"SY050100","C2965","Jahiyeh \\ الجاجية"]
[null,null,null,null,null,null,null,null,null,null,null,"SY050100","C2970","Jarajara \\ جرجرة"]
[null,null,null,null,null,null,null,null,null,null,null,"SY050100","C2972","Jinan \\ الجنان"]
[null,null,null,null,null,null,null,null,null,null,null,"SY050100","C2969","Jirbeen \\ جبرين"]
[null,null,null,null,null,null,null,null,null,null,null,"SY050100","C2986","Jomaqliyeh \\ الجومقلية"]
[null,null,null,null,null,null,null,null,null,null,null,"SY050100","C2968","Joziyeh - Jerniyeh \\ الجوزية_الجرنية"]
[null,null,null,null,null,null,null,null,null,null,null,"SY050100","C3013","Kafr Bihem \\ كفر بهم"]
[null,null,null,null,null,null,null,null,null,null,null,"SY050100","C3012","Kafr Eltoon \\ كفر الطون"]
[null,null,null,null,null,null,null,null,null,null,null,"SY050100","C3004","Kafr Omeim \\ كفر عميم"]
[null,null,null,null,null,null,null,null,null,null,null,"SY050100","C3005","Kafraa \\ كفراع"]
[null,null,null,null,null,null,null,null,null,null,null,"SY050100","C2999","Kalidiyeh \\ الخالدية"]
[null,null,null,null,null,null,null,null,null,null,null,"SY050100","C3016","Kasun Eljabal \\ كاسون الجبل"]
[null,null,null,null,null,null,null,null,null,null,null,"SY050100","C2959","Khala \\ الخلا"]
[null,null,null,null,null,null,null,null,null,null,null,"SY050100","C2991","Jattab \\ خطاب"]
[null,null,null,null,null,null,null,null,null,null,null,"SY050100","C3009","Maar Daftein \\ معردفتين"]
[null,null,null,null,null,null,null,null,null,null,null,"SY050100","C3003","Maar Shohur \\ معر شحور"]
[null,null,null,null,null,null,null,null,null,null,null,"SY050100","C3011","Maarin \\ معرين"]
[null,null,null,null,null,null,null,null,null,null,null,"SY050100","C2967","Mabtan \\ المبطن"]
[null,null,null,null,null,null,null,null,null,null,null,"SY050100","C3014","Madbaa \\ مضبعة"]
[null,null,null,null,null,null,null,null,null,null,null,"SY050100","C3007","Maqtaa Elhajar \\ مقطع الحجر"]
[null,null,null,null,null,null,null,null,null,null,null,"SY050100","C3015","Matnin \\ متنين"]
[null,null,null,null,null,null,null,null,null,null,null,"SY050100","C2958","Mbarkat \\ المباركات"]
[null,null,null,null,null,null,null,null,null,null,null,"SY050100","C3008","Qamhana \\ قمحانة"]
[null,null,null,null,null,null,null,null,null,null,null,"SY050100","C3006","Qbeibat Elasi \\ قبيبات العاصي"]
[null,null,null,null,null,null,null,null,null,null,null,"SY050100","C2961","Raabun \\ رعبون"]
[null,null,null,null,null,null,null,null,null,null,null,"SY050100","C2975","Rabi'ah \\ الربيعة"]
[null,null,null,null,null,null,null,null,null,null,null,"SY050100","C3000","Samra \\ السمرة"]
[null,null,null,null,null,null,null,null,null,null,null,"SY050100","C2996","Sawa \\ الصاوا"]
[null,null,null,null,null,null,null,null,null,null,null,"SY050100","C2964","Sfina \\ صفينا"]
[null,null,null,null,null,null,null,null,null,null,null,"SY050100","C2977","Shihet Hamah \\ شيحة حماة"]
[null,null,null,null,null,null,null,null,null,null,null,"SY050100","C2980","Sreihin \\ سريحين"]
[null,null,null,null,null,null,null,null,null,null,null,"SY050100","C2998","Tal Elnaher Tal Sekkin \\ تل النهر تل سكين"]
[null,null,null,null,null,null,null,null,null,null,null,"SY050100","C2995","Tal Qartal \\ تل قرطل"]
[null,null,null,null,null,null,null,null,null,null,null,"SY050100","C2983","Taqsis \\ تقسيس"]
[null,null,null,null,null,null,null,null,null,null,null,"SY050100","C2993","Teizine \\ تيزين"]
[null,null,null,null,null,null,null,null,null,null,null,"SY050100","C6308","Tweim \\ تويم"]
[null,null,null,null,null,null,null,null,null,null,null,"SY050100","C2974","Um Elamad \\ أم العمد"]
[null,null,null,null,null,null,null,null,null,null,null,"SY050100","C2960","Um Eltoyur \\ أم الطيور"]
[null,null,null,null,null,null,null,null,null,null,null,"SY050100","C2985","Western Sweida \\ السويدة الغربية"]
[null,null,null,null,null,null,null,null,null,null,null,"SY050100","C2979","Zbada \\ الزبادة"]
[null,null,null,null,null,null,null,null,null,null,null,"SY050100","C2973","Zor Abu Darda Elnashmi \\ زور أبو دردة النشمي"]
[null,null,null,null,null,null,null,null,null,null,null,"SY050101","C3021","Atshan \\ عطشان"]
[null,null,null,null,null,null,null,null,null,null,null,"SY050101","C3020","Bweida \\ بويضة"]
[null,null,null,null,null,null,null,null,null,null,null,"SY050101","C3023","Oriental Zor Elheisa \\ زور الحيصة الشرقية"]
[null,null,null,null,null,null,null,null,null,null,null,"SY050101","C3037","Kawkab \\ كوكب"]
[null,null,null,null,null,null,null,null,null,null,null,"SY050101","C3025","Khafsine \\ خفسين"]
[null,null,null,null,null,null,null,null,null,null,null,"SY050101","C3019","Kherbet Elhajama \\ خربة الحجامة"]
[null,null,null,null,null,null,null,null,null,null,null,"SY050101","C3034","Lahaya \\ لحايا"]
[null,null,null,null,null,null,null,null,null,null,null,"SY050101","C3035","Maan \\ معان"]
[null,null,null,null,null,null,null,null,null,null,null,"SY050101","C3031","Maar Dis \\ معردس"]
[null,null,null,null,null,null,null,null,null,null,null,"SY050101","C3030","Maarkaba \\ معركبة"]
[null,null,null,null,null,null,null,null,null,null,null,"SY050101","C3036","Masasneh \\ مصاصنة"]
[null,null,null,null,null,null,null,null,null,null,null,"SY050101","C3029","Murak \\ مورك"]
[null,null,null,null,null,null,null,null,null,null,null,"SY050101","C3032","Fan del Norte \\ فان شمالي"]
[null,null,null,null,null,null,null,null,null,null,null,"SY050101","C3038","Qasr Abu Samra \\ قصر أبو سمرة"]
[null,null,null,null,null,null,null,null,null,null,null,"SY050101","C3039","Qasr Elmakhram \\ قصر المخرم"]
[null,null,null,null,null,null,null,null,null,null,null,"SY050101","C3033","Qbeibat Abu Elhuda \\ قبيبات أبو الهدى"]
[null,null,null,null,null,null,null,null,null,null,null,"SY050101","C3017","Shatheh \\ الشعثة"]
[null,null,null,null,null,null,null,null,null,null,null,"SY050101","C3026","Suran \\ صوران"]
[null,null,null,null,null,null,null,null,null,null,null,"SY050101","C3028","Tiba Elemam \\ طيبة الإمام"]
[null,null,null,null,null,null,null,null,null,null,null,"SY050101","C3027","Tiba Elesm \\ طيبة الاسم"]
[null,null,null,null,null,null,null,null,null,null,null,"SY050101","C3022","Tleisiyeh \\ الطليسية"]
[null,null,null,null,null,null,null,null,null,null,null,"SY050101","C3018","Um Hartein \\ أم حارتين"]
[null,null,null,null,null,null,null,null,null,null,null,"SY050101","C3024","Zor Abu Zeid \\ زور أبو زيد"]
[null,null,null,null,null,null,null,null,null,null,null,"SY050102","C3046","Akrad Ibrahim \\ أكرادإبراهيم"]
[null,null,null,null,null,null,null,null,null,null,null,"SY050102","C3049","Aqrab \\ عقرب"]
[null,null,null,null,null,null,null,null,null,null,null,"SY050102","C3041","Az-Zara \\ الزارا"]
[null,null,null,null,null,null,null,null,null,null,null,"SY050102","C3043","Baja \\ البجة"]
[null,null,null,null,null,null,null,null,null,null,null,"SY050102","C3045","Ballalin \\ بللين"]
[null,null,null,null,null,null,null,null,null,null,null,"SY050102","C3051","Beisine \\ بيصين"]
[null,null,null,null,null,null,null,null,null,null,null,"SY050102","C3053","Birein \\ بيرين"]
[null,null,null,null,null,null,null,null,null,null,null,"SY050102","C3047","Biyeh \\ البيه"]
[null,null,null,null,null,null,null,null,null,null,null,"SY050102","C3052","Bulos \\ بولص"]
[null,null,null,null,null,null,null,null,null,null,null,"SY050102","C3063","Deir Elfardis \\ دير الفرديس"]
[null,null,null,null,null,null,null,null,null,null,null,"SY050102","C3054","Hmeiri \\ الحميري"]
[null,null,null,null,null,null,null,null,null,null,null,"SY050102","C3040","Hor Bnafsor \\ حر بنفسه"]
[null,null,null,null,null,null,null,null,null,null,null,"SY050102","C3061","Jadrine \\ جدرين"]
[null,null,null,null,null,null,null,null,null,null,null,"SY050102","C3057","Jafaa \\ جافعا"]
[null,null,null,null,null,null,null,null,null,null,null,"SY050102","C3048","Jarjisa \\ جرجيسا"]
[null,null,null,null,null,null,null,null,null,null,null,"SY050102","C3064","Kafr Qadah \\ كفر قدح"]
[null,null,null,null,null,null,null,null,null,null,null,"SY050102","C3042","Kherbet Aref \\ خربة عارف"]
[null,null,null,null,null,null,null,null,null,null,null,"SY050102","C3062","Kherbet Eljame \\ خربة الجامع"]
[null,null,null,null,null,null,null,null,null,null,null,"SY050102","C3058","Kherbet Elqasr \\ خربة القصر"]
[null,null,null,null,null,null,null,null,null,null,null,"SY050102","C3056","Moah \\ الموعة"]
[null,null,null,null,null,null,null,null,null,null,null,"SY050102","C3066","Musa Elhawleh \\ موسى الحوله"]
[null,null,null,null,null,null,null,null,null,null,null,"SY050102","C3065","Qfeilun \\ قفيلون"]
[null,null,null,null,null,null,null,null,null,null,null,"SY050102","C3055","Somaah \\ الصومعة"]
[null,null,null,null,null,null,null,null,null,null,null,"SY050102","C3050","Talaf \\ طلف"]
[null,null,null,null,null,null,null,null,null,null,null,"SY050102","C3044","Tumine \\ تومين"]
[null,null,null,null,null,null,null,null,null,null,null,"SY050103","C3098","Abu Ajwa \\ أبو عجوة"]
[null,null,null,null,null,null,null,null,null,null,null,"SY050103","C3072","Alala \\ الالا"]
[null,null,null,null,null,null,null,null,null,null,null,"SY050103","C3089","Anz \\ العنز"]
[null,null,null,null,null,null,null,null,null,null,null,"SY050103","C3091","Arfa \\ عرفه"]
[null,null,null,null,null,null,null,null,null,null,null,"SY050103","C3085","Aziziyeh \\ عزيزية"]
[null,null,null,null,null,null,null,null,null,null,null,"SY050103","C3084","Baroudiyeh \\ البارودية"]
[null,null,null,null,null,null,null,null,null,null,null,"SY050103","C3068","Bayud \\ بيوض"]
[null,null,null,null,null,null,null,null,null,null,null,"SY050103","C3070","Dalleh \\ دلة"]
[null,null,null,null,null,null,null,null,null,null,null,"SY050103","C3076","Duma \\ دوما"]
[null,null,null,null,null,null,null,null,null,null,null,"SY050103","C3092","Fayda \\ الفيضة"]
[null,null,null,null,null,null,null,null,null,null,null,"SY050103","C3096","Hamra \\ الحمراء"]
[null,null,null,null,null,null,null,null,null,null,null,"SY050103","C3090","Un Hawayes Jern \\ حوايس أم جرن"]
[null,null,null,null,null,null,null,null,null,null,null,"SY050103","C3097","Haymaniyeh - Heijaneh \\ الهيمانية_الهيجانة"]
[null,null,null,null,null,null,null,null,null,null,null,"SY050103","C3101","Hazm \\ حزم"]
[null,null,null,null,null,null,null,null,null,null,null,"SY050103","C6345","Hleibiyeh \\ الحليبية"]
[null,null,null,null,null,null,null,null,null,null,null,"SY050103","C3080","Janat Elsawarneh \\ جانات الصوارنة"]
[null,null,null,null,null,null,null,null,null,null,null,"SY050103","C3074","Jeb Elothman \\ جب العثمان"]
[null,null,null,null,null,null,null,null,null,null,null,"SY050103","C3083","Jeb Elsafa \\ جب الصفا"]
[null,null,null,null,null,null,null,null,null,null,null,"SY050103","C3100","Jneineh \\ جنينة"]
[null,null,null,null,null,null,null,null,null,null,null,"SY050103","C3088","Majduah - Norte Jadduah \\ المجدوعة_جدوعة شمالية"]
[null,null,null,null,null,null,null,null,null,null,null,"SY050103","C3108","Mlolah \\ ملولح"]
[null,null,null,null,null,null,null,null,null,null,null,"SY050103","C3106","Mweileh Elsirwana \\ مويلح الصوارنة"]
[null,null,null,null,null,null,null,null,null,null,null,"SY050103","C3107","Norte Maar \\ معرشمالي"]
[null,null,null,null,null,null,null,null,null,null,null,"SY050103","C3095","Qanater \\ القناطر"]
[null,null,null,null,null,null,null,null,null,null,null,"SY050103","C3104","Qasr Ali \\ قصر علي"]
[null,null,null,null,null,null,null,null,null,null,null,"SY050103","C3105","Qasr Bin Wardan \\ قصر بن وردان"]
[null,null,null,null,null,null,null,null,null,null,null,"SY050103","C3069","Rabda \\ ربدة"]
[null,null,null,null,null,null,null,null,null,null,null,"SY050103","C3067","Ras Al Ain \\ رأس العين"]
[null,null,null,null,null,null,null,null,null,null,null,"SY050103","C3071","Rasm Eldaheriyeh \\ رسم الضاهرية"]
[null,null,null,null,null,null,null,null,null,null,null,"SY050103","C3078","Rasm Elward \\ رسم الورد"]
[null,null,null,null,null,null,null,null,null,null,null,"SY050103","C3082","Rohaya \\ الرحية"]
[null,null,null,null,null,null,null,null,null,null,null,"SY050103","C3094","Shihet Elhamra \\ شيحة الحمراء"]
[null,null,null,null,null,null,null,null,null,null,null,"SY050103","C3099","Smaqiyeh Qabliyeh \\ السماقية القبلية"]
[null,null,null,null,null,null,null,null,null,null,null,"SY050103","C3102","Sruj \\ سروج"]
[null,null,null,null,null,null,null,null,null,null,null,"SY050103","C3093","Tarfawi \\ الطرفاوي"]
[null,null,null,null,null,null,null,null,null,null,null,"SY050103","C3073","Tharwa - Trut \\ ثروة_تروت"]
[null,null,null,null,null,null,null,null,null,null,null,"SY050103","C3087","Tleihat \\ طليحات"]
[null,null,null,null,null,null,null,null,null,null,null,"SY050103","C3086","Twal Dabaghin \\ طوال دباغين"]
[null,null,null,null,null,null,null,null,null,null,null,"SY050103","C3081","Um Treikiet Elqablieh \\ أم تريكية القبلية"]
[null,null,null,null,null,null,null,null,null,null,null,"SY050103","C3079","Um Zahmak \\ أم زهمك"]
[null,null,null,null,null,null,null,null,null,null,null,"SY050103","C3075","Zegbeh \\ الزغبة"]
[null,null,null,null,null,null,null,null,null,null,null,"SY050200","C3113","Abar Beit Seif \\ عبر بيت سيف"]
[null,null,null,null,null,null,null,null,null,null,null,"SY050200","C3109","Abu Kleefun \\ أبو كليفون"]
[null,null,null,null,null,null,null,null,null,null,null,"SY050200","C3134","Ammurin \\ عمورين"]
[null,null,null,null,null,null,null,null,null,null,null,"SY050200","C3114","Como-Suqaylabiyah \\ السقيلبية"]
[null,null,null,null,null,null,null,null,null,null,null,"SY050200","C3118","Balluneh \\ بلونة"]
[null,null,null,null,null,null,null,null,null,null,null,"SY050200","C3121","Beij \\ بريج"]
[null,null,null,null,null,null,null,null,null,null,null,"SY050200","C3128","Jandaq Oriental \\ الخندق الشرقي"]
[null,null,null,null,null,null,null,null,null,null,null,"SY050200","C3123","Ein Elkorum \\ عين الكروم"]
[null,null,null,null,null,null,null,null,null,null,null,"SY050200","C3110","Ein Warideh \\ عين وريدة"]
[null,null,null,null,null,null,null,null,null,null,null,"SY050200","C3117","Ennab \\ عناب"]
[null,null,null,null,null,null,null,null,null,null,null,"SY050200","C3111","Hiyalin \\ حيالين"]
[null,null,null,null,null,null,null,null,null,null,null,"SY050200","C3122","Hurat Ammurin \\ حورات عمورين"]
[null,null,null,null,null,null,null,null,null,null,null,"SY050200","C3120","Jarniyet Eltar \\ جرنية الطار"]
[null,null,null,null,null,null,null,null,null,null,null,"SY050200","C3132","Castillo JRas \\ قلعة الجراص"]
[null,null,null,null,null,null,null,null,null,null,null,"SY050200","C3115","Khansaa - Shetheh \\ الخنساء_الشعثة"]
[null,null,null,null,null,null,null,null,null,null,null,"SY050200","C3133","Mashta Elshalahmeh \\ مشتى الشلاهمة"]
[null,null,null,null,null,null,null,null,null,null,null,"SY050200","C3131","Nabe Eltib \\ نبع الطيب"]
[null,null,null,null,null,null,null,null,null,null,null,"SY050200","C3127","Oweina \\ عوينة"]
[null,null,null,null,null,null,null,null,null,null,null,"SY050200","C3116","Salba \\ صلبا"]
[null,null,null,null,null,null,null,null,null,null,null,"SY050200","C3125","Saqiyet Nijm \\ ساقية نجم"]
[null,null,null,null,null,null,null,null,null,null,null,"SY050200","C3130","Shahta \\ الشحطة"]
[null,null,null,null,null,null,null,null,null,null,null,"SY050200","C3126","Shayarat \\ الشجر"]
[null,null,null,null,null,null,null,null,null,null,null,"SY050200","C3124","Tahunet Elhalawa \\ طاحونة الحلاوة"]
[null,null,null,null,null,null,null,null,null,null,null,"SY050200","C3119","Tal Eltiten \\ تل التتن"]
[null,null,null,null,null,null,null,null,null,null,null,"SY050200","C3112","Tal Kombatri \\ تل كمبتري"]
[null,null,null,null,null,null,null,null,null,null,null,"SY050200","C3129","Western Jandaq \\ الخندق الغربي"]
[null,null,null,null,null,null,null,null,null,null,null,"SY050201","C3148","Abu Faraj \\ أبو فرج"]
[null,null,null,null,null,null,null,null,null,null,null,"SY050201","C3136","Abu Qbeis \\ أبو قبيس"]
[null,null,null,null,null,null,null,null,null,null,null,"SY050201","C3140","Asharneh \\ عشارنة"]
[null,null,null,null,null,null,null,null,null,null,null,"SY050201","C3135","Biret Eljabal \\ بيرة الجبل"]
[null,null,null,null,null,null,null,null,null,null,null,"SY050201","C3146","Ein Eljern \\ عين الجرن"]
[null,null,null,null,null,null,null,null,null,null,null,"SY050201","C3149","Hir Elmosil \\ حير المسيل"]
[null,null,null,null,null,null,null,null,null,null,null,"SY050201","C3137","Kanayes \\ الكنائس"]
[null,null,null,null,null,null,null,null,null,null,null,"SY050201","C3147","Khareb \\ الخرائب"]
[null,null,null,null,null,null,null,null,null,null,null,"SY050201","C3138","Latmana \\ اللطمة"]
[null,null,null,null,null,null,null,null,null,null,null,"SY050201","C3144","Mazhal \\ المزحل"]
[null,null,null,null,null,null,null,null,null,null,null,"SY050201","C3150","Nahr Elbared \\ نهر البارد"]
[null,null,null,null,null,null,null,null,null,null,null,"SY050201","C3141","Norte y Occidental Hawayeq \\ الحوائق شمالي وجنوبي"]
[null,null,null,null,null,null,null,null,null,null,null,"SY050201","C3139","Rasm Eljern \\ رسم الجرن"]
[null,null,null,null,null,null,null,null,null,null,null,"SY050201","C3145","Tal Salhab \\ تل سلحب"]
[null,null,null,null,null,null,null,null,null,null,null,"SY050201","C3143","Tamaza \\ تمازة"]
[null,null,null,null,null,null,null,null,null,null,null,"SY050201","C3142","Tobeh \\ التوبة"]
[null,null,null,null,null,null,null,null,null,null,null,"SY050202","C3155","Ankawi \\ العنكاوي"]
[null,null,null,null,null,null,null,null,null,null,null,"SY050202","C3165","Bahsa \\ البحصة"]
[null,null,null,null,null,null,null,null,null,null,null,"SY050202","C3163","Barakeh \\ البركة"]
[null,null,null,null,null,null,null,null,null,null,null,"SY050202","C3156","Doqmaq \\ دقماق"]
[null,null,null,null,null,null,null,null,null,null,null,"SY050202","C3158","Dweir Elakrad \\ دوير الأكراد"]
[null,null,null,null,null,null,null,null,null,null,null,"SY050202","C3152","Ein Elhamam \\ عين الحمام"]
[null,null,null,null,null,null,null,null,null,null,null,"SY050202","C3172","Para un \\ فورة"]
[null,null,null,null,null,null,null,null,null,null,null,"SY050202","C3162","Kherbet Elnaqus \\ خربة الناقوس"]
[null,null,null,null,null,null,null,null,null,null,null,"SY050202","C3154","Bajo Amiqa \\ العمقية تحتا"]
[null,null,null,null,null,null,null,null,null,null,null,"SY050202","C3160","Mansura \\ المنصورة"]
[null,null,null,null,null,null,null,null,null,null,null,"SY050202","C3167","Qalidin \\ قليدين"]
[null,null,null,null,null,null,null,null,null,null,null,"SY050202","C3168","Qarqur \\ قرقور"]
[null,null,null,null,null,null,null,null,null,null,null,"SY050202","C3170","Qastun \\ قسطون"]
[null,null,null,null,null,null,null,null,null,null,null,"SY050202","C3159","Sarmaniya \\ سرمانية"]
[null,null,null,null,null,null,null,null,null,null,null,"SY050202","C3153","Sefsaf \\ الصفصافة"]
[null,null,null,null,null,null,null,null,null,null,null,"SY050202","C3151","Sindyana \\ السنديانة"]
[null,null,null,null,null,null,null,null,null,null,null,"SY050202","C3157","Tal Wassit \\ تل واسط"]
[null,null,null,null,null,null,null,null,null,null,null,"SY050202","C3161","Zayzun \\ زيزون"]
[null,null,null,null,null,null,null,null,null,null,null,"SY050202","C3166","Ziyara \\ الزيارة"]
[null,null,null,null,null,null,null,null,null,null,null,"SY050203","C3174","Ein Jorjin \\ عين جورين"]
[null,null,null,null,null,null,null,null,null,null,null,"SY050203","C3182","Frikeh \\ فريكة"]
[null,null,null,null,null,null,null,null,null,null,null,"SY050203","C3175","Haydariyeh - Estarka \\ الحيدرية_استركة"]
[null,null,null,null,null,null,null,null,null,null,null,"SY050203","C3176","Jeb Elghar \\ جب الغار"]
[null,null,null,null,null,null,null,null,null,null,null,"SY050203","C3178","Jorin \\ جورين"]
[null,null,null,null,null,null,null,null,null,null,null,"SY050203","C3180","Bajo Shateha \\ شطحة التحتا"]
[null,null,null,null,null,null,null,null,null,null,null,"SY050203","C3181","Mirdash \\ مرداش"]
[null,null,null,null,null,null,null,null,null,null,null,"SY050203","C3185","Naur Jurin \\ ناعور جورين"]
[null,null,null,null,null,null,null,null,null,null,null,"SY050203","C3184","Nobol Elkhatib \\ نبل الخطيب"]
[null,null,null,null,null,null,null,null,null,null,null,"SY050203","C3183","Qatret Elrihan \\ قطرة الريحان"]
[null,null,null,null,null,null,null,null,null,null,null,"SY050204","C3189","Aziziyeh \\ العزيزية"]
[null,null,null,null,null,null,null,null,null,null,null,"SY050204","C3199","Bab Eltaqa \\ باب الطاقة"]
[null,null,null,null,null,null,null,null,null,null,null,"SY050204","C3201","Bared \\ البارد"]
[null,null,null,null,null,null,null,null,null,null,null,"SY050204","C3190","Deir Sunbul \\ دير سنبل"]
[null,null,null,null,null,null,null,null,null,null,null,"SY050204","C3194","Huweiz Oriental \\ الحويز الشمالي"]
[null,null,null,null,null,null,null,null,null,null,null,"SY050204","C3195","Hawash \\ الحواش"]
[null,null,null,null,null,null,null,null,null,null,null,"SY050204","C3187","Hmeirat \\ الحميرات"]
[null,null,null,null,null,null,null,null,null,null,null,"SY050204","C3198","Hurriyeh \\ الحرية"]
[null,null,null,null,null,null,null,null,null,null,null,"SY050204","C3193","Jamasa Odayat - Alshareeah \\ جماسة عديات_الشريعة"]
[null,null,null,null,null,null,null,null,null,null,null,"SY050204","C3202","Jid \\ الجيد"]
[null,null,null,null,null,null,null,null,null,null,null,"SY050204","C3209","Kafr Nabutha \\ كفر نبودة"]
[null,null,null,null,null,null,null,null,null,null,null,"SY050204","C3186","Karim \\ الكريم"]
[null,null,null,null,null,null,null,null,null,null,null,"SY050204","C3207","Castillo Madiq \\ قلعة المضيق"]
[null,null,null,null,null,null,null,null,null,null,null,"SY050204","C3208","Qaber Fidda \\ قبر فضة"]
[null,null,null,null,null,null,null,null,null,null,null,"SY050204","C3203","Qahera \\ القاهرة"]
[null,null,null,null,null,null,null,null,null,null,null,"SY050204","C3206","Qirata \\ قيراطة"]
[null,null,null,null,null,null,null,null,null,null,null,"SY050204","C3205","Rasif \\ الرصيف"]
[null,null,null,null,null,null,null,null,null,null,null,"SY050204","C3204","Sehriyeh \\ صهرية"]
[null,null,null,null,null,null,null,null,null,null,null,"SY050204","C3191","Shahranaz \\ شهرناز"]
[null,null,null,null,null,null,null,null,null,null,null,"SY050204","C3197","Tal Hawash \\ تل هواش"]
[null,null,null,null,null,null,null,null,null,null,null,"SY050204","C3200","Tamanet Elghab \\ تمانعة الغاب"]
[null,null,null,null,null,null,null,null,null,null,null,"SY050204","C3188","Tweini \\ تويني"]
[null,null,null,null,null,null,null,null,null,null,null,"SY050204","C3196","Alta Hweijeh \\ حويجة فوقا"]
[null,null,null,null,null,null,null,null,null,null,null,"SY050300","C3243","Ali Kasun - Elsheikh Ali \\ علي كاسون_الشيخ علي"]
[null,null,null,null,null,null,null,null,null,null,null,"SY050300","C3244","Como-Salamiyeh \\ السلمية"]
[null,null,null,null,null,null,null,null,null,null,null,"SY050300","C3231","Berdoneh \\ البردونة"]
[null,null,null,null,null,null,null,null,null,null,null,"SY050300","C3220","Buwayda \\ البويضة"]
[null,null,null,null,null,null,null,null,null,null,null,"SY050300","C3217","Danin \\ دنين"]
[null,null,null,null,null,null,null,null,null,null,null,"SY050300","C3218","Dneibeh \\ دنيبة"]
[null,null,null,null,null,null,null,null,null,null,null,"SY050300","C3210","Dweibeh \\ دويبة"]
[null,null,null,null,null,null,null,null,null,null,null,"SY050300","C3253","Ventilador Qabli \\ فان قبلي"]
[null,null,null,null,null,null,null,null,null,null,null,"SY050300","C3234","Ghawi \\ الغاوي"]
[null,null,null,null,null,null,null,null,null,null,null,"SY050300","C3248","Halban \\ حلبان"]
[null,null,null,null,null,null,null,null,null,null,null,"SY050300","C3225","YAMALA \\ جمالة"]
[null,null,null,null,null,null,null,null,null,null,null,"SY050300","C3258","Kafat \\ كافات"]
[null,null,null,null,null,null,null,null,null,null,null,"SY050300","C3226","Karim \\ الكريم"]
[null,null,null,null,null,null,null,null,null,null,null,"SY050300","C3228","Khafiyeh \\ الخفية"]
[null,null,null,null,null,null,null,null,null,null,null,"SY050300","C3242","Khneifis \\ خنيفس"]
[null,null,null,null,null,null,null,null,null,null,null,"SY050300","C3256","Kitlun \\ كيتلون"]
[null,null,null,null,null,null,null,null,null,null,null,"SY050300","C3230","Malha \\ المالحة"]
[null,null,null,null,null,null,null,null,null,null,null,"SY050300","C3251","Marj Mattar \\ مرج مطر"]
[null,null,null,null,null,null,null,null,null,null,null,"SY050300","C3252","Ventilador media \\ فان وسطاني"]
[null,null,null,null,null,null,null,null,null,null,null,"SY050300","C3255","Nawa \\ نوى"]
[null,null,null,null,null,null,null,null,null,null,null,"SY050300","C3235","Oyur \\ العيور"]
[null,null,null,null,null,null,null,null,null,null,null,"SY050300","C3257","Qablahat \\ قبلهات"]
[null,null,null,null,null,null,null,null,null,null,null,"SY050300","C3254","Qubbet Elkordi \\ قبة الكردي"]
[null,null,null,null,null,null,null,null,null,null,null,"SY050300","C3240","Riba \\ الربا"]
[null,null,null,null,null,null,null,null,null,null,null,"SY050300","C3214","Sabil \\ السبيل"]
[null,null,null,null,null,null,null,null,null,null,null,"SY050300","C3238","Safawi \\ صفاوي"]
[null,null,null,null,null,null,null,null,null,null,null,"SY050300","C3227","Samneh \\ السمنة"]
[null,null,null,null,null,null,null,null,null,null,null,"SY050300","C3213","Sbaa \\ سباع"]
[null,null,null,null,null,null,null,null,null,null,null,"SY050300","C3247","Shakara \\ شكارة"]
[null,null,null,null,null,null,null,null,null,null,null,"SY050300","C3223","Sheikh Rih \\ الشيخ ريح"]
[null,null,null,null,null,null,null,null,null,null,null,"SY050300","C3219","Snideh \\ سنيدة"]
[null,null,null,null,null,null,null,null,null,null,null,"SY050300","C3221","Tal Ada \\ تل عدا"]
[null,null,null,null,null,null,null,null,null,null,null,"SY050300","C3212","Tal Dahab \\ تل ذهب"]
[null,null,null,null,null,null,null,null,null,null,null,"SY050300","C3249","Tal Hasan Basha \\ تل حسن باشا"]
[null,null,null,null,null,null,null,null,null,null,null,"SY050300","C3239","Tal Khazneh \\ تل خزنة"]
[null,null,null,null,null,null,null,null,null,null,null,"SY050300","C3216","Tal Sinan \\ تل سنان"]
[null,null,null,null,null,null,null,null,null,null,null,"SY050300","C3224","Taldara \\ تلدرة"]
[null,null,null,null,null,null,null,null,null,null,null,"SY050300","C3215","Thawra - Um Qalaq \\ الثورة_أم قلق"]
[null,null,null,null,null,null,null,null,null,null,null,"SY050300","C3236","Theil Elejel \\ ذيل العجل"]
[null,null,null,null,null,null,null,null,null,null,null,"SY050300","C3232","Tiba Elturki \\ طيبة التركي"]
[null,null,null,null,null,null,null,null,null,null,null,"SY050300","C3222","Tlul Elhomor \\ تلول الحمر"]
[null,null,null,null,null,null,null,null,null,null,null,"SY050300","C3245","Trad \\ طراد"]
[null,null,null,null,null,null,null,null,null,null,null,"SY050300","C3246","Tuba \\ الطوبا"]
[null,null,null,null,null,null,null,null,null,null,null,"SY050300","C3233","Um Elamad \\ أم العمد"]
[null,null,null,null,null,null,null,null,null,null,null,"SY050300","C3250","Um Tweineh \\ أم توينة"]
[null,null,null,null,null,null,null,null,null,null,null,"SY050300","C3211","Zaghrin - Elhawiyeh \\ زغرين_الهوية"]
[null,null,null,null,null,null,null,null,null,null,null,"SY050301","C3262","Abu Hanaya \\ أبو حنايا"]
[null,null,null,null,null,null,null,null,null,null,null,"SY050301","C3263","Abu Hbeilat \\ أبو حبيلات"]
[null,null,null,null,null,null,null,null,null,null,null,"SY050301","C3260","Akash \\ عكش"]
[null,null,null,null,null,null,null,null,null,null,null,"SY050301","C3264","Arshuneh \\ عرشونة"]
[null,null,null,null,null,null,null,null,null,null,null,"SY050301","C3261","Oriental Bari \\ بري شرقي"]
[null,null,null,null,null,null,null,null,null,null,null,"SY050301","C3270","Mafkar Oriental \\ مفكر شرقي"]
[null,null,null,null,null,null,null,null,null,null,null,"SY050301","C3271","Fritan \\ فريتان"]
[null,null,null,null,null,null,null,null,null,null,null,"SY050301","C3266","Hardana \\ الحردانة"]
[null,null,null,null,null,null,null,null,null,null,null,"SY050301","C3259","Khreijeh \\ الخريجة"]
[null,null,null,null,null,null,null,null,null,null,null,"SY050301","C3265","Tal Eltut \\ تل التوت"]
[null,null,null,null,null,null,null,null,null,null,null,"SY050301","C3267","Tal Jdeed \\ تل جديد"]
[null,null,null,null,null,null,null,null,null,null,null,"SY050301","C3269","Um Mil \\ أم ميل"]
[null,null,null,null,null,null,null,null,null,null,null,"SY050301","C3268","Western Brie \\ بري الغربي"]
[null,null,null,null,null,null,null,null,null,null,null,"SY050301","C3272","Western Mafkar \\ مفكر الغربي"]
[null,null,null,null,null,null,null,null,null,null,null,"SY050302","C3277","Abu Hreik \\ أبو حريق"]
[null,null,null,null,null,null,null,null,null,null,null,"SY050302","C3287","Abul Gor \\ أبو الغر"]
[null,null,null,null,null,null,null,null,null,null,null,"SY050302","C3279","Abul Kusour \\ أبو الكسور"]
[null,null,null,null,null,null,null,null,null,null,null,"SY050302","C3278","Amya \\ عمية"]
[null,null,null,null,null,null,null,null,null,null,null,"SY050302","C3290","Aniq Bajra \\ عنيق باجرة"]
[null,null,null,null,null,null,null,null,null,null,null,"SY050302","C3273","Asrieh \\ أسرية"]
[null,null,null,null,null,null,null,null,null,null,null,"SY050302","C3275","Como-Saan \\ السعن"]
[null,null,null,null,null,null,null,null,null,null,null,"SY050302","C3282","Bgheidid \\ بغيديد"]
[null,null,null,null,null,null,null,null,null,null,null,"SY050302","C3292","Oriental Hart \\ هرط شرقي"]
[null,null,null,null,null,null,null,null,null,null,null,"SY050302","C3288","Eliyeh \\ علية"]
[null,null,null,null,null,null,null,null,null,null,null,"SY050302","C3276","Hasu Elablawi \\ حسو العلباوي"]
[null,null,null,null,null,null,null,null,null,null,null,"SY050302","C3280","Jakuziyeh \\ الجاكوسية"]
[null,null,null,null,null,null,null,null,null,null,null,"SY050302","C3286","Jeb Khsara \\ جب خسارة"]
[null,null,null,null,null,null,null,null,null,null,null,"SY050302","C3283","Ojet - Kabasin Elarab \\ عوجة_كباسين العرب"]
[null,null,null,null,null,null,null,null,null,null,null,"SY050302","C3284","Rahjan \\ رهجان"]
[null,null,null,null,null,null,null,null,null,null,null,"SY050302","C3285","Rasm Amón \\ رسم أمون"]
[null,null,null,null,null,null,null,null,null,null,null,"SY050302","C6346","Rasm Elahmar - Abu Hawadid \\ رسم الأحمر_أبو حواديد"]
[null,null,null,null,null,null,null,null,null,null,null,"SY050302","C3291","Sarha \\ سرحة"]
[null,null,null,null,null,null,null,null,null,null,null,"SY050302","C3281","Sheikh Hilal \\ الشيخ هلال"]
[null,null,null,null,null,null,null,null,null,null,null,"SY050302","C3289","Um Myal \\ أم ميال"]
[null,null,null,null,null,null,null,null,null,null,null,"SY050303","C3296","Abu Khanadeq \\ أبو خنادق"]
[null,null,null,null,null,null,null,null,null,null,null,"SY050303","C3300","Aqareb \\ عقارب"]
[null,null,null,null,null,null,null,null,null,null,null,"SY050303","C3310","Fweira \\ فويرة"]
[null,null,null,null,null,null,null,null,null,null,null,"SY050303","C3294","Jdideh \\ الجديدة"]
[null,null,null,null,null,null,null,null,null,null,null,"SY050303","C3298","Jeb Zreiq \\ جب زريق"]
[null,null,null,null,null,null,null,null,null,null,null,"SY050303","C3299","Jessine \\ جصين"]
[null,null,null,null,null,null,null,null,null,null,null,"SY050303","C3293","Khneifis Eldosa \\ خنيفس الدوسة"]
[null,null,null,null,null,null,null,null,null,null,null,"SY050303","C3308","Mabuja \\ مبعوجة"]
[null,null,null,null,null,null,null,null,null,null,null,"SY050303","C3309","Qanafeth \\ قنافذ"]
[null,null,null,null,null,null,null,null,null,null,null,"SY050303","C3307","Qbeibat \\ قبيبات"]
[null,null,null,null,null,null,null,null,null,null,null,"SY050303","C3297","Saboura \\ صبورة"]
[null,null,null,null,null,null,null,null,null,null,null,"SY050303","C3306","Salba \\ صلبا"]
[null,null,null,null,null,null,null,null,null,null,null,"SY050303","C3301","Samiriyeh \\ سميرية"]
[null,null,null,null,null,null,null,null,null,null,null,"SY050303","C3295","Shahba \\ شهبا"]
[null,null,null,null,null,null,null,null,null,null,null,"SY050303","C3303","Sheheib \\ الشهيب"]
[null,null,null,null,null,null,null,null,null,null,null,"SY050303","C3305","Tal Abdel Aziz \\ تل عبد العزيز"]
[null,null,null,null,null,null,null,null,null,null,null,"SY050303","C3304","Tal Agher \\ تل أغر"]
[null,null,null,null,null,null,null,null,null,null,null,"SY050303","C3302","Um Khreizeh \\ أم خريزة"]
[null,null,null,null,null,null,null,null,null,null,null,"SY050304","C3316","Abu Dali \\ أبو دالي"]
[null,null,null,null,null,null,null,null,null,null,null,"SY050304","C3323","Abu Hakfa \\ أبو حكفة"]
[null,null,null,null,null,null,null,null,null,null,null,"SY050304","C3311","Abul Fashafish \\ أبو الفشافيش"]
[null,null,null,null,null,null,null,null,null,null,null,"SY050304","C3329","Bustan Sbeih \\ بستان صبيح"]
[null,null,null,null,null,null,null,null,null,null,null,"SY050304","C3313","Dakileh \\ دكيلة"]
[null,null,null,null,null,null,null,null,null,null,null,"SY050304","C3319","Hamadi Elomr - Kawkab Elsweid \\ حمادي العمر_كوكب السويد"]
[null,null,null,null,null,null,null,null,null,null,null,"SY050304","C3325","Hanuteh \\ الحانوتة"]
[null,null,null,null,null,null,null,null,null,null,null,"SY050304","C3331","Hdaj \\ هداج"]
[null,null,null,null,null,null,null,null,null,null,null,"SY050304","C3321","Jani Elelbawi \\ جني العلباوي"]
[null,null,null,null,null,null,null,null,null,null,null,"SY050304","C3324","Jeb Abyad - Byud \\ جب الأبيض_بيوض"]
[null,null,null,null,null,null,null,null,null,null,null,"SY050304","C3318","Jeb Dkileh \\ جب دكيلة"]
[null,null,null,null,null,null,null,null,null,null,null,"SY050304","C3326","Jruh \\ جروح"]
[null,null,null,null,null,null,null,null,null,null,null,"SY050304","C3312","Makhbuta \\ المخبوطة"]
[null,null,null,null,null,null,null,null,null,null,null,"SY050304","C3333","Masud \\ مسعود"]
[null,null,null,null,null,null,null,null,null,null,null,"SY050304","C3332","Msheirfeh \\ مشيرفة"]
[null,null,null,null,null,null,null,null,null,null,null,"SY050304","C3330","Neimiyeh \\ النعيمية"]
[null,null,null,null,null,null,null,null,null,null,null,"SY050304","C3334","Norte Mkeimin \\ مكيمن شمالي"]
[null,null,null,null,null,null,null,null,null,null,null,"SY050304","C3315","Oqeirbat \\ عقيربات"]
[null,null,null,null,null,null,null,null,null,null,null,"SY050304","C3322","Qastal \\ القسطل"]
[null,null,null,null,null,null,null,null,null,null,null,"SY050304","C3317","Rasm Elabed \\ رسم العبد"]
[null,null,null,null,null,null,null,null,null,null,null,"SY050304","C6347","Rasm Elbardaqana \\ رسم البردقانة"]
[null,null,null,null,null,null,null,null,null,null,null,"SY050304","C3314","Rweideh \\ الرويضة"]
[null,null,null,null,null,null,null,null,null,null,null,"SY050304","C3327","Suha \\ سوحا"]
[null,null,null,null,null,null,null,null,null,null,null,"SY050304","C3328","Tabara Elhamra \\ تبارة الحمراء"]
[null,null,null,null,null,null,null,null,null,null,null,"SY050304","C3320","Tehmaz \\ طهماز"]
[null,null,null,null,null,null,null,null,null,null,null,"SY050400","C3350","Anbura \\ عنبورة"]
[null,null,null,null,null,null,null,null,null,null,null,"SY050400","C3349","Bayada \\ البياضية"]
[null,null,null,null,null,null,null,null,null,null,null,"SY050400","C3348","Beida \\ البيضة"]
[null,null,null,null,null,null,null,null,null,null,null,"SY050400","C3357","Biqraqa \\ بقراقة"]
[null,null,null,null,null,null,null,null,null,null,null,"SY050400","C3359","Bostan \\ البستان"]
[null,null,null,null,null,null,null,null,null,null,null,"SY050400","C3358","Bqasqas \\ بقصقص"]
[null,null,null,null,null,null,null,null,null,null,null,"SY050400","C3346","Deir Elsalib \\ دير الصليب"]
[null,null,null,null,null,null,null,null,null,null,null,"SY050400","C3336","Deir Mama \\ دير ماما"]
[null,null,null,null,null,null,null,null,null,null,null,"SY050400","C3363","Findara \\ فندارة"]
[null,null,null,null,null,null,null,null,null,null,null,"SY050400","C3335","Hayluneh \\ الحيلونة"]
[null,null,null,null,null,null,null,null,null,null,null,"SY050400","C3340","Hiyalin \\ حيالين"]
[null,null,null,null,null,null,null,null,null,null,null,"SY050400","C3337","Hreif \\ الحريف"]
[null,null,null,null,null,null,null,null,null,null,null,"SY050400","C3344","Jobet Kalaj \\ جوبة كلخ"]
[null,null,null,null,null,null,null,null,null,null,null,"SY050400","C3365","Kafr Aqid \\ كفر عقيد"]
[null,null,null,null,null,null,null,null,null,null,null,"SY050400","C3345","Laqbba \\ اللقبة"]
[null,null,null,null,null,null,null,null,null,null,null,"SY050400","C3364","Mashta Deir Mama \\ مشتى دير ماما"]
[null,null,null,null,null,null,null,null,null,null,null,"SY050400","C3367","Masyaf \\ مصياف"]
[null,null,null,null,null,null,null,null,null,null,null,"SY050400","C3353","Nahda \\ النهضة"]
[null,null,null,null,null,null,null,null,null,null,null,"SY050400","C3361","Qabu Shamsiyeh \\ قبو شمسية"]
[null,null,null,null,null,null,null,null,null,null,null,"SY050400","C3362","Qasr Deir Hwit \\ قصر دير حويت"]
[null,null,null,null,null,null,null,null,null,null,null,"SY050400","C3368","Qayrun \\ قيرون"]
[null,null,null,null,null,null,null,null,null,null,null,"SY050400","C3366","Qurtman - Qurret Dokar \\ قرطمان_قرة دوكار"]
[null,null,null,null,null,null,null,null,null,null,null,"SY050400","C3343","Rabu \\ ربعو"]
[null,null,null,null,null,null,null,null,null,null,null,"SY050400","C3360","Rasafa \\ الرصافة"]
[null,null,null,null,null,null,null,null,null,null,null,"SY050400","C3355","Shiha \\ الشيحة"]
[null,null,null,null,null,null,null,null,null,null,null,"SY050400","C3347","Sigata \\ سيغاتا"]
[null,null,null,null,null,null,null,null,null,null,null,"SY050400","C3341","Sweida \\ السويدة"]
[null,null,null,null,null,null,null,null,null,null,null,"SY050400","C3338","Tal Aafar \\ تل أعفر"]
[null,null,null,null,null,null,null,null,null,null,null,"SY050400","C3339","Tayr Jamlah \\ طير جملة"]
[null,null,null,null,null,null,null,null,null,null,null,"SY050400","C3342","Teir Jebeh \\ طير جبة"]
[null,null,null,null,null,null,null,null,null,null,null,"SY050400","C3356","Zameliyeh \\ الزاملية"]
[null,null,null,null,null,null,null,null,null,null,null,"SY050400","C3351","Zeineh \\ الزينة"]
[null,null,null,null,null,null,null,null,null,null,null,"SY050401","C3370","Alamiyeh \\ العالمية"]
[null,null,null,null,null,null,null,null,null,null,null,"SY050401","C3374","Aslieh \\ أصيلة"]
[null,null,null,null,null,null,null,null,null,null,null,"SY050401","C3373","Deir Shmil \\ دير شميل"]
[null,null,null,null,null,null,null,null,null,null,null,"SY050401","C3375","Dimo \\ ديمو"]
[null,null,null,null,null,null,null,null,null,null,null,"SY050401","C3380","Hanjur \\ حنجور"]
[null,null,null,null,null,null,null,null,null,null,null,"SY050401","C3369","Hazaña \\ الهزانة"]
[null,null,null,null,null,null,null,null,null,null,null,"SY050401","C3371","Jeb Ramleh \\ جب رملة"]
[null,null,null,null,null,null,null,null,null,null,null,"SY050401","C3452","Jreijes \\ جريجس"]
[null,null,null,null,null,null,null,null,null,null,null,"SY050401","C3382","Kanfo \\ كنفو"]
[null,null,null,null,null,null,null,null,null,null,null,"SY050401","C3379","Khan Jleimdun \\ خان جليمدون"]
[null,null,null,null,null,null,null,null,null,null,null,"SY050401","C3384","Ma'arrin \\ معرين"]
[null,null,null,null,null,null,null,null,null,null,null,"SY050401","C3385","Mahruseh \\ محروسة"]
[null,null,null,null,null,null,null,null,null,null,null,"SY050401","C3383","Mushashin \\ موشاشين"]
[null,null,null,null,null,null,null,null,null,null,null,"SY050401","C3376","Oqeirba \\ عقيربة"]
[null,null,null,null,null,null,null,null,null,null,null,"SY050401","C3378","Qrayat \\ القريات"]
[null,null,null,null,null,null,null,null,null,null,null,"SY050401","C3381","Sarmiyeh \\ الصارمية"]
[null,null,null,null,null,null,null,null,null,null,null,"SY050401","C3372","Sulukiyeh \\ سلوكية"]
[null,null,null,null,null,null,null,null,null,null,null,"SY050401","C3377","Zawi - Zawyeh \\ الزاوي_الزاوية"]
[null,null,null,null,null,null,null,null,null,null,null,"SY050402","C3390","Akakir \\ عكاكير"]
[null,null,null,null,null,null,null,null,null,null,null,"SY050402","C3394","Ashrafiya - Kanazir \\ الأشرفية_خنازير"]
[null,null,null,null,null,null,null,null,null,null,null,"SY050402","C3391","Barin \\ بعرين"]
[null,null,null,null,null,null,null,null,null,null,null,"SY050402","C3388","Beshnine \\ بشنين"]
[null,null,null,null,null,null,null,null,null,null,null,"SY050402","C3400","Hawir Elturkman \\ حوير التركمان"]
[null,null,null,null,null,null,null,null,null,null,null,"SY050402","C3398","Kafr Kamra \\ كفر كمرة"]
[null,null,null,null,null,null,null,null,null,null,null,"SY050402","C3386","Kherbet Nisaf \\ خربة نيصاف"]
[null,null,null,null,null,null,null,null,null,null,null,"SY050402","C3396","Mreimin \\ مريمين"]
[null,null,null,null,null,null,null,null,null,null,null,"SY050402","C3397","Nisaf \\ نيصاف"]
[null,null,null,null,null,null,null,null,null,null,null,"SY050402","C3392","OJ \\ عوج"]
[null,null,null,null,null,null,null,null,null,null,null,"SY050402","C3395","Qarmas \\ قرمص"]
[null,null,null,null,null,null,null,null,null,null,null,"SY050402","C3399","Qasraya \\ قصرايا"]
[null,null,null,null,null,null,null,null,null,null,null,"SY050402","C3387","Tauneh \\ التاعونة"]
[null,null,null,null,null,null,null,null,null,null,null,"SY050402","C3389","Zor Barin \\ زور بعرين"]
[null,null,null,null,null,null,null,null,null,null,null,"SY050403","C3404","Aqdokar \\ أق دوكار"]
[null,null,null,null,null,null,null,null,null,null,null,"SY050403","C3402","Asheq Omar \\ عاشق عمر"]
[null,null,null,null,null,null,null,null,null,null,null,"SY050403","C3406","Baamra \\ بعمرة"]
[null,null,null,null,null,null,null,null,null,null,null,"SY050403","C3407","Barshime \\ برشين"]
[null,null,null,null,null,null,null,null,null,null,null,"SY050403","C3411","Beit Nater \\ بيت ناطر"]
[null,null,null,null,null,null,null,null,null,null,null,"SY050403","C3413","Dleibeh \\ الدليبة"]
[null,null,null,null,null,null,null,null,null,null,null,"SY050403","C3405","Ein Elshams \\ عين الشمس"]
[null,null,null,null,null,null,null,null,null,null,null,"SY050403","C3403","Ein Halaqim \\ عين حلاقيم"]
[null,null,null,null,null,null,null,null,null,null,null,"SY050403","C3416","Castillo Elayan \\ قلعة عليان"]
[null,null,null,null,null,null,null,null,null,null,null,"SY050403","C3412","Harmal \\ حرمل"]
[null,null,null,null,null,null,null,null,null,null,null,"SY050403","C3414","Hikr Beit Atiq \\ حكر بيت عتق"]
[null,null,null,null,null,null,null,null,null,null,null,"SY050403","C3415","Kahf Elhabash \\ كهف الحبش"]
[null,null,null,null,null,null,null,null,null,null,null,"SY050403","C3409","Kherbet Hzur \\ خربة حزور"]
[null,null,null,null,null,null,null,null,null,null,null,"SY050403","C3410","Majwi \\ المجوي"]
[null,null,null,null,null,null,null,null,null,null,null,"SY050403","C3408","Mashrafa \\ المشرفة"]
[null,null,null,null,null,null,null,null,null,null,null,"SY050403","C3401","Estaño Elsabil \\ تين السبيل"]
[null,null,null,null,null,null,null,null,null,null,null,"SY050404","C3428","Ameriyeh \\ العامرية"]
[null,null,null,null,null,null,null,null,null,null,null,"SY050404","C3419","Bashawi \\ بشاوي"]
[null,null,null,null,null,null,null,null,null,null,null,"SY050404","C3431","Beit Raqta \\ بيت رقطة"]
[null,null,null,null,null,null,null,null,null,null,null,"SY050404","C3433","Biret Eljerd \\ بيرة الجرد"]
[null,null,null,null,null,null,null,null,null,null,null,"SY050404","C3421","Breizeh \\ بريزة"]
[null,null,null,null,null,null,null,null,null,null,null,"SY050404","C3427","Dweir Elmashayekh \\ دوير المشايخ"]
[null,null,null,null,null,null,null,null,null,null,null,"SY050404","C3417","Ein El-Bayda \\ عين البيضا"]
[null,null,null,null,null,null,null,null,null,null,null,"SY050404","C3424","Ein Elkaram \\ عين الكرم"]
[null,null,null,null,null,null,null,null,null,null,null,"SY050404","C3430","Ein Farray \\ عين فراج"]
[null,null,null,null,null,null,null,null,null,null,null,"SY050404","C3429","Jbita \\ جبيتا"]
[null,null,null,null,null,null,null,null,null,null,null,"SY050404","C3435","Kafr Laha \\ كفر لاها"]
[null,null,null,null,null,null,null,null,null,null,null,"SY050404","C3425","Kameliyeh \\ الكاملية"]
[null,null,null,null,null,null,null,null,null,null,null,"SY050404","C3418","Marha \\ المرحة"]
[null,null,null,null,null,null,null,null,null,null,null,"SY050404","C3422","Meisreh \\ المعيصرة"]
[null,null,null,null,null,null,null,null,null,null,null,"SY050404","C3437","Naqir \\ نقير"]
[null,null,null,null,null,null,null,null,null,null,null,"SY050404","C3436","Qossiyeh \\ قصية"]
[null,null,null,null,null,null,null,null,null,null,null,"SY050404","C3432","Sindyana \\ السنديانة"]
[null,null,null,null,null,null,null,null,null,null,null,"SY050404","C3420","Tamarqiyeh \\ الطمارقية"]
[null,null,null,null,null,null,null,null,null,null,null,"SY050404","C3434","Wadi El-Oyoun \\ وادي العيون"]
[null,null,null,null,null,null,null,null,null,null,null,"SY050404","C3426","Zaytuneh \\ الزيتونة"]
[null,null,null,null,null,null,null,null,null,null,null,"SY050500","C3450","Abu Obaidah Al Jarrah \\ أبو عبيدة الجراح"]
[null,null,null,null,null,null,null,null,null,null,null,"SY050500","C3442","Abu Rbeis \\ أبو ربيص"]
[null,null,null,null,null,null,null,null,null,null,null,"SY050500","C3453","Halfaya \\ حلفايا"]
[null,null,null,null,null,null,null,null,null,null,null,"SY050500","C3448","Huwat \\ الهوات"]
[null,null,null,null,null,null,null,null,null,null,null,"SY050500","C3454","Jdideh \\ الجديدة"]
[null,null,null,null,null,null,null,null,null,null,null,"SY050500","C3455","Kafr Hud \\ كفر هود"]
[null,null,null,null,null,null,null,null,null,null,null,"SY050500","C3441","Kherbet Subín \\ خربة سوبين"]
[null,null,null,null,null,null,null,null,null,null,null,"SY050500","C3451","Khneizir \\ خنيزير"]
[null,null,null,null,null,null,null,null,null,null,null,"SY050500","C3456","Maarzaf \\ معرزاف"]
[null,null,null,null,null,null,null,null,null,null,null,"SY050500","C3444","Majdal \\ المجدل"]
[null,null,null,null,null,null,null,null,null,null,null,"SY050500","C3457","Muhradah \\ محردة"]
[null,null,null,null,null,null,null,null,null,null,null,"SY050500","C3443","Sher \\ شير"]
[null,null,null,null,null,null,null,null,null,null,null,"SY050500","C3438","Shezer \\ شيزر"]
[null,null,null,null,null,null,null,null,null,null,null,"SY050500","C3440","Sifsafiyeh \\ صفصافية"]
[null,null,null,null,null,null,null,null,null,null,null,"SY050500","C3445","Tal Milh \\ تل ملح"]
[null,null,null,null,null,null,null,null,null,null,null,"SY050500","C3439","Tal Sekkin \\ تل سكين"]
[null,null,null,null,null,null,null,null,null,null,null,"SY050500","C3447","Treismeh \\ تريمسة"]
[null,null,null,null,null,null,null,null,null,null,null,"SY050500","C3446","Zalaqit \\ زلاقيات"]
[null,null,null,null,null,null,null,null,null,null,null,"SY050500","C3449","Zor Elqaada \\ زور القعادة"]
[null,null,null,null,null,null,null,null,null,null,null,"SY050501","C3462","Arbaine \\ الأربعين"]
[null,null,null,null,null,null,null,null,null,null,null,"SY050501","C3459","Hamamiyat \\ حماميات"]
[null,null,null,null,null,null,null,null,null,null,null,"SY050501","C3463","Kafr Zeita \\ كفر زيتا"]
[null,null,null,null,null,null,null,null,null,null,null,"SY050501","C3458","Latmana \\ اللطامنة"]
[null,null,null,null,null,null,null,null,null,null,null,"SY050501","C3464","Latmin \\ لطمين"]
[null,null,null,null,null,null,null,null,null,null,null,"SY050501","C3460","Sayad \\ صياد"]
[null,null,null,null,null,null,null,null,null,null,null,"SY050501","C3461","Zakat \\ الزكاة"]
[null,null,null,null,null,null,null,null,null,null,null,"SY050502","C3468","Jalma \\ الجلمة"]
[null,null,null,null,null,null,null,null,null,null,null,"SY050502","C3466","Jbine \\ جبين"]
[null,null,null,null,null,null,null,null,null,null,null,"SY050502","C3469","Karnaz \\ كرناز"]
[null,null,null,null,null,null,null,null,null,null,null,"SY050502","C3465","Maghir \\ المغير"]
[null,null,null,null,null,null,null,null,null,null,null,"SY050502","C3467","Sheikh Hadid \\ شيخ حديد"]
[null,null,null,null,null,null,null,null,null,null,null,"SY060000","C3473","Baksa \\ بكسا"]
[null,null,null,null,null,null,null,null,null,null,null,"SY060000","C3474","Burj Elqasab \\ برج القصب"]
[null,null,null,null,null,null,null,null,null,null,null,"SY060000","C3477","Janata \\ جناتا"]
[null,null,null,null,null,null,null,null,null,null,null,"SY060000","C3483","Karsana \\ كرسانا"]
[null,null,null,null,null,null,null,null,null,null,null,"SY060000","C3480","Lattakia \\ اللاذقية"]
[null,null,null,null,null,null,null,null,null,null,null,"SY060000","C3472","Maghrit \\ المغريط"]
[null,null,null,null,null,null,null,null,null,null,null,"SY060000","C3482","Msheirfet Elsamuk \\ مشيرفة الساموك"]
[null,null,null,null,null,null,null,null,null,null,null,"SY060000","C3471","Qanjara \\ القنجرة"]
[null,null,null,null,null,null,null,null,null,null,null,"SY060000","C3478","Rodo \\ روضو"]
[null,null,null,null,null,null,null,null,null,null,null,"SY060000","C3476","Shamiyeh / Latakia \\ شاميه / اللاذقية /"]
[null,null,null,null,null,null,null,null,null,null,null,"SY060000","C3475","Sinjwan \\ سنجوان"]
[null,null,null,null,null,null,null,null,null,null,null,"SY060000","C3479","Squbin \\ سقوبين"]
[null,null,null,null,null,null,null,null,null,null,null,"SY060000","C3470","Stamarkho \\ ستمرخو"]
[null,null,null,null,null,null,null,null,null,null,null,"SY060001","C3494","Amruniyeh \\ العمرونية"]
[null,null,null,null,null,null,null,null,null,null,null,"SY060001","C3487","Bahlawaniyeh \\ البهلولية"]
[null,null,null,null,null,null,null,null,null,null,null,"SY060001","C3492","Barabsho \\ برابشبو"]
[null,null,null,null,null,null,null,null,null,null,null,"SY060001","C3493","Bdamyun \\ بدميون"]
[null,null,null,null,null,null,null,null,null,null,null,"SY060001","C3484","Ein Ellaban \\ عين اللبن"]
[null,null,null,null,null,null,null,null,null,null,null,"SY060001","C3496","FADRA \\ فدره"]
[null,null,null,null,null,null,null,null,null,null,null,"SY060001","C3485","Jabiyun \\ جبريون"]
[null,null,null,null,null,null,null,null,null,null,null,"SY060001","C3491","Jandariyeh \\ الجنديرية جندرية"]
[null,null,null,null,null,null,null,null,null,null,null,"SY060001","C3495","Karkit \\ الكركيت"]
[null,null,null,null,null,null,null,null,null,null,null,"SY060001","C3497","Qabarsiyeh \\ قبارصية"]
[null,null,null,null,null,null,null,null,null,null,null,"SY060001","C3489","Qarama \\ القرامه"]
[null,null,null,null,null,null,null,null,null,null,null,"SY060001","C3490","Rweiset Qasis \\ رويسة قسيس"]
[null,null,null,null,null,null,null,null,null,null,null,"SY060001","C3488","Safkum \\ السفكون"]
[null,null,null,null,null,null,null,null,null,null,null,"SY060001","C3486","Zobar \\ الزوبار"]
[null,null,null,null,null,null,null,null,null,null,null,"SY060002","C3512","Alia - Qaruja \\ عالية_قروجة"]
[null,null,null,null,null,null,null,null,null,null,null,"SY060002","C3508","Baydaa - AGJA Bayer \\ البيضاء_أغجة باير"]
[null,null,null,null,null,null,null,null,null,null,null,"SY060002","C3499","Deir Hanna / Latakia \\ دير حنا / اللاذقية"]
[null,null,null,null,null,null,null,null,null,null,null,"SY060002","C3513","Dorra - Qoqaj \\ الدرة_قولجق"]
[null,null,null,null,null,null,null,null,null,null,null,"SY060002","C3514","Ein Issa - Ein Bnar \\ عين عيسى_عين بنار"]
[null,null,null,null,null,null,null,null,null,null,null,"SY060002","C3500","Ghamam \\ غمام"]
[null,null,null,null,null,null,null,null,null,null,null,"SY060002","C3516","Hamra Qazaljura \\ الحمراء قزلجورة"]
[null,null,null,null,null,null,null,null,null,null,null,"SY060002","C3510","Hilwet - Sharn \\ حلوة_شرن"]
[null,null,null,null,null,null,null,null,null,null,null,"SY060002","C3504","Joret Elmaa \\ جورة الماء"]
[null,null,null,null,null,null,null,null,null,null,null,"SY060002","C3502","Khadraa - Kokag \\ الخضراء_كوكطاغ"]
[null,null,null,null,null,null,null,null,null,null,null,"SY060002","C3518","Bajo Kbir \\ كبير تحتاني"]
[null,null,null,null,null,null,null,null,null,null,null,"SY060002","C3517","Matleh - Zweik \\ المطلة_الزويك"]
[null,null,null,null,null,null,null,null,null,null,null,"SY060002","C3506","Qasab \\ القصب"]
[null,null,null,null,null,null,null,null,null,null,null,"SY060002","C3498","Rabee'a \\ ربيعة"]
[null,null,null,null,null,null,null,null,null,null,null,"SY060002","C3505","Rihanet Mseibine \\ ريحانة مصيبين"]
[null,null,null,null,null,null,null,null,null,null,null,"SY060002","C3507","Lamer Dagmashliyeh \\ الريم دغمشلية"]
[null,null,null,null,null,null,null,null,null,null,null,"SY060002","C3515","Sabahiyeh - Kandasiyeh \\ الصباحية_الكنديسة"]
[null,null,null,null,null,null,null,null,null,null,null,"SY060002","C3501","Samira - Sallur \\ السامرة_سللور"]
[null,null,null,null,null,null,null,null,null,null,null,"SY060002","C3509","Sawda - Qorret Jagez \\ السودة_قرة جاغز"]
[null,null,null,null,null,null,null,null,null,null,null,"SY060002","C3503","Shahrura - Shamruran \\ شحرورة_شمروران"]
[null,null,null,null,null,null,null,null,null,null,null,"SY060002","C3511","Sukariyeh \\ سكرية"]
[null,null,null,null,null,null,null,null,null,null,null,"SY060003","C3520","Burj Islam \\ برج إسلام"]
[null,null,null,null,null,null,null,null,null,null,null,"SY060003","C3519","Ein El-Bayda \\ عين البيضة"]
[null,null,null,null,null,null,null,null,null,null,null,"SY060003","C3530","Joziyeh \\ الجوزية"]
[null,null,null,null,null,null,null,null,null,null,null,"SY060003","C3531","Kherbet Eljoziyeh \\ خربة الجوزية"]
[null,null,null,null,null,null,null,null,null,null,null,"SY060003","C3526","Kneisat \\ الكنيسات"]
[null,null,null,null,null,null,null,null,null,null,null,"SY060003","C3535","Makhus \\ ماخوس"]
[null,null,null,null,null,null,null,null,null,null,null,"SY060003","C3536","Mashqita \\ مشقيتا"]
[null,null,null,null,null,null,null,null,null,null,null,"SY060003","C3529","Qaderiyeh - Berna \\ القادرية_برنة"]
[null,null,null,null,null,null,null,null,null,null,null,"SY060003","C3534","Qasmin \\ قسمين"]
[null,null,null,null,null,null,null,null,null,null,null,"SY060003","C3524","Qluf \\ القلوف"]
[null,null,null,null,null,null,null,null,null,null,null,"SY060003","C3525","RweisetQasmin \\ رويسة قسمين"]
[null,null,null,null,null,null,null,null,null,null,null,"SY060003","C3532","Salib Elturkman \\ صليب التركمان"]
[null,null,null,null,null,null,null,null,null,null,null,"SY060003","C3521","Sarkasiyeh \\ السرسكية"]
[null,null,null,null,null,null,null,null,null,null,null,"SY060003","C3527","Sefsaf \\ الصفصاف"]
[null,null,null,null,null,null,null,null,null,null,null,"SY060003","C3523","Shabtaliyeh \\ الشبطلية"]
[null,null,null,null,null,null,null,null,null,null,null,"SY060003","C3533","Sulas \\ سولاس"]
[null,null,null,null,null,null,null,null,null,null,null,"SY060003","C3522","Turbeh \\ التربة"]
[null,null,null,null,null,null,null,null,null,null,null,"SY060003","C3528","Zagharo \\ زغارو"]
[null,null,null,null,null,null,null,null,null,null,null,"SY060004","C3537","Badrosiyeh \\ البدروسية"]
[null,null,null,null,null,null,null,null,null,null,null,"SY060004","C3543","Ballura - Ballurab \\ بللورة_بللوران"]
[null,null,null,null,null,null,null,null,null,null,null,"SY060004","C3545","Beit Ewan \\ بيت عوان"]
[null,null,null,null,null,null,null,null,null,null,null,"SY060004","C3553","Dafleh - Qorret Tata \\ الدفلة_قره طاطا"]
[null,null,null,null,null,null,null,null,null,null,null,"SY060004","C3548","Damat \\ الضامات"]
[null,null,null,null,null,null,null,null,null,null,null,"SY060004","C3550","Falah - Qorret Falah \\ الفلاح_قره فلاح"]
[null,null,null,null,null,null,null,null,null,null,null,"SY060004","C3554","Ghassaniyeh - Kashish \\ الغسانية_كشيش"]
[null,null,null,null,null,null,null,null,null,null,null,"SY060004","C3551","Harajiyeh - Qorret Jalya \\ الحراجية_قرة جالية"]
[null,null,null,null,null,null,null,null,null,null,null,"SY060004","C3549","Issawiyeh - Issa Bakli \\ العيسوية_عيسى بكلي"]
[null,null,null,null,null,null,null,null,null,null,null,"SY060004","C3538","Mazra'a\\المزرعة"]
[null,null,null,null,null,null,null,null,null,null,null,"SY060004","C3555","Qastal MAAF \\ قسطل معاف"]
[null,null,null,null,null,null,null,null,null,null,null,"SY060004","C3542","Rayyana - Shamerliyeh \\ الريانة_الشامرلية"]
[null,null,null,null,null,null,null,null,null,null,null,"SY060004","C3546","Saraya \\ السرايا"]
[null,null,null,null,null,null,null,null,null,null,null,"SY060004","C3539","Sheikh Hassan - Faqi Hassan \\ الشيخ حسن_فاقي حسن"]
[null,null,null,null,null,null,null,null,null,null,null,"SY060004","C3540","Siwaniyeh - Qabatash \\ الصوانية_قباطاش"]
[null,null,null,null,null,null,null,null,null,null,null,"SY060004","C3544","Um Eltoyur - Taranja \\ أم الطيور_طرنجة"]
[null,null,null,null,null,null,null,null,null,null,null,"SY060004","C3547","Zaghrin \\ زغرين"]
[null,null,null,null,null,null,null,null,null,null,null,"SY060004","C3541","Zanzaf \\ زنزف"]
[null,null,null,null,null,null,null,null,null,null,null,"SY060004","C3552","Zaytuneh - Zaytunjek \\ زيتونة_زيتونجوك"]
[null,null,null,null,null,null,null,null,null,null,null,"SY060005","C3557","Kasab \\ كسب"]
[null,null,null,null,null,null,null,null,null,null,null,"SY060005","C3556","Mashrafet Bigjenfaz \\ المشرفة_بغجنفاز"]
[null,null,null,null,null,null,null,null,null,null,null,"SY060006","C3558","Basa \\ البصه"]
[null,null,null,null,null,null,null,null,null,null,null,"SY060006","C3560","Daba \\ دبا"]
[null,null,null,null,null,null,null,null,null,null,null,"SY060006","C3568","Fedyo \\ فديو"]
[null,null,null,null,null,null,null,null,null,null,null,"SY060006","C3567","Hanadi \\ هنادي"]
[null,null,null,null,null,null,null,null,null,null,null,"SY060006","C3559","Khlaleh \\ خلاله"]
[null,null,null,null,null,null,null,null,null,null,null,"SY060006","C3566","Mazar Elqateriyeh \\ مزار القطرية"]
[null,null,null,null,null,null,null,null,null,null,null,"SY060006","C3564","Qatariyeh \\ القطرية"]
[null,null,null,null,null,null,null,null,null,null,null,"SY060006","C6348","Shalfatiyeh \\ الشلفاطية"]
[null,null,null,null,null,null,null,null,null,null,null,"SY060006","C3562","Shamiyet Elmahalba \\ شاميه المهالبة"]
[null,null,null,null,null,null,null,null,null,null,null,"SY060006","C3481","Sheikh Elhamah \\ شيخ الحمى"]
[null,null,null,null,null,null,null,null,null,null,null,"SY060006","C3563","Shir \\ الشير"]
[null,null,null,null,null,null,null,null,null,null,null,"SY060006","C3561","Snobar \\ الصنوبر"]
[null,null,null,null,null,null,null,null,null,null,null,"SY060006","C3565","Stakhris \\ ستخريس"]
[null,null,null,null,null,null,null,null,null,null,null,"SY060200","C3579","Ashrafiya \\ الأشرفية"]
[null,null,null,null,null,null,null,null,null,null,null,"SY060200","C3586","Batra \\ بطرة"]
[null,null,null,null,null,null,null,null,null,null,null,"SY060200","C3587","Berjal \\ البرجال"]
[null,null,null,null,null,null,null,null,null,null,null,"SY060200","C3570","Bisaysin \\ بسيسين"]
[null,null,null,null,null,null,null,null,null,null,null,"SY060200","C3575","Bustan Elbasha \\ بستان الباشا"]
[null,null,null,null,null,null,null,null,null,null,null,"SY060200","C3569","Darghamo \\ درغامو"]
[null,null,null,null,null,null,null,null,null,null,null,"SY060200","C3590","Ghaniri \\ غنيري"]
[null,null,null,null,null,null,null,null,null,null,null,"SY060200","C3588","Hmeimim \\ حميميم"]
[null,null,null,null,null,null,null,null,null,null,null,"SY060200","C3578","Huweiz \\ الحويز"]
[null,null,null,null,null,null,null,null,null,null,null,"SY060200","C3576","Idiyeh \\ العيدية"]
[null,null,null,null,null,null,null,null,null,null,null,"SY060200","C3585","Jablah \\ جبلة"]
[null,null,null,null,null,null,null,null,null,null,null,"SY060200","C3589","Kafr DABIL \\ كفر دبيل"]
[null,null,null,null,null,null,null,null,null,null,null,"SY060200","C3580","Bajo Bkhadramo \\ بخضرمو التحتا"]
[null,null,null,null,null,null,null,null,null,null,null,"SY060200","C3577","Matrakiyeh \\ المتركية"]
[null,null,null,null,null,null,null,null,null,null,null,"SY060200","C3584","Meisreh \\ المعيصرة"]
[null,null,null,null,null,null,null,null,null,null,null,"SY060200","C3572","Qabu \\ القبو"]
[null,null,null,null,null,null,null,null,null,null,null,"SY060200","C3573","Ras El Ein - Jiwar Elbaqar \\ رأس العين_جوار البقر"]
[null,null,null,null,null,null,null,null,null,null,null,"SY060200","C3581","Rweiset Elhijl \\ رويسة الحجل"]
[null,null,null,null,null,null,null,null,null,null,null,"SY060200","C3583","Sharashir \\ الشراشير"]
[null,null,null,null,null,null,null,null,null,null,null,"SY060200","C3582","Syano \\ سيانو"]
[null,null,null,null,null,null,null,null,null,null,null,"SY060200","C3574","Zheirat \\ الزهيرات"]
[null,null,null,null,null,null,null,null,null,null,null,"SY060201","C3606","Bani Castillo Qahtan \\ قلعة بني قحطان"]
[null,null,null,null,null,null,null,null,null,null,null,"SY060201","C3600","Battara \\ بطارة"]
[null,null,null,null,null,null,null,null,null,null,null,"SY060201","C3592","Beit Elfay \\ بيت الفي"]
[null,null,null,null,null,null,null,null,null,null,null,"SY060201","C3598","Bteryas \\ بترياس"]
[null,null,null,null,null,null,null,null,null,null,null,"SY060201","C3603","Ein Elsharqiyeh \\ عين الشرقية"]
[null,null,null,null,null,null,null,null,null,null,null,"SY060201","C3591","Fteih \\ الفتيح"]
[null,null,null,null,null,null,null,null,null,null,null,"SY060201","C3594","Herf Mtur \\ حرف متور"]
[null,null,null,null,null,null,null,null,null,null,null,"SY060201","C3597","Huran Elbudy \\ حوران البودي"]
[null,null,null,null,null,null,null,null,null,null,null,"SY060201","C3602","Trabajo Yashut \\ جوب ياشوط"]
[null,null,null,null,null,null,null,null,null,null,null,"SY060201","C3607","Karm Elzayadiyeh \\ كرم الزيادية"]
[null,null,null,null,null,null,null,null,null,null,null,"SY060201","C3595","Maradsiyeh \\ المرداسية"]
[null,null,null,null,null,null,null,null,null,null,null,"SY060201","C3608","Mattur \\ متور"]
[null,null,null,null,null,null,null,null,null,null,null,"SY060201","C3593","Qalaye \\ القلايع"]
[null,null,null,null,null,null,null,null,null,null,null,"SY060201","C3604","Qassabin \\ قصابين"]
[null,null,null,null,null,null,null,null,null,null,null,"SY060201","C3605","Qorn Helliyeh \\ قرن حليه"]
[null,null,null,null,null,null,null,null,null,null,null,"SY060201","C3596","Rihanet Matur \\ ريحانة متور"]
[null,null,null,null,null,null,null,null,null,null,null,"SY060201","C3601","Zama \\ زاما"]
[null,null,null,null,null,null,null,null,null,null,null,"SY060201","C3599","Ziyadiyeh \\ الزيادية"]
[null,null,null,null,null,null,null,null,null,null,null,"SY060202","C3632","Baabda \\ بعبده"]
[null,null,null,null,null,null,null,null,null,null,null,"SY060202","C3614","Baraem Breen \\ البراعم بريعين"]
[null,null,null,null,null,null,null,null,null,null,null,"SY060202","C3630","Barazin \\ البرازين"]
[null,null,null,null,null,null,null,null,null,null,null,"SY060202","C3612","Barqa \\ برقة"]
[null,null,null,null,null,null,null,null,null,null,null,"SY060202","C3634","Basatwir \\ بسطوير"]
[null,null,null,null,null,null,null,null,null,null,null,"SY060202","C3627","Beit Elalluni \\ بيت العلوني"]
[null,null,null,null,null,null,null,null,null,null,null,"SY060202","C3621","Beshraghi \\ بشراغي"]
[null,null,null,null,null,null,null,null,null,null,null,"SY060202","C3635","Betshah \\ بطشاح"]
[null,null,null,null,null,null,null,null,null,null,null,"SY060202","C3615","Bitmana \\ بتمانا"]
[null,null,null,null,null,null,null,null,null,null,null,"SY060202","C3620","Bsendiana \\ بسنديانة"]
[null,null,null,null,null,null,null,null,null,null,null,"SY060202","C3623","Bsoter \\ بسوطر"]
[null,null,null,null,null,null,null,null,null,null,null,"SY060202","C3628","Darmineh \\ درمينه"]
[null,null,null,null,null,null,null,null,null,null,null,"SY060202","C3619","Dweir Baabda \\ دوير بعبده"]
[null,null,null,null,null,null,null,null,null,null,null,"SY060202","C3610","Dweir Bsindyana \\ دوير بسنديانة"]
[null,null,null,null,null,null,null,null,null,null,null,"SY060202","C3609","El Hamam Qarahleh \\ حمام القراحلة"]
[null,null,null,null,null,null,null,null,null,null,null,"SY060202","C3611","Jibul \\ جيبول"]
[null,null,null,null,null,null,null,null,null,null,null,"SY060202","C3629","Karama Kankaru \\ الكرامة كنكارو"]
[null,null,null,null,null,null,null,null,null,null,null,"SY060202","C3617","Kharayeb Salem \\ خرايب سالم"]
[null,null,null,null,null,null,null,null,null,null,null,"SY060202","C3626","Mansura - Zwiyeh \\ المنصورة_الزوية"]
[null,null,null,null,null,null,null,null,null,null,null,"SY060202","C3622","Oqaiba \\ العقيبة"]
[null,null,null,null,null,null,null,null,null,null,null,"SY060202","C3613","Orayqib \\ العريقيب"]
[null,null,null,null,null,null,null,null,null,null,null,"SY060202","C3636","Qarfis \\ قرفيص"]
[null,null,null,null,null,null,null,null,null,null,null,"SY060202","C3625","Qteilbiyyeh \\ القطيلبية"]
[null,null,null,null,null,null,null,null,null,null,null,"SY060202","C3616","Rabwa / Harbuq \\ الربوة / حربوق"]
[null,null,null,null,null,null,null,null,null,null,null,"SY060202","C3624","Sabiyun \\ سربيون"]
[null,null,null,null,null,null,null,null,null,null,null,"SY060202","C3631","Sakhaba \\ السخابة"]
[null,null,null,null,null,null,null,null,null,null,null,"SY060202","C3618","Tal Hweiri \\ تل حويري"]
[null,null,null,null,null,null,null,null,null,null,null,"SY060202","C3633","Zahraa / Sanqunes \\ الزهراء / سنقونس"]
[null,null,null,null,null,null,null,null,null,null,null,"SY060203","C3645","Armati \\ عرمتي"]
[null,null,null,null,null,null,null,null,null,null,null,"SY060203","C3646","Baqariya \\ بقرية"]
[null,null,null,null,null,null,null,null,null,null,null,"SY060203","C3641","Bashkuh \\ بشكوح"]
[null,null,null,null,null,null,null,null,null,null,null,"SY060203","C3642","Bishrah \\ البشراح"]
[null,null,null,null,null,null,null,null,null,null,null,"SY060203","C3638","Budy \\ البودي"]
[null,null,null,null,null,null,null,null,null,null,null,"SY060203","C3644","Deirotan / Jableh \\ ديروتان / جبلة"]
[null,null,null,null,null,null,null,null,null,null,null,"SY060203","C3643","Deiruneh Jableh \\ ديرونة جبلة"]
[null,null,null,null,null,null,null,null,null,null,null,"SY060203","C3647","Ein Shaqaq \\ عين شقاق"]
[null,null,null,null,null,null,null,null,null,null,null,"SY060203","C3637","Nuzha - Betghramo \\ النزهة / بتغرامو"]
[null,null,null,null,null,null,null,null,null,null,null,"SY060203","C3640","Rawda Benjaro \\ الروضة بنجارو"]
[null,null,null,null,null,null,null,null,null,null,null,"SY060203","C3639","Thawra Kherbet Almaradsiyeh \\ الثورة خربة المرداسية"]
[null,null,null,null,null,null,null,null,null,null,null,"SY060204","C3655","Batmush \\ بطموش"]
[null,null,null,null,null,null,null,null,null,null,null,"SY060204","C3654","Beit Ana \\ بيت عانا"]
[null,null,null,null,null,null,null,null,null,null,null,"SY060204","C3651","Dalyeh \\ دالية"]
[null,null,null,null,null,null,null,null,null,null,null,"SY060204","C3648","Ein Ghannam \\ عين غنام"]
[null,null,null,null,null,null,null,null,null,null,null,"SY060204","C3649","Herf Elsari \\ حرف الساري"]
[null,null,null,null,null,null,null,null,null,null,null,"SY060204","C3657","Maarin \\ معرين"]
[null,null,null,null,null,null,null,null,null,null,null,"SY060204","C3656","Msheirfeh \\ المشيرفة"]
[null,null,null,null,null,null,null,null,null,null,null,"SY060204","C3653","Qseibeh \\ القصيبة"]
[null,null,null,null,null,null,null,null,null,null,null,"SY060204","C3650","Salmiyeh \\ سلميه"]
[null,null,null,null,null,null,null,null,null,null,null,"SY060204","C3652","Talaziq \\ التلازيق"]
[null,null,null,null,null,null,null,null,null,null,null,"SY060204","C3658","Wadi Elqale \\ وادي القلع"]
[null,null,null,null,null,null,null,null,null,null,null,"SY060205","C3667","Beit Yshut - Ein qayta \\ بيت ياشوط_عين قيطة"]
[null,null,null,null,null,null,null,null,null,null,null,"SY060205","C3666","Bismalekh \\ بسمالخ"]
[null,null,null,null,null,null,null,null,null,null,null,"SY060205","C3665","Bsheili \\ بشيلي"]
[null,null,null,null,null,null,null,null,null,null,null,"SY060205","C3661","Ein Qetaa \\ عين قطعة"]
[null,null,null,null,null,null,null,null,null,null,null,"SY060205","C3663","Ein Salem \\ عين سالم"]
[null,null,null,null,null,null,null,null,null,null,null,"SY060205","C3660","Halabko \\ حلبكو"]
[null,null,null,null,null,null,null,null,null,null,null,"SY060205","C3664","Helleh Ara \\ حله عارا"]
[null,null,null,null,null,null,null,null,null,null,null,"SY060205","C3659","Jofin \\ جوفين"]
[null,null,null,null,null,null,null,null,null,null,null,"SY060205","C6349","Krum \\ الكروم"]
[null,null,null,null,null,null,null,null,null,null,null,"SY060205","C3662","Mneizleh \\ المنيزلة"]
[null,null,null,null,null,null,null,null,null,null,null,"SY060300","C3671","Al-Haffa \\ الحفة"]
[null,null,null,null,null,null,null,null,null,null,null,"SY060300","C3673","Babna \\ بابنا"]
[null,null,null,null,null,null,null,null,null,null,null,"SY060300","C6350","Doha \\ الدوحة"]
[null,null,null,null,null,null,null,null,null,null,null,"SY060300","C3682","Granada \\ غرناطة"]
[null,null,null,null,null,null,null,null,null,null,null,"SY060300","C3668","Hameidiyyeh \\ الحميدية"]
[null,null,null,null,null,null,null,null,null,null,null,"SY060300","C3677","Hara \\ الحارة"]
[null,null,null,null,null,null,null,null,null,null,null,"SY060300","C3674","Kherbet Hishun \\ خربة هيشون"]
[null,null,null,null,null,null,null,null,null,null,null,"SY060300","C3683","Manjila \\ منجيلا"]
[null,null,null,null,null,null,null,null,null,null,null,"SY060300","C3687","Milsun / Shir Elqalaq \\ ميسلون / شير القاق"]
[null,null,null,null,null,null,null,null,null,null,null,"SY060300","C6352","Mokhtariyeh \\ المختارية"]
[null,null,null,null,null,null,null,null,null,null,null,"SY060300","C3680","Othriya \\ العذرية"]
[null,null,null,null,null,null,null,null,null,null,null,"SY060300","C3669","Qadessiyeh - Jankil \\ القادسية_جنكيل"]
[null,null,null,null,null,null,null,null,null,null,null,"SY060300","C3685","Qeshbeh \\ قشبة"]
[null,null,null,null,null,null,null,null,null,null,null,"SY060300","C3686","Qreimani \\ قريماني"]
[null,null,null,null,null,null,null,null,null,null,null,"SY060300","C6351","Rabyeh / Bikas \\ الرابية / بكاس"]
[null,null,null,null,null,null,null,null,null,null,null,"SY060300","C3678","Raqiq \\ رقيق"]
[null,null,null,null,null,null,null,null,null,null,null,"SY060300","C3676","Rasyun Elheffeh \\ رسيون الحفة"]
[null,null,null,null,null,null,null,null,null,null,null,"SY060300","C3679","Samandil \\ صمنديل"]
[null,null,null,null,null,null,null,null,null,null,null,"SY060300","C3670","Samiya \\ السامية"]
[null,null,null,null,null,null,null,null,null,null,null,"SY060300","C3675","Sharifa \\ شريفا"]
[null,null,null,null,null,null,null,null,null,null,null,"SY060300","C3681","Tishrine / Dafil \\ تشرين / دفيل"]
[null,null,null,null,null,null,null,null,null,null,null,"SY060300","C3684","Watyel Karameh \\ وطي الرامة"]
[null,null,null,null,null,null,null,null,null,null,null,"SY060300","C3672","Zanqufa \\ زنقوفة"]
[null,null,null,null,null,null,null,null,null,null,null,"SY060301","C3701","Aramo \\ عرامو"]
[null,null,null,null,null,null,null,null,null,null,null,"SY060301","C3705","Bab Abdallah \\ باب عبد الله"]
[null,null,null,null,null,null,null,null,null,null,null,"SY060301","C3699","Bab Janna \\ باب جنه"]
[null,null,null,null,null,null,null,null,null,null,null,"SY060301","C3694","Balata \\ البلاطة"]
[null,null,null,null,null,null,null,null,null,null,null,"SY060301","C3696","Balluta \\ بلوطة"]
[null,null,null,null,null,null,null,null,null,null,null,"SY060301","C3690","Baruda \\ بارودة"]
[null,null,null,null,null,null,null,null,null,null,null,"SY060301","C3702","Birein \\ بيرين"]
[null,null,null,null,null,null,null,null,null,null,null,"SY060301","C3688","Bishamana \\ بشمانا"]
[null,null,null,null,null,null,null,null,null,null,null,"SY060301","C3692","Daryus \\ دريوس"]
[null,null,null,null,null,null,null,null,null,null,null,"SY060301","C3691","Deir Tuma \\ ديرتوما"]
[null,null,null,null,null,null,null,null,null,null,null,"SY060301","C3693","Durin \\ دورين"]
[null,null,null,null,null,null,null,null,null,null,null,"SY060301","C3703","Ein Elwadi Tantash \\ عين الوادي طنطاش"]
[null,null,null,null,null,null,null,null,null,null,null,"SY060301","C6353","Heryadi \\ الهريادي"]
[null,null,null,null,null,null,null,null,null,null,null,"SY060301","C3710","Kafr Dalba \\ كفر دلبة"]
[null,null,null,null,null,null,null,null,null,null,null,"SY060301","C3706","Karafish \\ كرافيش"]
[null,null,null,null,null,null,null,null,null,null,null,"SY060301","C3708","Majdal Saleh \\ مجدل صالح"]
[null,null,null,null,null,null,null,null,null,null,null,"SY060301","C3709","Marj Khokho \\ مرج خوخو"]
[null,null,null,null,null,null,null,null,null,null,null,"SY060301","C3707","Maruniyeh Dali / Ala \\ مارونية دالي / بريم"]
[null,null,null,null,null,null,null,null,null,null,null,"SY060301","C3695","Mrih \\ المريح"]
[null,null,null,null,null,null,null,null,null,null,null,"SY060301","C3697","Obein \\ أوبين"]
[null,null,null,null,null,null,null,null,null,null,null,"SY060301","C3700","Salanfa \\ صلنفة"]
[null,null,null,null,null,null,null,null,null,null,null,"SY060301","C3704","Salma \\ سلمى"]
[null,null,null,null,null,null,null,null,null,null,null,"SY060301","C3689","Schoh Baltaah \\ الشوح بلتعة"]
[null,null,null,null,null,null,null,null,null,null,null,"SY060301","C3698","Tertyah \\ ترتياح"]
[null,null,null,null,null,null,null,null,null,null,null,"SY060302","C3716","Basta \\ بستا"]
[null,null,null,null,null,null,null,null,null,null,null,"SY060302","C3712","Bayader Eldurra \\ بيادر الدرة"]
[null,null,null,null,null,null,null,null,null,null,null,"SY060302","C3711","Ein-Et Teeneh \\ عين التينة"]
[null,null,null,null,null,null,null,null,null,null,null,"SY060302","C3718","Hbeit \\ حبيت"]
[null,null,null,null,null,null,null,null,null,null,null,"SY060302","C3714","Jablaya \\ جبلايا"]
[null,null,null,null,null,null,null,null,null,null,null,"SY060302","C3715","Jdideh \\ الجديدة"]
[null,null,null,null,null,null,null,null,null,null,null,"SY060302","C3721","Kars \\ كرس"]
[null,null,null,null,null,null,null,null,null,null,null,"SY060302","C3717","Khaldiyet Khdello \\ خالدية خدللو"]
[null,null,null,null,null,null,null,null,null,null,null,"SY060302","C3720","Livin \\ ليفين"]
[null,null,null,null,null,null,null,null,null,null,null,"SY060302","C3719","Nabe Elkhandaq \\ نبع الخندق"]
[null,null,null,null,null,null,null,null,null,null,null,"SY060303","C3740","Aku \\ عكو"]
[null,null,null,null,null,null,null,null,null,null,null,"SY060303","C3742","Ara \\ آره"]
[null,null,null,null,null,null,null,null,null,null,null,"SY060303","C3741","Arafit \\ عرافيت"]
[null,null,null,null,null,null,null,null,null,null,null,"SY060303","C3724","Ard Elwata \\ أرض الوطى"]
[null,null,null,null,null,null,null,null,null,null,null,"SY060303","C3726","Bashura \\ باشورة"]
[null,null,null,null,null,null,null,null,null,null,null,"SY060303","C3735","Beit Shkuhi \\ بيت الشكوحي"]
[null,null,null,null,null,null,null,null,null,null,null,"SY060303","C3723","Bmashrafa \\ بمشرفة"]
[null,null,null,null,null,null,null,null,null,null,null,"SY060303","C3739","Bruma \\ بروما"]
[null,null,null,null,null,null,null,null,null,null,null,"SY060303","C3725","Deiruneh Elakrad \\ ديرونه الأكراد"]
[null,null,null,null,null,null,null,null,null,null,null,"SY060303","C3727","Dweirkeh \\ دويركه"]
[null,null,null,null,null,null,null,null,null,null,null,"SY060303","C3737","Eido \\ عيدو"]
[null,null,null,null,null,null,null,null,null,null,null,"SY060303","C3734","Ein Elashra \\ عين العشرة"]
[null,null,null,null,null,null,null,null,null,null,null,"SY060303","C3728","Ein Elhur \\ عين الحور"]
[null,null,null,null,null,null,null,null,null,null,null,"SY060303","C3736","Ein Elqantara \\ عين القنطرة"]
[null,null,null,null,null,null,null,null,null,null,null,"SY060303","C3754","Ghnimiyeh \\ غنيميه"]
[null,null,null,null,null,null,null,null,null,null,null,"SY060303","C3731","Haddada \\ حدادة"]
[null,null,null,null,null,null,null,null,null,null,null,"SY060303","C3732","Hamrat \\ الحمرات"]
[null,null,null,null,null,null,null,null,null,null,null,"SY060303","C3733","Hekro \\ حكرو"]
[null,null,null,null,null,null,null,null,null,null,null,"SY060303","C3751","Kabani \\ كباني"]
[null,null,null,null,null,null,null,null,null,null,null,"SY060303","C3752","Kadin \\ كدين"]
[null,null,null,null,null,null,null,null,null,null,null,"SY060303","C3746","Kafrata \\ كفرتة"]
[null,null,null,null,null,null,null,null,null,null,null,"SY060303","C6354","Kafraya \\ كفريه"]
[null,null,null,null,null,null,null,null,null,null,null,"SY060303","C3750","Kansaba \\ كنسبا"]
[null,null,null,null,null,null,null,null,null,null,null,"SY060303","C3745","Karura \\ كارورة"]
[null,null,null,null,null,null,null,null,null,null,null,"SY060303","C3753","Kort \\ كورت"]
[null,null,null,null,null,null,null,null,null,null,null,"SY060303","C3743","Majdal Kikhya \\ مجدل كيخيا"]
[null,null,null,null,null,null,null,null,null,null,null,"SY060303","C3749","Marj Elzawyeh \\ مرج الزاوية"]
[null,null,null,null,null,null,null,null,null,null,null,"SY060303","C3747","Mizyen \\ مزين"]
[null,null,null,null,null,null,null,null,null,null,null,"SY060303","C3738","Oweinat \\ عوينات"]
[null,null,null,null,null,null,null,null,null,null,null,"SY060303","C3730","Shalaf \\ شلف"]
[null,null,null,null,null,null,null,null,null,null,null,"SY060303","C3722","Tala \\ تلا"]
[null,null,null,null,null,null,null,null,null,null,null,"SY060303","C3729","Touma \\ طعوما"]
[null,null,null,null,null,null,null,null,null,null,null,"SY060303","C3748","Wadi Baur \\ وادي باصور"]
[null,null,null,null,null,null,null,null,null,null,null,"SY060303","C3744","Wadi Elshikhan \\ وادي الشيخان"]
[null,null,null,null,null,null,null,null,null,null,null,"SY060304","C3760","Beit Jiro \\ بيت جيرو"]
[null,null,null,null,null,null,null,null,null,null,null,"SY060304","C3755","Deir Mama \\ دير ماما"]
[null,null,null,null,null,null,null,null,null,null,null,"SY060304","C3772","Derbashiyeh \\ الدرباشية"]
[null,null,null,null,null,null,null,null,null,null,null,"SY060304","C3756","Difeh \\ ديفة"]
[null,null,null,null,null,null,null,null,null,null,null,"SY060304","C3765","Dweir Elshalaf \\ دوير الشلف"]
[null,null,null,null,null,null,null,null,null,null,null,"SY060304","C3763","Hettin Ambrato \\ حطين أمبراتو"]
[null,null,null,null,null,null,null,null,null,null,null,"SY060304","C3764","Jinjaniyeh \\ جنجانية"]
[null,null,null,null,null,null,null,null,null,null,null,"SY060304","C3775","Karm Elmaasarah \\ كرم المعصرة"]
[null,null,null,null,null,null,null,null,null,null,null,"SY060304","C3778","Kimin \\ كيمين"]
[null,null,null,null,null,null,null,null,null,null,null,"SY060304","C3762","Lisoniyeh \\ الليسونيه"]
[null,null,null,null,null,null,null,null,null,null,null,"SY060304","C3777","Mardido \\ مرديدو"]
[null,null,null,null,null,null,null,null,null,null,null,"SY060304","C3757","Masla \\ المصلا"]
[null,null,null,null,null,null,null,null,null,null,null,"SY060304","C3776","Massis \\ مصيص"]
[null,null,null,null,null,null,null,null,null,null,null,"SY060304","C3779","Milyo \\ مليو"]
[null,null,null,null,null,null,null,null,null,null,null,"SY060304","C3758","Msheirfet Elhiffeh \\ المشيرفة الحفة"]
[null,null,null,null,null,null,null,null,null,null,null,"SY060304","C3774","Mzair'a\\مزيرعة"]
[null,null,null,null,null,null,null,null,null,null,null,"SY060304","C3773","Qaqiyeh \\ القاقعية"]
[null,null,null,null,null,null,null,null,null,null,null,"SY060304","C3769","Qweiqa / Heffeh \\ القويقة / الحفة"]
[null,null,null,null,null,null,null,null,null,null,null,"SY060304","C3759","Rama \\ الرامة"]
[null,null,null,null,null,null,null,null,null,null,null,"SY060304","C3767","Rawda / Tarjano Elheffeh \\ الروضة / طرجانو الحفة"]
[null,null,null,null,null,null,null,null,null,null,null,"SY060304","C3770","Rejm \\ الرجم"]
[null,null,null,null,null,null,null,null,null,null,null,"SY060304","C3771","Rweimiyeh \\ الرويمية"]
[null,null,null,null,null,null,null,null,null,null,null,"SY060304","C3761","Rweiset Hleil \\ رويسة هليل"]
[null,null,null,null,null,null,null,null,null,null,null,"SY060304","C6355","Shibel \\ الشبل"]
[null,null,null,null,null,null,null,null,null,null,null,"SY060304","C3766","Sraj \\ السراج"]
[null,null,null,null,null,null,null,null,null,null,null,"SY060304","C3780","Yasmin - Yasnis \\ ياسمين_ياسنس"]
[null,null,null,null,null,null,null,null,null,null,null,"SY060304","C3768","Zahraa / Batarnas El Hiffeh \\ الزهراء / بطرنس الحفة"]
[null,null,null,null,null,null,null,null,null,null,null,"SY060304","C3713","Zanbura \\ زنبورة"]
[null,null,null,null,null,null,null,null,null,null,null,"SY060400","C3809","Al-Qardaha \\ القرداحة"]
[null,null,null,null,null,null,null,null,null,null,null,"SY060400","C3812","Bani Issa \\ بني عيسى"]
[null,null,null,null,null,null,null,null,null,null,null,"SY060400","C3796","Basilea \\ الباسل / اليابسة"]
[null,null,null,null,null,null,null,null,null,null,null,"SY060400","C3799","Behwariya \\ بحواريا"]
[null,null,null,null,null,null,null,null,null,null,null,"SY060400","C3782","Bekrama \\ بكراما"]
[null,null,null,null,null,null,null,null,null,null,null,"SY060400","C3797","Bhamra \\ بحمرة"]
[null,null,null,null,null,null,null,null,null,null,null,"SY060400","C3788","Bishlama \\ بشلاما"]
[null,null,null,null,null,null,null,null,null,null,null,"SY060400","C3789","Bishriyeh \\ بشرية"]
[null,null,null,null,null,null,null,null,null,null,null,"SY060400","C3813","Bissine \\ بسين"]
[null,null,null,null,null,null,null,null,null,null,null,"SY060400","C3791","Bitar \\ البيطار"]
[null,null,null,null,null,null,null,null,null,null,null,"SY060400","C3810","Bsut \\ بسوت"]
[null,null,null,null,null,null,null,null,null,null,null,"SY060400","C3800","Dbeiqa \\ الدبيقة"]
[null,null,null,null,null,null,null,null,null,null,null,"SY060400","C3801","Deir Duma \\ دير دوما"]
[null,null,null,null,null,null,null,null,null,null,null,"SY060400","C3805","Deir Hanna / Qerdaha \\ دير حنا / القرداحة"]
[null,null,null,null,null,null,null,null,null,null,null,"SY060400","C6358","Deir Ibrahim \\ دير ابراهيم"]
[null,null,null,null,null,null,null,null,null,null,null,"SY060400","C3811","Deirotan Qerdaha \\ ديروتان القرداحة"]
[null,null,null,null,null,null,null,null,null,null,null,"SY060400","C3808","Ein Elarus \\ عين العروس"]
[null,null,null,null,null,null,null,null,null,null,null,"SY060400","C3806","Estamna \\ اسطمنا"]
[null,null,null,null,null,null,null,null,null,null,null,"SY060400","C3802","Ghalmiseh \\ غلميسه"]
[null,null,null,null,null,null,null,null,null,null,null,"SY060400","C3786","Herf Radwa \\ حرف رضوه"]
[null,null,null,null,null,null,null,null,null,null,null,"SY060400","C3804","Jdideh \\ جديدة"]
[null,null,null,null,null,null,null,null,null,null,null,"SY060400","C3781","Jermati \\ جرماتي"]
[null,null,null,null,null,null,null,null,null,null,null,"SY060400","C3822","Kalmakho \\ كلماخو"]
[null,null,null,null,null,null,null,null,null,null,null,"SY060400","C6356","Kherbet Abu Khasraf \\ خربة ابو خسرف"]
[null,null,null,null,null,null,null,null,null,null,null,"SY060400","C3823","Marj Meibran \\ مرج معيربان"]
[null,null,null,null,null,null,null,null,null,null,null,"SY060400","C3819","Marj Mussa \\ مرج موسى"]
[null,null,null,null,null,null,null,null,null,null,null,"SY060400","C3817","Markiyeh \\ مركيه"]
[null,null,null,null,null,null,null,null,null,null,null,"SY060400","C3795","Matn \\ المتن"]
[null,null,null,null,null,null,null,null,null,null,null,"SY060400","C3790","Miseh \\ الميسه"]
[null,null,null,null,null,null,null,null,null,null,null,"SY060400","C3798","MRAN \\ المران"]
[null,null,null,null,null,null,null,null,null,null,null,"SY060400","C3820","Mreijat \\ مريجات"]
[null,null,null,null,null,null,null,null,null,null,null,"SY060400","C3824","Neinti \\ نيننتي"]
[null,null,null,null,null,null,null,null,null,null,null,"SY060400","C3821","Nina \\ نينه"]
[null,null,null,null,null,null,null,null,null,null,null,"SY060400","C3793","Oweina Elrihan \\ عوينة الريحان"]
[null,null,null,null,null,null,null,null,null,null,null,"SY060400","C3816","Qalluriyeh \\ قللورية"]
[null,null,null,null,null,null,null,null,null,null,null,"SY060400","C3818","Qamu Kafr Debeil \\ قاموع كفر دبيل"]
[null,null,null,null,null,null,null,null,null,null,null,"SY060400","C3807","Qarama Qerdaha \\ القرامة قرداحة"]
[null,null,null,null,null,null,null,null,null,null,null,"SY060400","C3814","Qatlaba \\ القطلبة"]
[null,null,null,null,null,null,null,null,null,null,null,"SY060400","C6357","Qweiqa / Qaradha \\ قويقة / القرداحة"]
[null,null,null,null,null,null,null,null,null,null,null,"SY060400","C3815","Ras Elqalluriyeh \\ رأس القللورية"]
[null,null,null,null,null,null,null,null,null,null,null,"SY060400","C3792","Rasun Elqerdaha \\ رسيون القرداحة"]
[null,null,null,null,null,null,null,null,null,null,null,"SY060400","C3787","Rweiset Afif \\ رويسة عفيف"]
[null,null,null,null,null,null,null,null,null,null,null,"SY060400","C3785","Rweiset Badriyeh \\ رويسه بدرية"]
[null,null,null,null,null,null,null,null,null,null,null,"SY060400","C3784","Rweiset Elbasatneh \\ رويسة البساتنة"]
[null,null,null,null,null,null,null,null,null,null,null,"SY060400","C3783","Safraqiyeh \\ سفرقية"]
[null,null,null,null,null,null,null,null,null,null,null,"SY060400","C3803","Sallurin \\ سللورين"]
[null,null,null,null,null,null,null,null,null,null,null,"SY060400","C3794","Slagho \\ سلاغو"]
[null,null,null,null,null,null,null,null,null,null,null,"SY060401","C3828","Amud \\ العامود"]
[null,null,null,null,null,null,null,null,null,null,null,"SY060401","C3827","Arqub \\ عرقوب"]
[null,null,null,null,null,null,null,null,null,null,null,"SY060401","C3832","Aruset Eljabal \\ عروسة الجبل"]
[null,null,null,null,null,null,null,null,null,null,null,"SY060401","C3830","Dleibat \\ الدليبات"]
[null,null,null,null,null,null,null,null,null,null,null,"SY060401","C3825","Ein Elhayat \\ عين الحيات"]
[null,null,null,null,null,null,null,null,null,null,null,"SY060401","C3833","Farshat \\ فرشات"]
[null,null,null,null,null,null,null,null,null,null,null,"SY060401","C3829","Harf Elmseitra \\ حرف المسيترة"]
[null,null,null,null,null,null,null,null,null,null,null,"SY060401","C3826","Qarandah \\ القرندح"]
[null,null,null,null,null,null,null,null,null,null,null,"SY060401","C3831","Shanbutin \\ شنبوطين"]
[null,null,null,null,null,null,null,null,null,null,null,"SY060402","C3844","Astamo \\ اسطامو"]
[null,null,null,null,null,null,null,null,null,null,null,"SY060402","C3839","Bastiron \\ البسطيرون"]
[null,null,null,null,null,null,null,null,null,null,null,"SY060402","C3838","Behwara \\ بحواره"]
[null,null,null,null,null,null,null,null,null,null,null,"SY060402","C3842","Bein Sohin \\ بين سوهين"]
[null,null,null,null,null,null,null,null,null,null,null,"SY060402","C3837","Bisrama \\ بصراما"]
[null,null,null,null,null,null,null,null,null,null,null,"SY060402","C3835","Bqeilun \\ بقيلون"]
[null,null,null,null,null,null,null,null,null,null,null,"SY060402","C3840","Bustan Elbaraka \\ بستان البركة"]
[null,null,null,null,null,null,null,null,null,null,null,"SY060402","C3836","Dabbash \\ دباش"]
[null,null,null,null,null,null,null,null,null,null,null,"SY060402","C3843","Fakhura \\ الفاخورة"]
[null,null,null,null,null,null,null,null,null,null,null,"SY060402","C3848","Ghayu \\ غيو"]
[null,null,null,null,null,null,null,null,null,null,null,"SY060402","C3845","Hassaniyeh \\ الحسانية"]
[null,null,null,null,null,null,null,null,null,null,null,"SY060402","C6359","Jbeiriyeh \\ جبيريه"]
[null,null,null,null,null,null,null,null,null,null,null,"SY060402","C3849","Kafraz \\ كفرز"]
[null,null,null,null,null,null,null,null,null,null,null,"SY060402","C3846","Khushkhasheh \\ خشخاشة"]
[null,null,null,null,null,null,null,null,null,null,null,"SY060402","C3847","Maalaqa \\ معلقة"]
[null,null,null,null,null,null,null,null,null,null,null,"SY060402","C6360","Markhu \\ مرخو"]
[null,null,null,null,null,null,null,null,null,null,null,"SY060402","C3850","Nqoro \\ نقورو"]
[null,null,null,null,null,null,null,null,null,null,null,"SY060402","C3841","Qalmun \\ القلمون"]
[null,null,null,null,null,null,null,null,null,null,null,"SY060402","C3852","Qamin \\ قمين"]
[null,null,null,null,null,null,null,null,null,null,null,"SY060402","C3834","Tarmi \\ ترمي"]
[null,null,null,null,null,null,null,null,null,null,null,"SY060402","C3851","Wata Deir Zaynun \\ وطى دير زينون"]
[null,null,null,null,null,null,null,null,null,null,null,"SY060402","C6361","Western Bseiqa \\ بسيقة الغربية"]
[null,null,null,null,null,null,null,null,null,null,null,"SY060402","C3853","Yarta \\ يرته"]
[null,null,null,null,null,null,null,null,null,null,null,"SY060403","C3858","Ananib \\ عنانيب"]
[null,null,null,null,null,null,null,null,null,null,null,"SY060403","C3854","Ariza \\ الأريزة"]
[null,null,null,null,null,null,null,null,null,null,null,"SY060403","C3860","Balat \\ البلاط"]
[null,null,null,null,null,null,null,null,null,null,null,"SY060403","C3864","Farzala \\ فرزلا"]
[null,null,null,null,null,null,null,null,null,null,null,"SY060403","C3857","Jobet Berghal \\ جوبة برغال"]
[null,null,null,null,null,null,null,null,null,null,null,"SY060403","C3861","Kherbet Elsindyana \\ خربة السنديانة"]
[null,null,null,null,null,null,null,null,null,null,null,"SY060403","C3855","Khreibat Elqalaa \\ خريبيات القلعة"]
[null,null,null,null,null,null,null,null,null,null,null,"SY060403","C3863","Castillo Mahableh \\ قلعة المهالبة"]
[null,null,null,null,null,null,null,null,null,null,null,"SY060403","C3862","Malikh \\ مليخ"]
[null,null,null,null,null,null,null,null,null,null,null,"SY060403","C3865","Qarir \\ قرير"]
[null,null,null,null,null,null,null,null,null,null,null,"SY060403","C3859","Rawabi Elkhader Elbor \\ الروابي الخضر البور"]
[null,null,null,null,null,null,null,null,null,null,null,"SY060403","C3856","Zanyo \\ زنيو"]
[null,null,null,null,null,null,null,null,null,null,null,"SY070000","C3866","Aqrabat \\ عقربات"]
[null,null,null,null,null,null,null,null,null,null,null,"SY070000","C3875","Arshani \\ عرشاني"]
[null,null,null,null,null,null,null,null,null,null,null,"SY070000","C3868","Ein Shib \\ عين شيب"]
[null,null,null,null,null,null,null,null,null,null,null,"SY070000","C3877","Falyun \\ فيلون"]
[null,null,null,null,null,null,null,null,null,null,null,"SY070000","C3871","Idleb \\ إدلب"]
[null,null,null,null,null,null,null,null,null,null,null,"SY070000","C3879","Kafruhin \\ كفروحين"]
[null,null,null,null,null,null,null,null,null,null,null,"SY070000","C3869","Kreiz \\ الكريز"]
[null,null,null,null,null,null,null,null,null,null,null,"SY070000","C3878","Martein \\ مرتين"]
[null,null,null,null,null,null,null,null,null,null,null,"SY070000","C3872","Mastumeh \\ المسطومة"]
[null,null,null,null,null,null,null,null,null,null,null,"SY070000","C3867","Nayrab \\ النيرب"]
[null,null,null,null,null,null,null,null,null,null,null,"SY070000","C3874","Ora Norte \\ عرى الشمالية"]
[null,null,null,null,null,null,null,null,null,null,null,"SY070000","C3876","Qminas \\ قميناس"]
[null,null,null,null,null,null,null,null,null,null,null,"SY070000","C3873","Sijer - Bqesemtoh \\ سيجر - بقسمته"]
[null,null,null,null,null,null,null,null,null,null,null,"SY070000","C3870","Pestaña Issa - oriental y occidental \\ تب عيسى_شرقية وغربية"]
[null,null,null,null,null,null,null,null,null,null,null,"SY070001","C3891","Abul Thohur \\ أبو الظهور"]
[null,null,null,null,null,null,null,null,null,null,null,"SY070001","C3881","Ballisa \\ البليصة"]
[null,null,null,null,null,null,null,null,null,null,null,"SY070001","C3893","Baragethi \\ البراغيثي"]
[null,null,null,null,null,null,null,null,null,null,null,"SY070001","C3884","Barissa \\ باريسا"]
[null,null,null,null,null,null,null,null,null,null,null,"SY070001","C3882","Gran Zafar \\ زفر الكبير"]
[null,null,null,null,null,null,null,null,null,null,null,"SY070001","C3880","Busra - Little Zafar \\ بصرى_زفر الصغير"]
[null,null,null,null,null,null,null,null,null,null,null,"SY070001","C3886","Harmala \\ حرملة"]
[null,null,null,null,null,null,null,null,null,null,null,"SY070001","C3900","Hmeimat Eldayer \\ حميمات الداير"]
[null,null,null,null,null,null,null,null,null,null,null,"SY070001","C3897","Hseiniyeh - Tal Kalba \\ الحسينية_تل كلبة"]
[null,null,null,null,null,null,null,null,null,null,null,"SY070001","C3890","Jallas \\ جلاس"]
[null,null,null,null,null,null,null,null,null,null,null,"SY070001","C3887","Jdidhe Abu Elthohur \\ جديدة أبو الظهور"]
[null,null,null,null,null,null,null,null,null,null,null,"SY070001","C6362","Msheirfeh \\ المشيرفة"]
[null,null,null,null,null,null,null,null,null,null,null,"SY070001","C3894","Mustariha \\ المستريحة"]
[null,null,null,null,null,null,null,null,null,null,null,"SY070001","C3902","Ras El Ein \\ راس العين"]
[null,null,null,null,null,null,null,null,null,null,null,"SY070001","C3895","Rasm Abed \\ رسم عابد"]
[null,null,null,null,null,null,null,null,null,null,null,"SY070001","C3901","Tal Elaghar \\ تل الأغر"]
[null,null,null,null,null,null,null,null,null,null,null,"SY070001","C3892","Tal Fukhar \\ تل فخار"]
[null,null,null,null,null,null,null,null,null,null,null,"SY070001","C3899","Tal Silmo \\ تل سلمو"]
[null,null,null,null,null,null,null,null,null,null,null,"SY070001","C3898","Tal Sultan \\ تل سلطان"]
[null,null,null,null,null,null,null,null,null,null,null,"SY070001","C3903","Tal Tufan \\ تل طوقان"]
[null,null,null,null,null,null,null,null,null,null,null,"SY070001","C3888","Taljineh \\ تلجينة"]
[null,null,null,null,null,null,null,null,null,null,null,"SY070001","C3883","Talkhatra \\ تلخطرة"]
[null,null,null,null,null,null,null,null,null,null,null,"SY070001","C3889","Tawahineh \\ طواحينة"]
[null,null,null,null,null,null,null,null,null,null,null,"SY070001","C3896","Tawil Elsheikh \\ طويل الشيخ"]
[null,null,null,null,null,null,null,null,null,null,null,"SY070001","C3885","Tweim \\ التويم"]
[null,null,null,null,null,null,null,null,null,null,null,"SY070002","C3904","Bennsh \\ بنش"]
[null,null,null,null,null,null,null,null,null,null,null,"SY070002","C3905","Foah \\ الفوعة"]
[null,null,null,null,null,null,null,null,null,null,null,"SY070002","C3906","Toum \\ طعوم"]
[null,null,null,null,null,null,null,null,null,null,null,"SY070003","C3914","Abul Khos \\ أبو الخوص"]
[null,null,null,null,null,null,null,null,null,null,null,"SY070003","C3920","Afs \\ افس"]
[null,null,null,null,null,null,null,null,null,null,null,"SY070003","C3921","Ajez \\ آجز"]
[null,null,null,null,null,null,null,null,null,null,null,"SY070003","C3907","Anqrati \\ انقراتي"]
[null,null,null,null,null,null,null,null,null,null,null,"SY070003","C3912","Bijfas \\ بجفاص"]
[null,null,null,null,null,null,null,null,null,null,null,"SY070003","C3911","Bweiti \\ بويطي"]
[null,null,null,null,null,null,null,null,null,null,null,"SY070003","C3910","Dadikh \\ داديخ"]
[null,null,null,null,null,null,null,null,null,null,null,"SY070003","C3909","Jobas \\ جوباس"]
[null,null,null,null,null,null,null,null,null,null,null,"SY070003","C3927","Kafr Battij \\ كفر بطيخ"]
[null,null,null,null,null,null,null,null,null,null,null,"SY070003","C3928","Kafr Omeim \\ كفر عميم"]
[null,null,null,null,null,null,null,null,null,null,null,"SY070003","C3925","Khan Elsobol \\ خان السبل"]
[null,null,null,null,null,null,null,null,null,null,null,"SY070003","C3922","Khuwara \\ خوارى"]
[null,null,null,null,null,null,null,null,null,null,null,"SY070003","C3929","Lof \\ لوف"]
[null,null,null,null,null,null,null,null,null,null,null,"SY070003","C3931","Maar Dibsi \\ معردبسي"]
[null,null,null,null,null,null,null,null,null,null,null,"SY070003","C3926","Maharim \\ محاريم"]
[null,null,null,null,null,null,null,null,null,null,null,"SY070003","C3930","Mardikh \\ مرديخ"]
[null,null,null,null,null,null,null,null,null,null,null,"SY070003","C3923","Rasafa \\ الرصافة"]
[null,null,null,null,null,null,null,null,null,null,null,"SY070003","C3919","Rayan \\ ريان"]
[null,null,null,null,null,null,null,null,null,null,null,"SY070003","C3913","Salamín \\ سلامين"]
[null,null,null,null,null,null,null,null,null,null,null,"SY070003","C3915","San \\ سان"]
[null,null,null,null,null,null,null,null,null,null,null,"SY070003","C3916","Saraqab \\ سراقب"]
[null,null,null,null,null,null,null,null,null,null,null,"SY070003","C3924","Sheikh Idris \\ شيخ ادريس"]
[null,null,null,null,null,null,null,null,null,null,null,"SY070003","C3918","Tal Karatine \\ تل كراتين"]
[null,null,null,null,null,null,null,null,null,null,null,"SY070003","C3908","Tromba \\ ترنبة"]
[null,null,null,null,null,null,null,null,null,null,null,"SY070004","C3936","Ketyan \\ كتيان"]
[null,null,null,null,null,null,null,null,null,null,null,"SY070004","C3935","Maaret Elnaasan - Maaret Elhaski \\ معارة النعسان_معارة الحاسكي"]
[null,null,null,null,null,null,null,null,null,null,null,"SY070004","C3934","Shallakh \\ شللخ"]
[null,null,null,null,null,null,null,null,null,null,null,"SY070004","C3933","Talhiyeh \\ طلحية"]
[null,null,null,null,null,null,null,null,null,null,null,"SY070004","C3932","Teftnaz \\ تفتناز"]
[null,null,null,null,null,null,null,null,null,null,null,"SY070005","C3939","Batenta \\ باتنته"]
[null,null,null,null,null,null,null,null,null,null,null,"SY070005","C3937","Bhora \\ بحورى"]
[null,null,null,null,null,null,null,null,null,null,null,"SY070005","C3943","Haranbush \\ حرنبوش"]
[null,null,null,null,null,null,null,null,null,null,null,"SY070005","C3944","Hazano \\ حزانو"]
[null,null,null,null,null,null,null,null,null,null,null,"SY070005","C3942","Kafr - Kafrehmul \\ الكفر_كفريحمول"]
[null,null,null,null,null,null,null,null,null,null,null,"SY070005","C3945","Kafr Jales \\ كفر جالس"]
[null,null,null,null,null,null,null,null,null,null,null,"SY070005","C3948","Kafr Nabi \\ كفر نبي"]
[null,null,null,null,null,null,null,null,null,null,null,"SY070005","C3952","Kafraya Maar Tamsarin \\ كفريا معرتمصرين"]
[null,null,null,null,null,null,null,null,null,null,null,"SY070005","C3951","Kaftin \\ كفتين"]
[null,null,null,null,null,null,null,null,null,null,null,"SY070005","C3949","Kelly \\ كللي"]
[null,null,null,null,null,null,null,null,null,null,null,"SY070005","C3950","Maaret Elekhwan \\ معارة الاخوان"]
[null,null,null,null,null,null,null,null,null,null,null,"SY070005","C3947","Ma'arrat Tamasrin \\ معر تمصرين"]
[null,null,null,null,null,null,null,null,null,null,null,"SY070005","C3946","Murin \\ مورين"]
[null,null,null,null,null,null,null,null,null,null,null,"SY070005","C3941","Ram Hamdan \\ رام حمدان"]
[null,null,null,null,null,null,null,null,null,null,null,"SY070005","C3940","Taltuneh \\ تلتونة"]
[null,null,null,null,null,null,null,null,null,null,null,"SY070005","C3938","Zardana Mashehad \\ زردنا_مشهد"]
[null,null,null,null,null,null,null,null,null,null,null,"SY070006","C3953","Sarmin \\ سرمين"]
[null,null,null,null,null,null,null,null,null,null,null,"SY070200","C3973","Abu Makki \\ أبو مكي"]
[null,null,null,null,null,null,null,null,null,null,null,"SY070200","C3964","Babilla \\ بابيلا"]
[null,null,null,null,null,null,null,null,null,null,null,"SY070200","C3975","Barsa \\ البرسة"]
[null,null,null,null,null,null,null,null,null,null,null,"SY070200","C3976","Bsida \\ بسيدا"]
[null,null,null,null,null,null,null,null,null,null,null,"SY070200","C3965","Dana \\ الدانا"]
[null,null,null,null,null,null,null,null,null,null,null,"SY070200","C3962","Oriental de Deir \\ دير شرقي"]
[null,null,null,null,null,null,null,null,null,null,null,"SY070200","C3963","Ghadqa \\ الغدقة"]
[null,null,null,null,null,null,null,null,null,null,null,"SY070200","C3966","Halbeh \\ الهلبة"]
[null,null,null,null,null,null,null,null,null,null,null,"SY070200","C3957","Hantutin \\ حنتوتين"]
[null,null,null,null,null,null,null,null,null,null,null,"SY070200","C3970","Harran \\ حران"]
[null,null,null,null,null,null,null,null,null,null,null,"SY070200","C3954","Hatamiyeh \\ الهرتمية"]
[null,null,null,null,null,null,null,null,null,null,null,"SY070200","C3960","Hazzan \\ حزان"]
[null,null,null,null,null,null,null,null,null,null,null,"SY070200","C3969","Hraki \\ الحراكي"]
[null,null,null,null,null,null,null,null,null,null,null,"SY070200","C3955","Jarada \\ جرادة"]
[null,null,null,null,null,null,null,null,null,null,null,"SY070200","C3977","Jarjnaz \\ جرجناز"]
[null,null,null,null,null,null,null,null,null,null,null,"SY070200","C3956","Kanayes \\ الكنايس"]
[null,null,null,null,null,null,null,null,null,null,null,"SY070200","C3984","Karfuma \\ كفرومة"]
[null,null,null,null,null,null,null,null,null,null,null,"SY070200","C3979","Kweires \\ كويرس"]
[null,null,null,null,null,null,null,null,null,null,null,"SY070200","C3983","Maar Shamarin \\ معر شمارين"]
[null,null,null,null,null,null,null,null,null,null,null,"SY070200","C3981","Maar Shamsheh \\ معر شمشه"]
[null,null,null,null,null,null,null,null,null,null,null,"SY070200","C3978","Maar Shurin \\ معرشورين"]
[null,null,null,null,null,null,null,null,null,null,null,"SY070200","C3985","Un Ma'arrat Numan \\ معرة النعمان"]
[null,null,null,null,null,null,null,null,null,null,null,"SY070200","C3980","Maasaran \\ معصران"]
[null,null,null,null,null,null,null,null,null,null,null,"SY070200","C3982","Qaratli \\ قراطي"]
[null,null,null,null,null,null,null,null,null,null,null,"SY070200","C3961","Samkeh \\ سمكة"]
[null,null,null,null,null,null,null,null,null,null,null,"SY070200","C3972","Sarman \\ الصرمان"]
[null,null,null,null,null,null,null,null,null,null,null,"SY070200","C3959","Tal Dibis \\ تل دبس"]
[null,null,null,null,null,null,null,null,null,null,null,"SY070200","C3971","Tal Kersyan \\ تل كرسيان"]
[null,null,null,null,null,null,null,null,null,null,null,"SY070200","C3974","Telamnas \\ تلمنس"]
[null,null,null,null,null,null,null,null,null,null,null,"SY070200","C3967","Thahrat Talamnas \\ ظهرة تلمنس"]
[null,null,null,null,null,null,null,null,null,null,null,"SY070200","C3958","Tqana \\ تقانة"]
[null,null,null,null,null,null,null,null,null,null,null,"SY070200","C3968","Western Deir \\ دير الغربي"]
[null,null,null,null,null,null,null,null,null,null,null,"SY070201","C3990","Abdin \\ عابدين"]
[null,null,null,null,null,null,null,null,null,null,null,"SY070201","C3992","Baarbu \\ بعربو"]
[null,null,null,null,null,null,null,null,null,null,null,"SY070201","C3989","HBIT \\ الهبيط"]
[null,null,null,null,null,null,null,null,null,null,null,"SY070201","C3993","Kafr Ein \\ كفر عين"]
[null,null,null,null,null,null,null,null,null,null,null,"SY070201","C3987","Khan Shaykun \\ خان شيخون"]
[null,null,null,null,null,null,null,null,null,null,null,"SY070201","C3991","Nqeir \\ النقير"]
[null,null,null,null,null,null,null,null,null,null,null,"SY070201","C3986","Qasabiyeh \\ القصابية"]
[null,null,null,null,null,null,null,null,null,null,null,"SY070201","C3988","Um Zaytuna \\ أم زيتونة"]
[null,null,null,null,null,null,null,null,null,null,null,"SY070202","C4017","Abu Sharji \\ أبو شرجي"]
[null,null,null,null,null,null,null,null,null,null,null,"SY070202","C4027","Abul Eleij \\ أبو العليج"]
[null,null,null,null,null,null,null,null,null,null,null,"SY070202","C4010","Bashkum \\ باشكون"]
[null,null,null,null,null,null,null,null,null,null,null,"SY070202","C4036","Gran Karatin \\ كراتين الكبير"]
[null,null,null,null,null,null,null,null,null,null,null,"SY070202","C4003","Borj \\ البرج"]
[null,null,null,null,null,null,null,null,null,null,null,"SY070202","C4033","Brennan \\ برنان"]
[null,null,null,null,null,null,null,null,null,null,null,"SY070202","C4028","Dreibiyeh \\ الدريبية"]
[null,null,null,null,null,null,null,null,null,null,null,"SY070202","C4004","Dwadiyeh \\ الدوادية"]
[null,null,null,null,null,null,null,null,null,null,null,"SY070202","C4047","Lweibdeh Oriental \\ لويبدة شرقية"]
[null,null,null,null,null,null,null,null,null,null,null,"SY070202","C6363","Oriental Sarja \\ سرجة شرقية"]
[null,null,null,null,null,null,null,null,null,null,null,"SY070202","C4007","Ejaz \\ اعجاز"]
[null,null,null,null,null,null,null,null,null,null,null,"SY070202","C4037","Fahil Jallas \\ فحيل جلاس"]
[null,null,null,null,null,null,null,null,null,null,null,"SY070202","C4038","Ferwan \\ فروان"]
[null,null,null,null,null,null,null,null,null,null,null,"SY070202","C3995","Ghazileh \\ غزيلة"]
[null,null,null,null,null,null,null,null,null,null,null,"SY070202","C4002","Halban \\ حلبان"]
[null,null,null,null,null,null,null,null,null,null,null,"SY070202","C4030","Hawa \\ حوا"]
[null,null,null,null,null,null,null,null,null,null,null,"SY070202","C4029","Heisa \\ الحيصة"]
[null,null,null,null,null,null,null,null,null,null,null,"SY070202","C4016","Jaberiyeh \\ الجابرية"]
[null,null,null,null,null,null,null,null,null,null,null,"SY070202","C4023","Jahman \\ الجهمان"]
[null,null,null,null,null,null,null,null,null,null,null,"SY070202","C3999","Jeb Elqasab \\ جب القصب"]
[null,null,null,null,null,null,null,null,null,null,null,"SY070202","C4045","Kafraya Elmaarra \\ كفريا المعرة"]
[null,null,null,null,null,null,null,null,null,null,null,"SY070202","C4035","Karsanti \\ كرسنتي"]
[null,null,null,null,null,null,null,null,null,null,null,"SY070202","C4009","Khayriyeh \\ خيرية"]
[null,null,null,null,null,null,null,null,null,null,null,"SY070202","C4032","Khwein Elshaer \\ خوين الشعر"]
[null,null,null,null,null,null,null,null,null,null,null,"SY070202","C4031","Khyara \\ خيارة"]
[null,null,null,null,null,null,null,null,null,null,null,"SY070202","C4040","Poco Karatin \\ كراتين صغير"]
[null,null,null,null,null,null,null,null,null,null,null,"SY070202","C3994","Poco Khayrieyh \\ خيرية صغيرة"]
[null,null,null,null,null,null,null,null,null,null,null,"SY070202","C4039","Magharet Merza \\ مغارة ميرزا"]
[null,null,null,null,null,null,null,null,null,null,null,"SY070202","C4005","Maksar \\ المكسر"]
[null,null,null,null,null,null,null,null,null,null,null,"SY070202","C4041","Mardagana Burtuqala \\ مردغانة برتقالة"]
[null,null,null,null,null,null,null,null,null,null,null,"SY070202","C3996","Mreiheb \\ المريجب"]
[null,null,null,null,null,null,null,null,null,null,null,"SY070202","C4048","Mreijeb Elmashad \\ مريجب المشهد"]
[null,null,null,null,null,null,null,null,null,null,null,"SY070202","C4020","Mutawaseta \\ المتوسطة"]
[null,null,null,null,null,null,null,null,null,null,null,"SY070202","C4043","Nibaz \\ نباز"]
[null,null,null,null,null,null,null,null,null,null,null,"SY070202","C4046","Norte Lweibdeh \\ لويبدة شمالية"]
[null,null,null,null,null,null,null,null,null,null,null,"SY070202","C4006","Ojeh \\ العوجة"]
[null,null,null,null,null,null,null,null,null,null,null,"SY070202","C4042","Qasr Elabyad \\ قصر الأبيض"]
[null,null,null,null,null,null,null,null,null,null,null,"SY070202","C4044","Qatra \\ قطرة"]
[null,null,null,null,null,null,null,null,null,null,null,"SY070202","C4019","Rabeeah Brennan \\ ربيعة برنان"]
[null,null,null,null,null,null,null,null,null,null,null,"SY070202","C4034","Rabeeah Musa \\ ربيعة موسى"]
[null,null,null,null,null,null,null,null,null,null,null,"SY070202","C3998","Rasm Elabed \\ رسم العبد"]
[null,null,null,null,null,null,null,null,null,null,null,"SY070202","C4024","Sanjar \\ سنجار"]
[null,null,null,null,null,null,null,null,null,null,null,"SY070202","C4021","Sari \\ صريع"]
[null,null,null,null,null,null,null,null,null,null,null,"SY070202","C4026","Sayadi \\ الصيادى"]
[null,null,null,null,null,null,null,null,null,null,null,"SY070202","C4022","Seraa \\ صراع"]
[null,null,null,null,null,null,null,null,null,null,null,"SY070202","C4011","Shara - Sharat Elajayez \\ الشعرة_شعرة العجائز"]
[null,null,null,null,null,null,null,null,null,null,null,"SY070202","C4015","Sheikh Barakeh \\ الشيخ بركة"]
[null,null,null,null,null,null,null,null,null,null,null,"SY070202","C4014","Um sur Mweilat \\ أم مويلات جنوبية"]
[null,null,null,null,null,null,null,null,null,null,null,"SY070202","C4025","Sqiah \\ الصقيعة"]
[null,null,null,null,null,null,null,null,null,null,null,"SY070202","C4001","Tal presa \\ تل دم"]
[null,null,null,null,null,null,null,null,null,null,null,"SY070202","C3997","Tal Elojeh \\ تل العوجه"]
[null,null,null,null,null,null,null,null,null,null,null,"SY070202","C4018","Tal Halawa \\ تل حلاوة"]
[null,null,null,null,null,null,null,null,null,null,null,"SY070202","C4000","Tellemara \\ تلعمارة"]
[null,null,null,null,null,null,null,null,null,null,null,"SY070202","C4008","Thleijeh \\ ثليجة"]
[null,null,null,null,null,null,null,null,null,null,null,"SY070202","C4012","Um Sehrij \\ ام صهريج"]
[null,null,null,null,null,null,null,null,null,null,null,"SY070202","C4013","Um Tini \\ ام تيني"]
[null,null,null,null,null,null,null,null,null,null,null,"SY070202","C6306","Western Sarja \\ سرجة غربية"]
[null,null,null,null,null,null,null,null,null,null,null,"SY070203","C4061","Basqala \\ بسقلا"]
[null,null,null,null,null,null,null,null,null,null,null,"SY070203","C4057","Gran Dara \\ دارة الكبيرة"]
[null,null,null,null,null,null,null,null,null,null,null,"SY070203","C4052","Faqie \\ الفقيع"]
[null,null,null,null,null,null,null,null,null,null,null,"SY070203","C4069","Fleifel \\ فليفل"]
[null,null,null,null,null,null,null,null,null,null,null,"SY070203","C4070","Ftireh \\ فطيرة"]
[null,null,null,null,null,null,null,null,null,null,null,"SY070203","C4058","Tiene \\ حاس"]
[null,null,null,null,null,null,null,null,null,null,null,"SY070203","C4056","Hazarin \\ حزارين"]
[null,null,null,null,null,null,null,null,null,null,null,"SY070203","C4050","Jbala \\ جبالا"]
[null,null,null,null,null,null,null,null,null,null,null,"SY070203","C4067","Kafr Musa \\ كفر موسى"]
[null,null,null,null,null,null,null,null,null,null,null,"SY070203","C4068","Kafr Nobol \\ كفر نبل"]
[null,null,null,null,null,null,null,null,null,null,null,"SY070203","C4062","Kafr Oweid \\ كفر عويد"]
[null,null,null,null,null,null,null,null,null,null,null,"SY070203","C4073","Karsaa \\ كرسعة"]
[null,null,null,null,null,null,null,null,null,null,null,"SY070203","C4072","Kawkabeh \\ كوكبة"]
[null,null,null,null,null,null,null,null,null,null,null,"SY070203","C4074","Lweibdeh \\ لويبدة"]
[null,null,null,null,null,null,null,null,null,null,null,"SY070203","C4071","Maar Tahroma \\ معرتحرمة"]
[null,null,null,null,null,null,null,null,null,null,null,"SY070203","C4065","Maar Tamater \\ معرتماتر"]
[null,null,null,null,null,null,null,null,null,null,null,"SY070203","C4063","Maar Tesin \\ معر تصين"]
[null,null,null,null,null,null,null,null,null,null,null,"SY070203","C4066","Maarzita \\ معرزيتا"]
[null,null,null,null,null,null,null,null,null,null,null,"SY070203","C4060","Milaja \\ الملاجة"]
[null,null,null,null,null,null,null,null,null,null,null,"SY070203","C4049","Norte Rasha \\ راشا الشمالية"]
[null,null,null,null,null,null,null,null,null,null,null,"SY070203","C4064","Qoqfin \\ قوقفين"]
[null,null,null,null,null,null,null,null,null,null,null,"SY070203","C4054","Sfuhen \\ سفوهن"]
[null,null,null,null,null,null,null,null,null,null,null,"SY070203","C4055","Sheikh Mustafa \\ الشيخ مصطفى"]
[null,null,null,null,null,null,null,null,null,null,null,"SY070203","C4053","Shorlin \\ شورلين"]
[null,null,null,null,null,null,null,null,null,null,null,"SY070203","C4051","Tramla \\ ترملا"]
[null,null,null,null,null,null,null,null,null,null,null,"SY070203","C4059","Um Nir \\ أم نير"]
[null,null,null,null,null,null,null,null,null,null,null,"SY070204","C4093","Abu Dali \\ أبو دالي"]
[null,null,null,null,null,null,null,null,null,null,null,"SY070204","C4086","Abu Omar \\ أبو عمر"]
[null,null,null,null,null,null,null,null,null,null,null,"SY070204","C4091","Gran Khwein \\ خوين الكبير"]
[null,null,null,null,null,null,null,null,null,null,null,"SY070204","C4079","Breiseh \\ البريصة"]
[null,null,null,null,null,null,null,null,null,null,null,"SY070204","C4082","Dajaj \\ الدجاج"]
[null,null,null,null,null,null,null,null,null,null,null,"SY070204","C4089","Farja \\ الفرجة"]
[null,null,null,null,null,null,null,null,null,null,null,"SY070204","C4084","Hamadaniyeh \\ الحمدانية"]
[null,null,null,null,null,null,null,null,null,null,null,"SY070204","C4088","Mashraf Rajmel Mashraf \\ المشرف رجم المشرف"]
[null,null,null,null,null,null,null,null,null,null,null,"SY070204","C4097","Msheirfeh Qabliyeh \\ مشيرفة قبلية"]
[null,null,null,null,null,null,null,null,null,null,null,"SY070204","C4083","Niha \\ النيحة"]
[null,null,null,null,null,null,null,null,null,null,null,"SY070204","C4098","Norte Msheirfeh \\ مشيرفة شمالية"]
[null,null,null,null,null,null,null,null,null,null,null,"SY070204","C4096","Qleiat Eltubiyeh \\ قليعات الطوبية"]
[null,null,null,null,null,null,null,null,null,null,null,"SY070204","C4078","Raffa \\ الرفة"]
[null,null,null,null,null,null,null,null,null,null,null,"SY070204","C4092","Rweideh \\ الرويضة"]
[null,null,null,null,null,null,null,null,null,null,null,"SY070204","C4075","Sahal \\ سحال"]
[null,null,null,null,null,null,null,null,null,null,null,"SY070204","C4090","Shatib \\ شطيب"]
[null,null,null,null,null,null,null,null,null,null,null,"SY070204","C4077","SKIK \\ سكيك"]
[null,null,null,null,null,null,null,null,null,null,null,"SY070204","C4094","Tal Khanzir \\ تل خنزير"]
[null,null,null,null,null,null,null,null,null,null,null,"SY070204","C4087","Tal Maraq \\ تل مرق"]
[null,null,null,null,null,null,null,null,null,null,null,"SY070204","C4076","Tama \\ الطامة"]
[null,null,null,null,null,null,null,null,null,null,null,"SY070204","C4081","Tamanaah \\ التمانعة"]
[null,null,null,null,null,null,null,null,null,null,null,"SY070204","C4085","Um Elkhalayel \\ أم الخلاخيل"]
[null,null,null,null,null,null,null,null,null,null,null,"SY070204","C4095","Um Jalal \\ ام جلال"]
[null,null,null,null,null,null,null,null,null,null,null,"SY070205","C4108","Abu Habbeh \\ ابو حبة"]
[null,null,null,null,null,null,null,null,null,null,null,"SY070205","C4101","Amudiyeh \\ العامودية"]
[null,null,null,null,null,null,null,null,null,null,null,"SY070205","C4106","Armanaya \\ أرمنايا"]
[null,null,null,null,null,null,null,null,null,null,null,"SY070205","C4100","Babuline \\ بابولين"]
[null,null,null,null,null,null,null,null,null,null,null,"SY070205","C4105","Heish \\ حيش"]
[null,null,null,null,null,null,null,null,null,null,null,"SY070205","C4111","Kafr Cuenca \\ كفرباسين"]
[null,null,null,null,null,null,null,null,null,null,null,"SY070205","C4110","Kafrsajna \\ كفرسجنة"]
[null,null,null,null,null,null,null,null,null,null,null,"SY070205","C4112","Maar Hattat \\ معر حطاط"]
[null,null,null,null,null,null,null,null,null,null,null,"SY070205","C4113","Maysruneh \\ معيصرونة"]
[null,null,null,null,null,null,null,null,null,null,null,"SY070205","C4109","Moqa \\ موقة"]
[null,null,null,null,null,null,null,null,null,null,null,"SY070205","C4102","Rakaya Sijneh \\ ركايا سجنة"]
[null,null,null,null,null,null,null,null,null,null,null,"SY070205","C4104","Sahyan \\ صهيان"]
[null,null,null,null,null,null,null,null,null,null,null,"SY070205","C4107","Sheikh Dames \\ الشيخ دامس"]
[null,null,null,null,null,null,null,null,null,null,null,"SY070205","C4099","Tah \\ التح"]
[null,null,null,null,null,null,null,null,null,null,null,"SY070205","C4103","Tahtaya \\ تحتايا"]
[null,null,null,null,null,null,null,null,null,null,null,"SY070300","C4114","Ariba \\ عريبا"]
[null,null,null,null,null,null,null,null,null,null,null,"SY070300","C4116","Besnaya - Bseineh \\ بسنيا_بسينة"]
[null,null,null,null,null,null,null,null,null,null,null,"SY070300","C4115","Harim \\ حارم"]
[null,null,null,null,null,null,null,null,null,null,null,"SY070300","C4117","Kafr Hum \\ كفرحوم"]
[null,null,null,null,null,null,null,null,null,null,null,"SY070300","C4119","Kafr Mu \\ كفر مو"]
[null,null,null,null,null,null,null,null,null,null,null,"SY070300","C4118","Mira Shaq \\ ميرا سحاق"]
[null,null,null,null,null,null,null,null,null,null,null,"SY070301","C4127","Aqrabat \\ عقربات"]
[null,null,null,null,null,null,null,null,null,null,null,"SY070301","C4130","Alma \\ اطمه"]
[null,null,null,null,null,null,null,null,null,null,null,"SY070301","C4128","Burj Elnumra \\ برج النمرة"]
[null,null,null,null,null,null,null,null,null,null,null,"SY070301","C4126","Dana \\ الدانا"]
[null,null,null,null,null,null,null,null,null,null,null,"SY070301","C4129","Deir Hassan - Darhashan \\ دير حسان_درحشان"]
[null,null,null,null,null,null,null,null,null,null,null,"SY070301","C4120","Hezreh - Hezri \\ حزرة_حرزي"]
[null,null,null,null,null,null,null,null,null,null,null,"SY070301","C4132","Kafr Deryan \\ كفردريان"]
[null,null,null,null,null,null,null,null,null,null,null,"SY070301","C4131","Qah \\ قاح"]
[null,null,null,null,null,null,null,null,null,null,null,"SY070301","C4121","Sarmada \\ سرمدا"]
[null,null,null,null,null,null,null,null,null,null,null,"SY070301","C4123","Selwa \\ صلوة"]
[null,null,null,null,null,null,null,null,null,null,null,"SY070301","C4122","Tal Elkaramej \\ تل الكرامة"]
[null,null,null,null,null,null,null,null,null,null,null,"SY070301","C4125","Termanin \\ ترمانين"]
[null,null,null,null,null,null,null,null,null,null,null,"SY070301","C4124","Tilaada \\ تلعادة"]
[null,null,null,null,null,null,null,null,null,null,null,"SY070302","C4133","Abu Talha \\ ابو طلحة"]
[null,null,null,null,null,null,null,null,null,null,null,"SY070302","C4142","Allani \\ العلاني"]
[null,null,null,null,null,null,null,null,null,null,null,"SY070302","C4143","Azmarin \\ عزمارين"]
[null,null,null,null,null,null,null,null,null,null,null,"SY070302","C4147","Betiya \\ بتيا"]
[null,null,null,null,null,null,null,null,null,null,null,"SY070302","C4141","Gran Hir Ŷomus \\ حير جاموس كبير"]
[null,null,null,null,null,null,null,null,null,null,null,"SY070302","C4144","Bozanti \\ بوزانطي"]
[null,null,null,null,null,null,null,null,null,null,null,"SY070302","C4146","Delbiya \\ دلبيا"]
[null,null,null,null,null,null,null,null,null,null,null,"SY070302","C4136","Ein Elbikara \\ عين البكارة"]
[null,null,null,null,null,null,null,null,null,null,null,"SY070302","C4145","Eskat \\ اسقاط"]
[null,null,null,null,null,null,null,null,null,null,null,"SY070302","C4135","Foziyeh \\ الفوزية"]
[null,null,null,null,null,null,null,null,null,null,null,"SY070302","C4134","Hamziyeh \\ الحمزية"]
[null,null,null,null,null,null,null,null,null,null,null,"SY070302","C4149","Kafarna \\ كفرنه"]
[null,null,null,null,null,null,null,null,null,null,null,"SY070302","C4151","Kafr Hind \\ كفر هند"]
[null,null,null,null,null,null,null,null,null,null,null,"SY070302","C4150","Kafrahlat Jallad \\ كفرحات جلاد"]
[null,null,null,null,null,null,null,null,null,null,null,"SY070302","C4139","Poco Hir Ŷomus \\ حير جاموس صغير"]
[null,null,null,null,null,null,null,null,null,null,null,"SY070302","C4138","Saidiyeh \\ السعيدية"]
[null,null,null,null,null,null,null,null,null,null,null,"SY070302","C4140","Salqin \\ سلقين"]
[null,null,null,null,null,null,null,null,null,null,null,"SY070302","C6364","Shyukh \\ الشيوخ"]
[null,null,null,null,null,null,null,null,null,null,null,"SY070302","C4148","Tellemar \\ تلعمار"]
[null,null,null,null,null,null,null,null,null,null,null,"SY070302","C4137","Tlul \\ التلول"]
[null,null,null,null,null,null,null,null,null,null,null,"SY070303","C4152","Abarita \\ عبريتا"]
[null,null,null,null,null,null,null,null,null,null,null,"SY070303","C4153","Bshendlaya - Rashadiya \\ بشندلايا_رشادية"]
[null,null,null,null,null,null,null,null,null,null,null,"SY070303","C4155","Helleh \\ حلة"]
[null,null,null,null,null,null,null,null,null,null,null,"SY070303","C4156","Jadeen \\ جدعين"]
[null,null,null,null,null,null,null,null,null,null,null,"SY070303","C4158","Kfar Kila \\ كفر كيلا"]
[null,null,null,null,null,null,null,null,null,null,null,"SY070303","C4159","Kafr Marte \\ كفر مارس"]
[null,null,null,null,null,null,null,null,null,null,null,"SY070303","C4157","Kafr Takharim \\ كفر تخاريم"]
[null,null,null,null,null,null,null,null,null,null,null,"SY070303","C4160","Kuku - Ein Eljaj \\ كوكو_عين الجاج"]
[null,null,null,null,null,null,null,null,null,null,null,"SY070303","C4154","Taltita \\ تلتيتا"]
[null,null,null,null,null,null,null,null,null,null,null,"SY070304","C4162","Banabel \\ بنابل"]
[null,null,null,null,null,null,null,null,null,null,null,"SY070304","C4164","Barisha \\ باريشا"]
[null,null,null,null,null,null,null,null,null,null,null,"SY070304","C4166","Boz Ghaz \\ بوز غاز"]
[null,null,null,null,null,null,null,null,null,null,null,"SY070304","C4161","Htan \\ حتان"]
[null,null,null,null,null,null,null,null,null,null,null,"SY070304","C4172","Kafr Aruq \\ كفر عروق"]
[null,null,null,null,null,null,null,null,null,null,null,"SY070304","C4171","Meraf Elshalaf \\ معراة الشلف"]
[null,null,null,null,null,null,null,null,null,null,null,"SY070304","C4173","Qalb Lozeh \\ قلب لوزة"]
[null,null,null,null,null,null,null,null,null,null,null,"SY070304","C4174","Qourqeena \\ قورقانيا"]
[null,null,null,null,null,null,null,null,null,null,null,"SY070304","C4168","Rabeeta \\ ربعيتا"]
[null,null,null,null,null,null,null,null,null,null,null,"SY070304","C4169","Radwa \\ رضوة"]
[null,null,null,null,null,null,null,null,null,null,null,"SY070304","C4167","Ras Elhisn \\ راس الحصن"]
[null,null,null,null,null,null,null,null,null,null,null,"SY070304","C4165","Sardin \\ سردين"]
[null,null,null,null,null,null,null,null,null,null,null,"SY070304","C4170","Torlaha \\ طورلاها"]
[null,null,null,null,null,null,null,null,null,null,null,"SY070305","C4176","Armanáz \\ أرمناز"]
[null,null,null,null,null,null,null,null,null,null,null,"SY070305","C4181","Baliya \\ بسليا"]
[null,null,null,null,null,null,null,null,null,null,null,"SY070305","C4180","Biret Armanáz \\ بيرة ارمناز"]
[null,null,null,null,null,null,null,null,null,null,null,"SY070305","C4182","Dweila \\ الدويلة"]
[null,null,null,null,null,null,null,null,null,null,null,"SY070305","C4175","Ghafar \\ الغفر"]
[null,null,null,null,null,null,null,null,null,null,null,"SY070305","C4178","Hafasraja \\ حفسرجة"]
[null,null,null,null,null,null,null,null,null,null,null,"SY070305","C4185","Kabta \\ كبته"]
[null,null,null,null,null,null,null,null,null,null,null,"SY070305","C4183","Kuwaro - Um Elriyah \\ كوارو_أم الرياح"]
[null,null,null,null,null,null,null,null,null,null,null,"SY070305","C4184","Milis \\ ملس"]
[null,null,null,null,null,null,null,null,null,null,null,"SY070305","C4177","Quneitra \\ القنيطرة"]
[null,null,null,null,null,null,null,null,null,null,null,"SY070305","C4179","Jeque Yousef \\ الشيخ يوسف"]
[null,null,null,null,null,null,null,null,null,null,null,"SY070400","C4207","Alyeh \\ العالية"]
[null,null,null,null,null,null,null,null,null,null,null,"SY070400","C4191","Balmis \\ بلميس"]
[null,null,null,null,null,null,null,null,null,null,null,"SY070400","C4201","Bkafla \\ بكفلا"]
[null,null,null,null,null,null,null,null,null,null,null,"SY070400","C4193","Bsheiriyeh - Bello \\ البشيرية_بللو"]
[null,null,null,null,null,null,null,null,null,null,null,"SY070400","C4195","Bteibat \\ بطيباط"]
[null,null,null,null,null,null,null,null,null,null,null,"SY070400","C4200","Bzeit \\ بزيت"]
[null,null,null,null,null,null,null,null,null,null,null,"SY070400","C4214","Dgali \\ الدغالي"]
[null,null,null,null,null,null,null,null,null,null,null,"SY070400","C4215","Oriental Marj Akhdar \\ المرج الأخضر الشرقي"]
[null,null,null,null,null,null,null,null,null,null,null,"SY070400","C4202","Ein Elhamra \\ عين الحمرا"]
[null,null,null,null,null,null,null,null,null,null,null,"SY070400","C4204","Ein Elsoda \\ عين السودة"]
[null,null,null,null,null,null,null,null,null,null,null,"SY070400","C4198","Eshtabraq \\ اشتبرق"]
[null,null,null,null,null,null,null,null,null,null,null,"SY070400","C4219","Frikeh \\ فريكة"]
[null,null,null,null,null,null,null,null,null,null,null,"SY070400","C4209","Ghanya \\ غانية"]
[null,null,null,null,null,null,null,null,null,null,null,"SY070400","C4203","Ghassaniyeh \\ الغسانية"]
[null,null,null,null,null,null,null,null,null,null,null,"SY070400","C4188","Halluz \\ حللوز"]
[null,null,null,null,null,null,null,null,null,null,null,"SY070400","C4216","Hseiniyeh \\ الحسينية"]
[null,null,null,null,null,null,null,null,null,null,null,"SY070400","C4208","Jannet Elqora \\ جنة القرى"]
[null,null,null,null,null,null,null,null,null,null,null,"SY070400","C4199","Jisr-Ash-Shugur \\ جسر الشغور"]
[null,null,null,null,null,null,null,null,null,null,null,"SY070400","C4205","Kafir \\ الكفير"]
[null,null,null,null,null,null,null,null,null,null,null,"SY070400","C4222","Kniset Nakhleh \\ كنيسة نخلة"]
[null,null,null,null,null,null,null,null,null,null,null,"SY070400","C4190","Maalaqa - Bishlamon \\ المعلقة_بشلامون"]
[null,null,null,null,null,null,null,null,null,null,null,"SY070400","C4221","Marj Elzohur \\ مرج الزهور"]
[null,null,null,null,null,null,null,null,null,null,null,"SY070400","C4196","Mintar \\ المنطار"]
[null,null,null,null,null,null,null,null,null,null,null,"SY070400","C4187","Msheirfeh \\ المشيرفة"]
[null,null,null,null,null,null,null,null,null,null,null,"SY070400","C4206","Qaysiyeh \\ القيسية"]
[null,null,null,null,null,null,null,null,null,null,null,"SY070400","C4211","Sabileh \\ سبيلة"]
[null,null,null,null,null,null,null,null,null,null,null,"SY070400","C4192","Salhiyeh \\ الصالحية"]
[null,null,null,null,null,null,null,null,null,null,null,"SY070400","C4189","Sali \\ سلي"]
[null,null,null,null,null,null,null,null,null,null,null,"SY070400","C4210","Sokkariyeh \\ السكرية"]
[null,null,null,null,null,null,null,null,null,null,null,"SY070400","C4217","Tal Awar \\ تل اعور"]
[null,null,null,null,null,null,null,null,null,null,null,"SY070400","C4218","Tal Hamki \\ تل حمكي"]
[null,null,null,null,null,null,null,null,null,null,null,"SY070400","C4213","Um Elgar \\ أم الغار"]
[null,null,null,null,null,null,null,null,null,null,null,"SY070400","C4194","Um Rish \\ ام الريش"]
[null,null,null,null,null,null,null,null,null,null,null,"SY070400","C4186","Alta Sheikh Sindyan \\ شيخ سنديان فوقاني"]
[null,null,null,null,null,null,null,null,null,null,null,"SY070400","C4197","Alta Shghur \\ شغور فوقاني"]
[null,null,null,null,null,null,null,null,null,null,null,"SY070400","C4220","Watba \\ وطبة"]
[null,null,null,null,null,null,null,null,null,null,null,"SY070400","C4212","Western Marj Akhdar \\ المرج الأخضر الغربي"]
[null,null,null,null,null,null,null,null,null,null,null,"SY070401","C4227","Armala \\ ارملا"]
[null,null,null,null,null,null,null,null,null,null,null,"SY070401","C4226","Badama \\ بداما"]
[null,null,null,null,null,null,null,null,null,null,null,"SY070401","C4223","Baksariya \\ بكسريا"]
[null,null,null,null,null,null,null,null,null,null,null,"SY070401","C4229","Ein El-Bayda \\ عين البيضا"]
[null,null,null,null,null,null,null,null,null,null,null,"SY070401","C4228","Hanbushiyeh \\ حنبوشية"]
[null,null,null,null,null,null,null,null,null,null,null,"SY070401","C4231","Kherbet Eljoz \\ خربة الجوز"]
[null,null,null,null,null,null,null,null,null,null,null,"SY070401","C4230","Un poco \\ الكندة"]
[null,null,null,null,null,null,null,null,null,null,null,"SY070401","C4235","Maraand \\ مرعند"]
[null,null,null,null,null,null,null,null,null,null,null,"SY070401","C4233","Najiyeh \\ الناجية"]
[null,null,null,null,null,null,null,null,null,null,null,"SY070401","C4234","Ramliyeh \\ الرملية"]
[null,null,null,null,null,null,null,null,null,null,null,"SY070401","C4232","Shaturiyeh \\ الشاتورية"]
[null,null,null,null,null,null,null,null,null,null,null,"SY070401","C4224","Tuffahiyeh \\ تفاحية"]
[null,null,null,null,null,null,null,null,null,null,null,"SY070401","C4225","Yunesiyeh \\ اليونسية"]
[null,null,null,null,null,null,null,null,null,null,null,"SY070402","C4245","Amud \\ عامود"]
[null,null,null,null,null,null,null,null,null,null,null,"SY070402","C4248","Andnaniyeh - Farjein \\ العدنانية_فرجين"]
[null,null,null,null,null,null,null,null,null,null,null,"SY070402","C4252","Darkosh \\ دركوش"]
[null,null,null,null,null,null,null,null,null,null,null,"SY070402","C4239","Deir Othman \\ دير عثمان"]
[null,null,null,null,null,null,null,null,null,null,null,"SY070402","C4249","Dorriyeh \\ الدرية"]
[null,null,null,null,null,null,null,null,null,null,null,"SY070402","C4240","Ghazala - Mgheidleh \\ الغزالة_مغيدلة"]
[null,null,null,null,null,null,null,null,null,null,null,"SY070402","C4241","Jamiliya \\ الجميلية"]
[null,null,null,null,null,null,null,null,null,null,null,"SY070402","C4244","Matleh - Batlaya \\ المطلة_بطلايا"]
[null,null,null,null,null,null,null,null,null,null,null,"SY070402","C4243","Mazuleh \\ المعزولة"]
[null,null,null,null,null,null,null,null,null,null,null,"SY070402","C4254","Mreimin \\ مريمين"]
[null,null,null,null,null,null,null,null,null,null,null,"SY070402","C4242","Ramadiyeh \\ الرمادية"]
[null,null,null,null,null,null,null,null,null,null,null,"SY070402","C4246","Sadiyeh - Bsentiya \\ السعدية_بسندتيا"]
[null,null,null,null,null,null,null,null,null,null,null,"SY070402","C4236","Sawadiya - Nabhan \\ السوادية_نبهان"]
[null,null,null,null,null,null,null,null,null,null,null,"SY070402","C4251","Sheikh Issa Elashury \\ الشيخ عيسى العاشوري"]
[null,null,null,null,null,null,null,null,null,null,null,"SY070402","C4247","Thahr \\ الظهر"]
[null,null,null,null,null,null,null,null,null,null,null,"SY070402","C4237","Turín \\ طورين"]
[null,null,null,null,null,null,null,null,null,null,null,"SY070402","C4250","Zahraa - Kherbet Amud \\ الزهراء_خربة عامود"]
[null,null,null,null,null,null,null,null,null,null,null,"SY070402","C4253","Zanbaqi \\ الزنبقي"]
[null,null,null,null,null,null,null,null,null,null,null,"SY070402","C4238","Zarzur \\ زرزور"]
[null,null,null,null,null,null,null,null,null,null,null,"SY070403","C4266","Athar \\ آذار"]
[null,null,null,null,null,null,null,null,null,null,null,"SY070403","C4263","Foz - Zuf \\ الفوز_الزوف"]
[null,null,null,null,null,null,null,null,null,null,null,"SY070403","C4267","Hamama - Kafr Debbin \\ الحمامة_كفر دبين"]
[null,null,null,null,null,null,null,null,null,null,null,"SY070403","C4257","Hassaniyeh - Hatya \\ الحسانية_هتيا"]
[null,null,null,null,null,null,null,null,null,null,null,"SY070403","C4255","Janudiyeh \\ الجانودية"]
[null,null,null,null,null,null,null,null,null,null,null,"SY070403","C4265","Jdidet Eljisr \\ جديدة الجسر"]
[null,null,null,null,null,null,null,null,null,null,null,"SY070403","C4259","Maland \\ الملند"]
[null,null,null,null,null,null,null,null,null,null,null,"SY070403","C4261","Mudiah - Lu Xin \\ المضيئة_لوكسين"]
[null,null,null,null,null,null,null,null,null,null,null,"SY070403","C4262","Nasra \\ الناصرة"]
[null,null,null,null,null,null,null,null,null,null,null,"SY070403","C4258","Qaderiyeh - Qayqun \\ القادرية_قيقون"]
[null,null,null,null,null,null,null,null,null,null,null,"SY070403","C4260","Qanniyeh \\ القنية"]
[null,null,null,null,null,null,null,null,null,null,null,"SY070403","C4264","Tiba - Katrin \\ الطيبة_كترين"]
[null,null,null,null,null,null,null,null,null,null,null,"SY070403","C4256","Yaqubiyeh \\ اليعقوبية"]
[null,null,null,null,null,null,null,null,null,null,null,"SY070500","C4270","Abkally \\ ابقللي"]
[null,null,null,null,null,null,null,null,null,null,null,"SY070500","C4278","Ariha \\ أريحا"]
[null,null,null,null,null,null,null,null,null,null,null,"SY070500","C4271","Bab Ellah \\ باب الله"]
[null,null,null,null,null,null,null,null,null,null,null,"SY070500","C4274","Banin \\ بنين"]
[null,null,null,null,null,null,null,null,null,null,null,"SY070500","C4268","Bazabur \\ بزابور"]
[null,null,null,null,null,null,null,null,null,null,null,"SY070500","C4276","Berjhab \\ برجهاب"]
[null,null,null,null,null,null,null,null,null,null,null,"SY070500","C4277","Ebneh \\ ابنه"]
[null,null,null,null,null,null,null,null,null,null,null,"SY070500","C4289","Kafr Shalaya \\ كفر شلايا"]
[null,null,null,null,null,null,null,null,null,null,null,"SY070500","C4282","Kafraziba \\ كفرزيبا"]
[null,null,null,null,null,null,null,null,null,null,null,"SY070500","C4283","Kafrlata \\ كفرلاته"]
[null,null,null,null,null,null,null,null,null,null,null,"SY070500","C4288","Korin \\ كورين"]
[null,null,null,null,null,null,null,null,null,null,null,"SY070500","C4285","Maarbalit \\ معربليت"]
[null,null,null,null,null,null,null,null,null,null,null,"SY070500","C4279","Maarzaf \\ معرزاف"]
[null,null,null,null,null,null,null,null,null,null,null,"SY070500","C4280","Majdaliya \\ مجدليا"]
[null,null,null,null,null,null,null,null,null,null,null,"SY070500","C4287","Moataf \\ منطف"]
[null,null,null,null,null,null,null,null,null,null,null,"SY070500","C4290","Motaram \\ معترم"]
[null,null,null,null,null,null,null,null,null,null,null,"SY070500","C4281","Mseibin \\ مصيبين"]
[null,null,null,null,null,null,null,null,null,null,null,"SY070500","C4284","Nahleh \\ نحلة"]
[null,null,null,null,null,null,null,null,null,null,null,"SY070500","C4286","Nahliya \\ نحليا"]
[null,null,null,null,null,null,null,null,null,null,null,"SY070500","C4269","Orm Eljoz \\ أورم الجوز"]
[null,null,null,null,null,null,null,null,null,null,null,"SY070500","C4273","Sarja \\ سرجة"]
[null,null,null,null,null,null,null,null,null,null,null,"SY070500","C4275","Shinan \\ شنان"]
[null,null,null,null,null,null,null,null,null,null,null,"SY070500","C4272","Thaheriya \\ الظاهرية"]
[null,null,null,null,null,null,null,null,null,null,null,"SY070501","C4291","Abdita \\ ابديتا"]
[null,null,null,null,null,null,null,null,null,null,null,"SY070501","C4292","Ablin \\ ابلين"]
[null,null,null,null,null,null,null,null,null,null,null,"SY070501","C4301","Arnaba \\ ارنبة"]
[null,null,null,null,null,null,null,null,null,null,null,"SY070501","C4296","Balshun \\ بلشون"]
[null,null,null,null,null,null,null,null,null,null,null,"SY070501","C4302","Balyun \\ بليون"]
[null,null,null,null,null,null,null,null,null,null,null,"SY070501","C4304","Bara \\ البارة"]
[null,null,null,null,null,null,null,null,null,null,null,"SY070501","C4297","Bsames \\ بسامس"]
[null,null,null,null,null,null,null,null,null,null,null,"SY070501","C4293","Deir Sunbul \\ دير سنبل"]
[null,null,null,null,null,null,null,null,null,null,null,"SY070501","C4295","Ehsem \\ احسم"]
[null,null,null,null,null,null,null,null,null,null,null,"SY070501","C4299","Ein Laruz \\ عين لاروز"]
[null,null,null,null,null,null,null,null,null,null,null,"SY070501","C4305","Farkya \\ فركيا"]
[null,null,null,null,null,null,null,null,null,null,null,"SY070501","C4303","Joseph \\ جوزف"]
[null,null,null,null,null,null,null,null,null,null,null,"SY070501","C4306","Kafr Haya \\ كفر حايا"]
[null,null,null,null,null,null,null,null,null,null,null,"SY070501","C4309","Kansafra \\ كنصفرة"]
[null,null,null,null,null,null,null,null,null,null,null,"SY070501","C4300","Maghara \\ المغارة"]
[null,null,null,null,null,null,null,null,null,null,null,"SY070501","C4307","Marata \\ معراتة"]
[null,null,null,null,null,null,null,null,null,null,null,"SY070501","C4308","Marayan \\ مرعيان"]
[null,null,null,null,null,null,null,null,null,null,null,"SY070501","C4298","Mozra \\ الموزرة"]
[null,null,null,null,null,null,null,null,null,null,null,"SY070501","C4294","Rami \\ الرامي"]
[null,null,null,null,null,null,null,null,null,null,null,"SY070502","C4323","ANB \\ انب"]
[null,null,null,null,null,null,null,null,null,null,null,"SY070502","C4314","Fardos \\ بالس"]
[null,null,null,null,null,null,null,null,null,null,null,"SY070502","C4324","Baqlid \\ بقليد"]
[null,null,null,null,null,null,null,null,null,null,null,"SY070502","C4310","Baydar Shamsu \\ بيدر شمسو"]
[null,null,null,null,null,null,null,null,null,null,null,"SY070502","C4321","Beftamun \\ بفطامون"]
[null,null,null,null,null,null,null,null,null,null,null,"SY070502","C4322","Bsanqul \\ بسنقول"]
[null,null,null,null,null,null,null,null,null,null,null,"SY070502","C4328","Hila \\ حيلا"]
[null,null,null,null,null,null,null,null,null,null,null,"SY070502","C4326","Hlul \\ حلول"]
[null,null,null,null,null,null,null,null,null,null,null,"SY070502","C4319","Hmeimat \\ حميمات"]
[null,null,null,null,null,null,null,null,null,null,null,"SY070502","C4320","Jadraya \\ جدرايا"]
[null,null,null,null,null,null,null,null,null,null,null,"SY070502","C4329","Kafrmid \\ كفرميد"]
[null,null,null,null,null,null,null,null,null,null,null,"SY070502","C4313","Kniseh \\ الكنيسة"]
[null,null,null,null,null,null,null,null,null,null,null,"SY070502","C6365","Marj \\ المرج"]
[null,null,null,null,null,null,null,null,null,null,null,"SY070502","C4317","Matleh Ariha \\ المطلة أريحا"]
[null,null,null,null,null,null,null,null,null,null,null,"SY070502","C4330","Mhambal \\ محمبل"]
[null,null,null,null,null,null,null,null,null,null,null,"SY070502","C4316","Norte Laj \\ اللج الشمالي"]
[null,null,null,null,null,null,null,null,null,null,null,"SY070502","C4312","Ora Qabli - Edwan \\ عرى القبلي_عدوان"]
[null,null,null,null,null,null,null,null,null,null,null,"SY070502","C4327","Sahen \\ الصحن"]
[null,null,null,null,null,null,null,null,null,null,null,"SY070502","C4315","Sararif \\ صراريف"]
[null,null,null,null,null,null,null,null,null,null,null,"SY070502","C4311","Shagurit \\ شاغوريت"]
[null,null,null,null,null,null,null,null,null,null,null,"SY080000","C4341","Abu Rasín Haskeh \\ أبو راسين حسكة"]
[null,null,null,null,null,null,null,null,null,null,null,"SY080000","C4360","Al-Hasakeh \\ الحسكة"]
[null,null,null,null,null,null,null,null,null,null,null,"SY080000","C4348","Duwadiyeh Haskeh \\ الداودية حسكة"]
[null,null,null,null,null,null,null,null,null,null,null,"SY080000","C4365","Oriental Hamra \\ الحمراالشرقية"]
[null,null,null,null,null,null,null,null,null,null,null,"SY080000","C4361","Rajman Oriental \\ رجمان شرقي"]
[null,null,null,null,null,null,null,null,null,null,null,"SY080000","C4359","Taban Oriental \\ طابان شرقي"]
[null,null,null,null,null,null,null,null,null,null,null,"SY080000","C4367","Ein Elhara \\ عين الحارة"]
[null,null,null,null,null,null,null,null,null,null,null,"SY080000","C4363","En primer lugar Mabtuh \\ المبطوح الأولى"]
[null,null,null,null,null,null,null,null,null,null,null,"SY080000","C4350","Hafayer \\ الحفاير"]
[null,null,null,null,null,null,null,null,null,null,null,"SY080000","C4353","Harmala \\ حرملة"]
[null,null,null,null,null,null,null,null,null,null,null,"SY080000","C4375","Hilaliyeh \\ هلالية"]
[null,null,null,null,null,null,null,null,null,null,null,"SY080000","C4335","Jdideh \\ الجديدة"]
[null,null,null,null,null,null,null,null,null,null,null,"SY080000","C4331","Khazneh \\ الخزنة"]
[null,null,null,null,null,null,null,null,null,null,null,"SY080000","C4340","Kherbet Elias \\ خربة الياس"]
[null,null,null,null,null,null,null,null,null,null,null,"SY080000","C4356","Tal bajar Aswad \\ تل أسود تحتاني"]
[null,null,null,null,null,null,null,null,null,null,null,"SY080000","C4337","Madina \\ المدينة"]
[null,null,null,null,null,null,null,null,null,null,null,"SY080000","C4381","Mahd Elrijleh \\ مهد الرجلة"]
[null,null,null,null,null,null,null,null,null,null,null,"SY080000","C4382","Masudiyeh Elbizara \\ مسعودية البيزارة"]
[null,null,null,null,null,null,null,null,null,null,null,"SY080000","C4357","Masudiyeh Haska \\ المسعودية حسكة"]
[null,null,null,null,null,null,null,null,null,null,null,"SY080000","C4362","MAT \\ المطل"]
[null,null,null,null,null,null,null,null,null,null,null,"SY080000","C4380","Msheirfet Elashmal \\ مشيرفة الأشمل"]
[null,null,null,null,null,null,null,null,null,null,null,"SY080000","C4377","Nurak \\ نورك"]
[null,null,null,null,null,null,null,null,null,null,null,"SY080000","C4378","Qaber Amer \\ قبر عامر"]
[null,null,null,null,null,null,null,null,null,null,null,"SY080000","C4379","Qaber Elkhalif \\ قبر الخليف"]
[null,null,null,null,null,null,null,null,null,null,null,"SY080000","C4376","Qubbet Elsokhur \\ قبة منصور"]
[null,null,null,null,null,null,null,null,null,null,null,"SY080000","C4346","Rafraf \\ رفرف"]
[null,null,null,null,null,null,null,null,null,null,null,"SY080000","C4333","Rahmaniya \\ الرحمانية"]
[null,null,null,null,null,null,null,null,null,null,null,"SY080000","C4336","Razaza \\ الرزازة"]
[null,null,null,null,null,null,null,null,null,null,null,"SY080000","C4374","Rehiyeh Nameh \\ رحية الناعمة"]
[null,null,null,null,null,null,null,null,null,null,null,"SY080000","C4354","Safya \\ صفيا"]
[null,null,null,null,null,null,null,null,null,null,null,"SY080000","C4349","Salaliyeh \\ الصلالية"]
[null,null,null,null,null,null,null,null,null,null,null,"SY080000","C6320","Sarab Kawkab \\ سرب كوكب"]
[null,null,null,null,null,null,null,null,null,null,null,"SY080000","C4369","Sayed Ali \\ سيد علي"]
[null,null,null,null,null,null,null,null,null,null,null,"SY080000","C4338","Shama \\ شما"]
[null,null,null,null,null,null,null,null,null,null,null,"SY080000","C4339","Sofya \\ صوفيا"]
[null,null,null,null,null,null,null,null,null,null,null,"SY080000","C4370","El sur de Baja Um Hajra \\ أم حجرة جنوبية تحتاني"]
[null,null,null,null,null,null,null,null,null,null,null,"SY080000","C4368","Sulaymaniya \\ السليمانية"]
[null,null,null,null,null,null,null,null,null,null,null,"SY080000","C4371","Tal Baydar Haskeh \\ تل بيدر حسكة"]
[null,null,null,null,null,null,null,null,null,null,null,"SY080000","C4343","Tal Majdal \\ تل مجدل"]
[null,null,null,null,null,null,null,null,null,null,null,"SY080000","C4358","Tal Mansur Haskeh \\ تل منصور حسكة"]
[null,null,null,null,null,null,null,null,null,null,null,"SY080000","C4372","Tal Shaalan \\ تل شعلان"]
[null,null,null,null,null,null,null,null,null,null,null,"SY080000","C4342","Talaah \\ الطالعة"]
[null,null,null,null,null,null,null,null,null,null,null,"SY080000","C4351","Tweineh \\ التوينة"]
[null,null,null,null,null,null,null,null,null,null,null,"SY080000","C4355","Um Eldibis Elhiskeh \\ أم الدبس الحسكة"]
[null,null,null,null,null,null,null,null,null,null,null,"SY080000","C4364","Um Elmaez \\ أم الماعز"]
[null,null,null,null,null,null,null,null,null,null,null,"SY080000","C4366","Um Elmilh \\ أم الملح"]
[null,null,null,null,null,null,null,null,null,null,null,"SY080000","C4344","Um Elshok \\ أم الشوك"]
[null,null,null,null,null,null,null,null,null,null,null,"SY080000","C4332","Um Hajra Almoqbela \\ أم حجرة المقبلة"]
[null,null,null,null,null,null,null,null,null,null,null,"SY080000","C4334","Um Qasir Almjarjaa \\ أم قصير المجرجع"]
[null,null,null,null,null,null,null,null,null,null,null,"SY080000","C4352","Tal superior Aswad \\ تل أسود فوقاني"]
[null,null,null,null,null,null,null,null,null,null,null,"SY080000","C4383","Western Qamar \\ قمر غربي"]
[null,null,null,null,null,null,null,null,null,null,null,"SY080000","C4347","Sabe occidental Skur \\ سبع سكور غربي"]
[null,null,null,null,null,null,null,null,null,null,null,"SY080000","C4373","Zaydiyeh Hasskeh \\ الزيدية حسكة"]
[null,null,null,null,null,null,null,null,null,null,null,"SY080001","C4426","Abu Kabret Tal Tamr \\ أبو كبرة تل تمر"]
[null,null,null,null,null,null,null,null,null,null,null,"SY080001","C4410","Abu Tinehir \\ أبو تينة"]
[null,null,null,null,null,null,null,null,null,null,null,"SY080001","C4414","Bab Elfaraj \\ باب الفرج"]
[null,null,null,null,null,null,null,null,null,null,null,"SY080001","C4406","Beida \\ البيضة"]
[null,null,null,null,null,null,null,null,null,null,null,"SY080001","C4424","Tal Derdara Tamr \\ الدردارة تل تمر"]
[null,null,null,null,null,null,null,null,null,null,null,"SY080001","C4387","Tal oriente Hamam \\ تل حمام شرقي"]
[null,null,null,null,null,null,null,null,null,null,null,"SY080001","C4416","Fakkeh \\ الفكه"]
[null,null,null,null,null,null,null,null,null,null,null,"SY080001","C4405","Ghorra \\ الغرة"]
[null,null,null,null,null,null,null,null,null,null,null,"SY080001","C4411","Hamaniyeh - Kerbet Eltamer \\ الهامانية_خربة التمر"]
[null,null,null,null,null,null,null,null,null,null,null,"SY080001","C4391","Jafr \\ الجفر"]
[null,null,null,null,null,null,null,null,null,null,null,"SY080001","C4432","Kharita \\ الخريطة"]
[null,null,null,null,null,null,null,null,null,null,null,"SY080001","C4418","Tal khazneh Tamr \\ الخزنة تل تمر"]
[null,null,null,null,null,null,null,null,null,null,null,"SY080001","C4434","Kon Attar \\ كون عطار"]
[null,null,null,null,null,null,null,null,null,null,null,"SY080001","C4437","Madineh Qabliyeh \\ مدينة قبلية"]
[null,null,null,null,null,null,null,null,null,null,null,"SY080001","C4385","Maqbara \\ المقبرة"]
[null,null,null,null,null,null,null,null,null,null,null,"SY080001","C4399","Medio seha \\ السيحة الوسطى"]
[null,null,null,null,null,null,null,null,null,null,null,"SY080001","C4435","Mjeibret Zarkan \\ مجيبرة زركان"]
[null,null,null,null,null,null,null,null,null,null,null,"SY080001","C4395","Mutawaseta \\ المتوسطة"]
[null,null,null,null,null,null,null,null,null,null,null,"SY080001","C4415","Nayfeh \\ النايفة"]
[null,null,null,null,null,null,null,null,null,null,null,"SY080001","C4436","Qaber Sghir \\ قبر صغير"]
[null,null,null,null,null,null,null,null,null,null,null,"SY080001","C4402","Qasemiyeh \\ القاسمية"]
[null,null,null,null,null,null,null,null,null,null,null,"SY080001","C4403","Salmasa \\ السلماسة"]
[null,null,null,null,null,null,null,null,null,null,null,"SY080001","C4417","Shmuka \\ شموكة"]
[null,null,null,null,null,null,null,null,null,null,null,"SY080001","C4407","Sukkar Elahimer \\ سكر الأحيمر"]
[null,null,null,null,null,null,null,null,null,null,null,"SY080001","C4420","Tal Arbush \\ تل عربوش"]
[null,null,null,null,null,null,null,null,null,null,null,"SY080001","C4404","Tal Baz \\ تل باز"]
[null,null,null,null,null,null,null,null,null,null,null,"SY080001","C4401","Tal Bluah \\ تل بالوعة"]
[null,null,null,null,null,null,null,null,null,null,null,"SY080001","C4397","Tal Damshij \\ تل دمشيج"]
[null,null,null,null,null,null,null,null,null,null,null,"SY080001","C4429","Tal Eljamiliyeh \\ تل الجميلية"]
[null,null,null,null,null,null,null,null,null,null,null,"SY080001","C4413","Tal Elmoghor \\ تل المغر"]
[null,null,null,null,null,null,null,null,null,null,null,"SY080001","C4419","Tal Fweidat Shamiyeh \\ تل فويضات شامية"]
[null,null,null,null,null,null,null,null,null,null,null,"SY080001","C4427","Tal Hafyan \\ تل حفيان"]
[null,null,null,null,null,null,null,null,null,null,null,"SY080001","C4390","Tal Hermez \\ تل هرمز"]
[null,null,null,null,null,null,null,null,null,null,null,"SY080001","C4428","Tal Jadaya \\ تل جدايا"]
[null,null,null,null,null,null,null,null,null,null,null,"SY080001","C4431","Tal Jomaa \\ تل جمعة"]
[null,null,null,null,null,null,null,null,null,null,null,"SY080001","C4412","Tal Kifji \\ تل كيفجي"]
[null,null,null,null,null,null,null,null,null,null,null,"SY080001","C4425","Tal Makhada \\ تل مخاضة"]
[null,null,null,null,null,null,null,null,null,null,null,"SY080001","C4423","Tal Massas \\ تل مساس"]
[null,null,null,null,null,null,null,null,null,null,null,"SY080001","C4394","Tal Mghas \\ تل مغاص"]
[null,null,null,null,null,null,null,null,null,null,null,"SY080001","C4393","Tal Nasra \\ تل نصرى"]
[null,null,null,null,null,null,null,null,null,null,null,"SY080001","C4396","Tal Nijmeh \\ تل نجمة"]
[null,null,null,null,null,null,null,null,null,null,null,"SY080001","C4422","Tal Rumman \\ تل رمان"]
[null,null,null,null,null,null,null,null,null,null,null,"SY080001","C4392","Tal Sakra \\ تل سكرة"]
[null,null,null,null,null,null,null,null,null,null,null,"SY080001","C4388","Tal Shamiyeh \\ تل شامية"]
[null,null,null,null,null,null,null,null,null,null,null,"SY080001","C4430","Tal Shamran \\ تل شمران"]
[null,null,null,null,null,null,null,null,null,null,null,"SY080001","C4408","Tal Talaah \\ تل طلعة"]
[null,null,null,null,null,null,null,null,null,null,null,"SY080001","C4409","Tal Tamer \\ تل تمر"]
[null,null,null,null,null,null,null,null,null,null,null,"SY080001","C4421","Tal Tawil \\ تل طويل"]
[null,null,null,null,null,null,null,null,null,null,null,"SY080001","C4386","Tawileh \\ الطويلة"]
[null,null,null,null,null,null,null,null,null,null,null,"SY080001","C4398","Um Elkeif \\ أم الكيف"]
[null,null,null,null,null,null,null,null,null,null,null,"SY080001","C4389","Um Elmasamir Tal Tamr \\ أم المسامير تل تمر"]
[null,null,null,null,null,null,null,null,null,null,null,"SY080001","C4433","Wadi Elnijmeh \\ وادي النجمة"]
[null,null,null,null,null,null,null,null,null,null,null,"SY080001","C4384","Western Rihaniya \\ الريحانية غربي"]
[null,null,null,null,null,null,null,null,null,null,null,"SY080001","C4400","Tal occidental Hamam \\ تل حمام غربي"]
[null,null,null,null,null,null,null,null,null,null,null,"SY080002","C4442","Adla \\ عدلة"]
[null,null,null,null,null,null,null,null,null,null,null,"SY080002","C4440","Elweh Oriental \\ العلوة الشرقية"]
[null,null,null,null,null,null,null,null,null,null,null,"SY080002","C4445","Oriental de la alheña \\ الحنة الشرقية"]
[null,null,null,null,null,null,null,null,null,null,null,"SY080002","C4438","Oriental Rashidiyeh \\ رشيدية شرقي"]
[null,null,null,null,null,null,null,null,null,null,null,"SY080002","C4441","Cuarenta y siete \\ السبعة وأربعين"]
[null,null,null,null,null,null,null,null,null,null,null,"SY080002","C4439","Hweizeh \\ حويزية"]
[null,null,null,null,null,null,null,null,null,null,null,"SY080002","C4447","Kishkish Ŷabbur \\ كشكش جبور"]
[null,null,null,null,null,null,null,null,null,null,null,"SY080002","C4446","Shaddadah \\ الشدادة"]
[null,null,null,null,null,null,null,null,null,null,null,"SY080002","C4444","Tarnabet Elrafee \\ طرنبة الرفيع"]
[null,null,null,null,null,null,null,null,null,null,null,"SY080002","C4443","Western Jermez \\ جرمز غربي"]
[null,null,null,null,null,null,null,null,null,null,null,"SY080003","C4448","Elwet Eldisheisha \\ علوة الدشيشة"]
[null,null,null,null,null,null,null,null,null,null,null,"SY080003","C4449","Fadghami \\ الفدغمي"]
[null,null,null,null,null,null,null,null,null,null,null,"SY080003","C4453","Kishkish Zyanat \\ كشكش زيانات"]
[null,null,null,null,null,null,null,null,null,null,null,"SY080003","C4454","Markada \\ مركدة"]
[null,null,null,null,null,null,null,null,null,null,null,"SY080003","C4451","Shamasani \\ الشمساني"]
[null,null,null,null,null,null,null,null,null,null,null,"SY080003","C4450","Tal Sfuk \\ تل صفوك"]
[null,null,null,null,null,null,null,null,null,null,null,"SY080003","C4452","Thalja \\ الثلجة"]
[null,null,null,null,null,null,null,null,null,null,null,"SY080004","C4472","Adleh \\ العادلة"]
[null,null,null,null,null,null,null,null,null,null,null,"SY080004","C4456","Aseibek \\ الأصيبخ"]
[null,null,null,null,null,null,null,null,null,null,null,"SY080004","C4465","Atshana \\ العطشانة"]
[null,null,null,null,null,null,null,null,null,null,null,"SY080004","C4457","Bawab \\ البواب"]
[null,null,null,null,null,null,null,null,null,null,null,"SY080004","C4490","Gran Hayahi \\ هياهي كبير"]
[null,null,null,null,null,null,null,null,null,null,null,"SY080004","C4494","Gran Qaemqam \\ قائمقام كبير"]
[null,null,null,null,null,null,null,null,null,null,null,"SY080004","C4471","Bir Elhilu \\ بئر الحلو"]
[null,null,null,null,null,null,null,null,null,null,null,"SY080004","C4484","Bir Elhilu Elatshaneh \\ بئر الحلو العطشانة"]
[null,null,null,null,null,null,null,null,null,null,null,"SY080004","C4470","Bseiriyeh \\ البصيرية"]
[null,null,null,null,null,null,null,null,null,null,null,"SY080004","C4466","Bweir Bir Helo \\ البوير بئر الحلو"]
[null,null,null,null,null,null,null,null,null,null,null,"SY080004","C4459","Daffeh \\ دفة"]
[null,null,null,null,null,null,null,null,null,null,null,"SY080004","C4481","Darja \\ درجة"]
[null,null,null,null,null,null,null,null,null,null,null,"SY080004","C4478","Jasaa \\ الجسعة"]
[null,null,null,null,null,null,null,null,null,null,null,"SY080004","C4489","Kbeibat \\ كبيبات"]
[null,null,null,null,null,null,null,null,null,null,null,"SY080004","C4482","Kharab Abdel Sayed \\ خراب عبد السيد"]
[null,null,null,null,null,null,null,null,null,null,null,"SY080004","C4469","Kharab Ghazal \\ خراب غزال"]
[null,null,null,null,null,null,null,null,null,null,null,"SY080004","C4474","Kherbet Elrayes \\ خربة الريس"]
[null,null,null,null,null,null,null,null,null,null,null,"SY080004","C4455","Kherbet Elsweifat \\ خربة السويفات"]
[null,null,null,null,null,null,null,null,null,null,null,"SY080004","C4485","Kherbet Hawas \\ خربة حواس"]
[null,null,null,null,null,null,null,null,null,null,null,"SY080004","C4488","Poco Hayahi \\ هياهي صغير"]
[null,null,null,null,null,null,null,null,null,null,null,"SY080004","C4492","Medinet Ati \\ مدينة عتي"]
[null,null,null,null,null,null,null,null,null,null,null,"SY080004","C4487","Meizleh \\ المعيزيلة"]
[null,null,null,null,null,null,null,null,null,null,null,"SY080004","C4493","Mithlit \\ مثاليث"]
[null,null,null,null,null,null,null,null,null,null,null,"SY080004","C4463","Norte Um Elrus \\ أم الروس شمالي"]
[null,null,null,null,null,null,null,null,null,null,null,"SY080004","C4491","Qaber Elabed \\ قبر العبد"]
[null,null,null,null,null,null,null,null,null,null,null,"SY080004","C4476","Rajm Eltafihi \\ رجم الطفيحي"]
[null,null,null,null,null,null,null,null,null,null,null,"SY080004","C4460","Dicho Bir Elhilu \\ سعيد بئر الحلو"]
[null,null,null,null,null,null,null,null,null,null,null,"SY080004","C4475","Sekman \\ السكمان"]
[null,null,null,null,null,null,null,null,null,null,null,"SY080004","C4473","Shokor \\ الشكر"]
[null,null,null,null,null,null,null,null,null,null,null,"SY080004","C4467","Sibat \\ السيباط"]
[null,null,null,null,null,null,null,null,null,null,null,"SY080004","C4477","Tal Brak \\ تل براك"]
[null,null,null,null,null,null,null,null,null,null,null,"SY080004","C4462","Tal Elabed \\ تل العبد"]
[null,null,null,null,null,null,null,null,null,null,null,"SY080004","C4461","Tal Elfaras \\ تل الفرس"]
[null,null,null,null,null,null,null,null,null,null,null,"SY080004","C4458","Tal Elsamen \\ تل السمن"]
[null,null,null,null,null,null,null,null,null,null,null,"SY080004","C4480","Tal Masti \\ تل مسطي"]
[null,null,null,null,null,null,null,null,null,null,null,"SY080004","C4486","Tal Shaaban \\ تل شعبان"]
[null,null,null,null,null,null,null,null,null,null,null,"SY080004","C4464","Um Eltawarij \\ أم الطواريج"]
[null,null,null,null,null,null,null,null,null,null,null,"SY080004","C4483","Um Hajra Qolo \\ أم حجرة قولو"]
[null,null,null,null,null,null,null,null,null,null,null,"SY080004","C4468","Alta Khweilid \\ خويلد فوقاني"]
[null,null,null,null,null,null,null,null,null,null,null,"SY080004","C4479","Western Gherban \\ سميحان غربي"]
[null,null,null,null,null,null,null,null,null,null,null,"SY080005","C4497","Areesheh \\ العريشة"]
[null,null,null,null,null,null,null,null,null,null,null,"SY080005","C4496","Gharb \\ الغرب"]
[null,null,null,null,null,null,null,null,null,null,null,"SY080005","C4495","Ghazalan \\ غزالان"]
[null,null,null,null,null,null,null,null,null,null,null,"SY080005","C4501","Hamadaniyeh \\ الحمدانية"]
[null,null,null,null,null,null,null,null,null,null,null,"SY080005","C4498","Hdadiyeh \\ الحدادية"]
[null,null,null,null,null,null,null,null,null,null,null,"SY080005","C4500","Hejiyeh \\ الحجية"]
[null,null,null,null,null,null,null,null,null,null,null,"SY080005","C4505","Manajid \\ مناجيد"]
[null,null,null,null,null,null,null,null,null,null,null,"SY080005","C4504","Metyaha \\ متياها"]
[null,null,null,null,null,null,null,null,null,null,null,"SY080005","C4503","Um Kheif \\ أم كهيف"]
[null,null,null,null,null,null,null,null,null,null,null,"SY080005","C4502","Um Madfaa \\ أم مدفع"]
[null,null,null,null,null,null,null,null,null,null,null,"SY080005","C4499","Zein Elmabraj \\ زين المبرج"]
[null,null,null,null,null,null,null,null,null,null,null,"SY080006","C4514","Abu Hjera Khawatneh \\ أبو حجيرة خواتنة"]
[null,null,null,null,null,null,null,null,null,null,null,"SY080006","C4512","Abu Wishwash \\ أبو وشاش"]
[null,null,null,null,null,null,null,null,null,null,null,"SY080006","C4518","Atshana \\ عطشانة"]
[null,null,null,null,null,null,null,null,null,null,null,"SY080006","C4520","Botha Oriental \\ بوثة شرقية"]
[null,null,null,null,null,null,null,null,null,null,null,"SY080006","C4507","Janabeh Oriental \\ جنبة شرقي"]
[null,null,null,null,null,null,null,null,null,null,null,"SY080006","C4509","Ghazala Elhole \\ غزالة الهول"]
[null,null,null,null,null,null,null,null,null,null,null,"SY080006","C4519","Agujero \\ الهول"]
[null,null,null,null,null,null,null,null,null,null,null,"SY080006","C4506","Khan \\ الخان"]
[null,null,null,null,null,null,null,null,null,null,null,"SY080006","C4513","Khatuniya Bahra \\ خاتونية بحرة"]
[null,null,null,null,null,null,null,null,null,null,null,"SY080006","C4515","Khweitleh Hmud \\ خويتلة حمود"]
[null,null,null,null,null,null,null,null,null,null,null,"SY080006","C4508","Medio Janabeh \\ جنبه وسطى"]
[null,null,null,null,null,null,null,null,null,null,null,"SY080006","C4511","Motasarrefiyeh \\ المتصرفية"]
[null,null,null,null,null,null,null,null,null,null,null,"SY080006","C4517","Nafayel \\ النفايل"]
[null,null,null,null,null,null,null,null,null,null,null,"SY080006","C4521","Nazileh \\ نزيله"]
[null,null,null,null,null,null,null,null,null,null,null,"SY080006","C4523","Qattara \\ قطارة"]
[null,null,null,null,null,null,null,null,null,null,null,"SY080006","C4516","Shallala \\ شلالة"]
[null,null,null,null,null,null,null,null,null,null,null,"SY080006","C4510","Um Fakik \\ أم فكيك"]
[null,null,null,null,null,null,null,null,null,null,null,"SY080006","C4522","Western Mazraet Elhole \\ مزرعة الهول الغربية"]
[null,null,null,null,null,null,null,null,null,null,null,"SY080200","C4552","Abu Jala \\ أبو جلال"]
[null,null,null,null,null,null,null,null,null,null,null,"SY080200","C4543","Abu Rasín Qameshli \\ أبو راسين قامشلي"]
[null,null,null,null,null,null,null,null,null,null,null,"SY080200","C4542","Abu Thweil \\ أبو ذويل"]
[null,null,null,null,null,null,null,null,null,null,null,"SY080200","C4551","Akula Qameshli \\ عاكولة قامشلي"]
[null,null,null,null,null,null,null,null,null,null,null,"SY080200","C4572","Al-Qusayr \\ القصير"]
[null,null,null,null,null,null,null,null,null,null,null,"SY080200","C6366","Amer \\ عامر"]
[null,null,null,null,null,null,null,null,null,null,null,"SY080200","C4528","Ath-Thawrah \\ الثورة"]
[null,null,null,null,null,null,null,null,null,null,null,"SY080200","C4574","Gran Bawe \\ باوع كبير"]
[null,null,null,null,null,null,null,null,null,null,null,"SY080200","C4544","Gran Dalawiya \\ دلاوية كبيرة"]
[null,null,null,null,null,null,null,null,null,null,null,"SY080200","C4539","Gran Dankhiyeh \\ دمخية كبيرة"]
[null,null,null,null,null,null,null,null,null,null,null,"SY080200","C4527","Gran Sweidiyeh \\ سويدية كبيرة"]
[null,null,null,null,null,null,null,null,null,null,null,"SY080200","C4557","Buladiyeh \\ البولادية"]
[null,null,null,null,null,null,null,null,null,null,null,"SY080200","C4549","Dalali \\ دلالي"]
[null,null,null,null,null,null,null,null,null,null,null,"SY080200","C4530","Dudan \\ دودان"]
[null,null,null,null,null,null,null,null,null,null,null,"SY080200","C4583","Ghaybi \\ غيبي"]
[null,null,null,null,null,null,null,null,null,null,null,"SY080200","C4569","Hamu \\ حامو"]
[null,null,null,null,null,null,null,null,null,null,null,"SY080200","C4578","Haram Hassan \\ هرم حسن"]
[null,null,null,null,null,null,null,null,null,null,null,"SY080200","C4577","Haram Sheikho \\ هرم شيخو"]
[null,null,null,null,null,null,null,null,null,null,null,"SY080200","C4526","Hatemiyeh \\ الحاتمية"]
[null,null,null,null,null,null,null,null,null,null,null,"SY080200","C4582","Hayahi \\ هياهي"]
[null,null,null,null,null,null,null,null,null,null,null,"SY080200","C4554","Jaddue \\ جدوع"]
[null,null,null,null,null,null,null,null,null,null,null,"SY080200","C4566","Jermez \\ جرمز"]
[null,null,null,null,null,null,null,null,null,null,null,"SY080200","C4548","Jokha \\ جوخة"]
[null,null,null,null,null,null,null,null,null,null,null,"SY080200","C4567","Kherbet Amu \\ خربة عمو"]
[null,null,null,null,null,null,null,null,null,null,null,"SY080200","C4563","Kherbet Antar \\ خربة عنتر"]
[null,null,null,null,null,null,null,null,null,null,null,"SY080200","C4558","Kherbet Daher \\ خربة ضاهر"]
[null,null,null,null,null,null,null,null,null,null,null,"SY080200","C4535","Kherbet Elqdi \\ خربة القاضي"]
[null,null,null,null,null,null,null,null,null,null,null,"SY080200","C4545","Kherbet Tami \\ خربة تمو"]
[null,null,null,null,null,null,null,null,null,null,null,"SY080200","C4536","Kita \\ الكيطة"]
[null,null,null,null,null,null,null,null,null,null,null,"SY080200","C4529","Poco Sweidiyeh \\ سويدية صغيرة"]
[null,null,null,null,null,null,null,null,null,null,null,"SY080200","C4579","Maryuza \\ مريوزة"]
[null,null,null,null,null,null,null,null,null,null,null,"SY080200","C4576","Mluk Sray \\ ملوك سراي"]
[null,null,null,null,null,null,null,null,null,null,null,"SY080200","C4581","Naqara \\ نقارة"]
[null,null,null,null,null,null,null,null,null,null,null,"SY080200","C4537","Nejem \\ النجم"]
[null,null,null,null,null,null,null,null,null,null,null,"SY080200","C4564","Quamishli \\ القامشلي"]
[null,null,null,null,null,null,null,null,null,null,null,"SY080200","C4532","Rashwaniyeh \\ الرشوانية"]
[null,null,null,null,null,null,null,null,null,null,null,"SY080200","C4565","Razaza \\ رزازة"]
[null,null,null,null,null,null,null,null,null,null,null,"SY080200","C4560","Rehiyeh \\ رحية"]
[null,null,null,null,null,null,null,null,null,null,null,"SY080200","C4553","Rejm \\ الرجم"]
[null,null,null,null,null,null,null,null,null,null,null,"SY080200","C4538","Rikabiyeh \\ الركابية"]
[null,null,null,null,null,null,null,null,null,null,null,"SY080200","C4570","Safieh Qameshli \\ صافية قامشلي"]
[null,null,null,null,null,null,null,null,null,null,null,"SY080200","C4541","Salhiyeh \\ صالحية"]
[null,null,null,null,null,null,null,null,null,null,null,"SY080200","C4525","Shamasiyeh \\ شماسية"]
[null,null,null,null,null,null,null,null,null,null,null,"SY080200","C4568","Tiburón \\ الشرك"]
[null,null,null,null,null,null,null,null,null,null,null,"SY080200","C4546","Takht Elshmasiyeh \\ تخت الشماسية"]
[null,null,null,null,null,null,null,null,null,null,null,"SY080200","C4561","Tal Eid \\ تل عيد"]
[null,null,null,null,null,null,null,null,null,null,null,"SY080200","C4531","Tal Elthahab Qameshli \\ تل الذهب قامشلي"]
[null,null,null,null,null,null,null,null,null,null,null,"SY080200","C4559","Tal Elthum \\ تل الثوم"]
[null,null,null,null,null,null,null,null,null,null,null,"SY080200","C4556","Tal Eltiben \\ تل التبن"]
[null,null,null,null,null,null,null,null,null,null,null,"SY080200","C4534","Tal tarifas \\ تل فارس"]
[null,null,null,null,null,null,null,null,null,null,null,"SY080200","C4540","Tal Kif Anz \\ تل كيف عنز"]
[null,null,null,null,null,null,null,null,null,null,null,"SY080200","C4573","Tal Odeh Qamishli \\ تل عودة قامشلي"]
[null,null,null,null,null,null,null,null,null,null,null,"SY080200","C4550","Tal Sheer Qamishli \\ تل شعير قامشلي"]
[null,null,null,null,null,null,null,null,null,null,null,"SY080200","C4533","Tal Teir \\ تل طير"]
[null,null,null,null,null,null,null,null,null,null,null,"SY080200","C4555","Tartab \\ طرطب"]
[null,null,null,null,null,null,null,null,null,null,null,"SY080200","C4524","Tuffahiyeh \\ التفاحية"]
[null,null,null,null,null,null,null,null,null,null,null,"SY080200","C4575","Um Elfursan \\ أم الفرسان"]
[null,null,null,null,null,null,null,null,null,null,null,"SY080200","C4562","Alta Barku \\ بركو فوقاني"]
[null,null,null,null,null,null,null,null,null,null,null,"SY080200","C4547","Upper Big Um Jfar \\ أم جفار فوقاني كبير"]
[null,null,null,null,null,null,null,null,null,null,null,"SY080200","C4580","Wattutiyeh \\ وطوطية"]
[null,null,null,null,null,null,null,null,null,null,null,"SY080200","C4571","Tal occidental Steeh \\ تل سطيح غربي"]
[null,null,null,null,null,null,null,null,null,null,null,"SY080201","C4622","Abu Khashab \\ أبو خشب"]
[null,null,null,null,null,null,null,null,null,null,null,"SY080201","C4617","Abu Khazaf \\ أبو خزف"]
[null,null,null,null,null,null,null,null,null,null,null,"SY080201","C4607","Abu Tweineh \\ أبو توينة"]
[null,null,null,null,null,null,null,null,null,null,null,"SY080201","C4663","Tal Akula HMIS \\ عاكولة تل حميس"]
[null,null,null,null,null,null,null,null,null,null,null,"SY080201","C4634","Amara Eltawil \\ عمارة الطويل"]
[null,null,null,null,null,null,null,null,null,null,null,"SY080201","C4649","Ashwan \\ عشوان"]
[null,null,null,null,null,null,null,null,null,null,null,"SY080201","C4642","Bardeh \\ الباردة"]
[null,null,null,null,null,null,null,null,null,null,null,"SY080201","C4621","Gran Balqis \\ بلقيس كبيرة"]
[null,null,null,null,null,null,null,null,null,null,null,"SY080201","C4652","Gran Hajiyeh \\ حاجية كبيرة"]
[null,null,null,null,null,null,null,null,null,null,null,"SY080201","C4655","Gran Hanjur \\ حنوة كبيرة"]
[null,null,null,null,null,null,null,null,null,null,null,"SY080201","C4608","Bajo grande Haswiyeh \\ حصوية تحتاني كبير"]
[null,null,null,null,null,null,null,null,null,null,null,"SY080201","C4660","Gran Sharmukh \\ شرموخ كبير"]
[null,null,null,null,null,null,null,null,null,null,null,"SY080201","C4664","Bikaret Elhilaiya \\ بكارة الهلالية"]
[null,null,null,null,null,null,null,null,null,null,null,"SY080201","C4648","Damdam \\ دمدم"]
[null,null,null,null,null,null,null,null,null,null,null,"SY080201","C4675","Oriental Córdoba \\ قرطبة شرقية"]
[null,null,null,null,null,null,null,null,null,null,null,"SY080201","C4600","Oriental Granada \\ غرناطة شرقية"]
[null,null,null,null,null,null,null,null,null,null,null,"SY080201","C4653","Oriental Harset Elrad \\ حارسة الرد الشرقية"]
[null,null,null,null,null,null,null,null,null,null,null,"SY080201","C4674","Oriental Palestina \\ فلسطين الشرقية"]
[null,null,null,null,null,null,null,null,null,null,null,"SY080201","C4633","Tal oriente Steeh \\ تل سطيح شرقي"]
[null,null,null,null,null,null,null,null,null,null,null,"SY080201","C4665","Eskandarun \\ اسكندرون"]
[null,null,null,null,null,null,null,null,null,null,null,"SY080201","C4669","Tal Farfara HMIS \\ فرفرة تل حميس"]
[null,null,null,null,null,null,null,null,null,null,null,"SY080201","C4613","Festat \\ الفسطاط"]
[null,null,null,null,null,null,null,null,null,null,null,"SY080201","C4610","Fokhariyeh \\ الفخارية"]
[null,null,null,null,null,null,null,null,null,null,null,"SY080201","C4615","Ghassan \\ غسان"]
[null,null,null,null,null,null,null,null,null,null,null,"SY080201","C4679","Hamdan \\ همدان"]
[null,null,null,null,null,null,null,null,null,null,null,"SY080201","C4602","Tal Hdadiyeh Hmeis \\ الحدادية تل حميس"]
[null,null,null,null,null,null,null,null,null,null,null,"SY080201","C4596","Hdeibiyeh \\ الحديبية"]
[null,null,null,null,null,null,null,null,null,null,null,"SY080201","C4641","Tal Hseiniyeh Hmeis \\ الحسينية تل حميس"]
[null,null,null,null,null,null,null,null,null,null,null,"SY080201","C4637","Jamiliya \\ الجميلية"]
[null,null,null,null,null,null,null,null,null,null,null,"SY080201","C4668","Kdeimiyat \\ كديميات"]
[null,null,null,null,null,null,null,null,null,null,null,"SY080201","C4614","Khansaa \\ الخنساء"]
[null,null,null,null,null,null,null,null,null,null,null,"SY080201","C4625","Kharab Askar \\ خراب عسكر"]
[null,null,null,null,null,null,null,null,null,null,null,"SY080201","C4590","Kharab Elmahar \\ خراب المهار"]
[null,null,null,null,null,null,null,null,null,null,null,"SY080201","C4593","Tal Kharijet HMIS \\ خريجة تل حميس"]
[null,null,null,null,null,null,null,null,null,null,null,"SY080201","C4646","Kharnubi Hisu \\ خرنوبي حسو"]
[null,null,null,null,null,null,null,null,null,null,null,"SY080201","C4661","Kharnubieh Nayef \\ خرنوبية نايف"]
[null,null,null,null,null,null,null,null,null,null,null,"SY080201","C4659","Khawla Elazwar \\ خولة الأزور"]
[null,null,null,null,null,null,null,null,null,null,null,"SY080201","C4589","Khazaa \\ خزاعة"]
[null,null,null,null,null,null,null,null,null,null,null,"SY080201","C4612","Kherbet Elahmir \\ خربة الأحيمر"]
[null,null,null,null,null,null,null,null,null,null,null,"SY080201","C4616","Kherbet Nura \\ خربة نورا"]
[null,null,null,null,null,null,null,null,null,null,null,"SY080201","C4629","Khweitleh Reidat \\ خويتلة رعيدات"]
[null,null,null,null,null,null,null,null,null,null,null,"SY080201","C4676","Kinana \\ كنانة"]
[null,null,null,null,null,null,null,null,null,null,null,"SY080201","C4619","HMIS ambiente llevó \\ اللد تل حميس"]
[null,null,null,null,null,null,null,null,null,null,null,"SY080201","C4631","Poco Balqis Oriental \\ بلقيس صغيرة شرقية"]
[null,null,null,null,null,null,null,null,null,null,null,"SY080201","C4657","Poco Hajiyeh \\ حاجية صغيرة"]
[null,null,null,null,null,null,null,null,null,null,null,"SY080201","C4662","Poco Sharmukh \\ شرموخ صغير"]
[null,null,null,null,null,null,null,null,null,null,null,"SY080201","C4584","Poco Tal Bustan \\ تل بستان صغير"]
[null,null,null,null,null,null,null,null,null,null,null,"SY080201","C4603","Poco Alto Haswiyeh \\ حصوية فوقاني صغير"]
[null,null,null,null,null,null,null,null,null,null,null,"SY080201","C4588","Poco Zorma \\ زوما الصغرى"]
[null,null,null,null,null,null,null,null,null,null,null,"SY080201","C4670","Medinet Rehiyeh \\ مدينة رحية"]
[null,null,null,null,null,null,null,null,null,null,null,"SY080201","C4667","Mathluthet Hamzeh \\ مثلوثة حمزة"]
[null,null,null,null,null,null,null,null,null,null,null,"SY080201","C4654","Medio Sharmukh \\ شرموخ وسطاني"]
[null,null,null,null,null,null,null,null,null,null,null,"SY080201","C4671","Mjerinat Mahal \\ مجيرينات محل"]
[null,null,null,null,null,null,null,null,null,null,null,"SY080201","C4681","Msheirfet Elhomor \\ مشيرفة الحمر"]
[null,null,null,null,null,null,null,null,null,null,null,"SY080201","C4672","Naem Elhyar \\ ناعم الهيار"]
[null,null,null,null,null,null,null,null,null,null,null,"SY080201","C4673","Nasibeh Elmazeniyeh \\ نسيبة المازنية"]
[null,null,null,null,null,null,null,null,null,null,null,"SY080201","C4595","Okath \\ عكاظ"]
[null,null,null,null,null,null,null,null,null,null,null,"SY080201","C4609","Qadessiyeh \\ القادسية"]
[null,null,null,null,null,null,null,null,null,null,null,"SY080201","C4678","Tal Cairuán HMIS \\ قيروان تل حميس"]
[null,null,null,null,null,null,null,null,null,null,null,"SY080201","C4623","Tal Rabeeah HMIS \\ ربيعة تل حميس"]
[null,null,null,null,null,null,null,null,null,null,null,"SY080201","C4599","Rashidiyeh \\ الراشدية"]
[null,null,null,null,null,null,null,null,null,null,null,"SY080201","C4636","Tal Rashidiyeh HMIS \\ رشيدية تل حميس"]
[null,null,null,null,null,null,null,null,null,null,null,"SY080201","C4644","Rasm Eldrue \\ رسم الدروع"]
[null,null,null,null,null,null,null,null,null,null,null,"SY080201","C4638","Rehiyeh Madineh \\ رحية مدينة"]
[null,null,null,null,null,null,null,null,null,null,null,"SY080201","C4635","Rehiyeh Sawda \\ رحية السودا"]
[null,null,null,null,null,null,null,null,null,null,null,"SY080201","C4628","Sadiyeh \\ السعدية"]
[null,null,null,null,null,null,null,null,null,null,null,"SY080201","C4606","Safana W Akrasha \\ سفانة وعكرشة"]
[null,null,null,null,null,null,null,null,null,null,null,"SY080201","C4650","Salima \\ سليمى"]
[null,null,null,null,null,null,null,null,null,null,null,"SY080201","C4618","Shamdiniyeh \\ الشمدينية"]
[null,null,null,null,null,null,null,null,null,null,null,"SY080201","C4643","Shora \\ الشورى"]
[null,null,null,null,null,null,null,null,null,null,null,"SY080201","C4624","Skiriyeh \\ سكيرية"]
[null,null,null,null,null,null,null,null,null,null,null,"SY080201","C4647","Taef \\ الطائف"]
[null,null,null,null,null,null,null,null,null,null,null,"SY080201","C4594","Taghleb \\ تغلب"]
[null,null,null,null,null,null,null,null,null,null,null,"SY080201","C4611","Tal Ahmed \\ تل أحمد"]
[null,null,null,null,null,null,null,null,null,null,null,"SY080201","C4598","Tal Anbar \\ تل عنبر"]
[null,null,null,null,null,null,null,null,null,null,null,"SY080201","C4586","Tal Ehmeir \\ تل احيمر"]
[null,null,null,null,null,null,null,null,null,null,null,"SY080201","C4597","Tal Ghazal \\ تل غزال"]
[null,null,null,null,null,null,null,null,null,null,null,"SY080201","C4639","Tal HMIS \\ تل حميس"]
[null,null,null,null,null,null,null,null,null,null,null,"SY080201","C4585","Tal Iss \\ تل عيس"]
[null,null,null,null,null,null,null,null,null,null,null,"SY080201","C4632","Tal Maaruf \\ تل معروف"]
[null,null,null,null,null,null,null,null,null,null,null,"SY080201","C4640","Tal Maha \\ تل مها"]
[null,null,null,null,null,null,null,null,null,null,null,"SY080201","C4658","Tamim \\ تميم"]
[null,null,null,null,null,null,null,null,null,null,null,"SY080201","C4605","Tamna Elbariyeh \\ طامنة البرية"]
[null,null,null,null,null,null,null,null,null,null,null,"SY080201","C4601","Tarahiyeh - Sheikh Salem \\ طراحية_شيخ سالم"]
[null,null,null,null,null,null,null,null,null,null,null,"SY080201","C4591","Tawarij Elghaanah \\ طواريج الغرقانة"]
[null,null,null,null,null,null,null,null,null,null,null,"SY080201","C4645","Tharan \\ الظهران"]
[null,null,null,null,null,null,null,null,null,null,null,"SY080201","C4592","Tal Tuffahiyeh HMIS \\ تفاحية تل حميس"]
[null,null,null,null,null,null,null,null,null,null,null,"SY080201","C4630","Um Gadir \\ أم غدير"]
[null,null,null,null,null,null,null,null,null,null,null,"SY080201","C4666","Umaya \\ أمية"]
[null,null,null,null,null,null,null,null,null,null,null,"SY080201","C4680","Wael \\ وائل"]
[null,null,null,null,null,null,null,null,null,null,null,"SY080201","C4626","Wahabiyeh \\ الوهابية"]
[null,null,null,null,null,null,null,null,null,null,null,"SY080201","C4656","Western Harset Elrad \\ حارسة الرد الغربية"]
[null,null,null,null,null,null,null,null,null,null,null,"SY080201","C4627","Western Tuhama \\ تهامة غربية"]
[null,null,null,null,null,null,null,null,null,null,null,"SY080201","C4677","Yathreb \\ يثرب"]
[null,null,null,null,null,null,null,null,null,null,null,"SY080201","C4651","Zahraa \\ الزهراء"]
[null,null,null,null,null,null,null,null,null,null,null,"SY080201","C4604","Zarqaa \\ الزرقاء"]
[null,null,null,null,null,null,null,null,null,null,null,"SY080201","C4620","ZBAA \\ الزباء"]
[null,null,null,null,null,null,null,null,null,null,null,"SY080201","C4587","Zubaida \\ زبيدة"]
[null,null,null,null,null,null,null,null,null,null,null,"SY080202","C4687","Abu Khinjar \\ أبو خنجر"]
[null,null,null,null,null,null,null,null,null,null,null,"SY080202","C4701","Amara \\ عمارة"]
[null,null,null,null,null,null,null,null,null,null,null,"SY080202","C4688","Amuda \\ عامودا"]
[null,null,null,null,null,null,null,null,null,null,null,"SY080202","C4730","Bab Elkheir \\ باب الخير"]
[null,null,null,null,null,null,null,null,null,null,null,"SY080202","C4705","Bardeh \\ باردة"]
[null,null,null,null,null,null,null,null,null,null,null,"SY080202","C4703","Tocho Bkara \\ بلة بكارة"]
[null,null,null,null,null,null,null,null,null,null,null,"SY080202","C4697","Dar \\ دار"]
[null,null,null,null,null,null,null,null,null,null,null,"SY080202","C4728","Deir Mary \\ دير ماري"]
[null,null,null,null,null,null,null,null,null,null,null,"SY080202","C4712","Dikiyeh \\ ديكية"]
[null,null,null,null,null,null,null,null,null,null,null,"SY080202","C4690","Tarifas \\ الفارس"]
[null,null,null,null,null,null,null,null,null,null,null,"SY080202","C4735","Fokhar \\ فخار"]
[null,null,null,null,null,null,null,null,null,null,null,"SY080202","C4691","Haj Bakari \\ حاج بكاري"]
[null,null,null,null,null,null,null,null,null,null,null,"SY080202","C4682","Haj Naser \\ حاج ناصر"]
[null,null,null,null,null,null,null,null,null,null,null,"SY080202","C4692","Hallaba \\ الحلابة"]
[null,null,null,null,null,null,null,null,null,null,null,"SY080202","C4685","Hasba \\ الحصبة"]
[null,null,null,null,null,null,null,null,null,null,null,"SY080202","C4689","Hettin Amuda \\ حطين عامودا"]
[null,null,null,null,null,null,null,null,null,null,null,"SY080202","C4729","Jaberiyeh Amudeh \\ الجابرية عاموده"]
[null,null,null,null,null,null,null,null,null,null,null,"SY080202","C4719","Jalaq \\ جلق"]
[null,null,null,null,null,null,null,null,null,null,null,"SY080202","C4683","Jorhariyeh \\ جوهرية"]
[null,null,null,null,null,null,null,null,null,null,null,"SY080202","C4710","Karawan \\ الكروان"]
[null,null,null,null,null,null,null,null,null,null,null,"SY080202","C4714","Khaled \\ خالد"]
[null,null,null,null,null,null,null,null,null,null,null,"SY080202","C4725","Kherbet Elsawda \\ خربة السودة"]
[null,null,null,null,null,null,null,null,null,null,null,"SY080202","C4715","Kherbet Sheib Amuda \\ خربة شعيب عامودا"]
[null,null,null,null,null,null,null,null,null,null,null,"SY080202","C4720","Khorzeh \\ خرزة"]
[null,null,null,null,null,null,null,null,null,null,null,"SY080202","C4740","Un poco \\ كنده"]
[null,null,null,null,null,null,null,null,null,null,null,"SY080202","C4737","Koub \\ كعوب"]
[null,null,null,null,null,null,null,null,null,null,null,"SY080202","C4702","Bajo Bustan \\ بستان تحتاني"]
[null,null,null,null,null,null,null,null,null,null,null,"SY080202","C4698","Bajo Hasda \\ حاصدة تحتاني"]
[null,null,null,null,null,null,null,null,null,null,null,"SY080202","C4696","Tal bajar Arus \\ تل عروس تحتاني"]
[null,null,null,null,null,null,null,null,null,null,null,"SY080202","C4708","Um bajar Elosud \\ أم الأسود تحتاني"]
[null,null,null,null,null,null,null,null,null,null,null,"SY080202","C4731","Markab \\ مركب"]
[null,null,null,null,null,null,null,null,null,null,null,"SY080202","C4734","Mashad \\ مشهد"]
[null,null,null,null,null,null,null,null,null,null,null,"SY080202","C4733","Mustafa \\ مصطفى"]
[null,null,null,null,null,null,null,null,null,null,null,"SY080202","C4741","Nif \\ نيف"]
[null,null,null,null,null,null,null,null,null,null,null,"SY080202","C4732","Qaber Ali \\ قبر علي"]
[null,null,null,null,null,null,null,null,null,null,null,"SY080202","C4736","Qadah \\ قدح"]
[null,null,null,null,null,null,null,null,null,null,null,"SY080202","C4739","Cairuán Amuda \\ قيروان عامودا"]
[null,null,null,null,null,null,null,null,null,null,null,"SY080202","C4738","Qleiah \\ قليعة"]
[null,null,null,null,null,null,null,null,null,null,null,"SY080202","C4724","Raya Qabli \\ راية قبلي"]
[null,null,null,null,null,null,null,null,null,null,null,"SY080202","C4721","Rayat Elkhalil \\ راية خليل"]
[null,null,null,null,null,null,null,null,null,null,null,"SY080202","C4726","Rihaniyet Amuda \\ ريحانية عامودا"]
[null,null,null,null,null,null,null,null,null,null,null,"SY080202","C4718","Sabahiyeh \\ صباحية"]
[null,null,null,null,null,null,null,null,null,null,null,"SY080202","C4707","Sardaq \\ سرادق"]
[null,null,null,null,null,null,null,null,null,null,null,"SY080202","C4711","Sfira Amuda \\ صفيرة عاموده"]
[null,null,null,null,null,null,null,null,null,null,null,"SY080202","C4727","Shajra \\ شجرة"]
[null,null,null,null,null,null,null,null,null,null,null,"SY080202","C4706","Tal Ahmar \\ تل أحمر"]
[null,null,null,null,null,null,null,null,null,null,null,"SY080202","C4695","Tal Arbid \\ تل عربيد"]
[null,null,null,null,null,null,null,null,null,null,null,"SY080202","C4704","Tal Aswad Amudeh \\ تل أسود عاموده"]
[null,null,null,null,null,null,null,null,null,null,null,"SY080202","C4700","Tal eshq \\ تل عشق"]
[null,null,null,null,null,null,null,null,null,null,null,"SY080202","C4693","Tal Habash \\ تل حبش"]
[null,null,null,null,null,null,null,null,null,null,null,"SY080202","C4686","Tal Khaled \\ تل خالد"]
[null,null,null,null,null,null,null,null,null,null,null,"SY080202","C4684","Tal Khanzir \\ تل خنزير"]
[null,null,null,null,null,null,null,null,null,null,null,"SY080202","C4699","Talil \\ تليل"]
[null,null,null,null,null,null,null,null,null,null,null,"SY080202","C4694","Tor Elyas \\ طور الياس"]
[null,null,null,null,null,null,null,null,null,null,null,"SY080202","C4716","Um Enab \\ ام العنب"]
[null,null,null,null,null,null,null,null,null,null,null,"SY080202","C4717","Um Rabi \\ ام الربيع"]
[null,null,null,null,null,null,null,null,null,null,null,"SY080202","C4713","Alta Bustan \\ بستان فوقاني"]
[null,null,null,null,null,null,null,null,null,null,null,"SY080202","C4709","Alta Kherbet Ghazal \\ خربة غزال فوقاني"]
[null,null,null,null,null,null,null,null,null,null,null,"SY080202","C4723","Wardiyeh Amudeh \\ الوردية عاموده"]
[null,null,null,null,null,null,null,null,null,null,null,"SY080202","C4722","Raya occidental \\ راية غربي"]
[null,null,null,null,null,null,null,null,null,null,null,"SY080203","C4784","Abtak superior Hreith \\ ابطخ فوقاني حريث"]
[null,null,null,null,null,null,null,null,null,null,null,"SY080203","C4767","Abteik \\ الابيطخ"]
[null,null,null,null,null,null,null,null,null,null,null,"SY080203","C4754","Abu Ghadir \\ أبو غدير"]
[null,null,null,null,null,null,null,null,null,null,null,"SY080203","C4772","Alsayed Ali \\ السيد_كندك سيد"]
[null,null,null,null,null,null,null,null,null,null,null,"SY080203","C4785","Balij \\ بليج"]
[null,null,null,null,null,null,null,null,null,null,null,"SY080203","C4756","Bayandur \\ بياندور"]
[null,null,null,null,null,null,null,null,null,null,null,"SY080203","C4763","Gran Bayaza \\ بيازة كبيرة"]
[null,null,null,null,null,null,null,null,null,null,null,"SY080203","C4745","Gran Khazneh \\ خزنة كبيرة"]
[null,null,null,null,null,null,null,null,null,null,null,"SY080203","C4796","Gran Lilan \\ ليلان كبير"]
[null,null,null,null,null,null,null,null,null,null,null,"SY080203","C4789","Bsheiriyeh Qahtaniya \\ البشيرية قحطانية"]
[null,null,null,null,null,null,null,null,null,null,null,"SY080203","C4743","Bweir Qahtaniya \\ البوير قحطانية"]
[null,null,null,null,null,null,null,null,null,null,null,"SY080203","C4744","Eheimer \\ الاحيمر"]
[null,null,null,null,null,null,null,null,null,null,null,"SY080203","C4779","Hbeis \\ حبيس"]
[null,null,null,null,null,null,null,null,null,null,null,"SY080203","C4768","Hilweh \\ حلوة"]
[null,null,null,null,null,null,null,null,null,null,null,"SY080203","C4755","Karimeh \\ الكريمة"]
[null,null,null,null,null,null,null,null,null,null,null,"SY080203","C4758","Kharab Elabed \\ خراب العبد"]
[null,null,null,null,null,null,null,null,null,null,null,"SY080203","C4783","Kherbet Elteir Qahtaniyeh \\ خربة الطير قحطانية"]
[null,null,null,null,null,null,null,null,null,null,null,"SY080203","C4747","Kherbet Elthibeh Qahtaiyeh \\ خربة الذيبة قحطانية"]
[null,null,null,null,null,null,null,null,null,null,null,"SY080203","C4749","Kherbet Khalil \\ خربة خليل"]
[null,null,null,null,null,null,null,null,null,null,null,"SY080203","C4752","Kherbet Thyabiyeh \\ خربة ذيابية"]
[null,null,null,null,null,null,null,null,null,null,null,"SY080203","C4748","Khweitleh Eljawaleh \\ خويتلة الجوالة"]
[null,null,null,null,null,null,null,null,null,null,null,"SY080203","C4762","Poco Bayaza \\ بيازة صغيرة"]
[null,null,null,null,null,null,null,null,null,null,null,"SY080203","C4776","Bajo Ghariqa \\ غريقة تحتاني"]
[null,null,null,null,null,null,null,null,null,null,null,"SY080203","C4766","Bajo Khweitleh \\ خويتلة السفلي"]
[null,null,null,null,null,null,null,null,null,null,null,"SY080203","C4773","Nueva bajar Siha \\ سيحة جديدة تحتاني"]
[null,null,null,null,null,null,null,null,null,null,null,"SY080203","C4799","Bajo Qutba \\ قطبة تحتاني"]
[null,null,null,null,null,null,null,null,null,null,null,"SY080203","C4793","Bajo Araja occidental \\ العرجة غربية تحتاني"]
[null,null,null,null,null,null,null,null,null,null,null,"SY080203","C4794","Mahrakan \\ محركان"]
[null,null,null,null,null,null,null,null,null,null,null,"SY080203","C4798","Malabas \\ ملاعباس"]
[null,null,null,null,null,null,null,null,null,null,null,"SY080203","C4780","Manathra \\ المناذرة"]
[null,null,null,null,null,null,null,null,null,null,null,"SY080203","C4769","Mandub \\ المندوب"]
[null,null,null,null,null,null,null,null,null,null,null,"SY080203","C4797","Morjana \\ مرجانة"]
[null,null,null,null,null,null,null,null,null,null,null,"SY080203","C4800","Msheirfeh Qahtaniyeh \\ مشيرفة قحطانية"]
[null,null,null,null,null,null,null,null,null,null,null,"SY080203","C4801","Nabbuah \\ نبوعة"]
[null,null,null,null,null,null,null,null,null,null,null,"SY080203","C4751","Qahtaniyyeh \\ القحطانية"]
[null,null,null,null,null,null,null,null,null,null,null,"SY080203","C4795","Qutba \\ قطبة"]
[null,null,null,null,null,null,null,null,null,null,null,"SY080203","C4770","Rotan \\ روتان"]
[null,null,null,null,null,null,null,null,null,null,null,"SY080203","C4790","Safieh Qahtaniyeh \\ صافية قحطانية"]
[null,null,null,null,null,null,null,null,null,null,null,"SY080203","C4781","Shalhumiyeh \\ الشلهومية"]
[null,null,null,null,null,null,null,null,null,null,null,"SY080203","C4775","Shil \\ سحيل"]
[null,null,null,null,null,null,null,null,null,null,null,"SY080203","C4746","Sofiyeh \\ صوفية"]
[null,null,null,null,null,null,null,null,null,null,null,"SY080203","C4760","Suqiyeh \\ سوقية"]
[null,null,null,null,null,null,null,null,null,null,null,"SY080203","C4791","Tal Barham \\ تل برهم"]
[null,null,null,null,null,null,null,null,null,null,null,"SY080203","C4792","Tal Brie - Brie krie \\ تل بري_كري بري"]
[null,null,null,null,null,null,null,null,null,null,null,"SY080203","C4757","Tal Elsayed \\ تل السيد"]
[null,null,null,null,null,null,null,null,null,null,null,"SY080203","C4765","Tal Yihad \\ تل جهاد"]
[null,null,null,null,null,null,null,null,null,null,null,"SY080203","C4778","Tal Kharnub \\ تل خرنوب"]
[null,null,null,null,null,null,null,null,null,null,null,"SY080203","C4782","Tal Khatun Qahtaniya \\ تل خاتون قحطانية"]
[null,null,null,null,null,null,null,null,null,null,null,"SY080203","C4788","Tal Odeh Qahtaniya \\ تل عودة قحطانية"]
[null,null,null,null,null,null,null,null,null,null,null,"SY080203","C4777","Tal Sheer Qahtaniyeh \\ تل شعير قحطانية"]
[null,null,null,null,null,null,null,null,null,null,null,"SY080203","C4742","Tal Srat \\ تل صراة"]
[null,null,null,null,null,null,null,null,null,null,null,"SY080203","C4759","Tal Ziwan \\ تل زيوان"]
[null,null,null,null,null,null,null,null,null,null,null,"SY080203","C4753","Tanuriyeh \\ التنورية"]
[null,null,null,null,null,null,null,null,null,null,null,"SY080203","C4771","Tawil \\ طويل"]
[null,null,null,null,null,null,null,null,null,null,null,"SY080203","C4761","Um Jfar \\ أم جفار"]
[null,null,null,null,null,null,null,null,null,null,null,"SY080203","C4764","Um Krein \\ أم كرين"]
[null,null,null,null,null,null,null,null,null,null,null,"SY080203","C4774","Alta Ghariqa \\ غريقة فوقاني"]
[null,null,null,null,null,null,null,null,null,null,null,"SY080203","C4787","Alta Siha \\ سيحة فوقاني"]
[null,null,null,null,null,null,null,null,null,null,null,"SY080203","C4750","Waara \\ الوعرة"]
[null,null,null,null,null,null,null,null,null,null,null,"SY080203","C4786","Zorfafa \\ زورافا"]
[null,null,null,null,null,null,null,null,null,null,null,"SY080300","C4847","Abu ECRI \\ أبو قير"]
[null,null,null,null,null,null,null,null,null,null,null,"SY080300","C4830","Akka \\ عكا"]
[null,null,null,null,null,null,null,null,null,null,null,"SY080300","C4881","Al-Malikeyyeh \\ المالكية"]
[null,null,null,null,null,null,null,null,null,null,null,"SY080300","C4884","Bab elhawa \\ باب الهوا"]
[null,null,null,null,null,null,null,null,null,null,null,"SY080300","C4804","Batra \\ البتراء"]
[null,null,null,null,null,null,null,null,null,null,null,"SY080300","C4802","Beit Hannun \\ بيت حنون"]
[null,null,null,null,null,null,null,null,null,null,null,"SY080300","C4894","Grande Mala Marz \\ ملا مرز كبير"]
[null,null,null,null,null,null,null,null,null,null,null,"SY080300","C4811","Bostan \\ البستان"]
[null,null,null,null,null,null,null,null,null,null,null,"SY080300","C4857","Deir Dijla \\ دير دجلة"]
[null,null,null,null,null,null,null,null,null,null,null,"SY080300","C4855","Deir Yassin \\ دير ياسين"]
[null,null,null,null,null,null,null,null,null,null,null,"SY080300","C4834","Sweidiyeh Oriental \\ سويدية شرقية"]
[null,null,null,null,null,null,null,null,null,null,null,"SY080300","C4888","Ein Diwar \\ عين ديوار"]
[null,null,null,null,null,null,null,null,null,null,null,"SY080300","C4864","Ein Elkhadra \\ عين الخضراء"]
[null,null,null,null,null,null,null,null,null,null,null,"SY080300","C4883","Esmailiyeh \\ الاسماعيلية"]
[null,null,null,null,null,null,null,null,null,null,null,"SY080300","C4843","Fardos \\ الفردوس"]
[null,null,null,null,null,null,null,null,null,null,null,"SY080300","C4861","Fidaa \\ الفداء"]
[null,null,null,null,null,null,null,null,null,null,null,"SY080300","C4876","En primer Tal Elthahab Malkiyeh \\ تل الذهب الأولى مالكية"]
[null,null,null,null,null,null,null,null,null,null,null,"SY080300","C4859","Ghassaniyeh \\ الغسانية"]
[null,null,null,null,null,null,null,null,null,null,null,"SY080300","C4839","Haifa Elmalkiyeh \\ حيفا المالكية"]
[null,null,null,null,null,null,null,null,null,null,null,"SY080300","C4820","Hallaq \\ حلاق"]
[null,null,null,null,null,null,null,null,null,null,null,"SY080300","C4805","Hama \\ الهامة"]
[null,null,null,null,null,null,null,null,null,null,null,"SY080300","C4819","Hamam \\ الحمام"]
[null,null,null,null,null,null,null,null,null,null,null,"SY080300","C4890","Hassaniyeh \\ الحسانية"]
[null,null,null,null,null,null,null,null,null,null,null,"SY080300","C4832","Hikmiyeh \\ الحكمية"]
[null,null,null,null,null,null,null,null,null,null,null,"SY080300","C4862","Hinnawiyeh \\ حناوية"]
[null,null,null,null,null,null,null,null,null,null,null,"SY080300","C4873","Hiyaka \\ حياكة"]
[null,null,null,null,null,null,null,null,null,null,null,"SY080300","C4899","Castillo Hozon \\ قلعة الحصن"]
[null,null,null,null,null,null,null,null,null,null,null,"SY080300","C4837","Jisr \\ الجسر"]
[null,null,null,null,null,null,null,null,null,null,null,"SY080300","C4897","Karbela \\ كربلاء"]
[null,null,null,null,null,null,null,null,null,null,null,"SY080300","C4817","Khan Eljabal \\ خان الجبل"]
[null,null,null,null,null,null,null,null,null,null,null,"SY080300","C4823","Kharab Abu Ghaleb \\ خراب أبو غالب"]
[null,null,null,null,null,null,null,null,null,null,null,"SY080300","C4879","Kharab Bonyan \\ خراب بنيان"]
[null,null,null,null,null,null,null,null,null,null,null,"SY080300","C4806","Kherbet Abbas \\ خربة عباس"]
[null,null,null,null,null,null,null,null,null,null,null,"SY080300","C4870","Kherbet Adnan \\ خربة عدنان"]
[null,null,null,null,null,null,null,null,null,null,null,"SY080300","C4853","Kisweh \\ الكسوة"]
[null,null,null,null,null,null,null,null,null,null,null,"SY080300","C4885","Kofeh \\ الكوفة"]
[null,null,null,null,null,null,null,null,null,null,null,"SY080300","C4842","Bajar Arar \\ عرعور تحتاني"]
[null,null,null,null,null,null,null,null,null,null,null,"SY080300","C4833","Bajo Rmeilan \\ رميلان تحتاني"]
[null,null,null,null,null,null,null,null,null,null,null,"SY080300","C4835","Bajo Sweidiyeh \\ سويدية تحتاني"]
[null,null,null,null,null,null,null,null,null,null,null,"SY080300","C4809","Tal bajar Khanzir \\ تل خنزير تحتاني"]
[null,null,null,null,null,null,null,null,null,null,null,"SY080300","C4841","Maabada \\ المعبدة"]
[null,null,null,null,null,null,null,null,null,null,null,"SY080300","C4816","Mamduha \\ الممدوحة"]
[null,null,null,null,null,null,null,null,null,null,null,"SY080300","C4824","Mansura \\ المنصورة"]
[null,null,null,null,null,null,null,null,null,null,null,"SY080300","C4891","Marj Elakhdar \\ مرج الأخضر"]
[null,null,null,null,null,null,null,null,null,null,null,"SY080300","C4827","Marja \\ المرجة"]
[null,null,null,null,null,null,null,null,null,null,null,"SY080300","C4898","Mazraet Eljamus \\ مزرعة الجاموس"]
[null,null,null,null,null,null,null,null,null,null,null,"SY080300","C4895","Mazraet Msallam \\ مزرعة مسلم"]
[null,null,null,null,null,null,null,null,null,null,null,"SY080300","C4803","Mreijat \\ المريجات"]
[null,null,null,null,null,null,null,null,null,null,null,"SY080300","C4889","Murtafiah \\ المرتفعة"]
[null,null,null,null,null,null,null,null,null,null,null,"SY080300","C4836","Mustafawiyeh \\ المصطفاوية"]
[null,null,null,null,null,null,null,null,null,null,null,"SY080300","C4893","Mzeireb \\ مزيريب"]
[null,null,null,null,null,null,null,null,null,null,null,"SY080300","C4821","Nayaf \\ النجف"]
[null,null,null,null,null,null,null,null,null,null,null,"SY080300","C4892","Qalqilya \\ قلقيلية"]
[null,null,null,null,null,null,null,null,null,null,null,"SY080300","C4896","Qasr Eldib \\ قصر الذيب"]
[null,null,null,null,null,null,null,null,null,null,null,"SY080300","C4845","Qaysariyeh \\ القيصرية"]
[null,null,null,null,null,null,null,null,null,null,null,"SY080300","C4812","Raghdan \\ رغدان"]
[null,null,null,null,null,null,null,null,null,null,null,"SY080300","C4877","Raheiba \\ الرحيبة"]
[null,null,null,null,null,null,null,null,null,null,null,"SY080300","C4867","Rashidiyeh Malikiyeh \\ الرشيدية مالكية"]
[null,null,null,null,null,null,null,null,null,null,null,"SY080300","C4815","Rihaniya Malekiyeh \\ الريحانية مالكية"]
[null,null,null,null,null,null,null,null,null,null,null,"SY080300","C4868","Sabe Jfar \\ سبع جفار"]
[null,null,null,null,null,null,null,null,null,null,null,"SY080300","C4863","SAFH Malekiyeh \\ السفح مالكية"]
[null,null,null,null,null,null,null,null,null,null,null,"SY080300","C4808","Saideh \\ السعيدة"]
[null,null,null,null,null,null,null,null,null,null,null,"SY080300","C4829","En segundo lugar Tal Elthahab Malkiyeh \\ تل الذهب الثانية مالكية"]
[null,null,null,null,null,null,null,null,null,null,null,"SY080300","C4810","Sehiyeh \\ الصحية"]
[null,null,null,null,null,null,null,null,null,null,null,"SY080300","C4856","Shamsiyeh \\ الشمسية"]
[null,null,null,null,null,null,null,null,null,null,null,"SY080300","C4825","Sharm El Sheikh \\ شرم الشيخ"]
[null,null,null,null,null,null,null,null,null,null,null,"SY080300","C4838","Sheikh Ibrahim \\ شيخ ابراهيم"]
[null,null,null,null,null,null,null,null,null,null,null,"SY080300","C4875","Sinjar Malikiyeh \\ سنجار مالكية"]
[null,null,null,null,null,null,null,null,null,null,null,"SY080300","C4822","Tabaqa \\ الطبقة"]
[null,null,null,null,null,null,null,null,null,null,null,"SY080300","C4818","Tal Adas \\ تل عدس"]
[null,null,null,null,null,null,null,null,null,null,null,"SY080300","C4854","Tal Aswad Malkiyeh \\ تل أسود مالكية"]
[null,null,null,null,null,null,null,null,null,null,null,"SY080300","C4851","Tal Elahmar \\ تل الأحمر"]
[null,null,null,null,null,null,null,null,null,null,null,"SY080300","C4850","Tal Elasfar \\ تل الأصفر"]
[null,null,null,null,null,null,null,null,null,null,null,"SY080300","C4874","Tal Elawar \\ تل الأعور"]
[null,null,null,null,null,null,null,null,null,null,null,"SY080300","C4886","Tal Eldiq \\ تل الضيق"]
[null,null,null,null,null,null,null,null,null,null,null,"SY080300","C4871","Tal Eldurra \\ تل الدرة"]
[null,null,null,null,null,null,null,null,null,null,null,"SY080300","C4848","Tal Elfukhar \\ تل الفخار"]
[null,null,null,null,null,null,null,null,null,null,null,"SY080300","C4869","Tal elhawa Malkiyeh \\ تل الهوى مالكية"]
[null,null,null,null,null,null,null,null,null,null,null,"SY080300","C4844","Tal Elomara \\ تل الأمراء"]
[null,null,null,null,null,null,null,null,null,null,null,"SY080300","C4882","Tal Elsedeq \\ تل الصدق"]
[null,null,null,null,null,null,null,null,null,null,null,"SY080300","C4880","Tal Elshams \\ تل الشمس"]
[null,null,null,null,null,null,null,null,null,null,null,"SY080300","C4846","Tal Hadid \\ تل حديد"]
[null,null,null,null,null,null,null,null,null,null,null,"SY080300","C4872","Tal Hamdan \\ تل حمدان"]
[null,null,null,null,null,null,null,null,null,null,null,"SY080300","C4849","Tal Jmal \\ تل جمال"]
[null,null,null,null,null,null,null,null,null,null,null,"SY080300","C4852","Tal Umaya \\ تل أمية"]
[null,null,null,null,null,null,null,null,null,null,null,"SY080300","C4828","Tal Zyara \\ تل زيارة"]
[null,null,null,null,null,null,null,null,null,null,null,"SY080300","C4826","Taleeah ​​\\ الطليعة"]
[null,null,null,null,null,null,null,null,null,null,null,"SY080300","C4860","Tlin \\ التلين"]
[null,null,null,null,null,null,null,null,null,null,null,"SY080300","C4814","Tubiyeh \\ الطويبة"]
[null,null,null,null,null,null,null,null,null,null,null,"SY080300","C4887","Tunisiyeh \\ التونسية"]
[null,null,null,null,null,null,null,null,null,null,null,"SY080300","C4831","Um Tlul \\ أم تلول"]
[null,null,null,null,null,null,null,null,null,null,null,"SY080300","C4813","Alta Rmeilan \\ رميلان فوقاني"]
[null,null,null,null,null,null,null,null,null,null,null,"SY080300","C4840","Alta Sweidiyeh \\ سويدية فوقاني"]
[null,null,null,null,null,null,null,null,null,null,null,"SY080300","C4807","Tal superior Khanzir \\ تل خنزير فوقاني"]
[null,null,null,null,null,null,null,null,null,null,null,"SY080300","C4865","Yanbue \\ الينبوع"]
[null,null,null,null,null,null,null,null,null,null,null,"SY080300","C4866","Yusefiyeh \\ اليوسفية"]
[null,null,null,null,null,null,null,null,null,null,null,"SY080300","C4858","Zahraa Malekiyeh \\ الزهراء مالكية"]
[null,null,null,null,null,null,null,null,null,null,null,"SY080300","C4878","Zheiriyeh \\ زهيرية"]
[null,null,null,null,null,null,null,null,null,null,null,"SY080301","C4923","Abbasiyeh \\ العباسية"]
[null,null,null,null,null,null,null,null,null,null,null,"SY080301","C4933","Abra \\ عابرة"]
[null,null,null,null,null,null,null,null,null,null,null,"SY080301","C4917","Abu Baker, \\ أبو بكر"]
[null,null,null,null,null,null,null,null,null,null,null,"SY080301","C4900","Abu Ejeileh \\ أبو عجيلة"]
[null,null,null,null,null,null,null,null,null,null,null,"SY080301","C4909","Abu Obaida \\ أبو عبيدة"]
[null,null,null,null,null,null,null,null,null,null,null,"SY080301","C4906","Asaliyeh \\ عسيلة"]
[null,null,null,null,null,null,null,null,null,null,null,"SY080301","C4915","Ataba \\ عتبة"]
[null,null,null,null,null,null,null,null,null,null,null,"SY080301","C4905","Bab Elhadid \\ باب الحديد"]
[null,null,null,null,null,null,null,null,null,null,null,"SY080301","C4928","Baqla \\ باقلا"]
[null,null,null,null,null,null,null,null,null,null,null,"SY080301","C4902","Dayr Hafir \\ دير حافر"]
[null,null,null,null,null,null,null,null,null,null,null,"SY080301","C4922","Deir Ayub \\ دير أيوب"]
[null,null,null,null,null,null,null,null,null,null,null,"SY080301","C4934","Deir Elghosn \\ دير الغصن"]
[null,null,null,null,null,null,null,null,null,null,null,"SY080301","C4913","Ghafqiyeh \\ الغافقية"]
[null,null,null,null,null,null,null,null,null,null,null,"SY080301","C4927","Hafethiyeh \\ الحافظية"]
[null,null,null,null,null,null,null,null,null,null,null,"SY080301","C4908","Hamra \\ الحمراء"]
[null,null,null,null,null,null,null,null,null,null,null,"SY080301","C4914","Hseiniyeh Jawadiyeh \\ الحسينية جوادية"]
[null,null,null,null,null,null,null,null,null,null,null,"SY080301","C4901","Jaberiyeh Jawadiyeh \\ الجابرية جوادية"]
[null,null,null,null,null,null,null,null,null,null,null,"SY080301","C4919","Jawadiyah \\ الجوادية"]
[null,null,null,null,null,null,null,null,null,null,null,"SY080301","C4929","Kherbet Balac \\ خربة بلك"]
[null,null,null,null,null,null,null,null,null,null,null,"SY080301","C4907","Khsheiniyeh \\ خشينية"]
[null,null,null,null,null,null,null,null,null,null,null,"SY080301","C4936","Mashuq \\ معشوق"]
[null,null,null,null,null,null,null,null,null,null,null,"SY080301","C4932","Msheirfet Jawadiyeh \\ المشيرفة جوادية"]
[null,null,null,null,null,null,null,null,null,null,null,"SY080301","C4925","Antiguo Deir \\ الدير القديم"]
[null,null,null,null,null,null,null,null,null,null,null,"SY080301","C4937","Qasemiyeh \\ قاسمية"]
[null,null,null,null,null,null,null,null,null,null,null,"SY080301","C4935","Qneitra \\ قنيطرة"]
[null,null,null,null,null,null,null,null,null,null,null,"SY080301","C4921","Rabeeah Eljawadiyeh \\ ربيعة الجوادية"]
[null,null,null,null,null,null,null,null,null,null,null,"SY080301","C4918","Raha \\ الرهاء"]
[null,null,null,null,null,null,null,null,null,null,null,"SY080301","C4931","Salhiyeh \\ الصالحية"]
[null,null,null,null,null,null,null,null,null,null,null,"SY080301","C4903","Shabak \\ شبك"]
[null,null,null,null,null,null,null,null,null,null,null,"SY080301","C4911","Tal Elatshan \\ تل العطشان"]
[null,null,null,null,null,null,null,null,null,null,null,"SY080301","C4904","Tal Elhasanat \\ تل الحسنات"]
[null,null,null,null,null,null,null,null,null,null,null,"SY080301","C4920","Tal Khalil Jawadiyeh \\ تل خليل جوادية"]
[null,null,null,null,null,null,null,null,null,null,null,"SY080301","C4926","Tal Mrad \\ تل مراد"]
[null,null,null,null,null,null,null,null,null,null,null,"SY080301","C4924","Tawakol \\ التوكل"]
[null,null,null,null,null,null,null,null,null,null,null,"SY080301","C4930","Thaheriya \\ الظاهرية"]
[null,null,null,null,null,null,null,null,null,null,null,"SY080301","C4912","Um Elrumman \\ أم الرمان"]
[null,null,null,null,null,null,null,null,null,null,null,"SY080301","C4916","Um Rejim \\ أم رجيم"]
[null,null,null,null,null,null,null,null,null,null,null,"SY080301","C4910","Alta Amarat \\ عمارات فوقاني"]
[null,null,null,null,null,null,null,null,null,null,null,"SY080302","C4970","Adnan \\ عدنان"]
[null,null,null,null,null,null,null,null,null,null,null,"SY080302","C4974","Akhodalsheh \\ أخودلشة"]
[null,null,null,null,null,null,null,null,null,null,null,"SY080302","C4959","Ali Agha \\ علي آغا"]
[null,null,null,null,null,null,null,null,null,null,null,"SY080302","C4946","Alyana \\ عليانة"]
[null,null,null,null,null,null,null,null,null,null,null,"SY080302","C4983","Gran Masud \\ مسعود كبير"]
[null,null,null,null,null,null,null,null,null,null,null,"SY080302","C4953","Gran Shofa \\ الشوفة الكبيرة"]
[null,null,null,null,null,null,null,null,null,null,null,"SY080302","C4950","Botheh \\ البوثة"]
[null,null,null,null,null,null,null,null,null,null,null,"SY080302","C4979","Fattumeh Oriental \\ فطومة شرقية"]
[null,null,null,null,null,null,null,null,null,null,null,"SY080302","C4968","Fadghamiyeh \\ الفدغمية"]
[null,null,null,null,null,null,null,null,null,null,null,"SY080302","C4943","En primer Tal Elo \\ تل علو الأولى"]
[null,null,null,null,null,null,null,null,null,null,null,"SY080302","C4976","Haddad \\ حداد"]
[null,null,null,null,null,null,null,null,null,null,null,"SY080302","C4939","Harma \\ الهرمة"]
[null,null,null,null,null,null,null,null,null,null,null,"SY080302","C4966","Hasna \\ الحسناء"]
[null,null,null,null,null,null,null,null,null,null,null,"SY080302","C4981","Hozan \\ هوازن"]
[null,null,null,null,null,null,null,null,null,null,null,"SY080302","C4963","Hreishieh \\ الحريشية"]
[null,null,null,null,null,null,null,null,null,null,null,"SY080302","C4961","Hurriyeh \\ الحرية"]
[null,null,null,null,null,null,null,null,null,null,null,"SY080302","C4945","Hweira \\ الهويرة"]
[null,null,null,null,null,null,null,null,null,null,null,"SY080302","C4965","Jneidiyeh \\ الجنيدية"]
[null,null,null,null,null,null,null,null,null,null,null,"SY080302","C4978","Kharab Eljir \\ خراب الجير"]
[null,null,null,null,null,null,null,null,null,null,null,"SY080302","C4947","Kharab Hassan \\ خراب حسن"]
[null,null,null,null,null,null,null,null,null,null,null,"SY080302","C4942","Kherbet Elabid \\ خربة العبيد"]
[null,null,null,null,null,null,null,null,null,null,null,"SY080302","C4977","Khweitleh Yarubiyeh \\ خويتلة يعربية"]
[null,null,null,null,null,null,null,null,null,null,null,"SY080302","C4955","Bajo Kherbet Elbir \\ خربة البير تحتاني"]
[null,null,null,null,null,null,null,null,null,null,null,"SY080302","C4971","Um bajar Kheif \\ أم كهيف تحتاني"]
[null,null,null,null,null,null,null,null,null,null,null,"SY080302","C4962","Medio Sehrij \\ صهريج وسطاني"]
[null,null,null,null,null,null,null,null,null,null,null,"SY080302","C4982","Mostariha \\ مستريحة"]
[null,null,null,null,null,null,null,null,null,null,null,"SY080302","C4980","Quraish \\ قريش"]
[null,null,null,null,null,null,null,null,null,null,null,"SY080302","C4956","Safa \\ الصفا"]
[null,null,null,null,null,null,null,null,null,null,null,"SY080302","C4944","En segundo lugar Tal Elo \\ تل علو الثانية"]
[null,null,null,null,null,null,null,null,null,null,null,"SY080302","C4948","Shafaniyeh \\ الشعفانية"]
[null,null,null,null,null,null,null,null,null,null,null,"SY080302","C4952","Sleiman Sari \\ سليمان ساري"]
[null,null,null,null,null,null,null,null,null,null,null,"SY080302","C4957","Tal Árabe \\ تل عرب"]
[null,null,null,null,null,null,null,null,null,null,null,"SY080302","C4960","Tal Dweim \\ تل دويم"]
[null,null,null,null,null,null,null,null,null,null,null,"SY080302","C4975","Tal Eltamer \\ تل التمر"]
[null,null,null,null,null,null,null,null,null,null,null,"SY080302","C4951","Tal Mashan \\ تل مشحن"]
[null,null,null,null,null,null,null,null,null,null,null,"SY080302","C4954","Tameriyeh \\ التامرية"]
[null,null,null,null,null,null,null,null,null,null,null,"SY080302","C4964","Thaqif \\ ثقيف"]
[null,null,null,null,null,null,null,null,null,null,null,"SY080302","C4941","Um Eledam \\ أم العظام"]
[null,null,null,null,null,null,null,null,null,null,null,"SY080302","C4940","Um HBAL \\ أم حبال"]
[null,null,null,null,null,null,null,null,null,null,null,"SY080302","C4967","Alta Abu Manasib \\ أبو مناصب فوقاني"]
[null,null,null,null,null,null,null,null,null,null,null,"SY080302","C4972","Alto del este Arja \\ عرجة شرقية فوقاني"]
[null,null,null,null,null,null,null,null,null,null,null,"SY080302","C4958","Alta Kherbet Elbir \\ خربة البير فوقاني"]
[null,null,null,null,null,null,null,null,null,null,null,"SY080302","C4949","Tal superior Elo \\ تل علوفوقاني"]
[null,null,null,null,null,null,null,null,null,null,null,"SY080302","C4973","Um superior Kheif \\ أم كهيف فوقاني"]
[null,null,null,null,null,null,null,null,null,null,null,"SY080302","C4938","Western Jadaawi \\ جدعاوي غربي"]
[null,null,null,null,null,null,null,null,null,null,null,"SY080302","C4969","Ya'robiyah \\ اليعربية"]
[null,null,null,null,null,null,null,null,null,null,null,"SY080400","C5005","Abu Rasín \\ ابو راسين"]
[null,null,null,null,null,null,null,null,null,null,null,"SY080400","C4998","Abu Shakhat \\ أبو شاخات"]
[null,null,null,null,null,null,null,null,null,null,null,"SY080400","C4997","Ahras \\ الأهراس"]
[null,null,null,null,null,null,null,null,null,null,null,"SY080400","C4996","Ajla \\ عاجلة"]
[null,null,null,null,null,null,null,null,null,null,null,"SY080400","C5019","Arshet Ras El Ein \\ العريشة رأس العين"]
[null,null,null,null,null,null,null,null,null,null,null,"SY080400","C5009","Assadiya \\ الأسدية"]
[null,null,null,null,null,null,null,null,null,null,null,"SY080400","C5000","Gran Abu Jarada \\ أبو جرادة كبير"]
[null,null,null,null,null,null,null,null,null,null,null,"SY080400","C5020","Grande Arada \\ عرادة كبيرة"]
[null,null,null,null,null,null,null,null,null,null,null,"SY080400","C6370","Bir Noah \\ بئر نوح"]
[null,null,null,null,null,null,null,null,null,null,null,"SY080400","C4986","Dahmaa \\ الدهماء"]
[null,null,null,null,null,null,null,null,null,null,null,"SY080400","C4999","Dardara \\ دردارة"]
[null,null,null,null,null,null,null,null,null,null,null,"SY080400","C5016","Dawoodiyeh \\ داودية"]
[null,null,null,null,null,null,null,null,null,null,null,"SY080400","C6367","Alyeh Oriental \\ العالية الشرقية"]
[null,null,null,null,null,null,null,null,null,null,null,"SY080400","C5013","Tal oriente Sinan \\ تل سنان شرقي"]
[null,null,null,null,null,null,null,null,null,null,null,"SY080400","C4985","Hakimeh \\ حكيمة"]
[null,null,null,null,null,null,null,null,null,null,null,"SY080400","C4987","Kabsh \\ الكبش"]
[null,null,null,null,null,null,null,null,null,null,null,"SY080400","C5010","Kherbet Hamid \\ خربة حميد"]
[null,null,null,null,null,null,null,null,null,null,null,"SY080400","C5004","Kherbet Jamu \\ خربة جمو"]
[null,null,null,null,null,null,null,null,null,null,null,"SY080400","C5022","Kisreh \\ كسرة"]
[null,null,null,null,null,null,null,null,null,null,null,"SY080400","C5027","Mabruka \\ مبروكة"]
[null,null,null,null,null,null,null,null,null,null,null,"SY080400","C5017","Manajir \\ المناجير"]
[null,null,null,null,null,null,null,null,null,null,null,"SY080400","C5025","Masjid \\ مسجد"]
[null,null,null,null,null,null,null,null,null,null,null,"SY080400","C5026","Mbarkiyeh \\ مباركية"]
[null,null,null,null,null,null,null,null,null,null,null,"SY080400","C5024","Mjeibreh \\ مجيبرة"]
[null,null,null,null,null,null,null,null,null,null,null,"SY080400","C5023","Modan \\ مدان"]
[null,null,null,null,null,null,null,null,null,null,null,"SY080400","C5021","Qotniyeh \\ قطينة"]
[null,null,null,null,null,null,null,null,null,null,null,"SY080400","C4988","Ras Al Ain \\ رأس العين"]
[null,null,null,null,null,null,null,null,null,null,null,"SY080400","C5007","Rawya \\ الراوية"]
[null,null,null,null,null,null,null,null,null,null,null,"SY080400","C4989","SAFH Ras El Ein \\ السفح راس العين"]
[null,null,null,null,null,null,null,null,null,null,null,"SY080400","C5018","Salhiyeh Mala Khader \\ صالحية ملا خضر"]
[null,null,null,null,null,null,null,null,null,null,null,"SY080400","C5014","Shara \\ الشارة"]
[null,null,null,null,null,null,null,null,null,null,null,"SY080400","C4984","Siwan \\ الصوان"]
[null,null,null,null,null,null,null,null,null,null,null,"SY080400","C5001","Tal Baydar Ras El Ein \\ تل بيدر راس العين"]
[null,null,null,null,null,null,null,null,null,null,null,"SY080400","C5015","Tal Elamir \\ تل الأمير"]
[null,null,null,null,null,null,null,null,null,null,null,"SY080400","C6368","Tal Elsafa \\ تل الصفا"]
[null,null,null,null,null,null,null,null,null,null,null,"SY080400","C5002","Tal Halaf \\ تل حلف"]
[null,null,null,null,null,null,null,null,null,null,null,"SY080400","C4990","Tal Harmal \\ تل حرمل"]
[null,null,null,null,null,null,null,null,null,null,null,"SY080400","C5012","Tal Sheer Ras El Ein \\ تل شعير راس العين"]
[null,null,null,null,null,null,null,null,null,null,null,"SY080400","C4995","Thamud \\ ثمود"]
[null,null,null,null,null,null,null,null,null,null,null,"SY080400","C5006","Um Elasafir \\ أم العصافير"]
[null,null,null,null,null,null,null,null,null,null,null,"SY080400","C4994","Um Härmälä \\ أم حرملة"]
[null,null,null,null,null,null,null,null,null,null,null,"SY080400","C4992","Umirt \\ أميرط"]
[null,null,null,null,null,null,null,null,null,null,null,"SY080400","C4991","Western Abdel Salam \\ عبد السلام غربي"]
[null,null,null,null,null,null,null,null,null,null,null,"SY080400","C6369","Western Alyeh \\ العالية الغربية"]
[null,null,null,null,null,null,null,null,null,null,null,"SY080400","C5003","Western rabiat \\ ربيعات غربي"]
[null,null,null,null,null,null,null,null,null,null,null,"SY080400","C5011","Tal occidental Elward \\ تل الورد غربي"]
[null,null,null,null,null,null,null,null,null,null,null,"SY080400","C4993","Zaydiyeh Ras El Ein \\ الزيدية رأس العين"]
[null,null,null,null,null,null,null,null,null,null,null,"SY080401","C5034","Abu Jarada \\ أبو جرادة"]
[null,null,null,null,null,null,null,null,null,null,null,"SY080401","C5058","Abu Kala \\ أبو كالة"]
[null,null,null,null,null,null,null,null,null,null,null,"SY080401","C5063","Bsheiriyeh \\ بشيرية"]
[null,null,null,null,null,null,null,null,null,null,null,"SY080401","C5032","Dabash \\ دبش"]
[null,null,null,null,null,null,null,null,null,null,null,"SY080401","C5049","Dakuk \\ دكوك"]
[null,null,null,null,null,null,null,null,null,null,null,"SY080401","C5047","Dalawi \\ دلاوية"]
[null,null,null,null,null,null,null,null,null,null,null,"SY080401","C5054","Darbasiyah \\ الدرباسية"]
[null,null,null,null,null,null,null,null,null,null,null,"SY080401","C5042","Ethamiyeh Oriental \\ عظامية شرقية"]
[null,null,null,null,null,null,null,null,null,null,null,"SY080401","C5074","Fatima Oriental \\ فاطمة الشرقية"]
[null,null,null,null,null,null,null,null,null,null,null,"SY080401","C5070","Oriental Salhiyeh \\ صالحية شرقية"]
[null,null,null,null,null,null,null,null,null,null,null,"SY080401","C5072","Farfara Derbasiyeh \\ فرفرة درباسية"]
[null,null,null,null,null,null,null,null,null,null,null,"SY080401","C5076","Fath Allah \\ فتح الله"]
[null,null,null,null,null,null,null,null,null,null,null,"SY080401","C5075","Habu \\ هبو"]
[null,null,null,null,null,null,null,null,null,null,null,"SY080401","C6375","Hajiyeh \\ هاجية"]
[null,null,null,null,null,null,null,null,null,null,null,"SY080401","C5037","Hamadaniyeh \\ حمدانية"]
[null,null,null,null,null,null,null,null,null,null,null,"SY080401","C5035","Harshawiyeh \\ الحرشاوية"]
[null,null,null,null,null,null,null,null,null,null,null,"SY080401","C5068","Heno \\ الحنو"]
[null,null,null,null,null,null,null,null,null,null,null,"SY080401","C5041","Jatal \\ جطل"]
[null,null,null,null,null,null,null,null,null,null,null,"SY080401","C5066","Jdideh \\ جديدة"]
[null,null,null,null,null,null,null,null,null,null,null,"SY080401","C5055","Jole \\ الجول"]
[null,null,null,null,null,null,null,null,null,null,null,"SY080401","C5048","Khatuna \\ خاتونة"]
[null,null,null,null,null,null,null,null,null,null,null,"SY080401","C5033","Khazneh \\ خزنة"]
[null,null,null,null,null,null,null,null,null,null,null,"SY080401","C5061","Kukh \\ الكوخ"]
[null,null,null,null,null,null,null,null,null,null,null,"SY080401","C5059","Tal bajar Karam \\ تل كرم تحتاني"]
[null,null,null,null,null,null,null,null,null,null,null,"SY080401","C5065","Mahmudiyeh \\ المحمودية"]
[null,null,null,null,null,null,null,null,null,null,null,"SY080401","C5073","Malak \\ ملك"]
[null,null,null,null,null,null,null,null,null,null,null,"SY080401","C5051","Mashquq \\ المشقوق"]
[null,null,null,null,null,null,null,null,null,null,null,"SY080401","C5077","Mishraq \\ مشراق"]
[null,null,null,null,null,null,null,null,null,null,null,"SY080401","C6373","Motasallem \\ متسلم"]
[null,null,null,null,null,null,null,null,null,null,null,"SY080401","C5030","Quneitra \\ القنيطرة"]
[null,null,null,null,null,null,null,null,null,null,null,"SY080401","C5062","Rashidiyeh Derbasiyeh \\ رشيدية درباسية"]
[null,null,null,null,null,null,null,null,null,null,null,"SY080401","C5043","Rihaniyet Shamr \\ ريحانية شمر"]
[null,null,null,null,null,null,null,null,null,null,null,"SY080401","C5057","Saadia Derbasiya \\ سعدية درباسية"]
[null,null,null,null,null,null,null,null,null,null,null,"SY080401","C5036","Salam \\ سلام"]
[null,null,null,null,null,null,null,null,null,null,null,"SY080401","C5028","En segundo lugar Jozat \\ جوزات ثانية"]
[null,null,null,null,null,null,null,null,null,null,null,"SY080401","C6374","Shafaqa \\ شفقة"]
[null,null,null,null,null,null,null,null,null,null,null,"SY080401","C6376","Sharifa \\ شريفة"]
[null,null,null,null,null,null,null,null,null,null,null,"SY080401","C6371","Sur Khas \\ خاص جنوبي"]
[null,null,null,null,null,null,null,null,null,null,null,"SY080401","C5045","Tal Abbud \\ تل عبود"]
[null,null,null,null,null,null,null,null,null,null,null,"SY080401","C5038","Tal Aylul \\ تل ايلول"]
[null,null,null,null,null,null,null,null,null,null,null,"SY080401","C5039","Tal Baqar \\ تل بقر"]
[null,null,null,null,null,null,null,null,null,null,null,"SY080401","C5040","Tal Dik \\ تل ديك"]
[null,null,null,null,null,null,null,null,null,null,null,"SY080401","C5069","Tal Khabbaz \\ تل خباز"]
[null,null,null,null,null,null,null,null,null,null,null,"SY080401","C5050","Tal Sakar \\ تل سكر"]
[null,null,null,null,null,null,null,null,null,null,null,"SY080401","C5056","Tal Tishrine \\ تل تشرين"]
[null,null,null,null,null,null,null,null,null,null,null,"SY080401","C5064","Thahr El Arab \\ ظهر العرب"]
[null,null,null,null,null,null,null,null,null,null,null,"SY080401","C5060","Torat \\ تورات"]
[null,null,null,null,null,null,null,null,null,null,null,"SY080401","C5031","Treifawi \\ طريفاوي"]
[null,null,null,null,null,null,null,null,null,null,null,"SY080401","C5029","Turbeh \\ التربة"]
[null,null,null,null,null,null,null,null,null,null,null,"SY080401","C5053","Um Elshawali \\ أم الشوالي"]
[null,null,null,null,null,null,null,null,null,null,null,"SY080401","C5067","Tal superior Ghazal \\ تل غزال فوقاني"]
[null,null,null,null,null,null,null,null,null,null,null,"SY080401","C5052","Um superior Ayash \\ أم عياش فوقاني"]
[null,null,null,null,null,null,null,null,null,null,null,"SY080401","C6372","Western Alia \\ عالية غربية"]
[null,null,null,null,null,null,null,null,null,null,null,"SY080401","C5044","Western Ethamiyeh \\ عظامية غربية"]
[null,null,null,null,null,null,null,null,null,null,null,"SY080401","C5071","Western Fatima \\ فاطمة الغربية"]
[null,null,null,null,null,null,null,null,null,null,null,"SY080401","C5046","Western Shmuka \\ شموكة غربية"]
[null,null,null,null,null,null,null,null,null,null,null,"SY090100","C5081","Adman \\ عضمان"]
[null,null,null,null,null,null,null,null,null,null,null,"SY090100","C5078","Ayyash \\ عياش"]
[null,null,null,null,null,null,null,null,null,null,null,"SY090100","C5079","Baglieh \\ البغيلية"]
[null,null,null,null,null,null,null,null,null,null,null,"SY090100","C5086","Deir-ez-Zor \\ دير الزور"]
[null,null,null,null,null,null,null,null,null,null,null,"SY090100","C6311","Husseinieh \\ الحسينيه"]
[null,null,null,null,null,null,null,null,null,null,null,"SY090100","C5080","Jafra \\ الجفرة"]
[null,null,null,null,null,null,null,null,null,null,null,"SY090100","C6309","Jbeileh \\ جبيله"]
[null,null,null,null,null,null,null,null,null,null,null,"SY090100","C5089","Jiah \\ الجيعة"]
[null,null,null,null,null,null,null,null,null,null,null,"SY090100","C5084","Jneineh \\ الجنينة"]
[null,null,null,null,null,null,null,null,null,null,null,"SY090100","C5083","El Julet Gur \\ جولة الغر"]
[null,null,null,null,null,null,null,null,null,null,null,"SY090100","C5091","Kaba Jeb \\ كبا جب"]
[null,null,null,null,null,null,null,null,null,null,null,"SY090100","C5085","Maisheh \\ المعيشية"]
[null,null,null,null,null,null,null,null,null,null,null,"SY090100","C5090","Moezleh \\ معيزيلة"]
[null,null,null,null,null,null,null,null,null,null,null,"SY090100","C5088","Shaqra \\ شقرة"]
[null,null,null,null,null,null,null,null,null,null,null,"SY090100","C5087","Alta Safira \\ سفيرة فوقاني"]
[null,null,null,null,null,null,null,null,null,null,null,"SY090101","C5098","Abu Khashab \\ أبو خشب"]
[null,null,null,null,null,null,null,null,null,null,null,"SY090101","C5097","Ali \\ العلي"]
[null,null,null,null,null,null,null,null,null,null,null,"SY090101","C5095","Harmushiyeh \\ الهرموشية"]
[null,null,null,null,null,null,null,null,null,null,null,"SY090101","C5105","Hawayej Busamaa \\ حوايج بومصعة"]
[null,null,null,null,null,null,null,null,null,null,null,"SY090101","C5104","Hawayej Thyab Jazira \\ حوايج ذياب جزيرة"]
[null,null,null,null,null,null,null,null,null,null,null,"SY090101","C5100","Jazaret Elbuhmeid \\ جزرة البوحميد"]
[null,null,null,null,null,null,null,null,null,null,null,"SY090101","C5103","Jazaret Milaj \\ جزرة ميلاج"]
[null,null,null,null,null,null,null,null,null,null,null,"SY090101","C5094","Jerwan - Abu Elhbal \\ جروان_أبو الهبال"]
[null,null,null,null,null,null,null,null,null,null,null,"SY090101","C5096","Kasra \\ الكسرة"]
[null,null,null,null,null,null,null,null,null,null,null,"SY090101","C5099","Bajo Safira \\ سفيرة تحتاني"]
[null,null,null,null,null,null,null,null,null,null,null,"SY090101","C5106","Mhemideh \\ محيميدة"]
[null,null,null,null,null,null,null,null,null,null,null,"SY090101","C5102","Sawa \\ الصعوة"]
[null,null,null,null,null,null,null,null,null,null,null,"SY090101","C5101","Shate \\ الشاطئ"]
[null,null,null,null,null,null,null,null,null,null,null,"SY090101","C5093","Zghir Jazireh \\ زغير جزيرة"]
[null,null,null,null,null,null,null,null,null,null,null,"SY090102","C5116","Barsham \\ برشم"]
[null,null,null,null,null,null,null,null,null,null,null,"SY090102","C5110","Basira \\ البصيرة"]
[null,null,null,null,null,null,null,null,null,null,null,"SY090102","C5107","Breiha \\ بريهة"]
[null,null,null,null,null,null,null,null,null,null,null,"SY090102","C5108","Daman \\ ضمان"]
[null,null,null,null,null,null,null,null,null,null,null,"SY090102","C5113","Hejneh \\ الحجنة"]
[null,null,null,null,null,null,null,null,null,null,null,"SY090102","C5118","Hilweh \\ الحلوة"]
[null,null,null,null,null,null,null,null,null,null,null,"SY090102","C5115","Kassar \\ الكسار"]
[null,null,null,null,null,null,null,null,null,null,null,"SY090102","C5121","Mashekh \\ ماشخ"]
[null,null,null,null,null,null,null,null,null,null,null,"SY090102","C5120","Sabha \\ الصبحة"]
[null,null,null,null,null,null,null,null,null,null,null,"SY090102","C5119","Shiheil \\ الشحيل"]
[null,null,null,null,null,null,null,null,null,null,null,"SY090102","C5109","Sokkar \\ السكر"]
[null,null,null,null,null,null,null,null,null,null,null,"SY090102","C5112","Tib Elfal \\ طيب الفال"]
[null,null,null,null,null,null,null,null,null,null,null,"SY090102","C5111","Tuwamiyeh \\ التوامية"]
[null,null,null,null,null,null,null,null,null,null,null,"SY090102","C5114","Zir \\ الزر"]
[null,null,null,null,null,null,null,null,null,null,null,"SY090103","C5123","Abed \\ العبد"]
[null,null,null,null,null,null,null,null,null,null,null,"SY090103","C6310","Abu Omar \\ أبو عمر"]
[null,null,null,null,null,null,null,null,null,null,null,"SY090103","C5124","Mreiyeh \\ المريعية"]
[null,null,null,null,null,null,null,null,null,null,null,"SY090103","C5127","Muhasan \\ موحسن"]
[null,null,null,null,null,null,null,null,null,null,null,"SY090103","C5126","Qetet Elbuleil \\ قطعة البوليل"]
[null,null,null,null,null,null,null,null,null,null,null,"SY090103","C5125","Tabiyet Shamiyeh \\ طابية شامية"]
[null,null,null,null,null,null,null,null,null,null,null,"SY090103","C5122","Toob \\ الطوب"]
[null,null,null,null,null,null,null,null,null,null,null,"SY090104","C5135","Buwaita \\ البويطية"]
[null,null,null,null,null,null,null,null,null,null,null,"SY090104","C5137","Enbeh \\ العنبه"]
[null,null,null,null,null,null,null,null,null,null,null,"SY090104","C5129","Hawayej Thyab Shamiyeh \\ حوايج ذياب شامية"]
[null,null,null,null,null,null,null,null,null,null,null,"SY090104","C5132","Kharita \\ الخريطة"]
[null,null,null,null,null,null,null,null,null,null,null,"SY090104","C5130","Masrab \\ المسرب"]
[null,null,null,null,null,null,null,null,null,null,null,"SY090104","C5138","Antiguo Maadan \\ معدان عتيق"]
[null,null,null,null,null,null,null,null,null,null,null,"SY090104","C5134","Qasabiyeh \\ القصبي"]
[null,null,null,null,null,null,null,null,null,null,null,"SY090104","C5136","Shmeitiyeh \\ الشميطية"]
[null,null,null,null,null,null,null,null,null,null,null,"SY090104","C5131","Tabni \\ التبني"]
[null,null,null,null,null,null,null,null,null,null,null,"SY090104","C5133","Tarif \\ الطريف"]
[null,null,null,null,null,null,null,null,null,null,null,"SY090104","C5128","Zghir Shamiyeh \\ زغير شامية"]
[null,null,null,null,null,null,null,null,null,null,null,"SY090105","C5142","Dahleh \\ الدحلة"]
[null,null,null,null,null,null,null,null,null,null,null,"SY090105","C5143","Jdid Ekeidat \\ جديد عكيدات"]
[null,null,null,null,null,null,null,null,null,null,null,"SY090105","C5141","Jdidet Bikara \\ جديدة بكارة"]
[null,null,null,null,null,null,null,null,null,null,null,"SY090105","C5140","Khasham \\ خشام"]
[null,null,null,null,null,null,null,null,null,null,null,"SY090105","C5145","Mathlum \\ مظلوم"]
[null,null,null,null,null,null,null,null,null,null,null,"SY090105","C5146","MRAT \\ مراط"]
[null,null,null,null,null,null,null,null,null,null,null,"SY090105","C5139","Sadouni \\ السعدوني"]
[null,null,null,null,null,null,null,null,null,null,null,"SY090105","C5144","Tabiyet Jazira \\ طابية جزيرة"]
[null,null,null,null,null,null,null,null,null,null,null,"SY090106","C5147","Abul Nitel \\ أبو النيتل"]
[null,null,null,null,null,null,null,null,null,null,null,"SY090106","C5148","Bseitine \\ بسيتين"]
[null,null,null,null,null,null,null,null,null,null,null,"SY090106","C5158","Gharibeh Oriental \\ غريبة شرقية"]
[null,null,null,null,null,null,null,null,null,null,null,"SY090106","C5154","Hreiji \\ الحريجي"]
[null,null,null,null,null,null,null,null,null,null,null,"SY090106","C5150","Hreijiyeh \\ الحريجية"]
[null,null,null,null,null,null,null,null,null,null,null,"SY090106","C5153","Hssein \\ الحصين"]
[null,null,null,null,null,null,null,null,null,null,null,"SY090106","C5160","Jasmi \\ الجاسمي"]
[null,null,null,null,null,null,null,null,null,null,null,"SY090106","C5156","Jeryeh \\ جرية"]
[null,null,null,null,null,null,null,null,null,null,null,"SY090106","C5161","Moeijel \\ معيجيل"]
[null,null,null,null,null,null,null,null,null,null,null,"SY090106","C5155","Mweileh \\ المويلح"]
[null,null,null,null,null,null,null,null,null,null,null,"SY090106","C5152","Namliyeh \\ النملية"]
[null,null,null,null,null,null,null,null,null,null,null,"SY090106","C5151","Rábida \\ ربيضة"]
[null,null,null,null,null,null,null,null,null,null,null,"SY090106","C5149","Rweished \\ رويشد"]
[null,null,null,null,null,null,null,null,null,null,null,"SY090106","C5157","Sur \\ الصور"]
[null,null,null,null,null,null,null,null,null,null,null,"SY090106","C5159","Western Gharibeh \\ غريبة غربية"]
[null,null,null,null,null,null,null,null,null,null,null,"SY090200","C5167","Abu Kamal \\ البوكمال"]
[null,null,null,null,null,null,null,null,null,null,null,"SY090200","C5169","Ghabra \\ الغبرة"]
[null,null,null,null,null,null,null,null,null,null,null,"SY090200","C5164","Hasrat \\ حسرات"]
[null,null,null,null,null,null,null,null,null,null,null,"SY090200","C5162","Hura \\ الهرى"]
[null,null,null,null,null,null,null,null,null,null,null,"SY090200","C5170","Hurriyeh \\ الحرية"]
[null,null,null,null,null,null,null,null,null,null,null,"SY090200","C5171","Moezleh \\ معيزيلة"]
[null,null,null,null,null,null,null,null,null,null,null,"SY090200","C5166","Ramadi \\ الرمادى"]
[null,null,null,null,null,null,null,null,null,null,null,"SY090200","C5163","Siyal \\ السيال"]
[null,null,null,null,null,null,null,null,null,null,null,"SY090200","C5168","Sweiyeh \\ السويعية"]
[null,null,null,null,null,null,null,null,null,null,null,"SY090201","C5174","Abu Hamam \\ أبو حمام"]
[null,null,null,null,null,null,null,null,null,null,null,"SY090201","C5173","Gharanij \\ غرانيج"]
[null,null,null,null,null,null,null,null,null,null,null,"SY090201","C5175","Hajin \\ هجين"]
[null,null,null,null,null,null,null,null,null,null,null,"SY090201","C5172","Kishkiyeh \\ الكشكية"]
[null,null,null,null,null,null,null,null,null,null,null,"SY090202","C5180","Abbas \\ العباس"]
[null,null,null,null,null,null,null,null,null,null,null,"SY090202","C5178","Jalaa \\ الجلاء"]
[null,null,null,null,null,null,null,null,null,null,null,"SY090202","C5179","Qataa \\ القطعة"]
[null,null,null,null,null,null,null,null,null,null,null,"SY090202","C5176","Sabkha \\ الصبخة"]
[null,null,null,null,null,null,null,null,null,null,null,"SY090202","C5181","Salhiyeh \\ الصالحية"]
[null,null,null,null,null,null,null,null,null,null,null,"SY090202","C5177","Tothiyeh \\ الطوطحية"]
[null,null,null,null,null,null,null,null,null,null,null,"SY090203","C5185","Bubadran \\ البوبدران"]
[null,null,null,null,null,null,null,null,null,null,null,"SY090203","C5182","Marashdeh \\ المراشدة"]
[null,null,null,null,null,null,null,null,null,null,null,"SY090203","C5183","Shafa \\ الشعفة"]
[null,null,null,null,null,null,null,null,null,null,null,"SY090203","C5186","Sosa \\ السوسة"]
[null,null,null,null,null,null,null,null,null,null,null,"SY090203","C5184","Alta Baguz \\ الباغوز فوقاني"]
[null,null,null,null,null,null,null,null,null,null,null,"SY090300","C5192","Al Mayadin \\ الميادين"]
[null,null,null,null,null,null,null,null,null,null,null,"SY090300","C5191","Baqras inferiores \\ بقرص تحتاني"]
[null,null,null,null,null,null,null,null,null,null,null,"SY090300","C5187","Bajo Hawi Baqras \\ حاوي بقرص تحتاني"]
[null,null,null,null,null,null,null,null,null,null,null,"SY090300","C5194","Mahkan \\ محكان"]
[null,null,null,null,null,null,null,null,null,null,null,"SY090300","C5188","Saalu \\ سعلو"]
[null,null,null,null,null,null,null,null,null,null,null,"SY090300","C5193","Tiba \\ الطيبة"]
[null,null,null,null,null,null,null,null,null,null,null,"SY090300","C5190","Alta Baqras \\ بقرص فوقاني"]
[null,null,null,null,null,null,null,null,null,null,null,"SY090300","C5189","Zbara \\ الزبارى"]
[null,null,null,null,null,null,null,null,null,null,null,"SY090301","C5195","Abu Hardoub \\ أبو حردوب"]
[null,null,null,null,null,null,null,null,null,null,null,"SY090301","C5200","Darnaj \\ درنج"]
[null,null,null,null,null,null,null,null,null,null,null,"SY090301","C5203","Jarda Oriental \\ الجرذى الشرقي"]
[null,null,null,null,null,null,null,null,null,null,null,"SY090301","C5199","Hawayej \\ الحوايج"]
[null,null,null,null,null,null,null,null,null,null,null,"SY090301","C5204","Hawi Thibyan \\ حاوي ذيبان"]
[null,null,null,null,null,null,null,null,null,null,null,"SY090301","C5198","Karama \\ الكرامة"]
[null,null,null,null,null,null,null,null,null,null,null,"SY090301","C5201","Ragib \\ الرغيب"]
[null,null,null,null,null,null,null,null,null,null,null,"SY090301","C5196","Sweidan Jazira \\ سويدان جزيرة"]
[null,null,null,null,null,null,null,null,null,null,null,"SY090301","C5197","Tayyana \\ الطيانة"]
[null,null,null,null,null,null,null,null,null,null,null,"SY090301","C5202","Thiban \\ ذيبان"]
[null,null,null,null,null,null,null,null,null,null,null,"SY090302","C5210","Asara \\ العشارة"]
[null,null,null,null,null,null,null,null,null,null,null,"SY090302","C5208","Dablan \\ دبلان"]
[null,null,null,null,null,null,null,null,null,null,null,"SY090302","C5209","Dweir \\ الدوير"]
[null,null,null,null,null,null,null,null,null,null,null,"SY090302","C5205","Gharibeh \\ غريبه"]
[null,null,null,null,null,null,null,null,null,null,null,"SY090302","C5207","Quriyeh \\ القورية"]
[null,null,null,null,null,null,null,null,null,null,null,"SY090302","C5211","Sbeikhan \\ صبيخان"]
[null,null,null,null,null,null,null,null,null,null,null,"SY090302","C5206","Tishrine \\ تشرين"]
[null,null,null,null,null,null,null,null,null,null,null,"SY100000","C5251","Badriyeh \\ بدرية"]
[null,null,null,null,null,null,null,null,null,null,null,"SY100000","C5250","Bahwa \\ بحوى"]
[null,null,null,null,null,null,null,null,null,null,null,"SY100000","C5219","Bakriyeh \\ بكرية"]
[null,null,null,null,null,null,null,null,null,null,null,"SY100000","C5227","Beit Basit \\ بيت باسط"]
[null,null,null,null,null,null,null,null,null,null,null,"SY100000","C5214","Beit Elayan \\ بيت عليان"]
[null,null,null,null,null,null,null,null,null,null,null,"SY100000","C5228","Beit Eljabal \\ بيت الجبل"]
[null,null,null,null,null,null,null,null,null,null,null,"SY100000","C5225","Beit Elkhatib \\ بيت الخطيب"]
[null,null,null,null,null,null,null,null,null,null,null,"SY100000","C5213","Beit Isamil - Bajo Mahrak \\ بيت اسماعيل_محرك تحتاني"]
[null,null,null,null,null,null,null,null,null,null,null,"SY100000","C5215","Beit Kammuneh \\ بيت كمونة"]
[null,null,null,null,null,null,null,null,null,null,null,"SY100000","C5216","Beit Shihan \\ بيت شيحان"]
[null,null,null,null,null,null,null,null,null,null,null,"SY100000","C5224","Bezzaq \\ بزاق"]
[null,null,null,null,null,null,null,null,null,null,null,"SY100000","C5212","Bileh \\ بيلة"]
[null,null,null,null,null,null,null,null,null,null,null,"SY100000","C5222","Bismaqa \\ بسماقة"]
[null,null,null,null,null,null,null,null,null,null,null,"SY100000","C5218","Bmalka \\ بملكة"]
[null,null,null,null,null,null,null,null,null,null,null,"SY100000","C5240","Dahbash \\ دحباش"]
[null,null,null,null,null,null,null,null,null,null,null,"SY100000","C5248","Dahr Elshurfa \\ ضهر الشرفة"]
[null,null,null,null,null,null,null,null,null,null,null,"SY100000","C5249","Dahr Rajab \\ ضهر رجب"]
[null,null,null,null,null,null,null,null,null,null,null,"SY100000","C5226","Dweir Elsheikh Saed \\ دوير الشيخ سعد"]
[null,null,null,null,null,null,null,null,null,null,null,"SY100000","C5238","Ennabiya \\ عنابية"]
[null,null,null,null,null,null,null,null,null,null,null,"SY100000","C5234","Eskabola \\ اسقبولة"]
[null,null,null,null,null,null,null,null,null,null,null,"SY100000","C5237","Hamush Sarkasi \\ حاموش سرسكى"]
[null,null,null,null,null,null,null,null,null,null,null,"SY100000","C5239","Hikr Maabariyeh - Alta Mahrak \\ حكر معبرية_ محرك فوقاني"]
[null,null,null,null,null,null,null,null,null,null,null,"SY100000","C5243","Hisheh \\ الهيشة"]
[null,null,null,null,null,null,null,null,null,null,null,"SY100000","C5231","Jdeita \\ جديتة"]
[null,null,null,null,null,null,null,null,null,null,null,"SY100000","C5232","Jdidet Elbahr \\ جديدة البحر"]
[null,null,null,null,null,null,null,null,null,null,null,"SY100000","C5235","Jobi \\ جوبي"]
[null,null,null,null,null,null,null,null,null,null,null,"SY100000","C5253","Kafram - Ghafran \\ كفران_غفران"]
[null,null,null,null,null,null,null,null,null,null,null,"SY100000","C5230","Kherbet Elfaras \\ خربة الفرس"]
[null,null,null,null,null,null,null,null,null,null,null,"SY100000","C5233","Kherbet Elrih \\ خربة الريح"]
[null,null,null,null,null,null,null,null,null,null,null,"SY100000","C5217","Khreibat \\ الخريبات"]
[null,null,null,null,null,null,null,null,null,null,null,"SY100000","C5256","Majdalun Elbahr \\ مجدلون البحر"]
[null,null,null,null,null,null,null,null,null,null,null,"SY100000","C5254","Makshifani \\ مكشيفاني"]
[null,null,null,null,null,null,null,null,null,null,null,"SY100000","C5255","Masahin \\ مرسحين"]
[null,null,null,null,null,null,null,null,null,null,null,"SY100000","C5247","Matahriyeh \\ المطاهرية"]
[null,null,null,null,null,null,null,null,null,null,null,"SY100000","C5252","Mazugha - Manhal \\ مازوغة_منهل"]
[null,null,null,null,null,null,null,null,null,null,null,"SY100000","C5241","Naqib QIB \\ النقيب_قيب"]
[null,null,null,null,null,null,null,null,null,null,null,"SY100000","C5220","Oweineh \\ العوينية"]
[null,null,null,null,null,null,null,null,null,null,null,"SY100000","C5223","Qatlab \\ القطلب"]
[null,null,null,null,null,null,null,null,null,null,null,"SY100000","C5242","Sajno - Faraj \\ سجنو_فرج"]
[null,null,null,null,null,null,null,null,null,null,null,"SY100000","C5246","Shbat \\ شباط"]
[null,null,null,null,null,null,null,null,null,null,null,"SY100000","C5236","Saed Sheikh \\ الشيخ سعد"]
[null,null,null,null,null,null,null,null,null,null,null,"SY100000","C5221","Tartous \\ طرطوس"]
[null,null,null,null,null,null,null,null,null,null,null,"SY100000","C5229","Teishur \\ تيشور"]
[null,null,null,null,null,null,null,null,null,null,null,"SY100000","C5245","Wastat \\ الواسطات"]
[null,null,null,null,null,null,null,null,null,null,null,"SY100000","C5244","Western Saeen \\ ساعين غربية"]
[null,null,null,null,null,null,null,null,null,null,null,"SY100001","C5257","Arwad \\ أرواد"]
[null,null,null,null,null,null,null,null,null,null,null,"SY100002","C5269","Bani Naim \\ بني نعيم"]
[null,null,null,null,null,null,null,null,null,null,null,"SY100002","C5263","Bseseh \\ البصيصة"]
[null,null,null,null,null,null,null,null,null,null,null,"SY100002","C5261","Dkeka \\ الدكيكة"]
[null,null,null,null,null,null,null,null,null,null,null,"SY100002","C5264","Ein Elzarqa - Mintar \\ عين الزرقا_منطار"]
[null,null,null,null,null,null,null,null,null,null,null,"SY100002","C5262","Hameidiyyeh \\ الحميدية"]
[null,null,null,null,null,null,null,null,null,null,null,"SY100002","C5268","Jamasa \\ الجماسة"]
[null,null,null,null,null,null,null,null,null,null,null,"SY100002","C5265","Jweismeh \\ جويميسة"]
[null,null,null,null,null,null,null,null,null,null,null,"SY100002","C5258","Kharaba \\ الخرابة"]
[null,null,null,null,null,null,null,null,null,null,null,"SY100002","C5259","Nawras \\ النورس"]
[null,null,null,null,null,null,null,null,null,null,null,"SY100002","C5266","Tiba Elmahdi \\ طيبة المهدي"]
[null,null,null,null,null,null,null,null,null,null,null,"SY100002","C5267","Zahed \\ زاهد"]
[null,null,null,null,null,null,null,null,null,null,null,"SY100002","C5260","Ziyadiyeh - Zbeidi \\ الزيادية_زبيدى"]
[null,null,null,null,null,null,null,null,null,null,null,"SY100003","C5270","Dananir - Dneikreh \\ الدنانير_دنيكره"]
[null,null,null,null,null,null,null,null,null,null,null,"SY100003","C5278","Karm Birm - Korum \\ كرم بيرم_كروم"]
[null,null,null,null,null,null,null,null,null,null,null,"SY100003","C5272","Kherbet Elma'aza \\ خربة المعزة"]
[null,null,null,null,null,null,null,null,null,null,null,"SY100003","C5275","Maniyet Yahmur \\ منية يحمور"]
[null,null,null,null,null,null,null,null,null,null,null,"SY100003","C5280","Miar Shaker \\ ميعار شاكر"]
[null,null,null,null,null,null,null,null,null,null,null,"SY100003","C5279","Qale Elyazidiyeh \\ قلع اليازدية"]
[null,null,null,null,null,null,null,null,null,null,null,"SY100003","C5274","Qobayba \\ القبيبة"]
[null,null,null,null,null,null,null,null,null,null,null,"SY100003","C5271","Samkeh \\ سمكة"]
[null,null,null,null,null,null,null,null,null,null,null,"SY100003","C5277","Waqf Elsheikh Ayash \\ وقف الشيخ عياش"]
[null,null,null,null,null,null,null,null,null,null,null,"SY100003","C5276","Yahmur \\ يحمور"]
[null,null,null,null,null,null,null,null,null,null,null,"SY100003","C5273","Zarqat \\ الزرقات"]
[null,null,null,null,null,null,null,null,null,null,null,"SY100004","C5281","Abba \\ عبه"]
[null,null,null,null,null,null,null,null,null,null,null,"SY100004","C5288","Anaza \\ العنازة"]
[null,null,null,null,null,null,null,null,null,null,null,"SY100004","C5282","Aqr Zayti \\ عقر زيتي"]
[null,null,null,null,null,null,null,null,null,null,null,"SY100004","C5293","Baashtar \\ بعشتر"]
[null,null,null,null,null,null,null,null,null,null,null,"SY100004","C5294","Bahnine \\ بحنين"]
[null,null,null,null,null,null,null,null,null,null,null,"SY100004","C5302","Bdereh \\ بديرة"]
[null,null,null,null,null,null,null,null,null,null,null,"SY100004","C5285","Beit Elharaf \\ بيت الحرف"]
[null,null,null,null,null,null,null,null,null,null,null,"SY100004","C5287","Beit SMAQ \\ بيت سماق"]
[null,null,null,null,null,null,null,null,null,null,null,"SY100004","C5290","Breij \\ البريج"]
[null,null,null,null,null,null,null,null,null,null,null,"SY100004","C5295","Bteiha \\ البطيحية"]
[null,null,null,null,null,null,null,null,null,null,null,"SY100004","C5296","Dahr Matar \\ ضهر مطر"]
[null,null,null,null,null,null,null,null,null,null,null,"SY100004","C5284","Dweir Taha \\ دوير طه"]
[null,null,null,null,null,null,null,null,null,null,null,"SY100004","C5286","Ezit \\ عزيت"]
[null,null,null,null,null,null,null,null,null,null,null,"SY100004","C5297","Hanafiyeh \\ الحنفية"]
[null,null,null,null,null,null,null,null,null,null,null,"SY100004","C5300","Hsein Elbahr \\ حصين البحر"]
[null,null,null,null,null,null,null,null,null,null,null,"SY100004","C5283","Jdideh \\ جديدة"]
[null,null,null,null,null,null,null,null,null,null,null,"SY100004","C5304","Castillo Khwabi \\ قلعة الخوابي"]
[null,null,null,null,null,null,null,null,null,null,null,"SY100004","C5292","Malluah \\ الملوعة"]
[null,null,null,null,null,null,null,null,null,null,null,"SY100004","C5305","Marqiyeh \\ مرقية"]
[null,null,null,null,null,null,null,null,null,null,null,"SY100004","C5303","Matn Aborya \\ متن ابوريا"]
[null,null,null,null,null,null,null,null,null,null,null,"SY100004","C5306","Matn Elsahel \\ متن الساحل"]
[null,null,null,null,null,null,null,null,null,null,null,"SY100004","C5307","Mazraet Elhanafiyeh \\ مزرعة الحنفية"]
[null,null,null,null,null,null,null,null,null,null,null,"SY100004","C5289","Ras Elkittan \\ رأس الكتان"]
[null,null,null,null,null,null,null,null,null,null,null,"SY100004","C5291","Rweiseh \\ الرويسة"]
[null,null,null,null,null,null,null,null,null,null,null,"SY100004","C5299","Sawda \\ السودا"]
[null,null,null,null,null,null,null,null,null,null,null,"SY100004","C5301","Saya \\ صايا"]
[null,null,null,null,null,null,null,null,null,null,null,"SY100004","C5298","Western Balata \\ بلاطة غربية"]
[null,null,null,null,null,null,null,null,null,null,null,"SY100005","C5315","Arzona \\ ارزونة"]
[null,null,null,null,null,null,null,null,null,null,null,"SY100005","C5312","Hasna \\ الحسنة"]
[null,null,null,null,null,null,null,null,null,null,null,"SY100005","C5319","Kareemeh \\ الكريمة"]
[null,null,null,null,null,null,null,null,null,null,null,"SY100005","C5316","Kherbet Elakrad \\ خربة الاكراد"]
[null,null,null,null,null,null,null,null,null,null,null,"SY100005","C5309","Madhala \\ المدحلة"]
[null,null,null,null,null,null,null,null,null,null,null,"SY100005","C5313","Msheirfeh \\ المشيرفة"]
[null,null,null,null,null,null,null,null,null,null,null,"SY100005","C5311","Quneitra \\ القنيطرة"]
[null,null,null,null,null,null,null,null,null,null,null,"SY100005","C5314","Ransiyeh \\ الرنسية"]
[null,null,null,null,null,null,null,null,null,null,null,"SY100005","C5310","Sawda \\ السودة"]
[null,null,null,null,null,null,null,null,null,null,null,"SY100005","C5317","Talansun \\ تلسنون"]
[null,null,null,null,null,null,null,null,null,null,null,"SY100005","C5318","Teladas \\ تلعدس"]
[null,null,null,null,null,null,null,null,null,null,null,"SY100005","C5308","Zarablit \\ زربليط"]
[null,null,null,null,null,null,null,null,null,null,null,"SY100006","C5329","Beit Shofan \\ بيت شوفان"]
[null,null,null,null,null,null,null,null,null,null,null,"SY100006","C5330","Bhoza \\ بحوزى"]
[null,null,null,null,null,null,null,null,null,null,null,"SY100006","C5333","Dahr Bashir \\ ضهر بشير"]
[null,null,null,null,null,null,null,null,null,null,null,"SY100006","C5327","Deir Elhajar \\ دير الحجر"]
[null,null,null,null,null,null,null,null,null,null,null,"SY100006","C5332","Ein Elzibeh \\ عين الزبدة"]
[null,null,null,null,null,null,null,null,null,null,null,"SY100006","C5337","Fitah Abuli - Fitah Elkhadra \\ فتاح ابولي_فتاح الخضراء"]
[null,null,null,null,null,null,null,null,null,null,null,"SY100006","C5321","Verde Abuli \\ ابولي_الخضراء"]
[null,null,null,null,null,null,null,null,null,null,null,"SY100006","C5325","Hora \\ الحورة"]
[null,null,null,null,null,null,null,null,null,null,null,"SY100006","C5335","Kafrfu \\ كفرفو"]
[null,null,null,null,null,null,null,null,null,null,null,"SY100006","C5336","Matn Elsifsafeh \\ متن الصفصافة"]
[null,null,null,null,null,null,null,null,null,null,null,"SY100006","C5334","Nahut \\ ناحوت"]
[null,null,null,null,null,null,null,null,null,null,null,"SY100006","C5331","Orayma \\ العريمة"]
[null,null,null,null,null,null,null,null,null,null,null,"SY100006","C5328","Rihaniya \\ الريحانية"]
[null,null,null,null,null,null,null,null,null,null,null,"SY100006","C5320","Sabbuhiyeh \\ الصبوحية"]
[null,null,null,null,null,null,null,null,null,null,null,"SY100006","C5324","Safsafa \\ الصفصافة"]
[null,null,null,null,null,null,null,null,null,null,null,"SY100006","C5323","Samriyan \\ سمريان"]
[null,null,null,null,null,null,null,null,null,null,null,"SY100006","C5322","Shas \\ شاص"]
[null,null,null,null,null,null,null,null,null,null,null,"SY100006","C5326","Twanin \\ التوانين"]
[null,null,null,null,null,null,null,null,null,null,null,"SY100006","C5338","Wadi Elmis \\ وادي الميس"]
[null,null,null,null,null,null,null,null,null,null,null,"SY100200","C5349","Abtala \\ ابتلة"]
[null,null,null,null,null,null,null,null,null,null,null,"SY100200","C5362","Adimeh \\ عديمة"]
[null,null,null,null,null,null,null,null,null,null,null,"SY100200","C5340","Alqin \\ علقين"]
[null,null,null,null,null,null,null,null,null,null,null,"SY100200","C3571","Árabe Elmalik Jerkes \\ عرب الملك جركس"]
[null,null,null,null,null,null,null,null,null,null,null,"SY100200","C5368","Asibiyeh \\ عصيبية"]
[null,null,null,null,null,null,null,null,null,null,null,"SY100200","C5341","Balghunes \\ بلغونس"]
[null,null,null,null,null,null,null,null,null,null,null,"SY100200","C5339","Ballutiyeh \\ بلوطية"]
[null,null,null,null,null,null,null,null,null,null,null,"SY100200","C5360","Banyas \\ بانياس"]
[null,null,null,null,null,null,null,null,null,null,null,"SY100200","C5370","Barmaya \\ بارمايا"]
[null,null,null,null,null,null,null,null,null,null,null,"SY100200","C5346","Basatin Elasad \\ بساتين الأسد"]
[null,null,null,null,null,null,null,null,null,null,null,"SY100200","C5348","Bdeighan \\ بديغان"]
[null,null,null,null,null,null,null,null,null,null,null,"SY100200","C5343","Beida \\ البيضة"]
[null,null,null,null,null,null,null,null,null,null,null,"SY100200","C5367","Beit Elsakhi \\ بيت السخي"]
[null,null,null,null,null,null,null,null,null,null,null,"SY100200","C5345","Bustan Elnajar \\ بستان النجار"]
[null,null,null,null,null,null,null,null,null,null,null,"SY100200","C5358","Deir Elbishel \\ دير البشل"]
[null,null,null,null,null,null,null,null,null,null,null,"SY100200","C5351","Eneineizeh \\ عنينيزه"]
[null,null,null,null,null,null,null,null,null,null,null,"SY100200","C5372","Faresh Kaabiyeh \\ فارش كعبية"]
[null,null,null,null,null,null,null,null,null,null,null,"SY100200","C5352","Harisun - Qamue \\ حريصون_القاموع"]
[null,null,null,null,null,null,null,null,null,null,null,"SY100200","C5350","Herf Bnomra \\ حرف بنمرة"]
[null,null,null,null,null,null,null,null,null,null,null,"SY100200","C5354","Jweibat \\ جويبات"]
[null,null,null,null,null,null,null,null,null,null,null,"SY100200","C5371","Kaeebet Faresh \\ كعيبة فارش"]
[null,null,null,null,null,null,null,null,null,null,null,"SY100200","C5365","Kharab Balda \\ خراب بلدة"]
[null,null,null,null,null,null,null,null,null,null,null,"SY100200","C5356","Kharibeh \\ خريبة"]
[null,null,null,null,null,null,null,null,null,null,null,"SY100200","C5357","Kherbet Kasih \\ خربة كسيح"]
[null,null,null,null,null,null,null,null,null,null,null,"SY100200","C5359","Kherbet Sanasel \\ خربة سناسل"]
[null,null,null,null,null,null,null,null,null,null,null,"SY100200","C5342","Manzaleh \\ المنزلة"]
[null,null,null,null,null,null,null,null,null,null,null,"SY100200","C5373","Marashta \\ مرشتة"]
[null,null,null,null,null,null,null,null,null,null,null,"SY100200","C5369","Marqab \\ المرقب"]
[null,null,null,null,null,null,null,null,null,null,null,"SY100200","C5374","Mhorteh \\ محورتة"]
[null,null,null,null,null,null,null,null,null,null,null,"SY100200","C5366","Muzaree \\ المزارع"]
[null,null,null,null,null,null,null,null,null,null,null,"SY100200","C5347","Qallue \\ القلوع"]
[null,null,null,null,null,null,null,null,null,null,null,"SY100200","C5363","Ras Elwata \\ رأس الوطى"]
[null,null,null,null,null,null,null,null,null,null,null,"SY100200","C5364","Shafi Ruh \\ شافي روح"]
[null,null,null,null,null,null,null,null,null,null,null,"SY100200","C5355","Tanita \\ تعنيتا"]
[null,null,null,null,null,null,null,null,null,null,null,"SY100200","C5361","Thoba \\ ذوبه"]
[null,null,null,null,null,null,null,null,null,null,null,"SY100200","C5344","Tirón \\ طيرو"]
[null,null,null,null,null,null,null,null,null,null,null,"SY100200","C5353","Zallu \\ زللو"]
[null,null,null,null,null,null,null,null,null,null,null,"SY100201","C5382","Dahr Marqiyeh \\ ضهر مرقية"]
[null,null,null,null,null,null,null,null,null,null,null,"SY100201","C5379","Dahr Safra \\ ضهر صفرا"]
[null,null,null,null,null,null,null,null,null,null,null,"SY100201","C5376","Heibo \\ حيبو"]
[null,null,null,null,null,null,null,null,null,null,null,"SY100201","C5377","Hreisheh \\ الحريشة"]
[null,null,null,null,null,null,null,null,null,null,null,"SY100201","C5380","Jneineh \\ الجنينة"]
[null,null,null,null,null,null,null,null,null,null,null,"SY100201","C5378","Mqaabariyeh \\ المقعبرية"]
[null,null,null,null,null,null,null,null,null,null,null,"SY100201","C5383","Qarqafti \\ قرقفتي"]
[null,null,null,null,null,null,null,null,null,null,null,"SY100201","C5375","Rawda \\ الروضة"]
[null,null,null,null,null,null,null,null,null,null,null,"SY100202","C5392","Aliqa \\ العليقة"]
[null,null,null,null,null,null,null,null,null,null,null,"SY100202","C5390","Anaza \\ العنازة"]
[null,null,null,null,null,null,null,null,null,null,null,"SY100202","C5389","Beit Jash \\ بيت جاش"]
[null,null,null,null,null,null,null,null,null,null,null,"SY100202","C5391","Bsarmun \\ بصرمون"]
[null,null,null,null,null,null,null,null,null,null,null,"SY100202","C5395","Bustan Elhamam \\ بستان الحمام"]
[null,null,null,null,null,null,null,null,null,null,null,"SY100202","C5384","Derdara - Banyas \\ الدردارة - بانياس"]
[null,null,null,null,null,null,null,null,null,null,null,"SY100202","C5400","Frukhiyeh \\ فروخية"]
[null,null,null,null,null,null,null,null,null,null,null,"SY100202","C5393","Ghansala \\ غنصله"]
[null,null,null,null,null,null,null,null,null,null,null,"SY100202","C5387","Ghorziyeh \\ الغرزية"]
[null,null,null,null,null,null,null,null,null,null,null,"SY100202","C5394","Jdideh \\ جديدة"]
[null,null,null,null,null,null,null,null,null,null,null,"SY100202","C5388","Kherbet Elsindyana \\ خربة السنديانة"]
[null,null,null,null,null,null,null,null,null,null,null,"SY100202","C5396","Marana \\ مرانة"]
[null,null,null,null,null,null,null,null,null,null,null,"SY100202","C5397","Masiyat \\ مصيات"]
[null,null,null,null,null,null,null,null,null,null,null,"SY100202","C5401","Nahl Elanaza \\ نحل العنازة"]
[null,null,null,null,null,null,null,null,null,null,null,"SY100202","C5398","Namu Eljerd \\ نعمو الجرد"]
[null,null,null,null,null,null,null,null,null,null,null,"SY100202","C5386","Shandakha \\ شندخة"]
[null,null,null,null,null,null,null,null,null,null,null,"SY100202","C5385","Ton Eljerd \\ التون الجرد"]
[null,null,null,null,null,null,null,null,null,null,null,"SY100202","C5399","Wadi Elbarakeh \\ وادي البركة"]
[null,null,null,null,null,null,null,null,null,null,null,"SY100203","C5416","Amudiyeh \\ العامودية"]
[null,null,null,null,null,null,null,null,null,null,null,"SY100203","C5405","Bab Elnur \\ باب النور"]
[null,null,null,null,null,null,null,null,null,null,null,"SY100203","C5407","Bisqaya \\ بسقاية"]
[null,null,null,null,null,null,null,null,null,null,null,"SY100203","C5418","Dweila \\ الدويلية"]
[null,null,null,null,null,null,null,null,null,null,null,"SY100203","C5422","Ein Qadib \\ عين قضيب"]
[null,null,null,null,null,null,null,null,null,null,null,"SY100203","C5408","Ellieyh \\ العلية"]
[null,null,null,null,null,null,null,null,null,null,null,"SY100203","C5424","Fneiteq \\ فنيتق"]
[null,null,null,null,null,null,null,null,null,null,null,"SY100203","C5419","Hatriyeh \\ الحاطرية"]
[null,null,null,null,null,null,null,null,null,null,null,"SY100203","C5415","Hattaniya \\ الحطانية"]
[null,null,null,null,null,null,null,null,null,null,null,"SY100203","C5403","Jamasa Qabliyeh \\ جماسة قبلية"]
[null,null,null,null,null,null,null,null,null,null,null,"SY100203","C5421","Jarat Elwadi \\ جارة الوادي"]
[null,null,null,null,null,null,null,null,null,null,null,"SY100203","C5402","Jofin \\ جوفين"]
[null,null,null,null,null,null,null,null,null,null,null,"SY100203","C5426","Kaf Eljaa \\ كاف الجاع"]
[null,null,null,null,null,null,null,null,null,null,null,"SY100203","C5425","Karm Eltin \\ كرم التين"]
[null,null,null,null,null,null,null,null,null,null,null,"SY100203","C5412","Kherbet Amudi \\ خربة عامودي"]
[null,null,null,null,null,null,null,null,null,null,null,"SY100203","C5420","Mansura \\ المنصورة"]
[null,null,null,null,null,null,null,null,null,null,null,"SY100203","C5417","Mqarmideh \\ المقرمدة"]
[null,null,null,null,null,null,null,null,null,null,null,"SY100203","C5404","Qadmous \\ القدموس"]
[null,null,null,null,null,null,null,null,null,null,null,"SY100203","C5410","Qdeimseh \\ القديمسة"]
[null,null,null,null,null,null,null,null,null,null,null,"SY100203","C5411","Sadana \\ السعدانة"]
[null,null,null,null,null,null,null,null,null,null,null,"SY100203","C5413","Salluriyeh \\ السلورية"]
[null,null,null,null,null,null,null,null,null,null,null,"SY100203","C5647","Sanunieh \\ السعنونية"]
[null,null,null,null,null,null,null,null,null,null,null,"SY100203","C5414","Shara \\ الشعرة"]
[null,null,null,null,null,null,null,null,null,null,null,"SY100203","C5406","Smeihiqa \\ السميحيقه"]
[null,null,null,null,null,null,null,null,null,null,null,"SY100203","C5409","Tanaka \\ التناخة"]
[null,null,null,null,null,null,null,null,null,null,null,"SY100203","C5423","Wadi Elsaqi \\ وادي السقي"]
[null,null,null,null,null,null,null,null,null,null,null,"SY100204","C5437","Balaadar \\ بلعدر"]
[null,null,null,null,null,null,null,null,null,null,null,"SY100204","C5433","Bamlakha \\ باملاخا"]
[null,null,null,null,null,null,null,null,null,null,null,"SY100204","C5427","Beit Othman \\ بيت عثمان"]
[null,null,null,null,null,null,null,null,null,null,null,"SY100204","C5430","Hamam Wasil \\ حمام واصل"]
[null,null,null,null,null,null,null,null,null,null,null,"SY100204","C5431","Jweiti \\ جويتي"]
[null,null,null,null,null,null,null,null,null,null,null,"SY100204","C5429","Karim \\ الكريم"]
[null,null,null,null,null,null,null,null,null,null,null,"SY100204","C5432","Kherbet Elqabu \\ خربة القبو"]
[null,null,null,null,null,null,null,null,null,null,null,"SY100204","C5435","Marwiyeh \\ المروية"]
[null,null,null,null,null,null,null,null,null,null,null,"SY100204","C5630","Sreijes \\ سريجس"]
[null,null,null,null,null,null,null,null,null,null,null,"SY100204","C5436","Ton Elqarq \\ التون القرق"]
[null,null,null,null,null,null,null,null,null,null,null,"SY100204","C5438","Western Namu \\ نعمو الغربية"]
[null,null,null,null,null,null,null,null,null,null,null,"SY100204","C5428","Zahrat Eljabal \\ زهرة الجبل"]
[null,null,null,null,null,null,null,null,null,null,null,"SY100205","C5446","Badoqa \\ بدوقه"]
[null,null,null,null,null,null,null,null,null,null,null,"SY100205","C5441","Blusine \\ بلوسين"]
[null,null,null,null,null,null,null,null,null,null,null,"SY100205","C5444","Deir Eljerd \\ دير الجرد"]
[null,null,null,null,null,null,null,null,null,null,null,"SY100205","C5442","Di \\ الدي"]
[null,null,null,null,null,null,null,null,null,null,null,"SY100205","C5440","Haddada \\ حدادة"]
[null,null,null,null,null,null,null,null,null,null,null,"SY100205","C5447","Kaabiyet Ammar \\ كعبية عمار"]
[null,null,null,null,null,null,null,null,null,null,null,"SY100205","C5443","Nawatif \\ النواطيف"]
[null,null,null,null,null,null,null,null,null,null,null,"SY100205","C5445","Ram Terzeh \\ رام ترزة"]
[null,null,null,null,null,null,null,null,null,null,null,"SY100205","C5439","Tawahin \\ الطواحين"]
[null,null,null,null,null,null,null,null,null,null,null,"SY100206","C5449","Bluzeh - Sheikh Bader \\ بلوزة - بانياس"]
[null,null,null,null,null,null,null,null,null,null,null,"SY100206","C5451","Eskabla \\ اسقبله"]
[null,null,null,null,null,null,null,null,null,null,null,"SY100206","C5452","Kurdiyeh \\ كردية"]
[null,null,null,null,null,null,null,null,null,null,null,"SY100206","C5448","Sheibani \\ الشيباني"]
[null,null,null,null,null,null,null,null,null,null,null,"SY100206","C5450","Taleen \\ تالين"]
[null,null,null,null,null,null,null,null,null,null,null,"SY100300","C5460","Akma - Kima \\ الاكمة_كيمة"]
[null,null,null,null,null,null,null,null,null,null,null,"SY100300","C5486","Baamra \\ بعمرة"]
[null,null,null,null,null,null,null,null,null,null,null,"SY100300","C5458","Balatet Mgheizel \\ بلاطة مغيزل"]
[null,null,null,null,null,null,null,null,null,null,null,"SY100300","C5461","Beit Aysheh \\ بيت عائشة"]
[null,null,null,null,null,null,null,null,null,null,null,"SY100300","C5453","Beit Elmarj \\ بيت المرج"]
[null,null,null,null,null,null,null,null,null,null,null,"SY100300","C5467","Beit Elsheikh Yunis \\ بيت الشيخ يونس"]
[null,null,null,null,null,null,null,null,null,null,null,"SY100300","C5457","Beit Naaseh \\ بيت ناعسة"]
[null,null,null,null,null,null,null,null,null,null,null,"SY100300","C5465","Beit Tayun \\ بيت طيون"]
[null,null,null,null,null,null,null,null,null,null,null,"SY100300","C5476","Beshraile \\ بشرائيل"]
[null,null,null,null,null,null,null,null,null,null,null,"SY100300","C5463","Bweidet Sweiqat \\ بويضة السويقات"]
[null,null,null,null,null,null,null,null,null,null,null,"SY100300","C5473","Dahr Elyazdiyeh \\ ضهر اليازدية"]
[null,null,null,null,null,null,null,null,null,null,null,"SY100300","C5489","Damaqs - Bimsaqs \\ دمقس_بمسقس"]
[null,null,null,null,null,null,null,null,null,null,null,"SY100300","C5484","Ein Elkbireh - Safita \\ عين الكبيرة - صافيتا"]
[null,null,null,null,null,null,null,null,null,null,null,"SY100300","C5487","Ein Hfad \\ عين حفاض"]
[null,null,null,null,null,null,null,null,null,null,null,"SY100300","C5494","Fitah Nassar \\ فتاح نصار"]
[null,null,null,null,null,null,null,null,null,null,null,"SY100300","C5485","Hanjur \\ حنجور"]
[null,null,null,null,null,null,null,null,null,null,null,"SY100300","C5454","Hikr Ein Elbardeh \\ حكر عين الباردة"]
[null,null,null,null,null,null,null,null,null,null,null,"SY100300","C5488","Hikr Mkheiber \\ حكر مخيبر"]
[null,null,null,null,null,null,null,null,null,null,null,"SY100300","C5459","Jdidet Abdallah \\ جديدة عبد الله"]
[null,null,null,null,null,null,null,null,null,null,null,"SY100300","C5462","Joret Elshanbur \\ جورة الشنبور"]
[null,null,null,null,null,null,null,null,null,null,null,"SY100300","C5491","Karm Mgheizel \\ كرم مغيزل"]
[null,null,null,null,null,null,null,null,null,null,null,"SY100300","C5481","Kherbet Abu Hamdan \\ خربة أبو حمدان"]
[null,null,null,null,null,null,null,null,null,null,null,"SY100300","C5492","Kniset Safita \\ كنيسة صافيتا"]
[null,null,null,null,null,null,null,null,null,null,null,"SY100300","C5483","Maab - obin \\ المآب - أوبين"]
[null,null,null,null,null,null,null,null,null,null,null,"SY100300","C5482","Mweiseh \\ المويسة"]
[null,null,null,null,null,null,null,null,null,null,null,"SY100300","C5469","Naameh - Kafrikha \\ الناعمة_كفريخة"]
[null,null,null,null,null,null,null,null,null,null,null,"SY100300","C5477","Naasat \\ النعاصات"]
[null,null,null,null,null,null,null,null,null,null,null,"SY100300","C5493","Nashir \\ نشير"]
[null,null,null,null,null,null,null,null,null,null,null,"SY100300","C5455","Odayda \\ العديدة"]
[null,null,null,null,null,null,null,null,null,null,null,"SY100300","C5472","Safita \\ صافيتا"]
[null,null,null,null,null,null,null,null,null,null,null,"SY100300","C5478","Samuqa \\ السموقة"]
[null,null,null,null,null,null,null,null,null,null,null,"SY100300","C5464","Shamamis \\ الشماميس"]
[null,null,null,null,null,null,null,null,null,null,null,"SY100300","C5471","Sindyanet obin \\ سنديانة أوبين"]
[null,null,null,null,null,null,null,null,null,null,null,"SY100300","C5466","Somaah \\ الصومعة"]
[null,null,null,null,null,null,null,null,null,null,null,"SY100300","C5468","Terkeb \\ تركب"]
[null,null,null,null,null,null,null,null,null,null,null,"SY100300","C5479","Um Hosh \\ أم حوش"]
[null,null,null,null,null,null,null,null,null,null,null,"SY100300","C5495","Yazidiyet Hamdan \\ يازدية حمدان"]
[null,null,null,null,null,null,null,null,null,null,null,"SY100300","C5470","Zabraqan \\ زبرقان"]
[null,null,null,null,null,null,null,null,null,null,null,"SY100300","C5480","Zawraq Barakat \\ زوق بركات"]
[null,null,null,null,null,null,null,null,null,null,null,"SY100300","C5474","Zweiteini \\ الزويتيني"]
[null,null,null,null,null,null,null,null,null,null,null,"SY100301","C5514","Bafrun Haydar \\ كفرون حيدر"]
[null,null,null,null,null,null,null,null,null,null,null,"SY100301","C5502","Baqtu \\ بقطو"]
[null,null,null,null,null,null,null,null,null,null,null,"SY100301","C5504","Basira \\ بصيرة"]
[null,null,null,null,null,null,null,null,null,null,null,"SY100301","C5498","Battar \\ البطار"]
[null,null,null,null,null,null,null,null,null,null,null,"SY100301","C5500","Beit Akrush \\ بيت عركوش"]
[null,null,null,null,null,null,null,null,null,null,null,"SY100301","C5505","Bismaqa \\ بسماقة"]
[null,null,null,null,null,null,null,null,null,null,null,"SY100301","C5506","Bsarsar \\ بصرصر"]
[null,null,null,null,null,null,null,null,null,null,null,"SY100301","C5497","Ein Ellabni \\ عين اللبني"]
[null,null,null,null,null,null,null,null,null,null,null,"SY100301","C5503","Hefnet Elmawarneh \\ حفة الموارنة"]
[null,null,null,null,null,null,null,null,null,null,null,"SY100301","C5501","Hikr Kaber \\ حكر كابر"]
[null,null,null,null,null,null,null,null,null,null,null,"SY100301","C5499","Inata \\ عيناتا"]
[null,null,null,null,null,null,null,null,null,null,null,"SY100301","C5507","Jenin \\ جنين"]
[null,null,null,null,null,null,null,null,null,null,null,"SY100301","C5496","Kafrun \\ الكفرون"]
[null,null,null,null,null,null,null,null,null,null,null,"SY100301","C5490","Kafrun Badra \\ كفرون بدرة"]
[null,null,null,null,null,null,null,null,null,null,null,"SY100301","C5512","Mahiri Elmawarneh \\ مهيري الموارنة"]
[null,null,null,null,null,null,null,null,null,null,null,"SY100301","C5513","Mahiri Elrum \\ مهيرى الروم"]
[null,null,null,null,null,null,null,null,null,null,null,"SY100301","C5509","Mashta Elhiu \\ مشتى الحلو"]
[null,null,null,null,null,null,null,null,null,null,null,"SY100301","C5510","Mlihet Dweir Elmaluah \\ مليحة دوير الملوعة"]
[null,null,null,null,null,null,null,null,null,null,null,"SY100301","C5508","Nabe Karkar \\ نبع كركر"]
[null,null,null,null,null,null,null,null,null,null,null,"SY100301","C5511","Wadi Elmajawi \\ وادي المجاوي"]
[null,null,null,null,null,null,null,null,null,null,null,"SY100302","C5517","Bariqiyeh \\ البارقية"]
[null,null,null,null,null,null,null,null,null,null,null,"SY100302","C5519","Basatin \\ بساتين"]
[null,null,null,null,null,null,null,null,null,null,null,"SY100302","C5516","Ein Elsahen \\ عين الصحن"]
[null,null,null,null,null,null,null,null,null,null,null,"SY100302","C5518","Haba \\ حابا"]
[null,null,null,null,null,null,null,null,null,null,null,"SY100302","C5520","Jdidet Hazur \\ جديدة حزور"]
[null,null,null,null,null,null,null,null,null,null,null,"SY100302","C5515","Mjeidel - Safita \\ المجيدل - صافيتا"]
[null,null,null,null,null,null,null,null,null,null,null,"SY100302","C5522","Castillo NOMRA \\ قلعة نمرة"]
[null,null,null,null,null,null,null,null,null,null,null,"SY100302","C5521","Zafarana \\ الزعفرانة"]
[null,null,null,null,null,null,null,null,null,null,null,"SY100303","C5525","Arus - Batlaus \\ العروس_بتلعوس"]
[null,null,null,null,null,null,null,null,null,null,null,"SY100303","C5523","Ein Eltineh \\ عين التينة"]
[null,null,null,null,null,null,null,null,null,null,null,"SY100303","C5526","Jreinat \\ جرينات"]
[null,null,null,null,null,null,null,null,null,null,null,"SY100303","C5528","Kafr Jawaya \\ كفر جوايا"]
[null,null,null,null,null,null,null,null,null,null,null,"SY100303","C5527","MATBAT \\ متبت"]
[null,null,null,null,null,null,null,null,null,null,null,"SY100303","C5524","Sibbeh \\ سبة"]
[null,null,null,null,null,null,null,null,null,null,null,"SY100304","C5530","Beit - Elsafyeh \\ بعيت_الصافية"]
[null,null,null,null,null,null,null,null,null,null,null,"SY100304","C5529","Beit Ahmed Wanus \\ بيت أحمد ونوس"]
[null,null,null,null,null,null,null,null,null,null,null,"SY100304","C5546","Dora - Baddada \\ الدورة_بدادا"]
[null,null,null,null,null,null,null,null,null,null,null,"SY100304","C5542","Dreikish Zreib \\ دريكيش زريب"]
[null,null,null,null,null,null,null,null,null,null,null,"SY100304","C5543","Dweir Elteiee \\ دوير الطليعي"]
[null,null,null,null,null,null,null,null,null,null,null,"SY100304","C5538","Ein Dabesh \\ عين دابش"]
[null,null,null,null,null,null,null,null,null,null,null,"SY100304","C5537","Habrun \\ حبرون"]
[null,null,null,null,null,null,null,null,null,null,null,"SY100304","C5531","Harmel \\ الهرمل"]
[null,null,null,null,null,null,null,null,null,null,null,"SY100304","C5540","Hikr Jeb Elamlas \\ حكر جب الأملس"]
[null,null,null,null,null,null,null,null,null,null,null,"SY100304","C5539","Jeb Elamlas \\ جب الأملس"]
[null,null,null,null,null,null,null,null,null,null,null,"SY100304","C5547","Kherbet Eljeb \\ خربة الجب"]
[null,null,null,null,null,null,null,null,null,null,null,"SY100304","C5533","Madafa - Kafr Deif \\ المضافة_كفر ضيف"]
[null,null,null,null,null,null,null,null,null,null,null,"SY100304","C5534","Matras \\ المتراس"]
[null,null,null,null,null,null,null,null,null,null,null,"SY100304","C5532","Meisrat \\ المعيصرات"]
[null,null,null,null,null,null,null,null,null,null,null,"SY100304","C5545","Sisniyyeh \\ السيسنية"]
[null,null,null,null,null,null,null,null,null,null,null,"SY100304","C5536","Tal Waawaa \\ تل وعاوع"]
[null,null,null,null,null,null,null,null,null,null,null,"SY100304","C5541","Tallet Elkhader \\ تلة الخضر"]
[null,null,null,null,null,null,null,null,null,null,null,"SY100304","C5535","Taltrams \\ تلترمس"]
[null,null,null,null,null,null,null,null,null,null,null,"SY100304","C5544","Tleiee \\ الطليعي"]
[null,null,null,null,null,null,null,null,null,null,null,"SY100305","C5558","Beit Salami \\ بيت سلامي"]
[null,null,null,null,null,null,null,null,null,null,null,"SY100305","C5552","Bonyah \\ بونياح"]
[null,null,null,null,null,null,null,null,null,null,null,"SY100305","C5553","Bostan - Sarstan \\ البستان_سرسستان"]
[null,null,null,null,null,null,null,null,null,null,null,"SY100305","C5475","Bshabta \\ بشبطة_الدلبة"]
[null,null,null,null,null,null,null,null,null,null,null,"SY100305","C5548","Dahr Shikka \\ ضهر شيحا"]
[null,null,null,null,null,null,null,null,null,null,null,"SY100305","C5559","Hdeidat \\ الحداديات"]
[null,null,null,null,null,null,null,null,null,null,null,"SY100305","C5549","Hikr Elsheikh Mahmud \\ حكر الشيخ محمود"]
[null,null,null,null,null,null,null,null,null,null,null,"SY100305","C5556","Jarwiyeh \\ الجروية"]
[null,null,null,null,null,null,null,null,null,null,null,"SY100305","C5561","Majd Elbostan - Majdalun \\ مجد البستان_مجدلون"]
[null,null,null,null,null,null,null,null,null,null,null,"SY100305","C5562","Mashrafet Kahla \\ مشرفة كحلة"]
[null,null,null,null,null,null,null,null,null,null,null,"SY100305","C5560","Osqof \\ الاسقف"]
[null,null,null,null,null,null,null,null,null,null,null,"SY100305","C5557","Ras El-Khashufeh \\ رأس الخشوفة"]
[null,null,null,null,null,null,null,null,null,null,null,"SY100305","C5550","Ras Mandu \\ رأس مندو"]
[null,null,null,null,null,null,null,null,null,null,null,"SY100305","C5555","Rweiset Elhayek \\ رويسة الحايك"]
[null,null,null,null,null,null,null,null,null,null,null,"SY100305","C5551","Rweiset Hamdan \\ رويسة حمدان"]
[null,null,null,null,null,null,null,null,null,null,null,"SY100305","C5554","Sur - Bsorm \\ السور_بسورم"]
[null,null,null,null,null,null,null,null,null,null,null,"SY100400","C5581","Afsuniyeh \\ العفصونية"]
[null,null,null,null,null,null,null,null,null,null,null,"SY100400","C5578","Beit Elkhatib \\ بيت الخطيب"]
[null,null,null,null,null,null,null,null,null,null,null,"SY100400","C5573","Beit Shbat \\ بيت شباط"]
[null,null,null,null,null,null,null,null,null,null,null,"SY100400","C5572","Beit Shohar \\ بيت شوهر"]
[null,null,null,null,null,null,null,null,null,null,null,"SY100400","C5566","Beit Yusuf \\ بيت يوسف"]
[null,null,null,null,null,null,null,null,null,null,null,"SY100400","C5563","Bheisis \\ بحيصيص"]
[null,null,null,null,null,null,null,null,null,null,null,"SY100400","C5579","Bmahsar \\ بمحصر"]
[null,null,null,null,null,null,null,null,null,null,null,"SY100400","C5565","Bqoo - Baqaa \\ بقعو_البقعة"]
[null,null,null,null,null,null,null,null,null,null,null,"SY100400","C5567","Breikeh \\ البريخية"]
[null,null,null,null,null,null,null,null,null,null,null,"SY100400","C5580","Bweidet Msallam \\ بويضة مسلم"]
[null,null,null,null,null,null,null,null,null,null,null,"SY100400","C5586","Dreikish \\ الدريكيش"]
[null,null,null,null,null,null,null,null,null,null,null,"SY100400","C5584","Dweir Eloweineh \\ دوير العوينية"]
[null,null,null,null,null,null,null,null,null,null,null,"SY100400","C5570","Ein Eljash \\ عين الجاش"]
[null,null,null,null,null,null,null,null,null,null,null,"SY100400","C5575","Ein Ghalim \\ عين غليم"]
[null,null,null,null,null,null,null,null,null,null,null,"SY100400","C5568","Habsu - Hurriyeh \\ حبسو_حرية"]
[null,null,null,null,null,null,null,null,null,null,null,"SY100400","C5577","Hamush Raslan \\ حاموش رسلان"]
[null,null,null,null,null,null,null,null,null,null,null,"SY100400","C5582","Jbab \\ الجباب"]
[null,null,null,null,null,null,null,null,null,null,null,"SY100400","C5583","Joret Elshatbush \\ جورة الشطبوش"]
[null,null,null,null,null,null,null,null,null,null,null,"SY100400","C5587","Kafr Shagher \\ كفر شاغر"]
[null,null,null,null,null,null,null,null,null,null,null,"SY100400","C5574","Mraj \\ المراج"]
[null,null,null,null,null,null,null,null,null,null,null,"SY100400","C5564","Oweiniyeh \\ عوينية"]
[null,null,null,null,null,null,null,null,null,null,null,"SY100400","C5576","Shweihdat \\ الشويهدات"]
[null,null,null,null,null,null,null,null,null,null,null,"SY100400","C5585","Sreighis - sraj \\ سريغس_سراج"]
[null,null,null,null,null,null,null,null,null,null,null,"SY100400","C5571","Tuffaha \\ تفاحه"]
[null,null,null,null,null,null,null,null,null,null,null,"SY100400","C5569","Zakiyeh \\ الزكية"]
[null,null,null,null,null,null,null,null,null,null,null,"SY100401","C5595","Bshams \\ بشمس"]
[null,null,null,null,null,null,null,null,null,null,null,"SY100401","C5589","Delbeh - Dreikish \\ الدلبة - الدريكيش"]
[null,null,null,null,null,null,null,null,null,null,null,"SY100401","C5588","Dweila - Dreikish \\ الدويلية - الدريكيش"]
[null,null,null,null,null,null,null,null,null,null,null,"SY100401","C5590","Ein Eljajeh \\ عين الجاجة"]
[null,null,null,null,null,null,null,null,null,null,null,"SY100401","C5598","Fajlit \\ فجليت"]
[null,null,null,null,null,null,null,null,null,null,null,"SY100401","C5594","Hir Barfa \\ حيربرفة"]
[null,null,null,null,null,null,null,null,null,null,null,"SY100401","C5592","Jabal Hamad \\ جبل حمد"]
[null,null,null,null,null,null,null,null,null,null,null,"SY100401","C5593","Jneinet Raslan \\ جنينة رسلان"]
[null,null,null,null,null,null,null,null,null,null,null,"SY100401","C5597","Krafs \\ كرفس"]
[null,null,null,null,null,null,null,null,null,null,null,"SY100401","C5599","Qenniyeh Jarwa \\ قنية جروة"]
[null,null,null,null,null,null,null,null,null,null,null,"SY100401","C5596","Safasif \\ الصفاصيف"]
[null,null,null,null,null,null,null,null,null,null,null,"SY100401","C5591","Zaghrin - Zaghrid \\ زغرين_زغريد"]
[null,null,null,null,null,null,null,null,null,null,null,"SY100402","C5602","Beit Elraheb \\ بيت الراهب"]
[null,null,null,null,null,null,null,null,null,null,null,"SY100402","C5603","Dahr Matru \\ ضهر مطرو"]
[null,null,null,null,null,null,null,null,null,null,null,"SY100402","C5605","Hababa \\ حبابة"]
[null,null,null,null,null,null,null,null,null,null,null,"SY100402","C5607","Hamin \\ حمين"]
[null,null,null,null,null,null,null,null,null,null,null,"SY100402","C5601","Joret Eljawamis \\ جورة الجواميس"]
[null,null,null,null,null,null,null,null,null,null,null,"SY100402","C5600","JRas \\ الجراص"]
[null,null,null,null,null,null,null,null,null,null,null,"SY100402","C5606","Mastaba \\ المصطبة"]
[null,null,null,null,null,null,null,null,null,null,null,"SY100402","C5604","Milaja \\ الملاجة"]
[null,null,null,null,null,null,null,null,null,null,null,"SY100403","C5619","Bamna \\ بمنه"]
[null,null,null,null,null,null,null,null,null,null,null,"SY100403","C5612","Beit Elwaqaf \\ بيت الوقاف"]
[null,null,null,null,null,null,null,null,null,null,null,"SY100403","C5617","Bjennet Eljerd \\ بجنة الجرد"]
[null,null,null,null,null,null,null,null,null,null,null,"SY100403","C5614","Bnumra - Dreikish \\ بنمرة - الدريكيش"]
[null,null,null,null,null,null,null,null,null,null,null,"SY100403","C5608","Bustan Elsoj \\ بستان الصوج"]
[null,null,null,null,null,null,null,null,null,null,null,"SY100403","C5611","Deiruneh \\ ديرونة"]
[null,null,null,null,null,null,null,null,null,null,null,"SY100403","C5610","Dweir Raslan \\ دوير رسلان"]
[null,null,null,null,null,null,null,null,null,null,null,"SY100403","C5609","Ein ElDahab \\ عين الذهب"]
[null,null,null,null,null,null,null,null,null,null,null,"SY100403","C5616","Hamis \\ حميص"]
[null,null,null,null,null,null,null,null,null,null,null,"SY100403","C5613","Hilata \\ حيلاتا"]
[null,null,null,null,null,null,null,null,null,null,null,"SY100403","C5615","Mamura \\ المعمورة"]
[null,null,null,null,null,null,null,null,null,null,null,"SY100403","C5618","Oweinat \\ عوينات"]
[null,null,null,null,null,null,null,null,null,null,null,"SY100403","C5620","Qleiah \\ قليعة"]
[null,null,null,null,null,null,null,null,null,null,null,"SY100500","C5627","Asaliyeh \\ عسلية"]
[null,null,null,null,null,null,null,null,null,null,null,"SY100500","C5635","Bathaniya \\ بطحانيه"]
[null,null,null,null,null,null,null,null,null,null,null,"SY100500","C5622","Beith Elqalaa \\ بيت القلع"]
[null,null,null,null,null,null,null,null,null,null,null,"SY100500","C5629","Benjara \\ بنجارة"]
[null,null,null,null,null,null,null,null,null,null,null,"SY100500","C5634","Bezraile \\ بعزرائيل"]
[null,null,null,null,null,null,null,null,null,null,null,"SY100500","C5633","Bghamlikh - Ghamama \\ بغمليخ_الغمامة"]
[null,null,null,null,null,null,null,null,null,null,null,"SY100500","C5626","Burda \\ بوردة"]
[null,null,null,null,null,null,null,null,null,null,null,"SY100500","C5636","Dabibiyeh \\ دبيبية"]
[null,null,null,null,null,null,null,null,null,null,null,"SY100500","C5623","Ein Elkbir \\ عين الكبير"]
[null,null,null,null,null,null,null,null,null,null,null,"SY100500","C5641","Findara \\ فندارة"]
[null,null,null,null,null,null,null,null,null,null,null,"SY100500","C5640","Kawkab elhawa \\ كوكب الهوى"]
[null,null,null,null,null,null,null,null,null,null,null,"SY100500","C5625","Mjeidel \\ المجيدل"]
[null,null,null,null,null,null,null,null,null,null,null,"SY100500","C5628","Niha \\ النيحا"]
[null,null,null,null,null,null,null,null,null,null,null,"SY100500","C5637","Nimriyeh \\ النمرية"]
[null,null,null,null,null,null,null,null,null,null,null,"SY100500","C5639","Qleiat \\ القليعات"]
[null,null,null,null,null,null,null,null,null,null,null,"SY100500","C5638","Sheikh Badr \\ الشيخ بدر"]
[null,null,null,null,null,null,null,null,null,null,null,"SY100500","C5624","Tajiyeh \\ تاجية"]
[null,null,null,null,null,null,null,null,null,null,null,"SY100500","C5621","Tanghari \\ تنغري"]
[null,null,null,null,null,null,null,null,null,null,null,"SY100500","C5631","Wardiyeh \\ الوردية"]
[null,null,null,null,null,null,null,null,null,null,null,"SY100500","C5632","Zreika \\ زريقة"]
[null,null,null,null,null,null,null,null,null,null,null,"SY100501","C5646","Baramanet Elmashayekh \\ برمانة المشايخ"]
[null,null,null,null,null,null,null,null,null,null,null,"SY100501","C5648","Bshamaa \\ بشمعة"]
[null,null,null,null,null,null,null,null,null,null,null,"SY100501","C5651","Derdara \\ الدردارة"]
[null,null,null,null,null,null,null,null,null,null,null,"SY100501","C5642","Ein Eljoz \\ عين الجوز"]
[null,null,null,null,null,null,null,null,null,null,null,"SY100501","C5650","Ein Fatima \\ عين فطيمة"]
[null,null,null,null,null,null,null,null,null,null,null,"SY100501","C5652","Hamam Qenniyeh \\ حمام قنية"]
[null,null,null,null,null,null,null,null,null,null,null,"SY100501","C5653","Jobet Majbar \\ جوبة مجبر"]
[null,null,null,null,null,null,null,null,null,null,null,"SY100501","C5656","Kaf Elhamam \\ كاف الحمام"]
[null,null,null,null,null,null,null,null,null,null,null,"SY100501","C5643","Kniseh - Sheikh Bader \\ الكنيسة - الشيخ بدر"]
[null,null,null,null,null,null,null,null,null,null,null,"SY100501","C5654","Majdal \\ المجدل"]
[null,null,null,null,null,null,null,null,null,null,null,"SY100501","C5655","Qenniyeh \\ قنية"]
[null,null,null,null,null,null,null,null,null,null,null,"SY100501","C5644","Raqma \\ الرقمة"]
[null,null,null,null,null,null,null,null,null,null,null,"SY100501","C5649","Sorani \\ الصوراني"]
[null,null,null,null,null,null,null,null,null,null,null,"SY100501","C5645","Talleh \\ تلة"]
[null,null,null,null,null,null,null,null,null,null,null,"SY100502","C5669","Arqub Qamso \\ عرقوب قمصو"]
[null,null,null,null,null,null,null,null,null,null,null,"SY100502","C5666","Balat \\ بلاط"]
[null,null,null,null,null,null,null,null,null,null,null,"SY100502","C5660","Beit Elodiyeh \\ بيت العودية"]
[null,null,null,null,null,null,null,null,null,null,null,"SY100502","C5670","Beith Elqlih \\ بيت القليح"]
[null,null,null,null,null,null,null,null,null,null,null,"SY100502","C5664","Bluzeh - Sheikh Bader \\ بلوزة - الشيخ بدر"]
[null,null,null,null,null,null,null,null,null,null,null,"SY100502","C5665","Darti \\ درتي"]
[null,null,null,null,null,null,null,null,null,null,null,"SY100502","C5662","Jbab - Elsheikh Badr \\ الجباب - الشيخ بدر"]
[null,null,null,null,null,null,null,null,null,null,null,"SY100502","C5663","Kafrun \\ الكفرون"]
[null,null,null,null,null,null,null,null,null,null,null,"SY100502","C5671","Maati \\ معتي"]
[null,null,null,null,null,null,null,null,null,null,null,"SY100502","C5658","Mosheh \\ الموشة"]
[null,null,null,null,null,null,null,null,null,null,null,"SY100502","C5661","Qamsiyeh \\ القمصية"]
[null,null,null,null,null,null,null,null,null,null,null,"SY100502","C5672","Qamsu \\ قمصو"]
[null,null,null,null,null,null,null,null,null,null,null,"SY100502","C5668","Qseibeh \\ القصيبة"]
[null,null,null,null,null,null,null,null,null,null,null,"SY100502","C5657","Safliyeh \\ الصفلية"]
[null,null,null,null,null,null,null,null,null,null,null,"SY100502","C5667","Shbubiyeh \\ الشبوبية"]
[null,null,null,null,null,null,null,null,null,null,null,"SY100502","C5659","Traq \\ الطراق"]
[null,null,null,null,null,null,null,null,null,null,null,"SY110100","C5721","Abbara \\ العبارة"]
[null,null,null,null,null,null,null,null,null,null,null,"SY110100","C5716","Abu Kabret Al Rashid \\ أبو كبرة-الرشيد"]
[null,null,null,null,null,null,null,null,null,null,null,"SY110100","C5706","Abu Rajab \\ أبو رجب"]
[null,null,null,null,null,null,null,null,null,null,null,"SY110100","C5723","Abu Suseh \\ أبو سوسة"]
[null,null,null,null,null,null,null,null,null,null,null,"SY110100","C5720","Adnaniyeh \\ العدنانية"]
[null,null,null,null,null,null,null,null,null,null,null,"SY110100","C5729","Andalus \\ الأندلس"]
[null,null,null,null,null,null,null,null,null,null,null,"SY110100","C5710","Ar-Raqqa \\ الرقة"]
[null,null,null,null,null,null,null,null,null,null,null,"SY110100","C5678","Assadiya \\ الأسدية"]
[null,null,null,null,null,null,null,null,null,null,null,"SY110100","C5690","Atshana \\ العطشانة"]
[null,null,null,null,null,null,null,null,null,null,null,"SY110100","C5697","Ayuj \\ الأعيوج"]
[null,null,null,null,null,null,null,null,null,null,null,"SY110100","C5684","Berani \\ بعراني"]
[null,null,null,null,null,null,null,null,null,null,null,"SY110100","C5718","Gran Sweidiyeh \\ سويدية كبيرة"]
[null,null,null,null,null,null,null,null,null,null,null,"SY110100","C5691","Bir Elhasham \\ بئر الهشم"]
[null,null,null,null,null,null,null,null,null,null,null,"SY110100","C5676","Bir Said \\ بئر سعيد"]
[null,null,null,null,null,null,null,null,null,null,null,"SY110100","C6378","Drubiyeh \\ الدروبية"]
[null,null,null,null,null,null,null,null,null,null,null,"SY110100","C5687","Oriental Khayala \\ الخيالة الشرقية"]
[null,null,null,null,null,null,null,null,null,null,null,"SY110100","C5696","Faraa \\ الفارعة"]
[null,null,null,null,null,null,null,null,null,null,null,"SY110100","C5693","Fteih \\ الفتيح"]
[null,null,null,null,null,null,null,null,null,null,null,"SY110100","C5728","Ghota \\ الغوطة"]
[null,null,null,null,null,null,null,null,null,null,null,"SY110100","C5724","Hadba \\ الحدباء"]
[null,null,null,null,null,null,null,null,null,null,null,"SY110100","C5704","Hawi elhawa \\ حاوي الهوى"]
[null,null,null,null,null,null,null,null,null,null,null,"SY110100","C5702","Hazimeh \\ حزيمة"]
[null,null,null,null,null,null,null,null,null,null,null,"SY110100","C5703","Hettin \\ حطين"]
[null,null,null,null,null,null,null,null,null,null,null,"SY110100","C5679","Hfeiret Elsoqur \\ حفيرة الصقور"]
[null,null,null,null,null,null,null,null,null,null,null,"SY110100","C5707","Hilo Abed \\ حلو عبد"]
[null,null,null,null,null,null,null,null,null,null,null,"SY110100","C5682","Htash \\ حتاش"]
[null,null,null,null,null,null,null,null,null,null,null,"SY110100","C5732","Hweijet Faraj \\ حويجة فرج"]
[null,null,null,null,null,null,null,null,null,null,null,"SY110100","C5713","Jalaa \\ الجلاء"]
[null,null,null,null,null,null,null,null,null,null,null,"SY110100","C5683","Kalta \\ الكالطة"]
[null,null,null,null,null,null,null,null,null,null,null,"SY110100","C5740","Kardus \\ كردوس"]
[null,null,null,null,null,null,null,null,null,null,null,"SY110100","C5675","Katuniyeh \\ الخاتونية"]
[null,null,null,null,null,null,null,null,null,null,null,"SY110100","C5739","Kdeiran \\ كديران"]
[null,null,null,null,null,null,null,null,null,null,null,"SY110100","C5688","Khayala \\ الخيالة"]
[null,null,null,null,null,null,null,null,null,null,null,"SY110100","C5735","Kisret Elsheikh Jomaa \\ كسرة شيخ الجمعة"]
[null,null,null,null,null,null,null,null,null,null,null,"SY110100","C5738","Laqta \\ لقطة"]
[null,null,null,null,null,null,null,null,null,null,null,"SY110100","C5708","Poco Sweidiyeh \\ سويدية صغيرة"]
[null,null,null,null,null,null,null,null,null,null,null,"SY110100","C5734","Marj Abu Shareb \\ مرج أبو شارب"]
[null,null,null,null,null,null,null,null,null,null,null,"SY110100","C5705","Mashrafa \\ المشرفة"]
[null,null,null,null,null,null,null,null,null,null,null,"SY110100","C6377","Medio Kabsh \\ كبش وسطي"]
[null,null,null,null,null,null,null,null,null,null,null,"SY110100","C5736","Milsun \\ ميسلون"]
[null,null,null,null,null,null,null,null,null,null,null,"SY110100","C5742","Moezleh \\ معيزيلة"]
[null,null,null,null,null,null,null,null,null,null,null,"SY110100","C5726","Qahtaniyyeh \\ القحطانية"]
[null,null,null,null,null,null,null,null,null,null,null,"SY110100","C5714","Rabee'a \\ ربيعة"]
[null,null,null,null,null,null,null,null,null,null,null,"SY110100","C5699","Raeqqet Samra \\ رقة سمرة"]
[null,null,null,null,null,null,null,null,null,null,null,"SY110100","C5733","Rahmaniya \\ الرحمانية"]
[null,null,null,null,null,null,null,null,null,null,null,"SY110100","C5730","Rashidiyeh \\ الرشيد"]
[null,null,null,null,null,null,null,null,null,null,null,"SY110100","C5725","Rohayat \\ الرحيات"]
[null,null,null,null,null,null,null,null,null,null,null,"SY110100","C5677","Royan \\ رويان"]
[null,null,null,null,null,null,null,null,null,null,null,"SY110100","C5711","Safyan \\ صفيان"]
[null,null,null,null,null,null,null,null,null,null,null,"SY110100","C5719","Sahl \\ السحل"]
[null,null,null,null,null,null,null,null,null,null,null,"SY110100","C5695","Shamiyeh \\ الشامية"]
[null,null,null,null,null,null,null,null,null,null,null,"SY110100","C5681","Tal Sukariyet Elsamen \\ سكرية تل السمن"]
[null,null,null,null,null,null,null,null,null,null,null,"SY110100","C5689","Tal Elsamen Dahham \\ تل السمن دحام"]
[null,null,null,null,null,null,null,null,null,null,null,"SY110100","C5694","Talet Elansar \\ طالعة الأنصار"]
[null,null,null,null,null,null,null,null,null,null,null,"SY110100","C5686","Tawi Rumman \\ طاوي رمان"]
[null,null,null,null,null,null,null,null,null,null,null,"SY110100","C5722","Thulth Khneiz \\ ثلث خنيز"]
[null,null,null,null,null,null,null,null,null,null,null,"SY110100","C5731","Tishrine \\ تشرين"]
[null,null,null,null,null,null,null,null,null,null,null,"SY110100","C5712","Tweilah \\ الطويلعة"]
[null,null,null,null,null,null,null,null,null,null,null,"SY110100","C5700","Um Elhweyeh \\ أم الحوية"]
[null,null,null,null,null,null,null,null,null,null,null,"SY110100","C5717","Alta Khneiz \\ خنيز فوقاني"]
[null,null,null,null,null,null,null,null,null,null,null,"SY110100","C5737","Western Kabsh \\ كبش غربي"]
[null,null,null,null,null,null,null,null,null,null,null,"SY110100","C5727","Western Sahlabiyeh \\ السلحبية غربية"]
[null,null,null,null,null,null,null,null,null,null,null,"SY110100","C5673","Widyan \\ الوديان"]
[null,null,null,null,null,null,null,null,null,null,null,"SY110100","C5680","Wihdeh \\ الوحدة"]
[null,null,null,null,null,null,null,null,null,null,null,"SY110100","C5741","Yaarub \\ يعرب"]
[null,null,null,null,null,null,null,null,null,null,null,"SY110100","C5692","Yamama \\ اليمامة"]
[null,null,null,null,null,null,null,null,null,null,null,"SY110100","C5701","Yarmuk \\ اليرموك"]
[null,null,null,null,null,null,null,null,null,null,null,"SY110100","C5685","Zahera \\ الزاهرة"]
[null,null,null,null,null,null,null,null,null,null,null,"SY110101","C5752","Akeirshi \\ العكيرشي"]
[null,null,null,null,null,null,null,null,null,null,null,"SY110101","C5755","Bir Elsabkhawi \\ بئر السبخاوي"]
[null,null,null,null,null,null,null,null,null,null,null,"SY110101","C5750","Dahleh \\ الدلحة"]
[null,null,null,null,null,null,null,null,null,null,null,"SY110101","C5753","Hweijet Shnan \\ حويجة شنان"]
[null,null,null,null,null,null,null,null,null,null,null,"SY110101","C5751","Jabli \\ الجبلي"]
[null,null,null,null,null,null,null,null,null,null,null,"SY110101","C5756","Masarra \\ المسرة"]
[null,null,null,null,null,null,null,null,null,null,null,"SY110101","C5748","Ojeil \\ العجيل"]
[null,null,null,null,null,null,null,null,null,null,null,"SY110101","C5744","Rabyeh \\ الرابية"]
[null,null,null,null,null,null,null,null,null,null,null,"SY110101","C5746","Raddeh \\ الردة"]
[null,null,null,null,null,null,null,null,null,null,null,"SY110101","C5754","Rahbi \\ الرحبي"]
[null,null,null,null,null,null,null,null,null,null,null,"SY110101","C5747","Sabka \\ السبخة"]
[null,null,null,null,null,null,null,null,null,null,null,"SY110101","C5745","Sfin - Kisret Mohammed Agha \\ صفين_كسرة محمد آغا"]
[null,null,null,null,null,null,null,null,null,null,null,"SY110101","C5743","Shamra \\ شمرة"]
[null,null,null,null,null,null,null,null,null,null,null,"SY110102","C5761","Abu Touta \\ أبو توتة"]
[null,null,null,null,null,null,null,null,null,null,null,"SY110102","C5759","Bader \\ بدر"]
[null,null,null,null,null,null,null,null,null,null,null,"SY110102","C5758","Baladiya \\ البلدية"]
[null,null,null,null,null,null,null,null,null,null,null,"SY110102","C5773","Baydar - Fatsa Birm \\ البيدر_فاطسة بيرم"]
[null,null,null,null,null,null,null,null,null,null,null,"SY110102","C5770","Esmailieh - Fatsa Abdelesmail \\ الاسماعيلية_فاطسة عبد الاسماعيل"]
[null,null,null,null,null,null,null,null,null,null,null,"SY110102","C5767","Ghassaniyeh \\ الغسانية"]
[null,null,null,null,null,null,null,null,null,null,null,"SY110102","C5763","Hala - Khas HBAL \\ الهالة_خس هبال"]
[null,null,null,null,null,null,null,null,null,null,null,"SY110102","C5764","Hama \\ الهامة"]
[null,null,null,null,null,null,null,null,null,null,null,"SY110102","C5769","Hamrat Balasim \\ حمرة بلاسم"]
[null,null,null,null,null,null,null,null,null,null,null,"SY110102","C5757","Jdidet Kahit \\ جديدة كحيط"]
[null,null,null,null,null,null,null,null,null,null,null,"SY110102","C5760","Jdidet Khabur \\ جديدة خابور"]
[null,null,null,null,null,null,null,null,null,null,null,"SY110102","C5766","Karama \\ الكرامة"]
[null,null,null,null,null,null,null,null,null,null,null,"SY110102","C5775","Leksun \\ لكسون"]
[null,null,null,null,null,null,null,null,null,null,null,"SY110102","C6379","Masaada \\ مسعدة"]
[null,null,null,null,null,null,null,null,null,null,null,"SY110102","C5777","Maßstab Elburashed \\ مطب البوراشد"]
[null,null,null,null,null,null,null,null,null,null,null,"SY110102","C5776","Modar \\ مضر"]
[null,null,null,null,null,null,null,null,null,null,null,"SY110102","C5762","Nasra \\ الناصرة"]
[null,null,null,null,null,null,null,null,null,null,null,"SY110102","C5765","Ojet Btir \\ عوجة بتير"]
[null,null,null,null,null,null,null,null,null,null,null,"SY110102","C6381","Qadessiyeh \\ القادسية"]
[null,null,null,null,null,null,null,null,null,null,null,"SY110102","C5772","Qadessiyeh Kajla \\ القادسية الكجلة"]
[null,null,null,null,null,null,null,null,null,null,null,"SY110102","C5771","Samera - Oweija Hamad Elassaf \\ السامرة_عويجة حمد العساف"]
[null,null,null,null,null,null,null,null,null,null,null,"SY110102","C5768","Shaher \\ الشاهر"]
[null,null,null,null,null,null,null,null,null,null,null,"SY110102","C6380","Shweihan Trifawi \\ شويحان طريفاوي"]
[null,null,null,null,null,null,null,null,null,null,null,"SY110102","C5774","Yarobiyeh - Khas Ejil \\ اليعربية_خس عجيل"]
[null,null,null,null,null,null,null,null,null,null,null,"SY110103","C6383","Atshana \\ العطشانة"]
[null,null,null,null,null,null,null,null,null,null,null,"SY110103","C5786","Gran Maghalla \\ مغلة كبيرة"]
[null,null,null,null,null,null,null,null,null,null,null,"SY110103","C5780","Daama \\ الدعمة"]
[null,null,null,null,null,null,null,null,null,null,null,"SY110103","C6382","Hamadaniyeh \\ الحمدانية"]
[null,null,null,null,null,null,null,null,null,null,null,"SY110103","C5783","Hardan \\ الحردان"]
[null,null,null,null,null,null,null,null,null,null,null,"SY110103","C5784","Jaber \\ الجابر"]
[null,null,null,null,null,null,null,null,null,null,null,"SY110103","C5778","Khamisiyeh \\ الخميسية"]
[null,null,null,null,null,null,null,null,null,null,null,"SY110103","C5785","Poco Maghalla \\ مغلة صغيرة"]
[null,null,null,null,null,null,null,null,null,null,null,"SY110103","C5787","Maadan \\ معدان"]
[null,null,null,null,null,null,null,null,null,null,null,"SY110103","C5782","Namisa \\ النميصة"]
[null,null,null,null,null,null,null,null,null,null,null,"SY110103","C5781","Sweida \\ السويدة"]
[null,null,null,null,null,null,null,null,null,null,null,"SY110103","C5779","Tishrin 6 \\ 6 تشرين"]
[null,null,null,null,null,null,null,null,null,null,null,"SY110200","C5800","Abadi \\ عبادي"]
[null,null,null,null,null,null,null,null,null,null,null,"SY110200","C5822","Abatin \\ عباطين"]
[null,null,null,null,null,null,null,null,null,null,null,"SY110200","C5824","Abu Haye \\ أبو حية"]
[null,null,null,null,null,null,null,null,null,null,null,"SY110200","C5802","Ammuriyeh \\ عمورية"]
[null,null,null,null,null,null,null,null,null,null,null,"SY110200","C5795","Badi \\ البديع"]
[null,null,null,null,null,null,null,null,null,null,null,"SY110200","C5809","Banat Ali \\ بنات علي"]
[null,null,null,null,null,null,null,null,null,null,null,"SY110200","C5827","Gran Yamama \\ يمامة كبيرة"]
[null,null,null,null,null,null,null,null,null,null,null,"SY110200","C5810","Bir Árabe \\ بئر عرب"]
[null,null,null,null,null,null,null,null,null,null,null,"SY110200","C5808","Bir Asheq \\ بئر عاشق"]
[null,null,null,null,null,null,null,null,null,null,null,"SY110200","C5821","Breighi \\ بريغي"]
[null,null,null,null,null,null,null,null,null,null,null,"SY110200","C5791","Elleh \\ العلة"]
[null,null,null,null,null,null,null,null,null,null,null,"SY110200","C5829","Farja \\ فرجة"]
[null,null,null,null,null,null,null,null,null,null,null,"SY110200","C5805","Hweijet Abdi \\ حويجة عبدي"]
[null,null,null,null,null,null,null,null,null,null,null,"SY110200","C5813","Jamailiyeh \\ جميلية"]
[null,null,null,null,null,null,null,null,null,null,null,"SY110200","C5812","Jendawi \\ جنداوي"]
[null,null,null,null,null,null,null,null,null,null,null,"SY110200","C5819","Khabura \\ خابورة"]
[null,null,null,null,null,null,null,null,null,null,null,"SY110200","C5799","Kherbet Elfaras \\ خربة الفرس"]
[null,null,null,null,null,null,null,null,null,null,null,"SY110200","C5801","Kherbet Elroz \\ خربة الرز"]
[null,null,null,null,null,null,null,null,null,null,null,"SY110200","C5807","Kinana \\ الكنانة"]
[null,null,null,null,null,null,null,null,null,null,null,"SY110200","C5825","Bajo Qorunful \\ قرنفل تحتاني"]
[null,null,null,null,null,null,null,null,null,null,null,"SY110200","C5828","Mashrafet Elsheikh \\ مشرفة الشيخ"]
[null,null,null,null,null,null,null,null,null,null,null,"SY110200","C5798","Mustadira \\ المستديرة"]
[null,null,null,null,null,null,null,null,null,null,null,"SY110200","C5816","Qaysariyeh \\ القيصرية"]
[null,null,null,null,null,null,null,null,null,null,null,"SY110200","C5806","Rajm Halawa \\ رجم حلاوة"]
[null,null,null,null,null,null,null,null,null,null,null,"SY110200","C5818","Ras Kbir \\ رأس كبير"]
[null,null,null,null,null,null,null,null,null,null,null,"SY110200","C5804","Rihana - Suna \\ ريحانة_صونة"]
[null,null,null,null,null,null,null,null,null,null,null,"SY110200","C5817","Saideh \\ سعيدة"]
[null,null,null,null,null,null,null,null,null,null,null,"SY110200","C5814","Sarajiyeh \\ سراجية"]
[null,null,null,null,null,null,null,null,null,null,null,"SY110200","C5823","Sawsak \\ سوسك"]
[null,null,null,null,null,null,null,null,null,null,null,"SY110200","C5794","Sehrijeh \\ صهريجة"]
[null,null,null,null,null,null,null,null,null,null,null,"SY110200","C5789","Shaaleh Mankali \\ شعلة منكلي"]
[null,null,null,null,null,null,null,null,null,null,null,"SY110200","C5790","Shreian \\ شريعان"]
[null,null,null,null,null,null,null,null,null,null,null,"SY110200","C5820","Sokkariyeh \\ السكرية"]
[null,null,null,null,null,null,null,null,null,null,null,"SY110200","C5797","Tal Akhdar \\ تل أخضر"]
[null,null,null,null,null,null,null,null,null,null,null,"SY110200","C5793","Tal Elkibir \\ تل الكبير"]
[null,null,null,null,null,null,null,null,null,null,null,"SY110200","C5788","Tal Fandar \\ تل فندر"]
[null,null,null,null,null,null,null,null,null,null,null,"SY110200","C5792","Dile Abiad \\ تل أبيض"]
[null,null,null,null,null,null,null,null,null,null,null,"SY110200","C5796","Tal superior Ahmar \\ تل أحمر فوقاني"]
[null,null,null,null,null,null,null,null,null,null,null,"SY110200","C5815","Western Dik \\ الديك غربي"]
[null,null,null,null,null,null,null,null,null,null,null,"SY110200","C5830","Western Qassas \\ قصاص غربي"]
[null,null,null,null,null,null,null,null,null,null,null,"SY110200","C5811","Western Zanbaqa \\ زنبقة غربي"]
[null,null,null,null,null,null,null,null,null,null,null,"SY110200","C5826","Yabseh \\ يابسة"]
[null,null,null,null,null,null,null,null,null,null,null,"SY110200","C5803","Zarzuri \\ الزرزوري"]
[null,null,null,null,null,null,null,null,null,null,null,"SY110201","C5874","Abu Haya \\ أبو حيا"]
[null,null,null,null,null,null,null,null,null,null,null,"SY110201","C5881","Abu Haye El Hoz \\ أبو حية الهوز"]
[null,null,null,null,null,null,null,null,null,null,null,"SY110201","C5885","Akel \\ العكل"]
[null,null,null,null,null,null,null,null,null,null,null,"SY110201","C5873","Alia \\ عالية"]
[null,null,null,null,null,null,null,null,null,null,null,"SY110201","C5863","Al-Malikeyyeh \\ المالكية"]
[null,null,null,null,null,null,null,null,null,null,null,"SY110201","C5867","Arbid \\ عربيد"]
[null,null,null,null,null,null,null,null,null,null,null,"SY110201","C5842","Aslim Elbarashmeh \\ أصيلم_البراشمة"]
[null,null,null,null,null,null,null,null,null,null,null,"SY110201","C5877","Atshana Sluk \\ العطشانة سلوك"]
[null,null,null,null,null,null,null,null,null,null,null,"SY110201","C5870","Aysha \\ عايشة"]
[null,null,null,null,null,null,null,null,null,null,null,"SY110201","C5882","Bab Elkheir \\ باب الخير"]
[null,null,null,null,null,null,null,null,null,null,null,"SY110201","C5883","Badei Sluk \\ بديع سلوك"]
[null,null,null,null,null,null,null,null,null,null,null,"SY110201","C5856","Gran Khweireh \\ الخويرة الكبيرة"]
[null,null,null,null,null,null,null,null,null,null,null,"SY110201","C5864","Asi Bir \\ بئر عاصي"]
[null,null,null,null,null,null,null,null,null,null,null,"SY110201","C5878","Bir Elkhafaji \\ بئر الخفاجي"]
[null,null,null,null,null,null,null,null,null,null,null,"SY110201","C5875","Bir Elmaajleh \\ بئر المعاجلة"]
[null,null,null,null,null,null,null,null,null,null,null,"SY110201","C5861","Bir Mohmmed Elkhader \\ بئر محمد الخضر"]
[null,null,null,null,null,null,null,null,null,null,null,"SY110201","C5857","Bir Safaak \\ بئر صفعك"]
[null,null,null,null,null,null,null,null,null,null,null,"SY110201","C5866","Bteiman \\ بطيمان"]
[null,null,null,null,null,null,null,null,null,null,null,"SY110201","C5858","Bweider \\ البويدر"]
[null,null,null,null,null,null,null,null,null,null,null,"SY110201","C5839","Dadu \\ ددو"]
[null,null,null,null,null,null,null,null,null,null,null,"SY110201","C5879","Dehiz \\ الدهليز"]
[null,null,null,null,null,null,null,null,null,null,null,"SY110201","C5888","Dkheilaniyeh \\ الدخيلانية"]
[null,null,null,null,null,null,null,null,null,null,null,"SY110201","C5836","Oriental serbia \\ السرب الشرقية"]
[null,null,null,null,null,null,null,null,null,null,null,"SY110201","C5876","Ghizlan \\ غزلان"]
[null,null,null,null,null,null,null,null,null,null,null,"SY110201","C5889","Ghweilan \\ غويلان"]
[null,null,null,null,null,null,null,null,null,null,null,"SY110201","C5893","Haksha \\ هكشة"]
[null,null,null,null,null,null,null,null,null,null,null,"SY110201","C6319","Hammam Al-Turkman \\ حمام التركمان"]
[null,null,null,null,null,null,null,null,null,null,null,"SY110201","C5847","Hawasi \\ حواسي"]
[null,null,null,null,null,null,null,null,null,null,null,"SY110201","C5884","Hiba \\ الهبة"]
[null,null,null,null,null,null,null,null,null,null,null,"SY110201","C5891","Hteil Elhomor \\ هطيل الحمر"]
[null,null,null,null,null,null,null,null,null,null,null,"SY110201","C5859","Iweh \\ عيوة"]
[null,null,null,null,null,null,null,null,null,null,null,"SY110201","C5892","Kattar \\ كطار"]
[null,null,null,null,null,null,null,null,null,null,null,"SY110201","C5850","Katun \\ الخاتون"]
[null,null,null,null,null,null,null,null,null,null,null,"SY110201","C5855","Khatuniya Sluk \\ خاتونية سلوك"]
[null,null,null,null,null,null,null,null,null,null,null,"SY110201","C5833","Kherbet Elnaqa \\ خربة الناقة"]
[null,null,null,null,null,null,null,null,null,null,null,"SY110201","C5840","Kherbet Jreidi \\ خربة جريدي"]
[null,null,null,null,null,null,null,null,null,null,null,"SY110201","C5837","Khneifis \\ خنيفس"]
[null,null,null,null,null,null,null,null,null,null,null,"SY110201","C5841","Khweitleh \\ الخويتلة"]
[null,null,null,null,null,null,null,null,null,null,null,"SY110201","C5865","Kisum \\ الكيصوم"]
[null,null,null,null,null,null,null,null,null,null,null,"SY110201","C5848","Poco Khweireh \\ الخويرة الصغيرة"]
[null,null,null,null,null,null,null,null,null,null,null,"SY110201","C5871","Makef \\ الماكف"]
[null,null,null,null,null,null,null,null,null,null,null,"SY110201","C5869","Maleh \\ المالح"]
[null,null,null,null,null,null,null,null,null,null,null,"SY110201","C5872","Quneitra \\ القنيطرة"]
[null,null,null,null,null,null,null,null,null,null,null,"SY110201","C5853","Rajm Onwah \\ رجم عنوة"]
[null,null,null,null,null,null,null,null,null,null,null,"SY110201","C5851","Rgheilan \\ رغيلان"]
[null,null,null,null,null,null,null,null,null,null,null,"SY110201","C5852","Shakil \\ شكيل"]
[null,null,null,null,null,null,null,null,null,null,null,"SY110201","C5846","Shalkhi \\ الشلخي"]
[null,null,null,null,null,null,null,null,null,null,null,"SY110201","C5854","Shamandur \\ شمندور"]
[null,null,null,null,null,null,null,null,null,null,null,"SY110201","C5887","SUFAN \\ صوفان"]
[null,null,null,null,null,null,null,null,null,null,null,"SY110201","C5843","Suluk \\ سلوك"]
[null,null,null,null,null,null,null,null,null,null,null,"SY110201","C5844","Tal Hammam \\ تل حمام"]
[null,null,null,null,null,null,null,null,null,null,null,"SY110201","C5868","Tawil Elshweikh \\ طويل الشويخ"]
[null,null,null,null,null,null,null,null,null,null,null,"SY110201","C5880","Thadyen \\ الثديين"]
[null,null,null,null,null,null,null,null,null,null,null,"SY110201","C5832","Thiban \\ ذيبان"]
[null,null,null,null,null,null,null,null,null,null,null,"SY110201","C5849","Tiba \\ الطيبة"]
[null,null,null,null,null,null,null,null,null,null,null,"SY110201","C5845","Um Elhayaya \\ أم الحيايا"]
[null,null,null,null,null,null,null,null,null,null,null,"SY110201","C5838","Um Harmal \\ أم حرمل"]
[null,null,null,null,null,null,null,null,null,null,null,"SY110201","C5835","Zaydi \\ الزيدي"]
[null,null,null,null,null,null,null,null,null,null,null,"SY110201","C5834","Zazu \\ الزعزوع"]
[null,null,null,null,null,null,null,null,null,null,null,"SY110202","C5898","Abu Khorzeh \\ أبو خرزة"]
[null,null,null,null,null,null,null,null,null,null,null,"SY110202","C5917","Abu Misnatein \\ أبو مسناتين"]
[null,null,null,null,null,null,null,null,null,null,null,"SY110202","C5914","Abu Nituleh \\ أبو نيتولة"]
[null,null,null,null,null,null,null,null,null,null,null,"SY110202","C5912","Amin \\ الأمين"]
[null,null,null,null,null,null,null,null,null,null,null,"SY110202","C5903","Arida Abu Jarada \\ عريضة أبو جرادة"]
[null,null,null,null,null,null,null,null,null,null,null,"SY110202","C5899","Arida Ojeil \\ عريضة عجيل"]
[null,null,null,null,null,null,null,null,null,null,null,"SY110202","C5894","Bir Issa \\ بئر عيسى"]
[null,null,null,null,null,null,null,null,null,null,null,"SY110202","C5910","Bir Khat \\ بئر خات"]
[null,null,null,null,null,null,null,null,null,null,null,"SY110202","C5905","Ein Issa \\ عين عيسى"]
[null,null,null,null,null,null,null,null,null,null,null,"SY110202","C5923","Farhaniya \\ فرحانية"]
[null,null,null,null,null,null,null,null,null,null,null,"SY110202","C5913","Fatsa \\ الفاطسة"]
[null,null,null,null,null,null,null,null,null,null,null,"SY110202","C5922","Hanano \\ هنانو"]
[null,null,null,null,null,null,null,null,null,null,null,"SY110202","C5904","Hijazieh \\ الحجازية"]
[null,null,null,null,null,null,null,null,null,null,null,"SY110202","C5927","Hisheh \\ هيشة"]
[null,null,null,null,null,null,null,null,null,null,null,"SY110202","C5915","Jahjah \\ الجهجاه"]
[null,null,null,null,null,null,null,null,null,null,null,"SY110202","C5918","Kafifeh \\ كفيفة"]
[null,null,null,null,null,null,null,null,null,null,null,"SY110202","C5916","Kherbet Elbeida \\ خربة البيضا"]
[null,null,null,null,null,null,null,null,null,null,null,"SY110202","C5906","Kherbet Hadla \\ خربة هدلا"]
[null,null,null,null,null,null,null,null,null,null,null,"SY110202","C5924","Laqta \\ لقطة"]
[null,null,null,null,null,null,null,null,null,null,null,"SY110202","C5897","Bajo Jern Elaswad \\ جرن الأسود تحتاني"]
[null,null,null,null,null,null,null,null,null,null,null,"SY110202","C5925","Madlaj \\ مدلج"]
[null,null,null,null,null,null,null,null,null,null,null,"SY110202","C5921","Maghar \\ مغار"]
[null,null,null,null,null,null,null,null,null,null,null,"SY110202","C5928","Mashrafet Elhzzaa \\ مشرفة الهزاع"]
[null,null,null,null,null,null,null,null,null,null,null,"SY110202","C5920","Milsun Ein Issa \\ ميسلون عين عيسى"]
[null,null,null,null,null,null,null,null,null,null,null,"SY110202","C5902","Mohra \\ المهرة"]
[null,null,null,null,null,null,null,null,null,null,null,"SY110202","C5926","Mreiran \\ مريران"]
[null,null,null,null,null,null,null,null,null,null,null,"SY110202","C5900","Nasriyeh \\ الناصرية"]
[null,null,null,null,null,null,null,null,null,null,null,"SY110202","C5896","Sabe Jfar \\ سبع جفار"]
[null,null,null,null,null,null,null,null,null,null,null,"SY110202","C5908","Sakhret Elsheikh \\ صخرة عبد الشيخ"]
[null,null,null,null,null,null,null,null,null,null,null,"SY110202","C5909","Saramda \\ السرامدة"]
[null,null,null,null,null,null,null,null,null,null,null,"SY110202","C5911","Sharkrak \\ الشركراك"]
[null,null,null,null,null,null,null,null,null,null,null,"SY110202","C5895","Umaya \\ أمية"]
[null,null,null,null,null,null,null,null,null,null,null,"SY110202","C5919","Wastet Elhijan \\ واسطة الهيجان"]
[null,null,null,null,null,null,null,null,null,null,null,"SY110202","C5907","Zenbaq \\ الزنباق"]
[null,null,null,null,null,null,null,null,null,null,null,"SY110300","C5929","Al-Thawrah \\ الثورة"]
[null,null,null,null,null,null,null,null,null,null,null,"SY110301","C5932","Abu Horaira \\ أبو هريرة"]
[null,null,null,null,null,null,null,null,null,null,null,"SY110301","C5936","Abu kbee - West \\ أبو كبيع غربي"]
[null,null,null,null,null,null,null,null,null,null,null,"SY110301","C5949","Bir Abu Kubra \\ بئر أبو كبرى"]
[null,null,null,null,null,null,null,null,null,null,null,"SY110301","C5940","Bir Enbaj \\ بئر إنباج"]
[null,null,null,null,null,null,null,null,null,null,null,"SY110301","C5933","Bir Hadleh \\ بئر هدلة"]
[null,null,null,null,null,null,null,null,null,null,null,"SY110301","C5945","Bir Jattab \\ بئر خطاب"]
[null,null,null,null,null,null,null,null,null,null,null,"SY110301","C5939","Debsi Afnan \\ دبسي عفنان"]
[null,null,null,null,null,null,null,null,null,null,null,"SY110301","C5931","Debsi Faraj \\ دبسي فرج"]
[null,null,null,null,null,null,null,null,null,null,null,"SY110301","C5944","Oriental Ghazala \\ غزالة شرقية"]
[null,null,null,null,null,null,null,null,null,null,null,"SY110301","C5948","Zamleh Oriental \\ الزملة الشرقية"]
[null,null,null,null,null,null,null,null,null,null,null,"SY110301","C5943","Emeirat \\ العميرات"]
[null,null,null,null,null,null,null,null,null,null,null,"SY110301","C5953","Fakhikheh \\ فخيخة"]
[null,null,null,null,null,null,null,null,null,null,null,"SY110301","C5946","Ghamamiz \\ الغماميز"]
[null,null,null,null,null,null,null,null,null,null,null,"SY110301","C5937","Hora \\ الهورة"]
[null,null,null,null,null,null,null,null,null,null,null,"SY110301","C5935","Jeidine \\ جعيدين"]
[null,null,null,null,null,null,null,null,null,null,null,"SY110301","C5934","Karadi \\ الكرادي"]
[null,null,null,null,null,null,null,null,null,null,null,"SY110301","C5941","Krein \\ الكرين"]
[null,null,null,null,null,null,null,null,null,null,null,"SY110301","C5951","Madhir \\ مدحير"]
[null,null,null,null,null,null,null,null,null,null,null,"SY110301","C5942","Mansura \\ المنصورة"]
[null,null,null,null,null,null,null,null,null,null,null,"SY110301","C5952","Mashrafet Elsaab \\ مشرفة الصعب"]
[null,null,null,null,null,null,null,null,null,null,null,"SY110301","C5930","Ramthan \\ رمثان"]
[null,null,null,null,null,null,null,null,null,null,null,"SY110301","C5938","Sefsafa \\ الصفصافة"]
[null,null,null,null,null,null,null,null,null,null,null,"SY110301","C5947","Sheib Eldakar \\ شعيب الذكر"]
[null,null,null,null,null,null,null,null,null,null,null,"SY110302","C5974","Abu Sakhra \\ أبو صخرة"]
[null,null,null,null,null,null,null,null,null,null,null,"SY110302","C5967","Abu shamat - Abul Kalat \\ أبو الشامات_أبو الكالات"]
[null,null,null,null,null,null,null,null,null,null,null,"SY110302","C5989","Ajajiyeh \\ العجاجية"]
[null,null,null,null,null,null,null,null,null,null,null,"SY110302","C5971","Badiat Elshoaa \\ بادية الشوعة"]
[null,null,null,null,null,null,null,null,null,null,null,"SY110302","C5954","Bir Elatshaneh \\ بئر العطشانة"]
[null,null,null,null,null,null,null,null,null,null,null,"SY110302","C5955","Bir Elkhozam \\ بئر الخزام"]
[null,null,null,null,null,null,null,null,null,null,null,"SY110302","C5985","Bir Haj Khalif \\ بئر حاج خليف"]
[null,null,null,null,null,null,null,null,null,null,null,"SY110302","C5984","Bir Shallal \\ بئر شلال"]
[null,null,null,null,null,null,null,null,null,null,null,"SY110302","C5980","Bisrawi \\ بصراوي"]
[null,null,null,null,null,null,null,null,null,null,null,"SY110302","C5978","Dahweh \\ ضحوة"]
[null,null,null,null,null,null,null,null,null,null,null,"SY110302","C5969","Dukhan \\ دخان"]
[null,null,null,null,null,null,null,null,null,null,null,"SY110302","C5981","Jaabar Oriental \\ جعبر شرقي"]
[null,null,null,null,null,null,null,null,null,null,null,"SY110302","C5990","Falah Rabu \\ فلاح ربو"]
[null,null,null,null,null,null,null,null,null,null,null,"SY110302","C5977","Hamra \\ الحمرة"]
[null,null,null,null,null,null,null,null,null,null,null,"SY110302","C5957","Hazzum \\ حزوم"]
[null,null,null,null,null,null,null,null,null,null,null,"SY110302","C6384","Hurriyeh \\ الحرية"]
[null,null,null,null,null,null,null,null,null,null,null,"SY110302","C5961","Hweijet Halawa \\ حويجة حلاوة"]
[null,null,null,null,null,null,null,null,null,null,null,"SY110302","C5983","Jeiber \\ جعيبر"]
[null,null,null,null,null,null,null,null,null,null,null,"SY110302","C5965","Jurneyyeh \\ الجرنية"]
[null,null,null,null,null,null,null,null,null,null,null,"SY110302","C5962","Kanu \\ الكنو"]
[null,null,null,null,null,null,null,null,null,null,null,"SY110302","C6386","Karawan \\ الكروان"]
[null,null,null,null,null,null,null,null,null,null,null,"SY110302","C5964","Khatuniya Eljerniyah \\ خاتونية الجرنية"]
[null,null,null,null,null,null,null,null,null,null,null,"SY110302","C5968","Mahmudli \\ المحمودلي"]
[null,null,null,null,null,null,null,null,null,null,null,"SY110302","C6385","Mazyuneh \\ المزيونة"]
[null,null,null,null,null,null,null,null,null,null,null,"SY110302","C5991","Mjeibnet Elamya \\ مجيبنة العمياء"]
[null,null,null,null,null,null,null,null,null,null,null,"SY110302","C5966","Msheirfet Eljerniyeh \\ المشيرفة الجرنية"]
[null,null,null,null,null,null,null,null,null,null,null,"SY110302","C5960","Mweileh \\ المويلح"]
[null,null,null,null,null,null,null,null,null,null,null,"SY110302","C5959","Nafileh \\ النفيلة"]
[null,null,null,null,null,null,null,null,null,null,null,"SY110302","C5963","Rajm Elhamam \\ رجم الحمام"]
[null,null,null,null,null,null,null,null,null,null,null,"SY110302","C5975","Ramleh \\ الرملة"]
[null,null,null,null,null,null,null,null,null,null,null,"SY110302","C5979","Safra \\ الصفرة"]
[null,null,null,null,null,null,null,null,null,null,null,"SY110302","C5986","Shahid Ellah \\ شهيد الله"]
[null,null,null,null,null,null,null,null,null,null,null,"SY110302","C5988","Shams Eldin \\ شمس الدين"]
[null,null,null,null,null,null,null,null,null,null,null,"SY110302","C5972","Tal Othman \\ تل عثمان"]
[null,null,null,null,null,null,null,null,null,null,null,"SY110302","C5976","Tawi \\ طاوي"]
[null,null,null,null,null,null,null,null,null,null,null,"SY110302","C5987","Thaheriya \\ الظاهرية"]
[null,null,null,null,null,null,null,null,null,null,null,"SY110302","C5973","Thlath khrab \\ ثلاث خراب"]
[null,null,null,null,null,null,null,null,null,null,null,"SY110302","C5958","Wasta \\ الواسطة"]
[null,null,null,null,null,null,null,null,null,null,null,"SY110302","C5982","Western Jaabar \\ جعبر غربي"]
[null,null,null,null,null,null,null,null,null,null,null,"SY110302","C5956","Zarijiyet Shams Eldin \\ زريجية شمس الدين"]
[null,null,null,null,null,null,null,null,null,null,null,"SY120000","C5994","Atman \\ عتمان"]
[null,null,null,null,null,null,null,null,null,null,null,"SY120000","C5993","Dar'a \\ درعا"]
[null,null,null,null,null,null,null,null,null,null,null,"SY120000","C5998","Kahil \\ كحيل"]
[null,null,null,null,null,null,null,null,null,null,null,"SY120000","C5999","Nasib \\ نصيب"]
[null,null,null,null,null,null,null,null,null,null,null,"SY120000","C5997","Neimeh \\ النعيمة"]
[null,null,null,null,null,null,null,null,null,null,null,"SY120000","C5995","Sayda \\ صيدا"]
[null,null,null,null,null,null,null,null,null,null,null,"SY120000","C5992","Tiba \\ الطيبة"]
[null,null,null,null,null,null,null,null,null,null,null,"SY120000","C5996","Um Elmayathen \\ أم المياذن"]
[null,null,null,null,null,null,null,null,null,null,null,"SY120001","C6006","Abu Katuleh \\ أبو كاتولة"]
[null,null,null,null,null,null,null,null,null,null,null,"SY120001","C6002","Busra Esh-Sham \\ بصرى الشام"]
[null,null,null,null,null,null,null,null,null,null,null,"SY120001","C6005","Jemrine \\ جمرين"]
[null,null,null,null,null,null,null,null,null,null,null,"SY120001","C6008","Moraba \\ معربة"]
[null,null,null,null,null,null,null,null,null,null,null,"SY120001","C6007","Nada \\ ندى"]
[null,null,null,null,null,null,null,null,null,null,null,"SY120001","C6003","Simej \\ سمج"]
[null,null,null,null,null,null,null,null,null,null,null,"SY120001","C6004","Smad \\ صماد"]
[null,null,null,null,null,null,null,null,null,null,null,"SY120001","C6001","Smaqiyat \\ السماقيات"]
[null,null,null,null,null,null,null,null,null,null,null,"SY120001","C6000","Tisiya \\ طيسيا"]
[null,null,null,null,null,null,null,null,null,null,null,"SY120002","C6011","Alma \\ علما"]
[null,null,null,null,null,null,null,null,null,null,null,"SY120002","C6009","Ghariyeh Oriental \\ الغارية الشرقية"]
[null,null,null,null,null,null,null,null,null,null,null,"SY120002","C6012","Kherbet Ghazala \\ خربة غزالة"]
[null,null,null,null,null,null,null,null,null,null,null,"SY120002","C6010","Western Ghariyeh \\ الغارية الغريبة"]
[null,null,null,null,null,null,null,null,null,null,null,"SY120003","C6023","Abdin \\ عابدين"]
[null,null,null,null,null,null,null,null,null,null,null,"SY120003","C6020","Abu Hartein \\ أبو حارتين"]
[null,null,null,null,null,null,null,null,null,null,null,"SY120003","C6017","Al-Qusayr \\ القصير"]
[null,null,null,null,null,null,null,null,null,null,null,"SY120003","C6016","Arda \\ العارضه"]
[null,null,null,null,null,null,null,null,null,null,null,"SY120003","C6021","Ash-Shajara \\ الشجرة"]
[null,null,null,null,null,null,null,null,null,null,null,"SY120003","C6022","Beit Ara \\ بيت أرة"]
[null,null,null,null,null,null,null,null,null,null,null,"SY120003","C6014","Ein Thakar \\ عين ذكر"]
[null,null,null,null,null,null,null,null,null,null,null,"SY120003","C6013","Hit \\ حيط"]
[null,null,null,null,null,null,null,null,null,null,null,"SY120003","C6024","Jomleh \\ جملة"]
[null,null,null,null,null,null,null,null,null,null,null,"SY120003","C6025","Koya \\ كويا"]
[null,null,null,null,null,null,null,null,null,null,null,"SY120003","C6015","Lweiheq \\ اللويحق"]
[null,null,null,null,null,null,null,null,null,null,null,"SY120003","C6029","Maariya \\ معرية"]
[null,null,null,null,null,null,null,null,null,null,null,"SY120003","C6027","Manshiyet Koya \\ منشية كويا"]
[null,null,null,null,null,null,null,null,null,null,null,"SY120003","C6026","Mseitriyeh \\ مسيرتية"]
[null,null,null,null,null,null,null,null,null,null,null,"SY120003","C6028","Nafeaa \\ نافعة"]
[null,null,null,null,null,null,null,null,null,null,null,"SY120003","C6018","Sahm El Golan \\ سحم الجولان"]
[null,null,null,null,null,null,null,null,null,null,null,"SY120003","C6019","Shabraq \\ الشبرق"]
[null,null,null,null,null,null,null,null,null,null,null,"SY120004","C6031","Abtaa \\ أبطع"]
[null,null,null,null,null,null,null,null,null,null,null,"SY120004","C6030","Da'el \\ داعل"]
[null,null,null,null,null,null,null,null,null,null,null,"SY120005","C6035","Ajami \\ العجمي"]
[null,null,null,null,null,null,null,null,null,null,null,"SY120005","C6038","Jlein \\ جلين"]
[null,null,null,null,null,null,null,null,null,null,null,"SY120005","C6039","Mzeireb \\ مزيريب"]
[null,null,null,null,null,null,null,null,null,null,null,"SY120005","C6040","Nahj \\ نهج"]
[null,null,null,null,null,null,null,null,null,null,null,"SY120005","C6036","Tabriyat \\ الطبريات"]
[null,null,null,null,null,null,null,null,null,null,null,"SY120005","C6034","Tafs \\ طفس"]
[null,null,null,null,null,null,null,null,null,null,null,"SY120005","C6033","Tal Shihab \\ تل شهاب"]
[null,null,null,null,null,null,null,null,null,null,null,"SY120005","C6032","Yadudeh \\ اليادودة"]
[null,null,null,null,null,null,null,null,null,null,null,"SY120005","C6037","Zayzun \\ زيزون"]
[null,null,null,null,null,null,null,null,null,null,null,"SY120006","C6042","Ghasm \\ غصم"]
[null,null,null,null,null,null,null,null,null,null,null,"SY120006","C6043","Jizeh \\ الجيزة"]
[null,null,null,null,null,null,null,null,null,null,null,"SY120006","C6041","Mataeiyeh \\ المتاعية"]
[null,null,null,null,null,null,null,null,null,null,null,"SY120007","C6047","Karak \\ الكرك"]
[null,null,null,null,null,null,null,null,null,null,null,"SY120007","C6044","Mseifra \\ المسيفرة"]
[null,null,null,null,null,null,null,null,null,null,null,"SY120007","C6045","Sahwa \\ السهوة"]
[null,null,null,null,null,null,null,null,null,null,null,"SY120007","C6046","Um Walad \\ أم ولد"]
[null,null,null,null,null,null,null,null,null,null,null,"SY120200","C6058","Ankhal \\ أنخل"]
[null,null,null,null,null,null,null,null,null,null,null,"SY120200","C6051","Como-Sanamayn \\ الصنمين"]
[null,null,null,null,null,null,null,null,null,null,null,"SY120200","C6052","Barqa \\ برقة"]
[null,null,null,null,null,null,null,null,null,null,null,"SY120200","C6056","Bsir \\ بصير"]
[null,null,null,null,null,null,null,null,null,null,null,"SY120200","C6054","BEI \\ ايب"]
[null,null,null,null,null,null,null,null,null,null,null,"SY120200","C6048","Hara \\ الحارة"]
[null,null,null,null,null,null,null,null,null,null,null,"SY120200","C6059","Jidya \\ جديا"]
[null,null,null,null,null,null,null,null,null,null,null,"SY120200","C6060","Jisri \\ الجسري"]
[null,null,null,null,null,null,null,null,null,null,null,"SY120200","C6063","Kafr Shams \\ كفر شمس"]
[null,null,null,null,null,null,null,null,null,null,null,"SY120200","C6053","Khebab \\ خبب"]
[null,null,null,null,null,null,null,null,null,null,null,"SY120200","C6078","Norte Karim \\ كريم الشمالي"]
[null,null,null,null,null,null,null,null,null,null,null,"SY120200","C6050","Qanniyeh \\ القنية"]
[null,null,null,null,null,null,null,null,null,null,null,"SY120200","C6061","Qayta \\ قيطة"]
[null,null,null,null,null,null,null,null,null,null,null,"SY120200","C6055","Samlin \\ سملين"]
[null,null,null,null,null,null,null,null,null,null,null,"SY120200","C6057","Tabneh \\ تبنه"]
[null,null,null,null,null,null,null,null,null,null,null,"SY120200","C6062","Western Karim \\ كريم الجنوبي"]
[null,null,null,null,null,null,null,null,null,null,null,"SY120200","C6049","Zamrin \\ زمرين"]
[null,null,null,null,null,null,null,null,null,null,null,"SY120201","C6075","Bali \\ بلي"]
[null,null,null,null,null,null,null,null,null,null,null,"SY120201","C6072","Barraq \\ براق"]
[null,null,null,null,null,null,null,null,null,null,null,"SY120201","C6073","Bweidan \\ بويضان"]
[null,null,null,null,null,null,null,null,null,null,null,"SY120201","C6077","Maaret Elbeida \\ معرة البيضة"]
[null,null,null,null,null,null,null,null,null,null,null,"SY120201","C6068","Masmiyyeh \\ المسمية"]
[null,null,null,null,null,null,null,null,null,null,null,"SY120201","C6065","Sakra \\ ساكرة"]
[null,null,null,null,null,null,null,null,null,null,null,"SY120201","C6387","Sateh Zahnan \\ سطح زهنان"]
[null,null,null,null,null,null,null,null,null,null,null,"SY120201","C6067","Shaara \\ شعارة"]
[null,null,null,null,null,null,null,null,null,null,null,"SY120201","C6069","Shaqraniyeh \\ الشقرانية"]
[null,null,null,null,null,null,null,null,null,null,null,"SY120201","C6076","Sharae \\ الشرائع"]
[null,null,null,null,null,null,null,null,null,null,null,"SY120201","C6074","Sweinmreh \\ السويمرة"]
[null,null,null,null,null,null,null,null,null,null,null,"SY120201","C6070","Taf \\ الطف"]
[null,null,null,null,null,null,null,null,null,null,null,"SY120201","C6066","Um Elqosur \\ أم القصور"]
[null,null,null,null,null,null,null,null,null,null,null,"SY120201","C6064","Zbeidiyeh \\ الزبيدية"]
[null,null,null,null,null,null,null,null,null,null,null,"SY120202","C6084","Alqin \\ عالقين"]
[null,null,null,null,null,null,null,null,null,null,null,"SY120202","C6079","Aqraba \\ عقربا"]
[null,null,null,null,null,null,null,null,null,null,null,"SY120202","C6081","Deir Eladas \\ دير العدس"]
[null,null,null,null,null,null,null,null,null,null,null,"SY120202","C6082","Deir Elbakht \\ دير البخت"]
[null,null,null,null,null,null,null,null,null,null,null,"SY120202","C6083","Ghabagheb \\ غباغب"]
[null,null,null,null,null,null,null,null,null,null,null,"SY120202","C6086","Jbab \\ جباب"]
[null,null,null,null,null,null,null,null,null,null,null,"SY120202","C6089","Kafr Nassij \\ كفر ناسج"]
[null,null,null,null,null,null,null,null,null,null,null,"SY120202","C6087","Kammuneh \\ كمونة"]
[null,null,null,null,null,null,null,null,null,null,null,"SY120202","C6080","Mal \\ المال"]
[null,null,null,null,null,null,null,null,null,null,null,"SY120202","C6091","Mankat Elhatab \\ منكت الحطب"]
[null,null,null,null,null,null,null,null,null,null,null,"SY120202","C6090","Manshiyet Elsabil \\ منشية السبيل"]
[null,null,null,null,null,null,null,null,null,null,null,"SY120202","C6088","Mothabin \\ موثبين"]
[null,null,null,null,null,null,null,null,null,null,null,"SY120202","C6085","Tiha \\ الطيحة"]
[null,null,null,null,null,null,null,null,null,null,null,"SY120300","C6103","Asem \\ عاسم"]
[null,null,null,null,null,null,null,null,null,null,null,"SY120300","C6105","Bisr Elharir \\ بصرالحرير"]
[null,null,null,null,null,null,null,null,null,null,null,"SY120300","C6104","Bweir \\ البوير"]
[null,null,null,null,null,null,null,null,null,null,null,"SY120300","C6094","Hamer \\ حامر"]
[null,null,null,null,null,null,null,null,null,null,null,"SY120300","C6101","Izra '\\ ازرع"]
[null,null,null,null,null,null,null,null,null,null,null,"SY120300","C6096","Jadal \\ جدل"]
[null,null,null,null,null,null,null,null,null,null,null,"SY120300","C6107","Mahjeh \\ محجة"]
[null,null,null,null,null,null,null,null,null,null,null,"SY120300","C6097","Malzumeh \\ الملزومة"]
[null,null,null,null,null,null,null,null,null,null,null,"SY120300","C6110","Masikeh-Lajat \\ مسيكة"]
[null,null,null,null,null,null,null,null,null,null,null,"SY120300","C6093","Matleh \\ المطلة"]
[null,null,null,null,null,null,null,null,null,null,null,"SY120300","C6102","Mjeidel \\ المجيدل"]
[null,null,null,null,null,null,null,null,null,null,null,"SY120300","C6108","Mlihet Elatash \\ مليحة العطش"]
[null,null,null,null,null,null,null,null,null,null,null,"SY120300","C6100","Najih \\ النجيح"]
[null,null,null,null,null,null,null,null,null,null,null,"SY120300","C6109","Qirata \\ قيراطة"]
[null,null,null,null,null,null,null,null,null,null,null,"SY120300","C6092","Rweisat \\ رويسات"]
[null,null,null,null,null,null,null,null,null,null,null,"SY120300","C6099","Shaqra \\ شقرا"]
[null,null,null,null,null,null,null,null,null,null,null,"SY120300","C6098","Sur \\ صور"]
[null,null,null,null,null,null,null,null,null,null,null,"SY120300","C6106","Wrad \\ الوراد"]
[null,null,null,null,null,null,null,null,null,null,null,"SY120300","C6095","Zabayer \\ الزباير"]
[null,null,null,null,null,null,null,null,null,null,null,"SY120301","C6111","Jasim \\ جاسم"]
[null,null,null,null,null,null,null,null,null,null,null,"SY120301","C6112","Nimer \\ نمر"]
[null,null,null,null,null,null,null,null,null,null,null,"SY120302","C6117","Oriental Maliha \\ المليحة الشرقية"]
[null,null,null,null,null,null,null,null,null,null,null,"SY120302","C6116","Hrak \\ الحراك"]
[null,null,null,null,null,null,null,null,null,null,null,"SY120302","C6118","Nahta \\ ناحتة"]
[null,null,null,null,null,null,null,null,null,null,null,"SY120302","C6113","Rikhim \\ رخم"]
[null,null,null,null,null,null,null,null,null,null,null,"SY120302","C6115","Sura \\ الصورة"]
[null,null,null,null,null,null,null,null,null,null,null,"SY120302","C6114","Western Maliha \\ المليحة الغربية"]
[null,null,null,null,null,null,null,null,null,null,null,"SY120303","C6119","Edwan \\ عدوان"]
[null,null,null,null,null,null,null,null,null,null,null,"SY120303","C6121","Jabaliyeh \\ الجبيلية"]
[null,null,null,null,null,null,null,null,null,null,null,"SY120303","C6123","Nasriyeh \\ الناصرية"]
[null,null,null,null,null,null,null,null,null,null,null,"SY120303","C6124","Nawa \\ نوى"]
[null,null,null,null,null,null,null,null,null,null,null,"SY120303","C6120","Saed Sheikh \\ الشيخ سعد"]
[null,null,null,null,null,null,null,null,null,null,null,"SY120303","C6122","Sokkariyeh \\ السكرية"]
[null,null,null,null,null,null,null,null,null,null,null,"SY120304","C6125","Dali \\ الدلي"]
[null,null,null,null,null,null,null,null,null,null,null,"SY120304","C6127","Faqie \\ الفقيع"]
[null,null,null,null,null,null,null,null,null,null,null,"SY120304","C6129","Namer \\ نامر"]
[null,null,null,null,null,null,null,null,null,null,null,"SY120304","C6130","Qarfa \\ قرفا"]
[null,null,null,null,null,null,null,null,null,null,null,"SY120304","C6126","Sheikh Miskine \\ الشيخ مسكين"]
[null,null,null,null,null,null,null,null,null,null,null,"SY120304","C6128","Sheiliyeh \\ السحيلية"]
[null,null,null,null,null,null,null,null,null,null,null,"SY120305","C6132","Bekar \\ البكار"]
[null,null,null,null,null,null,null,null,null,null,null,"SY120305","C6133","Bekar Oriental \\ البكار شرقي"]
[null,null,null,null,null,null,null,null,null,null,null,"SY120305","C6131","Tassil \\ تسيل"]
[null,null,null,null,null,null,null,null,null,null,null,"SY130000","C6142","Aslaha \\ الاصلحا"]
[null,null,null,null,null,null,null,null,null,null,null,"SY130000","C6147","Como-Sweida \\ السويداء"]
[null,null,null,null,null,null,null,null,null,null,null,"SY130000","C6145","Atil \\ عتيل"]
[null,null,null,null,null,null,null,null,null,null,null,"SY130000","C6135","Dara \\ الدارة"]
[null,null,null,null,null,null,null,null,null,null,null,"SY130000","C6149","Habrab \\ حبران"]
[null,null,null,null,null,null,null,null,null,null,null,"SY130000","C6136","JBib \\ جبيب"]
[null,null,null,null,null,null,null,null,null,null,null,"SY130000","C6143","Kafr \\ الكفر"]
[null,null,null,null,null,null,null,null,null,null,null,"SY130000","C6158","Kafr Ellahaf \\ كفر اللحف"]
[null,null,null,null,null,null,null,null,null,null,null,"SY130000","C6155","Kanaker \\ كناكر"]
[null,null,null,null,null,null,null,null,null,null,null,"SY130000","C6150","Kherba \\ خربا"]
[null,null,null,null,null,null,null,null,null,null,null,"SY130000","C6153","Mafaala \\ مفعلة"]
[null,null,null,null,null,null,null,null,null,null,null,"SY130000","C6156","Masad \\ مصاد"]
[null,null,null,null,null,null,null,null,null,null,null,"SY130000","C6157","Mayamas \\ مياماس"]
[null,null,null,null,null,null,null,null,null,null,null,"SY130000","C6134","Mjeimer \\ المجيمر"]
[null,null,null,null,null,null,null,null,null,null,null,"SY130000","C6138","Ora \\ عرى"]
[null,null,null,null,null,null,null,null,null,null,null,"SY130000","C6154","Qanawat \\ قنوات"]
[null,null,null,null,null,null,null,null,null,null,null,"SY130000","C6141","Raha \\ الرحى"]
[null,null,null,null,null,null,null,null,null,null,null,"SY130000","C6146","Rassas \\ رساس"]
[null,null,null,null,null,null,null,null,null,null,null,"SY130000","C6148","Rima Hazem \\ ريمة حازم"]
[null,null,null,null,null,null,null,null,null,null,null,"SY130000","C6144","Sahwet Balata \\ سهوة بلاطة"]
[null,null,null,null,null,null,null,null,null,null,null,"SY130000","C6139","Sahwet Elkhodar \\ سهوة الخضر"]
[null,null,null,null,null,null,null,null,null,null,null,"SY130000","C6151","Sakaka \\ السكاكة"]
[null,null,null,null,null,null,null,null,null,null,null,"SY130000","C6137","Salim \\ سليم"]
[null,null,null,null,null,null,null,null,null,null,null,"SY130000","C6140","Thaala \\ الثعلة"]
[null,null,null,null,null,null,null,null,null,null,null,"SY130000","C6152","Walgha \\ ولغا"]
[null,null,null,null,null,null,null,null,null,null,null,"SY130001","C6160","Dor \\ الدور"]
[null,null,null,null,null,null,null,null,null,null,null,"SY130001","C6163","Dweira \\ الدويرة"]
[null,null,null,null,null,null,null,null,null,null,null,"SY130001","C6167","Jidya \\ جديا"]
[null,null,null,null,null,null,null,null,null,null,null,"SY130001","C6165","Majdal 6 \\ 6 المجدل"]
[null,null,null,null,null,null,null,null,null,null,null,"SY130001","C6164","Mazra'a - sijn \\ المزرعة_السجن"]
[null,null,null,null,null,null,null,null,null,null,null,"SY130001","C6168","Najran \\ نجران"]
[null,null,null,null,null,null,null,null,null,null,null,"SY130001","C6169","Qarrasa \\ قراصة"]
[null,null,null,null,null,null,null,null,null,null,null,"SY130001","C6159","Rima Ellahf \\ ريمة اللحف"]
[null,null,null,null,null,null,null,null,null,null,null,"SY130001","C6162","Samie \\ سميع"]
[null,null,null,null,null,null,null,null,null,null,null,"SY130001","C6166","Taara \\ تعارة"]
[null,null,null,null,null,null,null,null,null,null,null,"SY130001","C6161","Tira \\ الطيرة"]
[null,null,null,null,null,null,null,null,null,null,null,"SY130002","C6179","Bosan \\ بوسان"]
[null,null,null,null,null,null,null,null,null,null,null,"SY130002","C6183","Gheida \\ الغيضة"]
[null,null,null,null,null,null,null,null,null,null,null,"SY130002","C6176","Kassib \\ الكسيب"]
[null,null,null,null,null,null,null,null,null,null,null,"SY130002","C6172","Mashnaf \\ المشنف"]
[null,null,null,null,null,null,null,null,null,null,null,"SY130002","C6174","Ojeilat \\ العجيلات"]
[null,null,null,null,null,null,null,null,null,null,null,"SY130002","C6173","Rami \\ رامي"]
[null,null,null,null,null,null,null,null,null,null,null,"SY130002","C6182","Rashideh \\ الرشيدة"]
[null,null,null,null,null,null,null,null,null,null,null,"SY130002","C6178","Saana \\ السعنا"]
[null,null,null,null,null,null,null,null,null,null,null,"SY130002","C6177","Sala \\ سالة"]
[null,null,null,null,null,null,null,null,null,null,null,"SY130002","C6181","Shabki \\ الشبكي"]
[null,null,null,null,null,null,null,null,null,null,null,"SY130002","C6171","Shrehi \\ الشريحي"]
[null,null,null,null,null,null,null,null,null,null,null,"SY130002","C6175","Tarba \\ طربا"]
[null,null,null,null,null,null,null,null,null,null,null,"SY130002","C6170","Tiba \\ الطيبة"]
[null,null,null,null,null,null,null,null,null,null,null,"SY130002","C6180","Um Riwaq \\ أم رواق"]
[null,null,null,null,null,null,null,null,null,null,null,"SY130200","C6189","Amtan \\ امتان"]
[null,null,null,null,null,null,null,null,null,null,null,"SY130200","C6191","Anat \\ العانات"]
[null,null,null,null,null,null,null,null,null,null,null,"SY130200","C6186","Arman \\ عرمان"]
[null,null,null,null,null,null,null,null,null,null,null,"SY130200","C6185","Karbes \\ الكاربس"]
[null,null,null,null,null,null,null,null,null,null,null,"SY130200","C6195","Mashquq \\ المشقوق"]
[null,null,null,null,null,null,null,null,null,null,null,"SY130200","C6192","Mneithreh \\ المنيذرة"]
[null,null,null,null,null,null,null,null,null,null,null,"SY130200","C6187","Os \\ عوس"]
[null,null,null,null,null,null,null,null,null,null,null,"SY130200","C6193","Game \\ عيون"]
[null,null,null,null,null,null,null,null,null,null,null,"SY130200","C6190","Rafqa \\ الرافقة"]
[null,null,null,null,null,null,null,null,null,null,null,"SY130200","C6184","Salkhad \\ صلخد"]
[null,null,null,null,null,null,null,null,null,null,null,"SY130200","C6188","Sama Elbardan \\ صما البردان"]
[null,null,null,null,null,null,null,null,null,null,null,"SY130200","C6196","Shannireh \\ شنيرة"]
[null,null,null,null,null,null,null,null,null,null,null,"SY130200","C6194","Tahula \\ تحولا"]
[null,null,null,null,null,null,null,null,null,null,null,"SY130201","C6198","Afineh \\ العفينة"]
[null,null,null,null,null,null,null,null,null,null,null,"SY130201","C6197","Barad \\ برد"]
[null,null,null,null,null,null,null,null,null,null,null,"SY130201","C6199","Hota \\ حوط"]
[null,null,null,null,null,null,null,null,null,null,null,"SY130201","C6200","Qarayya \\ القريا"]
[null,null,null,null,null,null,null,null,null,null,null,"SY130202","C6202","Anz \\ عنز"]
[null,null,null,null,null,null,null,null,null,null,null,"SY130202","C6201","Gharyeh \\ الغارية"]
[null,null,null,null,null,null,null,null,null,null,null,"SY130202","C6203","Kherbet Awad \\ خربة عواد"]
[null,null,null,null,null,null,null,null,null,null,null,"SY130202","C6204","Maghir \\ المغير"]
[null,null,null,null,null,null,null,null,null,null,null,"SY130203","C6206","Baka \\ بكا"]
[null,null,null,null,null,null,null,null,null,null,null,"SY130203","C6205","Thibeen \\ ذيبين"]
[null,null,null,null,null,null,null,null,null,null,null,"SY130203","C6207","Um Elrumman \\ أم الرمان"]
[null,null,null,null,null,null,null,null,null,null,null,"SY130204","C6212","Abu Zreik \\ أبو زريق"]
[null,null,null,null,null,null,null,null,null,null,null,"SY130204","C6213","Behem \\ بهم"]
[null,null,null,null,null,null,null,null,null,null,null,"SY130204","C6209","Hoya \\ الهويا"]
[null,null,null,null,null,null,null,null,null,null,null,"SY130204","C6215","Hreiseh \\ الحريسة"]
[null,null,null,null,null,null,null,null,null,null,null,"SY130204","C6211","Khazmeh \\ خازمة"]
[null,null,null,null,null,null,null,null,null,null,null,"SY130204","C6219","Milh \\ ملح"]
[null,null,null,null,null,null,null,null,null,null,null,"SY130204","C6218","Qaysama \\ قيصما"]
[null,null,null,null,null,null,null,null,null,null,null,"SY130204","C6217","Shaaf \\ شعف"]
[null,null,null,null,null,null,null,null,null,null,null,"SY130204","C6208","Sheab \\ الشعاب"]
[null,null,null,null,null,null,null,null,null,null,null,"SY130204","C6216","Tal Elloz \\ تل اللوز"]
[null,null,null,null,null,null,null,null,null,null,null,"SY130204","C6214","Tleilin \\ طليلين"]
[null,null,null,null,null,null,null,null,null,null,null,"SY130204","C6210","Um Shama \\ أم شامة"]
[null,null,null,null,null,null,null,null,null,null,null,"SY130300","C6224","Amra \\ عمرة"]
[null,null,null,null,null,null,null,null,null,null,null,"SY130300","C6220","Breika \\ بريكة"]
[null,null,null,null,null,null,null,null,null,null,null,"SY130300","C6230","Majadel \\ مجادل"]
[null,null,null,null,null,null,null,null,null,null,null,"SY130300","C6229","Mardak \\ مردك"]
[null,null,null,null,null,null,null,null,null,null,null,"SY130300","C6221","Mtuna \\ المتونة"]
[null,null,null,null,null,null,null,null,null,null,null,"SY130300","C6231","Nemreh \\ نمرة"]
[null,null,null,null,null,null,null,null,null,null,null,"SY130300","C6223","Salakhed \\ صلاخد"]
[null,null,null,null,null,null,null,null,null,null,null,"SY130300","C6226","Shahba \\ شهبا"]
[null,null,null,null,null,null,null,null,null,null,null,"SY130300","C6228","Sweimreh \\ السويمرة"]
[null,null,null,null,null,null,null,null,null,null,null,"SY130300","C6225","Tima \\ تيما"]
[null,null,null,null,null,null,null,null,null,null,null,"SY130300","C6222","Um Dbeib \\ أم ضبيب"]
[null,null,null,null,null,null,null,null,null,null,null,"SY130300","C6227","Um Elzaytun \\ أم الزيتون"]
[null,null,null,null,null,null,null,null,null,null,null,"SY130301","C6234","Araja \\ عراجة"]
[null,null,null,null,null,null,null,null,null,null,null,"SY130301","C6237","Barek \\ بارك"]
[null,null,null,null,null,null,null,null,null,null,null,"SY130301","C6232","Bothaina \\ البثينة"]
[null,null,null,null,null,null,null,null,null,null,null,"SY130301","C6236","Duma \\ دوما"]
[null,null,null,null,null,null,null,null,null,null,null,"SY130301","C6239","Hayat \\ الهيات"]
[null,null,null,null,null,null,null,null,null,null,null,"SY130301","C6242","Hit \\ الهيت"]
[null,null,null,null,null,null,null,null,null,null,null,"SY130301","C6241","Jneineh \\ الجنينة"]
[null,null,null,null,null,null,null,null,null,null,null,"SY130301","C6238","Qasr \\ القصر"]
[null,null,null,null,null,null,null,null,null,null,null,"SY130301","C6240","Rdeimeh \\ الرضيمة"]
[null,null,null,null,null,null,null,null,null,null,null,"SY130301","C6233","Shaqa \\ شقا"]
[null,null,null,null,null,null,null,null,null,null,null,"SY130301","C6235","Taala \\ تعلا"]
[null,null,null,null,null,null,null,null,null,null,null,"SY130302","C6243","Ariqa \\ العريقة"]
[null,null,null,null,null,null,null,null,null,null,null,"SY130302","C6249","Dama \\ داما"]
[null,null,null,null,null,null,null,null,null,null,null,"SY130302","C6247","Deir Dama \\ دير داما"]
[null,null,null,null,null,null,null,null,null,null,null,"SY130302","C6246","Harran \\ حران"]
[null,null,null,null,null,null,null,null,null,null,null,"SY130302","C6245","Jrein \\ جرين"]
[null,null,null,null,null,null,null,null,null,null,null,"SY130302","C6248","Kharsa \\ الخرسا"]
[null,null,null,null,null,null,null,null,null,null,null,"SY130302","C6251","Lebbin \\ لبين"]
[null,null,null,null,null,null,null,null,null,null,null,"SY130302","C6244","Smeid \\ صميد"]
[null,null,null,null,null,null,null,null,null,null,null,"SY130302","C6250","WAQM \\ وقم"]
[null,null,null,null,null,null,null,null,null,null,null,"SY130303","C6261","Gran Sura \\ الصورة الكبيرة"]
[null,null,null,null,null,null,null,null,null,null,null,"SY130303","C6260","Haqf \\ الحقف"]
[null,null,null,null,null,null,null,null,null,null,null,"SY130303","C6258","Hazm \\ حزم"]
[null,null,null,null,null,null,null,null,null,null,null,"SY130303","C6071","Hosh Hammad \\ حوش حماد"]
[null,null,null,null,null,null,null,null,null,null,null,"SY130303","C6256","Kalidiyeh \\ الخالدية"]
[null,null,null,null,null,null,null,null,null,null,null,"SY130303","C6253","Khalkhaleh \\ خلخلة"]
[null,null,null,null,null,null,null,null,null,null,null,"SY130303","C6263","Lahetheh \\ لاهثة"]
[null,null,null,null,null,null,null,null,null,null,null,"SY130303","C6259","Poco Sura \\ الصورة الصغيرة"]
[null,null,null,null,null,null,null,null,null,null,null,"SY130303","C6252","Nothern Esheib \\ اشهيب الشمالي"]
[null,null,null,null,null,null,null,null,null,null,null,"SY130303","C6257","Radimeh Ellewa \\ رضيمة اللواء"]
[null,null,null,null,null,null,null,null,null,null,null,"SY130303","C6254","Salmiyeh \\ السالمية"]
[null,null,null,null,null,null,null,null,null,null,null,"SY130303","C6255","Thakir \\ ذكير"]
[null,null,null,null,null,null,null,null,null,null,null,"SY130303","C6262","Um Hartein \\ أم حارتين"]
[null,null,null,null,null,null,null,null,null,null,null,"SY140000","C6267","Bir Ajam \\ بئر عجم"]
[null,null,null,null,null,null,null,null,null,null,null,"SY140000","C6269","Breiqa \\ بريقة"]
[null,null,null,null,null,null,null,null,null,null,null,"SY140000","C6265","Hameidiyyeh \\ الحميدية"]
[null,null,null,null,null,null,null,null,null,null,null,"SY140000","C6270","Qahtaniyyeh \\ القحطانية"]
[null,null,null,null,null,null,null,null,null,null,null,"SY140000","C6268","Quneitra \\ القنيطرة"]
[null,null,null,null,null,null,null,null,null,null,null,"SY140000","C6264","Rweheineh \\ رويحينة"]
[null,null,null,null,null,null,null,null,null,null,null,"SY140000","C6266","Western Samadaniyeh \\ الصمدانية الغربية"]
[null,null,null,null,null,null,null,null,null,null,null,"SY140001","C6280","Ayoba \\ أيوبا"]
[null,null,null,null,null,null,null,null,null,null,null,"SY140001","C6275","Baas \\ البعث"]
[null,null,null,null,null,null,null,null,null,null,null,"SY140001","C6279","Samadaniyeh Oriental \\ صمدانية شرقية"]
[null,null,null,null,null,null,null,null,null,null,null,"SY140001","C6278","Hadar \\ حضر"]
[null,null,null,null,null,null,null,null,null,null,null,"SY140001","C6276","Halas \\ حلس"]
[null,null,null,null,null,null,null,null,null,null,null,"SY140001","C6388","Hurriyeh \\ الحرية"]
[null,null,null,null,null,null,null,null,null,null,null,"SY140001","C6277","Jaba \\ جبا"]
[null,null,null,null,null,null,null,null,null,null,null,"SY140001","C6281","Jbata Elkhashab \\ جباتا الخشب"]
[null,null,null,null,null,null,null,null,null,null,null,"SY140001","C6274","Kalidiyeh \\ الخالدية"]
[null,null,null,null,null,null,null,null,null,null,null,"SY140001","C6273","Khan Arnaba \\ خان أرنبة"]
[null,null,null,null,null,null,null,null,null,null,null,"SY140001","C6286","Kom Elbasha \\ كوم الباشا"]
[null,null,null,null,null,null,null,null,null,null,null,"SY140001","C6285","Kom Elwisseh - Marj Barghut \\ كوم الويسة_مرج برغوث"]
[null,null,null,null,null,null,null,null,null,null,null,"SY140001","C6283","Mashara \\ مسحرة"]
[null,null,null,null,null,null,null,null,null,null,null,"SY140001","C6284","Momtaneh \\ ممتنة"]
[null,null,null,null,null,null,null,null,null,null,null,"SY140001","C6287","Nabe Elsakher \\ نبع الصخر"]
[null,null,null,null,null,null,null,null,null,null,null,"SY140001","C6282","Ofania \\ أوفانيا"]
[null,null,null,null,null,null,null,null,null,null,null,"SY140001","C6271","Tarnaja \\ طرنجة"]
[null,null,null,null,null,null,null,null,null,null,null,"SY140001","C6272","Um Batna \\ أم باطنة"]
[null,null,null,null,null,null,null,null,null,null,null,"SY140002","C6288","ASBAH \\ الأصبح"]
[null,null,null,null,null,null,null,null,null,null,null,"SY140002","C6294","Basa Oriental - Ein Qadi \\ البصة الشرقية_عين القاضي"]
[null,null,null,null,null,null,null,null,null,null,null,"SY140002","C6289","Ein Eltineh \\ عين التينة"]
[null,null,null,null,null,null,null,null,null,null,null,"SY140002","C6292","Esheh \\ العشة"]
[null,null,null,null,null,null,null,null,null,null,null,"SY140002","C6293","Gadir Elbostan \\ غدير البستان"]
[null,null,null,null,null,null,null,null,null,null,null,"SY140002","C6295","Hijeh \\ الهجة"]
[null,null,null,null,null,null,null,null,null,null,null,"SY140002","C6299","Kodneh \\ كودنة"]
[null,null,null,null,null,null,null,null,null,null,null,"SY140002","C6298","Maalaqa \\ المعلقة"]
[null,null,null,null,null,null,null,null,null,null,null,"SY140002","C6301","Manshiyet Sweisa \\ منشية سويسة"]
[null,null,null,null,null,null,null,null,null,null,null,"SY140002","C6300","Qarqas \\ قرقس"]
[null,null,null,null,null,null,null,null,null,null,null,"SY140002","C6290","Qseibeh \\ القصيبة"]
[null,null,null,null,null,null,null,null,null,null,null,"SY140002","C6296","Rafid \\ الرفيد"]
[null,null,null,null,null,null,null,null,null,null,null,"SY140002","C6291","Sweisa \\ سويسة"]
[null,null,null,null,null,null,null,null,null,null,null,"SY140200","C6303","Razaniyet Saida \\ رزانية صيدا"]
[null,null,null,null,null,null,null,null,null,null,null,"SY140200","C6302","Sayda \\ صيدا"]

{"sheet":"dataextraction","index":15,"n_rows":11,"n_cols":347,"rows_kept":11,"cut":false,"hidden":false,"merged":[]}
[" GI Acrónimo Agencia","GI Agencia Nombre Completo","GI Semana del informe","Mes del informe:","GI Año del informe","Fecha del informe","GI Nivel admin 1","GI Pcode nivel admin 1","GI Nivel admin 2","GI Pcode nivel admin 2","IG Nivel admin 3","IG Pcode nivel admin 3","IG nivel admin 4","IG Pcode nivel admin 4","IG nivel admin 5","IG Pcode nivel admin 5"," IG Criterios Ampliados","IG SC","IG Estado SC","IG OTP","IG Estado OTP","IG BSFP","IG Estado BSFP ","IG TSFP","IG Estado TSFP ","Revisiones y derivaciones (RD)  Niños 6-59 revisados","(RD) Niños 6-59 Edema","(RD) Niños 6-59 con MUAC rojo","(RD)Niños 6-59 con MUAC amarillo","(RD) Niños 6-59 con MUAC verde","(RD) Niños 6-59 remitidos a OTP","(RD) Niños 6-59 remitidos a TSFP","(RD) Niñas 6-59 examinadas","(RD) Niñas 6-59 Edema","(RD) Niñas 6-59 con MUAC rojo","(RD) Niñas 6-59 con MUAC amarillo","(RD) Niñas 6-59 con MUAC verde","(RD) Niñas 6-59 derivadas a OTP","(RD) Niñas 6-59 derivadas a TSFP","(RD) Mujeres embarazadas y lactantes examinadas","(RD) Mujeres embarazada y lactantes con MUAC rojo","(RD) Mujeres embarazada y lactantes con MUAC amarillo","(RD) Mujeres embarazada y lactantes con MUAC verde","(RD) Mujeres embarazada y lactantes derivadas a OTP","(RD) Mujeres embarazada y lactantes derivadas a TSFP","(RD) Hombres mayores examinados","(RD) Hombres mayores Edema","(RD) Hombres mayores con MUAC rojo","(RD) Hombres mayores con MUAC amarillo","(RD) Hombres mayores con MUAC verde","(RD) Hombres mayores derivados a  OTP ","(RD) Hombres mayores derivados a TSFP ","(RD) Mujeres mayores examinadas","(RD) Mujeres mayores  Edema","(RD) Mujeres mayores con MUAC rojo","(RD) Mujeres mayores con MUAC amarillo","(RD) Mujeres mayores con MUAC verde","(RD) Mujeres mayores derivadas a  OTP ","(RD) Mujeres mayores derivadas a TSFP ","SC Niños 6-59 al final del mes","SC Niñas 6-59 al final del mes","SC Niños 6-59 nuevas admisiones ","SC Niñas 6-59 nuevas admisiones ","SC Niños 6-59 casos antiguos ","SC Niñas 6-59 casos antiguos ","SC Niños 6-59 derivados a OTP ","SC Niñas 6-59 derivadas a OTP ","SC Niños 6-59 curados ","SC Niñas 6-59 curadas ","SC Niños 6-59 muertos","SC Niñas 6-59 muertas","SC Niños 6-59 que abandonan tratamiento","SC Niñas 6-59 que abandonan tratamiento","SC Niños 6-59 no recuperados","SC Niñas 6-59 no recuperadas","SC Niños 6-59 Otras transferencias ","SC Niñas 6-59 Otras transferencias ","SC Niños 0-5 final del mes pasado","SC Niñas 0-5 final del mes pasado","SC Niños 0-5 nuevas admisiones","SC Niñas 0-5 nuevas admisiones ","SC Niños 0-5 casos antiguos ","SC Niñas 0-5 casos antiguos ","SC Niños 0-5 curadas ","SC Niñas 0-5 curadas ","SC Niños 0-5 muertos","SC Niñas 0-5 muertas","SC Niños 0-5 que abandonan el tratamiento","SC Niñas 0-5 que abandonan el tratamiento","SC Niños 0-5 sin recuperar","SC Niñas 0-5 sin recuperar","SC Niños 0-5 Otras transferencias ","SC Niñas 0-5 Otras transferencias ","SC hombres mayores Fin de mes","SC mujeres mayores fin de mes","SC hombres mayores  nuevas admisiones ","SC mujeres mayores  nuevas admisiones ","SC hombres mayores casos antiguos ","SC mujeres mayores casos antiguos ","SC hombres mayores derivados a OTP ","SC mujeres mayores derivadas a OTP ","SC hombres mayores curados","SC mujres mayores curadas ","SC hombres mayores muertos ","SC mujeres mayores muertas","SC hombres mayores que abandonan el tratamiento ","SC mujeres mayores que abandonan el tratamiento","SC hombres mayores no recuperados ","SC mujeres mayores no recuperadas","SC hombres mayores Otras transferencias ","SC mujeres mayores  Otras transferencias ","OTP Niños Fin de mes","OTP niñas Fin de mes","OTP Niños nuevas Admisiones","OTP niñas nuevas admisiones ","OTP niños casos antiguos","OTP niñas casos antiguoss ","OTP Niños Curados ","OTP niñas curadas","OTP Niños muertos ","OTP niñas muestas ","OTP Niños que abandonaron el tratamiento  ","OTP niñas que abandonaron el tratamiento","OTP niños no recuperados","OTP niñas no recuperadas ","OTP niños derivados a SC ","OTP niñas derivadas a SC ","OTP Niños Otras transferencias","OTP niñas Otras transferencias ","OTP promedio aumento de peso diario niños/as","OTP duración media de la estancia niños/as","OTP hombres mayores Fin de mes","OTP mujeres mayores fin de mes","OTP hombres mayores nuevas admisiones","OTP mujeres mayores nuevas admisiones","OTP hombres mayores casos antiguos ","OTP Mujeres mayores casos antiguos","OTP hombres mayores Curados","OTP mujeres mayores curadas ","OTP hombres mayores muertes","OTP mujeres mayores muertes","OTP hombres mayores abandono tratamiento","OTP mujeres mayores abandono tratamiento","OTP hombres mayores no recuperación ","OTP mujeres mayores no recuperación ","OTP hombres mayores derivados a SC","OTP mujeres mayores derivadas a SC","OTP hombres mayores Otras transferencias","OTP mujeres mayores Otras transferencias","TSFP niño final del mes","TSFP niñas final de mes","TSFP Niños nuevas admisiones","TSFP niñas nuevas admisiones","TSFP niños casos antiguos ","TSFP niñas casos antiguos","TSFP niños curados","TSFP niñas curadas","TSFP Niños muertes","TSFP niñas muertes ","TSFP Niños abandono tratamiento","TSFP niñas abandono tratamiento","TSFP niños no recuperados ","TSFP niñas no recuperadas ","TSFP niños derivados","TSFP niñas derivadas","TSFP Niños Otras transferencias","TSFP niñas Otras transferencias"," TSFP duranción media de la estancia niños/as","TSFP niños/as kcal / día","TSFP niños/as producto provisto","TSFP mujeres embarazadas y lactantes al final del mes","TSFP mujeres embarazadas y lactantes  nuevas admisiones","TSFP mujeres embarazadas y lactantes  casos antiguos","TSFP mujeres embarazadas y lactantes curadas","TSFP mujeres embarazadas y lactantes muertes","TSFP mujeres embarazadas y lactantes que abandonaron el tratamiento","TSFP mujeres embarazadas y lactantes no recuperadas","TSFP mujeres embarazadas y lactantes derivadas","TSFP mujeres embarazadas y lactantes  Otras transferencias","TSFP mujeres embarazadas y lactantes duranción media de la estancia","TSFP mujeres embarazadas y lactantes kcal / día","TSFP mujeres embarazadas y lactantes producto provisto","TSFP hombres mayores Fin de mes","TSFP mujeres mayores Fin de mes","TSFP hombres mayores nuevas admisiones","TSFP mujeres mayores nuevas admisiones","TSFP hombres mayores casos antiguos","TSFP mujeres mayores casos antiguos","TSFP hombres mayores curados","TSFP mujeres mayores curadas","TSFP hombres mayores muertes","TSFP mujeres mayores muertes","TSFP hombres mayores que abandonan el tratamiento","TSFP mujeres mayores que abandonan el tratamiento","TSFP hombres mayores no recuperados","TSFP mujeres mayores no recuperadas","TSFP hombres mayores referidos","TSFP mujeres mayores referidas","TSFP hombres mayores Otras transferencias","TSFP mujeres mayores Otras transferencias ","TSFP duración media de la estancia personas mayores","TSFP Personas Mayores kcal / día","TSFP Personas Mayores producto provisto ","BFSP niños/as de 6-23 nuevas admisiones","BFSP Niños de 6-23 nuevas admisiones","BFSP   niñas de 6-23 nuevas admisiones","BSFP Niños/as 6-23 en la distribución","BSFP Niños 6-23 en la distribución","BSFP Niñas 6-23 en la distribución","BSFP Niños/as 6-23 Número de Distribuciones","BSFP Niños/as 6-23 kcal / día","BSFP Niños/as 6-23 producto provisto","BSFP niños/as de 6-59 nuevas admisiones","BFSP Niños 6-59 nuevas admisiones","BFSP Niñas 6-59 nuevas admisiones","BSFP Niños/as 6-59 en la distribución","BSFP Niños 6-59 en la distribución","BSFP Niñas 6-59 en la distribución","BSFP Niños/as 6-59 Número de Distribuciones","BSFP Niños/as 6-59 kcal / día","BSFP Niños/as 6-59 producto provisto","BSFP mujerses embarazadas y lactantes nuevas admisiones","BSFP mujerses embarazadas y lactantes en las distribuciones ","BSFP mujerses embarazadas y lactantes Número de Distribuciones","BSFP mujerses embarazadas y lactantes kcal / día","BSFP mujerses embarazadas y lactantes producto provisto","BSFP personas mayores Nuevas admisiones","BSFP hombres mayores nuevas admisiones","BSFP mujeres mayores nuevas admisiones","BSFP Personas Mayores en la distribución","BSFP hombres mayores en la distribución","BSFP mujers mayores en la distribución","BSFP personas mayores Número de Distribuciones","BSFP Personas Mayores kcal / día","BSFP Personas Mayores  producto provisto","VitA Niños/as 6-11 ","VitA niños 6-11","VitA niñas 6-11","VitA niños/as 12-59","VitA niños 12-59","VitA niñas  12-59","VitA mujeres embarazadas y lactantes","VitA embarazadas","VitA Lactantes","VitA personas mayores","VitA hombres mayores ","VitA mujeres mayores","MNP niños/as","MNP niños","MNP niñas","MNP mujeres embarazadas y lactantes","MNP personas mayores","MNP hombres mayores ","MNP mujeres mayores","FeFo mujeres embarazadas y lactantes","FeFo personas mayores","FeFo hombres  mayores ","FeFo mujeers mayores","Desparasitación niños/as","Desparasitación niños","Desparasitación niñas"," Desparasitación mujeres embarazadas y lactantes","Desparasitación Personas mayores","Desparasitación hombres mayores","Desparasitación mujeres mayores","ALNP sesión individual embarazadas","ALNP sesión individual lactantes 0-5","ALNP sesión individual lactantes 6-23","ALNP Número grupos operativos","ALNP Número de sesiones de grupo","ALNP nuevas admisiones en las sesiones de grupo","ALNP nuevas admisiones hombres en sesiones de grupo","ALNP nuevas admisiones mujers en las sesiones de grupo","ALNP total asistentes sesiones de grupo","ALNP total asistentes sesiones de grupo hombres","ALNP total asistentes sesiones de grupo mujeres ","ALNP bebés 0-5 recibiendo sucedáneos leche materna","ALNP bebés 6-23  recibiendo sucedáneos leche materna","ALNP nuevas esquinas para lactancia materna abiertas","ALNP esquinas lactancia materna operacionales","ALNP nuevas admisiones a esquinas para la lactancia materna","ALNP Número total usuarios esquinas para la lactancia materna","Desarrollo capacidades (CD) MUAC tipo de formación ","CD MUAC tipo de personal formado","CD MUAC Hombres Formados","CD MUAC mujeres formadas ","CD MUAC Comentarios ","CD MUAC número de formaciones","CD Agencias que ofrecen formación en MUAC","CD MUAC duración de la Formación ","CD SC Tipo de formación  ","CD SC tipo de personal formado","CD SC hombres formados","CD SC mujeres formadas","CD SC Comentarios ","CD SC Número de formaciones","CD SC Agencias que proporcionan formación ","CD SC duración de la Formación ","CD SC Tipo de formación","CD SC tipo de personal formado","CD OTP Hombres Formados","CD OTP mujeres formadas","CD OTP Comentarios ","CD OTP número de formaciones","CD  OTP  Agencias que proporcionan formación ","CD OTP duración de la Formación ","CD MAM tipo de formación ","CD MAM tipo de personal formado","CD MAM Hombres Formados","CD MAM mujeres formadas","CD MAM Comentarios ","CD MAM número de formaciones ","CD MAM Agencias que proporcionan la formación ","CD MAM duración de la formación ","CD ALNP tipo de formación ","CD ALNP tipo de personal formado","CD ALNP Hombres Formados","CD ALNP mujeres formadas","CD ALNP Comentarios ","CD ALNP número de formaciones","CD ALNP Agencias que proporcionan la formación ","CD ALNP duración de la formación ","CD SMART Tipo de formación","CD SMART Tipo de personal formado","CD SMART Hombres Formados","CD SMART mujeres formadas","CD SMART Comentarios ","CD SMART Número de formaciones","CD SMART Agencias de proporcionar la formación ","CD SMART duración de la Formación ","CD EPR tipo de formación ","CD EPR tipo de personal formado","CD EPR Hombres Formados","CD EPR mujeres formadas","CD EPR Comentarios ","CD EPR número de formaciones","CD EPR Agencias que proporcionan la formación ","CD EPR duración de la Formación ","CD Cluster tipo de formación ","CD Cluster tipo de personal formado","CD Cluster Hombres  Formados","CD Cluster mujeres formadas","CD Clúster comentarios ","CD Cluster número de formaciones","CD Clúster Agencias que proporcionan la formación ","CD Cluster duración de la Formación ","Comentarios"]
[{"$f":"Site1!E3","v":0},{"$f":"Site1!E4","v":{"$error":"#N/A"}},{"$f":"Site1!E5","v":0},{"$f":"Site1!E6","v":0},{"$f":"Site1!E7","v":0},{"$f":"Site1!E8","v":"00:00:00"},{"$f":"Site1!E9","v":0},{"$f":"Site1!H9","v":{"$error":"#N/A"}},{"$f":"Site1!E10","v":0},{"$f":"Site1!H10","v":{"$error":"#N/A"}},{"$f":"Site1!E11","v":0},{"$f":"Site1!H11","v":{"$error":"#N/A"}},{"$f":"Site1!E12","v":0},{"$f":"Site1!H12","v":{"$error":"#N/A"}},{"$f":"Site1!E13","v":0},{"$f":"Site1!H13","v":{"$error":"#N/A"}},{"$f":"Site1!E14","v":0},{"$f":"Site1!E15","v":0},{"$f":"Site1!H15","v":0},{"$f":"Site1!E16","v":0},{"$f":"Site1!H16","v":0},{"$f":"Site1!E17","v":0},{"$f":"Site1!H17","v":0},{"$f":"Site1!E18","v":0},{"$f":"Site1!H18","v":0},{"$f":"Site1!E21","v":0},{"$f":"Site1!E22","v":0},{"$f":"Site1!E23","v":0},{"$f":"Site1!E24","v":0},{"$f":"Site1!E25","v":0},{"$f":"Site1!E26","v":0},{"$f":"Site1!E27","v":0},{"$f":"Site1!E29","v":0},{"$f":"Site1!E30","v":0},{"$f":"Site1!E31","v":0},{"$f":"Site1!E32","v":0},{"$f":"Site1!E33","v":0},{"$f":"Site1!E34","v":0},{"$f":"Site1!E35","v":0},{"$f":"Site1!E38","v":0},{"$f":"Site1!E39","v":0},{"$f":"Site1!E40","v":0},{"$f":"Site1!E41","v":0},{"$f":"Site1!E42","v":0},{"$f":"Site1!E43","v":0},{"$f":"Site1!E45","v":0},{"$f":"Site1!E46","v":0},{"$f":"Site1!E47","v":0},{"$f":"Site1!E48","v":0},{"$f":"Site1!E49","v":0},{"$f":"Site1!E50","v":0},{"$f":"Site1!E51","v":0},{"$f":"Site1!E53","v":0},{"$f":"Site1!E54","v":0},{"$f":"Site1!E55","v":0},{"$f":"Site1!E56","v":0},{"$f":"Site1!E57","v":0},{"$f":"Site1!E58","v":0},{"$f":"Site1!E59","v":0},{"$f":"Site1!E63","v":0},{"$f":"Site1!E64","v":0},{"$f":"Site1!E65","v":0},{"$f":"Site1!E66","v":0},{"$f":"Site1!E67","v":0},{"$f":"Site1!E68","v":0},{"$f":"Site1!E69","v":0},{"$f":"Site1!E70","v":0},{"$f":"Site1!E71","v":0},{"$f":"Site1!E72","v":0},{"$f":"Site1!E73","v":0},{"$f":"Site1!E74","v":0},{"$f":"Site1!E75","v":0},{"$f":"Site1!E76","v":0},{"$f":"Site1!E77","v":0},{"$f":"Site1!E78","v":0},{"$f":"Site1!E79","v":0},{"$f":"Site1!E80","v":0},{"$f":"Site1!E82","v":0},{"$f":"Site1!E83","v":0},{"$f":"Site1!E84","v":0},{"$f":"Site1!E85","v":0},{"$f":"Site1!E86","v":0},{"$f":"Site1!E87","v":0},{"$f":"Site1!E88","v":0},{"$f":"Site1!E89","v":0},{"$f":"Site1!E90","v":0},{"$f":"Site1!E91","v":0},{"$f":"Site1!E92","v":0},{"$f":"Site1!E93","v":0},{"$f":"Site1!E94","v":0},{"$f":"Site1!E95","v":0},{"$f":"Site1!E96","v":0},{"$f":"Site1!E97","v":0},{"$f":"Site1!E99","v":0},{"$f":"Site1!E100","v":0},{"$f":"Site1!E101","v":0},{"$f":"Site1!E102","v":0},{"$f":"Site1!E103","v":0},{"$f":"Site1!E104","v":0},{"$f":"Site1!E105","v":0},{"$f":"Site1!E106","v":0},{"$f":"Site1!E107","v":0},{"$f":"Site1!E108","v":0},{"$f":"Site1!E109","v":0},{"$f":"Site1!E110","v":0},{"$f":"Site1!E111","v":0},{"$f":"Site1!E112","v":0},{"$f":"Site1!E113","v":0},{"$f":"Site1!E114","v":0},{"$f":"Site1!E115","v":0},{"$f":"Site1!E116","v":0},{"$f":"Site1!E118","v":0},{"$f":"Site1!E119","v":0},{"$f":"Site1!E120","v":0},{"$f":"Site1!E121","v":0},{"$f":"Site1!E122","v":0},{"$f":"Site1!E123","v":0},{"$f":"Site1!E124","v":0},{"$f":"Site1!E125","v":0},{"$f":"Site1!E126","v":0},{"$f":"Site1!E127","v":0},{"$f":"Site1!E128","v":0},{"$f":"Site1!E129","v":0},{"$f":"Site1!E130","v":0},{"$f":"Site1!E131","v":0},{"$f":"Site1!E132","v":0},{"$f":"Site1!E133","v":0},{"$f":"Site1!E134","v":0},{"$f":"Site1!E135","v":0},{"$f":"Site1!E136","v":0},{"$f":"Site1!E137","v":0},{"$f":"Site1!E139","v":0},{"$f":"Site1!E140","v":0},{"$f":"Site1!E141","v":0},{"$f":"Site1!E142","v":0},{"$f":"Site1!E143","v":0},{"$f":"Site1!E144","v":0},{"$f":"Site1!E145","v":0},{"$f":"Site1!E146","v":0},{"$f":"Site1!E147","v":0},{"$f":"Site1!E148","v":0},{"$f":"Site1!E149","v":0},{"$f":"Site1!E150","v":0},{"$f":"Site1!E151","v":0},{"$f":"Site1!E152","v":0},{"$f":"Site1!E153","v":0},{"$f":"Site1!E154","v":0},{"$f":"Site1!E155","v":0},{"$f":"Site1!E156","v":0},{"$f":"Site1!E159","v":0},{"$f":"Site1!E160","v":0},{"$f":"Site1!E161","v":0},{"$f":"Site1!E162","v":0},{"$f":"Site1!E163","v":0},{"$f":"Site1!E164","v":0},{"$f":"Site1!E165","v":0},{"$f":"Site1!E166","v":0},{"$f":"Site1!E167","v":0},{"$f":"Site1!E168","v":0},{"$f":"Site1!E169","v":0},{"$f":"Site1!E170","v":0},{"$f":"Site1!E171","v":0},{"$f":"Site1!E172","v":0},{"$f":"Site1!E173","v":0},{"$f":"Site1!E174","v":0},{"$f":"Site1!E175","v":0},{"$f":"Site1!E176","v":0},{"$f":"Site1!E177","v":0},{"$f":"Site1!E178","v":0},{"$f":"Site1!E179","v":0},{"$f":"Site1!E181","v":0},{"$f":"Site1!E182","v":0},{"$f":"Site1!E183","v":0},{"$f":"Site1!E184","v":0},{"$f":"Site1!E185","v":0},{"$f":"Site1!E186","v":0},{"$f":"Site1!E187","v":0},{"$f":"Site1!E188","v":0},{"$f":"Site1!E189","v":0},{"$f":"Site1!E190","v":0},{"$f":"Site1!E191","v":0},{"$f":"Site1!E192","v":0},{"$f":"Site1!E194","v":0},{"$f":"Site1!E195","v":0},{"$f":"Site1!E196","v":0},{"$f":"Site1!E197","v":0},{"$f":"Site1!E198","v":0},{"$f":"Site1!E199","v":0},{"$f":"Site1!E200","v":0},{"$f":"Site1!E201","v":0},{"$f":"Site1!E202","v":0},{"$f":"Site1!E203","v":0},{"$f":"Site1!E204","v":0},{"$f":"Site1!E205","v":0},{"$f":"Site1!E206","v":0},{"$f":"Site1!E207","v":0},{"$f":"Site1!E208","v":0},{"$f":"Site1!E209","v":0},{"$f":"Site1!E210","v":0},{"$f":"Site1!E211","v":0},{"$f":"Site1!E212","v":0},{"$f":"Site1!E213","v":0},{"$f":"Site1!E214","v":0},{"$f":"Site1!E217","v":0},{"$f":"Site1!E218","v":0},{"$f":"Site1!E219","v":0},{"$f":"Site1!E220","v":0},{"$f":"Site1!E221","v":0},{"$f":"Site1!E222","v":0},{"$f":"Site1!E223","v":0},{"$f":"Site1!E224","v":0},{"$f":"Site1!E225","v":0},{"$f":"Site1!E227","v":0},{"$f":"Site1!E228","v":0},{"$f":"Site1!E229","v":0},{"$f":"Site1!E230","v":0},{"$f":"Site1!E231","v":0},{"$f":"Site1!E232","v":0},{"$f":"Site1!E233","v":0},{"$f":"Site1!E234","v":0},{"$f":"Site1!E235","v":0},{"$f":"Site1!E237","v":0},{"$f":"Site1!E238","v":0},{"$f":"Site1!E239","v":0},{"$f":"Site1!E240","v":0},{"$f":"Site1!F241","v":0},{"$f":"Site1!E243","v":0},{"$f":"Site1!E244","v":0},{"$f":"Site1!E245","v":0},{"$f":"Site1!E246","v":0},{"$f":"Site1!E247","v":0},{"$f":"Site1!E248","v":0},{"$f":"Site1!E249","v":0},{"$f":"Site1!E250","v":0},{"$f":"Site1!E251","v":0},{"$f":"Site1!E254","v":0},{"$f":"Site1!E255","v":0},{"$f":"Site1!E256","v":0},{"$f":"Site1!E257","v":0},{"$f":"Site1!E258","v":0},{"$f":"Site1!E259","v":0},{"$f":"Site1!E261","v":0},{"$f":"Site1!E262","v":0},{"$f":"Site1!E263","v":0},{"$f":"Site1!E265","v":0},{"$f":"Site1!E266","v":0},{"$f":"Site1!E267","v":0},{"$f":"Site1!E269","v":0},{"$f":"Site1!E270","v":0},{"$f":"Site1!E271","v":0},{"$f":"Site1!E273","v":0},{"$f":"Site1!E275","v":0},{"$f":"Site1!E276","v":0},{"$f":"Site1!E277","v":0},{"$f":"Site1!E279","v":0},{"$f":"Site1!E281","v":0},{"$f":"Site1!E282","v":0},{"$f":"Site1!E283","v":0},{"$f":"Site1!E286","v":0},{"$f":"Site1!E287","v":0},{"$f":"Site1!E288","v":0},{"$f":"Site1!E290","v":0},{"$f":"Site1!E292","v":0},{"$f":"Site1!E293","v":0},{"$f":"Site1!E294","v":0},{"$f":"Site1!E297","v":0},{"$f":"Site1!E298","v":0},{"$f":"Site1!E299","v":0},{"$f":"Site1!E300","v":0},{"$f":"Site1!E301","v":0},{"$f":"Site1!E302","v":0},{"$f":"Site1!E303","v":0},{"$f":"Site1!E304","v":0},{"$f":"Site1!E305","v":0},{"$f":"Site1!E306","v":0},{"$f":"Site1!E307","v":0},{"$f":"Site1!E308","v":0},{"$f":"Site1!E309","v":0},{"$f":"Site1!E310","v":0},{"$f":"Site1!E311","v":0},{"$f":"Site1!E312","v":0},{"$f":"Site1!E313","v":0},{"$f":"Site1!E317","v":0},{"$f":"Site1!E318","v":0},{"$f":"Site1!E319","v":0},{"$f":"Site1!E320","v":0},{"$f":"Site1!E321","v":0},{"$f":"Site1!I317","v":0},{"$f":"Site1!I318","v":0},{"$f":"Site1!I319","v":0},{"$f":"Site1!E324","v":0},{"$f":"Site1!E325","v":0},{"$f":"Site1!E326","v":0},{"$f":"Site1!E327","v":0},{"$f":"Site1!E328","v":0},{"$f":"Site1!I324","v":0},{"$f":"Site1!I325","v":0},{"$f":"Site1!I326","v":0},{"$f":"Site1!E331","v":0},{"$f":"Site1!E332","v":0},{"$f":"Site1!E333","v":0},{"$f":"Site1!E334","v":0},{"$f":"Site1!E335","v":0},{"$f":"Site1!I331","v":0},{"$f":"Site1!I332","v":0},{"$f":"Site1!I333","v":0},{"$f":"Site1!E338","v":0},{"$f":"Site1!E339","v":0},{"$f":"Site1!E340","v":0},{"$f":"Site1!E341","v":0},{"$f":"Site1!E342","v":0},{"$f":"Site1!I338","v":0},{"$f":"Site1!I339","v":0},{"$f":"Site1!I340","v":0},{"$f":"Site1!E344","v":0},{"$f":"Site1!E345","v":0},{"$f":"Site1!E346","v":0},{"$f":"Site1!E347","v":0},{"$f":"Site1!E348","v":0},{"$f":"Site1!I344","v":0},{"$f":"Site1!I345","v":0},{"$f":"Site1!I346","v":0},{"$f":"Site1!E350","v":0},{"$f":"Site1!E351","v":0},{"$f":"Site1!E352","v":0},{"$f":"Site1!E353","v":0},{"$f":"Site1!E354","v":0},{"$f":"Site1!I350","v":0},{"$f":"Site1!I351","v":0},{"$f":"Site1!I352","v":0},{"$f":"Site1!E356","v":0},{"$f":"Site1!E357","v":0},{"$f":"Site1!E358","v":0},{"$f":"Site1!E359","v":0},{"$f":"Site1!E360","v":0},{"$f":"Site1!I356","v":0},{"$f":"Site1!I357","v":0},{"$f":"Site1!I358","v":0},{"$f":"Site1!E362","v":0},{"$f":"Site1!E363","v":0},{"$f":"Site1!E364","v":0},{"$f":"Site1!E365","v":0},{"$f":"Site1!E366","v":0},{"$f":"Site1!I362","v":0},{"$f":"Site1!I363","v":0},{"$f":"Site1!I364","v":0},{"$f":"Site1!C369","v":0}]
[{"$f":"Site2!E3","v":0},{"$f":"Site2!E4","v":{"$error":"#N/A"}},{"$f":"Site2!E5","v":0},{"$f":"Site2!E6","v":0},{"$f":"Site2!E7","v":0},{"$f":"Site2!E8","v":"00:00:00"},{"$f":"Site2!E9","v":0},{"$f":"Site2!H9","v":{"$error":"#N/A"}},{"$f":"Site2!E10","v":0},{"$f":"Site2!H10","v":{"$error":"#N/A"}},{"$f":"Site2!E11","v":0},{"$f":"Site2!H11","v":{"$error":"#N/A"}},{"$f":"Site2!E12","v":0},{"$f":"Site2!H12","v":{"$error":"#N/A"}},{"$f":"Site2!E13","v":0},{"$f":"Site2!H13","v":{"$error":"#N/A"}},{"$f":"Site2!E14","v":0},{"$f":"Site2!E15","v":0},{"$f":"Site2!H15","v":0},{"$f":"Site2!E16","v":0},{"$f":"Site2!H16","v":0},{"$f":"Site2!E17","v":0},{"$f":"Site2!H17","v":0},{"$f":"Site2!E18","v":0},{"$f":"Site2!H18","v":0},{"$f":"Site2!E21","v":0},{"$f":"Site2!E22","v":0},{"$f":"Site2!E23","v":0},{"$f":"Site2!E24","v":0},{"$f":"Site2!E25","v":0},{"$f":"Site2!E26","v":0},{"$f":"Site2!E27","v":0},{"$f":"Site2!E29","v":0},{"$f":"Site2!E30","v":0},{"$f":"Site2!E31","v":0},{"$f":"Site2!E32","v":0},{"$f":"Site2!E33","v":0},{"$f":"Site2!E34","v":0},{"$f":"Site2!E35","v":0},{"$f":"Site2!E38","v":0},{"$f":"Site2!E39","v":0},{"$f":"Site2!E40","v":0},{"$f":"Site2!E41","v":0},{"$f":"Site2!E42","v":0},{"$f":"Site2!E43","v":0},{"$f":"Site2!E45","v":0},{"$f":"Site2!E46","v":0},{"$f":"Site2!E47","v":0},{"$f":"Site2!E48","v":0},{"$f":"Site2!E49","v":0},{"$f":"Site2!E50","v":0},{"$f":"Site2!E51","v":0},{"$f":"Site2!E53","v":0},{"$f":"Site2!E54","v":0},{"$f":"Site2!E55","v":0},{"$f":"Site2!E56","v":0},{"$f":"Site2!E57","v":0},{"$f":"Site2!E58","v":0},{"$f":"Site2!E59","v":0},{"$f":"Site2!E63","v":0},{"$f":"Site2!E64","v":0},{"$f":"Site2!E65","v":0},{"$f":"Site2!E66","v":0},{"$f":"Site2!E67","v":0},{"$f":"Site2!E68","v":0},{"$f":"Site2!E69","v":0},{"$f":"Site2!E70","v":0},{"$f":"Site2!E71","v":0},{"$f":"Site2!E72","v":0},{"$f":"Site2!E73","v":0},{"$f":"Site2!E74","v":0},{"$f":"Site2!E75","v":0},{"$f":"Site2!E76","v":0},{"$f":"Site2!E77","v":0},{"$f":"Site2!E78","v":0},{"$f":"Site2!E79","v":0},{"$f":"Site2!E80","v":0},{"$f":"Site2!E82","v":0},{"$f":"Site2!E83","v":0},{"$f":"Site2!E84","v":0},{"$f":"Site2!E85","v":0},{"$f":"Site2!E86","v":0},{"$f":"Site2!E87","v":0},{"$f":"Site2!E88","v":0},{"$f":"Site2!E89","v":0},{"$f":"Site2!E90","v":0},{"$f":"Site2!E91","v":0},{"$f":"Site2!E92","v":0},{"$f":"Site2!E93","v":0},{"$f":"Site2!E94","v":0},{"$f":"Site2!E95","v":0},{"$f":"Site2!E96","v":0},{"$f":"Site2!E97","v":0},{"$f":"Site2!E99","v":0},{"$f":"Site2!E100","v":0},{"$f":"Site2!E101","v":0},{"$f":"Site2!E102","v":0},{"$f":"Site2!E103","v":0},{"$f":"Site2!E104","v":0},{"$f":"Site2!E105","v":0},{"$f":"Site2!E106","v":0},{"$f":"Site2!E107","v":0},{"$f":"Site2!E108","v":0},{"$f":"Site2!E109","v":0},{"$f":"Site2!E110","v":0},{"$f":"Site2!E111","v":0},{"$f":"Site2!E112","v":0},{"$f":"Site2!E113","v":0},{"$f":"Site2!E114","v":0},{"$f":"Site2!E115","v":0},{"$f":"Site2!E116","v":0},{"$f":"Site2!E118","v":0},{"$f":"Site2!E119","v":0},{"$f":"Site2!E120","v":0},{"$f":"Site2!E121","v":0},{"$f":"Site2!E122","v":0},{"$f":"Site2!E123","v":0},{"$f":"Site2!E124","v":0},{"$f":"Site2!E125","v":0},{"$f":"Site2!E126","v":0},{"$f":"Site2!E127","v":0},{"$f":"Site2!E128","v":0},{"$f":"Site2!E129","v":0},{"$f":"Site2!E130","v":0},{"$f":"Site2!E131","v":0},{"$f":"Site2!E132","v":0},{"$f":"Site2!E133","v":0},{"$f":"Site2!E134","v":0},{"$f":"Site2!E135","v":0},{"$f":"Site2!E136","v":0},{"$f":"Site2!E137","v":0},{"$f":"Site2!E139","v":0},{"$f":"Site2!E140","v":0},{"$f":"Site2!E141","v":0},{"$f":"Site2!E142","v":0},{"$f":"Site2!E143","v":0},{"$f":"Site2!E144","v":0},{"$f":"Site2!E145","v":0},{"$f":"Site2!E146","v":0},{"$f":"Site2!E147","v":0},{"$f":"Site2!E148","v":0},{"$f":"Site2!E149","v":0},{"$f":"Site2!E150","v":0},{"$f":"Site2!E151","v":0},{"$f":"Site2!E152","v":0},{"$f":"Site2!E153","v":0},{"$f":"Site2!E154","v":0},{"$f":"Site2!E155","v":0},{"$f":"Site2!E156","v":0},{"$f":"Site2!E159","v":0},{"$f":"Site2!E160","v":0},{"$f":"Site2!E161","v":0},{"$f":"Site2!E162","v":0},{"$f":"Site2!E163","v":0},{"$f":"Site2!E164","v":0},{"$f":"Site2!E165","v":0},{"$f":"Site2!E166","v":0},{"$f":"Site2!E167","v":0},{"$f":"Site2!E168","v":0},{"$f":"Site2!E169","v":0},{"$f":"Site2!E170","v":0},{"$f":"Site2!E171","v":0},{"$f":"Site2!E172","v":0},{"$f":"Site2!E173","v":0},{"$f":"Site2!E174","v":0},{"$f":"Site2!E175","v":0},{"$f":"Site2!E176","v":0},{"$f":"Site2!E177","v":0},{"$f":"Site2!E178","v":0},{"$f":"Site2!E179","v":0},{"$f":"Site2!E181","v":0},{"$f":"Site2!E182","v":0},{"$f":"Site2!E183","v":0},{"$f":"Site2!E184","v":0},{"$f":"Site2!E185","v":0},{"$f":"Site2!E186","v":0},{"$f":"Site2!E187","v":0},{"$f":"Site2!E188","v":0},{"$f":"Site2!E189","v":0},{"$f":"Site2!E190","v":0},{"$f":"Site2!E191","v":0},{"$f":"Site2!E192","v":0},{"$f":"Site2!E194","v":0},{"$f":"Site2!E195","v":0},{"$f":"Site2!E196","v":0},{"$f":"Site2!E197","v":0},{"$f":"Site2!E198","v":0},{"$f":"Site2!E199","v":0},{"$f":"Site2!E200","v":0},{"$f":"Site2!E201","v":0},{"$f":"Site2!E202","v":0},{"$f":"Site2!E203","v":0},{"$f":"Site2!E204","v":0},{"$f":"Site2!E205","v":0},{"$f":"Site2!E206","v":0},{"$f":"Site2!E207","v":0},{"$f":"Site2!E208","v":0},{"$f":"Site2!E209","v":0},{"$f":"Site2!E210","v":0},{"$f":"Site2!E211","v":0},{"$f":"Site2!E212","v":0},{"$f":"Site2!E213","v":0},{"$f":"Site2!E214","v":0},{"$f":"Site2!E217","v":0},{"$f":"Site2!E218","v":0},{"$f":"Site2!E219","v":0},{"$f":"Site2!E220","v":0},{"$f":"Site2!E221","v":0},{"$f":"Site2!E222","v":0},{"$f":"Site2!E223","v":0},{"$f":"Site2!E224","v":0},{"$f":"Site2!E225","v":0},{"$f":"Site2!E227","v":0},{"$f":"Site2!E228","v":0},{"$f":"Site2!E229","v":0},{"$f":"Site2!E230","v":0},{"$f":"Site2!E231","v":0},{"$f":"Site2!E232","v":0},{"$f":"Site2!E233","v":0},{"$f":"Site2!E234","v":0},{"$f":"Site2!E235","v":0},{"$f":"Site2!E237","v":0},{"$f":"Site2!E238","v":0},{"$f":"Site2!E239","v":0},{"$f":"Site2!E240","v":0},{"$f":"Site2!F241","v":0},{"$f":"Site2!E243","v":0},{"$f":"Site2!E244","v":0},{"$f":"Site2!E245","v":0},{"$f":"Site2!E246","v":0},{"$f":"Site2!E247","v":0},{"$f":"Site2!E248","v":0},{"$f":"Site2!E249","v":0},{"$f":"Site2!E250","v":0},{"$f":"Site2!E251","v":0},{"$f":"Site2!E254","v":0},{"$f":"Site2!E255","v":0},{"$f":"Site2!E256","v":0},{"$f":"Site2!E257","v":0},{"$f":"Site2!E258","v":0},{"$f":"Site2!E259","v":0},{"$f":"Site2!E261","v":0},{"$f":"Site2!E262","v":0},{"$f":"Site2!E263","v":0},{"$f":"Site2!E265","v":0},{"$f":"Site2!E266","v":0},{"$f":"Site2!E267","v":0},{"$f":"Site2!E269","v":0},{"$f":"Site2!E270","v":0},{"$f":"Site2!E271","v":0},{"$f":"Site2!E273","v":0},{"$f":"Site2!E275","v":0},{"$f":"Site2!E276","v":0},{"$f":"Site2!E277","v":0},{"$f":"Site2!E279","v":0},{"$f":"Site2!E281","v":0},{"$f":"Site2!E282","v":0},{"$f":"Site2!E283","v":0},{"$f":"Site2!E286","v":0},{"$f":"Site2!E287","v":0},{"$f":"Site2!E288","v":0},{"$f":"Site2!E290","v":0},{"$f":"Site2!E292","v":0},{"$f":"Site2!E293","v":0},{"$f":"Site2!E294","v":0},{"$f":"Site2!E297","v":0},{"$f":"Site2!E298","v":0},{"$f":"Site2!E299","v":0},{"$f":"Site2!E300","v":0},{"$f":"Site2!E301","v":0},{"$f":"Site2!E302","v":0},{"$f":"Site2!E303","v":0},{"$f":"Site2!E304","v":0},{"$f":"Site2!E305","v":0},{"$f":"Site2!E306","v":0},{"$f":"Site2!E307","v":0},{"$f":"Site2!E308","v":0},{"$f":"Site2!E309","v":0},{"$f":"Site2!E310","v":0},{"$f":"Site2!E311","v":0},{"$f":"Site2!E312","v":0},{"$f":"Site2!E313","v":0},{"$f":"Site2!E317","v":0},{"$f":"Site2!E318","v":0},{"$f":"Site2!E319","v":0},{"$f":"Site2!E320","v":0},{"$f":"Site2!E321","v":0},{"$f":"Site2!I317","v":0},{"$f":"Site2!I318","v":0},{"$f":"Site2!I319","v":0},{"$f":"Site2!E324","v":0},{"$f":"Site2!E325","v":0},{"$f":"Site2!E326","v":0},{"$f":"Site2!E327","v":0},{"$f":"Site2!E328","v":0},{"$f":"Site2!I324","v":0},{"$f":"Site2!I325","v":0},{"$f":"Site2!I326","v":0},{"$f":"Site2!E331","v":0},{"$f":"Site2!E332","v":0},{"$f":"Site2!E333","v":0},{"$f":"Site2!E334","v":0},{"$f":"Site2!E335","v":0},{"$f":"Site2!I331","v":0},{"$f":"Site2!I332","v":0},{"$f":"Site2!I333","v":0},{"$f":"Site2!E338","v":0},{"$f":"Site2!E339","v":0},{"$f":"Site2!E340","v":0},{"$f":"Site2!E341","v":0},{"$f":"Site2!E342","v":0},{"$f":"Site2!I338","v":0},{"$f":"Site2!I339","v":0},{"$f":"Site2!I340","v":0},{"$f":"Site2!E344","v":0},{"$f":"Site2!E345","v":0},{"$f":"Site2!E346","v":0},{"$f":"Site2!E347","v":0},{"$f":"Site2!E348","v":0},{"$f":"Site2!I344","v":0},{"$f":"Site2!I345","v":0},{"$f":"Site2!I346","v":0},{"$f":"Site2!E350","v":0},{"$f":"Site2!E351","v":0},{"$f":"Site2!E352","v":0},{"$f":"Site2!E353","v":0},{"$f":"Site2!E354","v":0},{"$f":"Site2!I350","v":0},{"$f":"Site2!I351","v":0},{"$f":"Site2!I352","v":0},{"$f":"Site2!E356","v":0},{"$f":"Site2!E357","v":0},{"$f":"Site2!E358","v":0},{"$f":"Site2!E359","v":0},{"$f":"Site2!E360","v":0},{"$f":"Site2!I356","v":0},{"$f":"Site2!I357","v":0},{"$f":"Site2!I358","v":0},{"$f":"Site2!E362","v":0},{"$f":"Site2!E363","v":0},{"$f":"Site2!E364","v":0},{"$f":"Site2!E365","v":0},{"$f":"Site2!E366","v":0},{"$f":"Site2!I362","v":0},{"$f":"Site2!I363","v":0},{"$f":"Site2!I364","v":0},{"$f":"Site2!C369","v":0}]
[{"$f":"Site3!E3","v":0},{"$f":"Site3!E4","v":{"$error":"#N/A"}},{"$f":"Site3!E5","v":0},{"$f":"Site3!E6","v":0},{"$f":"Site3!E7","v":0},{"$f":"Site3!E8","v":"00:00:00"},{"$f":"Site3!E9","v":0},{"$f":"Site3!H9","v":{"$error":"#N/A"}},{"$f":"Site3!E10","v":0},{"$f":"Site3!H10","v":{"$error":"#N/A"}},{"$f":"Site3!E11","v":0},{"$f":"Site3!H11","v":{"$error":"#N/A"}},{"$f":"Site3!E12","v":0},{"$f":"Site3!H12","v":{"$error":"#N/A"}},{"$f":"Site3!E13","v":0},{"$f":"Site3!H13","v":{"$error":"#N/A"}},{"$f":"Site3!E14","v":0},{"$f":"Site3!E15","v":0},{"$f":"Site3!H15","v":0},{"$f":"Site3!E16","v":0},{"$f":"Site3!H16","v":0},{"$f":"Site3!E17","v":0},{"$f":"Site3!H17","v":0},{"$f":"Site3!E18","v":0},{"$f":"Site3!H18","v":0},{"$f":"Site3!E21","v":0},{"$f":"Site3!E22","v":0},{"$f":"Site3!E23","v":0},{"$f":"Site3!E24","v":0},{"$f":"Site3!E25","v":0},{"$f":"Site3!E26","v":0},{"$f":"Site3!E27","v":0},{"$f":"Site3!E29","v":0},{"$f":"Site3!E30","v":0},{"$f":"Site3!E31","v":0},{"$f":"Site3!E32","v":0},{"$f":"Site3!E33","v":0},{"$f":"Site3!E34","v":0},{"$f":"Site3!E35","v":0},{"$f":"Site3!E38","v":0},{"$f":"Site3!E39","v":0},{"$f":"Site3!E40","v":0},{"$f":"Site3!E41","v":0},{"$f":"Site3!E42","v":0},{"$f":"Site3!E43","v":0},{"$f":"Site3!E45","v":0},{"$f":"Site3!E46","v":0},{"$f":"Site3!E47","v":0},{"$f":"Site3!E48","v":0},{"$f":"Site3!E49","v":0},{"$f":"Site3!E50","v":0},{"$f":"Site3!E51","v":0},{"$f":"Site3!E53","v":0},{"$f":"Site3!E54","v":0},{"$f":"Site3!E55","v":0},{"$f":"Site3!E56","v":0},{"$f":"Site3!E57","v":0},{"$f":"Site3!E58","v":0},{"$f":"Site3!E59","v":0},{"$f":"Site3!E63","v":0},{"$f":"Site3!E64","v":0},{"$f":"Site3!E65","v":0},{"$f":"Site3!E66","v":0},{"$f":"Site3!E67","v":0},{"$f":"Site3!E68","v":0},{"$f":"Site3!E69","v":0},{"$f":"Site3!E70","v":0},{"$f":"Site3!E71","v":0},{"$f":"Site3!E72","v":0},{"$f":"Site3!E73","v":0},{"$f":"Site3!E74","v":0},{"$f":"Site3!E75","v":0},{"$f":"Site3!E76","v":0},{"$f":"Site3!E77","v":0},{"$f":"Site3!E78","v":0},{"$f":"Site3!E79","v":0},{"$f":"Site3!E80","v":0},{"$f":"Site3!E82","v":0},{"$f":"Site3!E83","v":0},{"$f":"Site3!E84","v":0},{"$f":"Site3!E85","v":0},{"$f":"Site3!E86","v":0},{"$f":"Site3!E87","v":0},{"$f":"Site3!E88","v":0},{"$f":"Site3!E89","v":0},{"$f":"Site3!E90","v":0},{"$f":"Site3!E91","v":0},{"$f":"Site3!E92","v":0},{"$f":"Site3!E93","v":0},{"$f":"Site3!E94","v":0},{"$f":"Site3!E95","v":0},{"$f":"Site3!E96","v":0},{"$f":"Site3!E97","v":0},{"$f":"Site3!E99","v":0},{"$f":"Site3!E100","v":0},{"$f":"Site3!E101","v":0},{"$f":"Site3!E102","v":0},{"$f":"Site3!E103","v":0},{"$f":"Site3!E104","v":0},{"$f":"Site3!E105","v":0},{"$f":"Site3!E106","v":0},{"$f":"Site3!E107","v":0},{"$f":"Site3!E108","v":0},{"$f":"Site3!E109","v":0},{"$f":"Site3!E110","v":0},{"$f":"Site3!E111","v":0},{"$f":"Site3!E112","v":0},{"$f":"Site3!E113","v":0},{"$f":"Site3!E114","v":0},{"$f":"Site3!E115","v":0},{"$f":"Site3!E116","v":0},{"$f":"Site3!E118","v":0},{"$f":"Site3!E119","v":0},{"$f":"Site3!E120","v":0},{"$f":"Site3!E121","v":0},{"$f":"Site3!E122","v":0},{"$f":"Site3!E123","v":0},{"$f":"Site3!E124","v":0},{"$f":"Site3!E125","v":0},{"$f":"Site3!E126","v":0},{"$f":"Site3!E127","v":0},{"$f":"Site3!E128","v":0},{"$f":"Site3!E129","v":0},{"$f":"Site3!E130","v":0},{"$f":"Site3!E131","v":0},{"$f":"Site3!E132","v":0},{"$f":"Site3!E133","v":0},{"$f":"Site3!E134","v":0},{"$f":"Site3!E135","v":0},{"$f":"Site3!E136","v":0},{"$f":"Site3!E137","v":0},{"$f":"Site3!E139","v":0},{"$f":"Site3!E140","v":0},{"$f":"Site3!E141","v":0},{"$f":"Site3!E142","v":0},{"$f":"Site3!E143","v":0},{"$f":"Site3!E144","v":0},{"$f":"Site3!E145","v":0},{"$f":"Site3!E146","v":0},{"$f":"Site3!E147","v":0},{"$f":"Site3!E148","v":0},{"$f":"Site3!E149","v":0},{"$f":"Site3!E150","v":0},{"$f":"Site3!E151","v":0},{"$f":"Site3!E152","v":0},{"$f":"Site3!E153","v":0},{"$f":"Site3!E154","v":0},{"$f":"Site3!E155","v":0},{"$f":"Site3!E156","v":0},{"$f":"Site3!E159","v":0},{"$f":"Site3!E160","v":0},{"$f":"Site3!E161","v":0},{"$f":"Site3!E162","v":0},{"$f":"Site3!E163","v":0},{"$f":"Site3!E164","v":0},{"$f":"Site3!E165","v":0},{"$f":"Site3!E166","v":0},{"$f":"Site3!E167","v":0},{"$f":"Site3!E168","v":0},{"$f":"Site3!E169","v":0},{"$f":"Site3!E170","v":0},{"$f":"Site3!E171","v":0},{"$f":"Site3!E172","v":0},{"$f":"Site3!E173","v":0},{"$f":"Site3!E174","v":0},{"$f":"Site3!E175","v":0},{"$f":"Site3!E176","v":0},{"$f":"Site3!E177","v":0},{"$f":"Site3!E178","v":0},{"$f":"Site3!E179","v":0},{"$f":"Site3!E181","v":0},{"$f":"Site3!E182","v":0},{"$f":"Site3!E183","v":0},{"$f":"Site3!E184","v":0},{"$f":"Site3!E185","v":0},{"$f":"Site3!E186","v":0},{"$f":"Site3!E187","v":0},{"$f":"Site3!E188","v":0},{"$f":"Site3!E189","v":0},{"$f":"Site3!E190","v":0},{"$f":"Site3!E191","v":0},{"$f":"Site3!E192","v":0},{"$f":"Site3!E194","v":0},{"$f":"Site3!E195","v":0},{"$f":"Site3!E196","v":0},{"$f":"Site3!E197","v":0},{"$f":"Site3!E198","v":0},{"$f":"Site3!E199","v":0},{"$f":"Site3!E200","v":0},{"$f":"Site3!E201","v":0},{"$f":"Site3!E202","v":0},{"$f":"Site3!E203","v":0},{"$f":"Site3!E204","v":0},{"$f":"Site3!E205","v":0},{"$f":"Site3!E206","v":0},{"$f":"Site3!E207","v":0},{"$f":"Site3!E208","v":0},{"$f":"Site3!E209","v":0},{"$f":"Site3!E210","v":0},{"$f":"Site3!E211","v":0},{"$f":"Site3!E212","v":0},{"$f":"Site3!E213","v":0},{"$f":"Site3!E214","v":0},{"$f":"Site3!E217","v":0},{"$f":"Site3!E218","v":0},{"$f":"Site3!E219","v":0},{"$f":"Site3!E220","v":0},{"$f":"Site3!E221","v":0},{"$f":"Site3!E222","v":0},{"$f":"Site3!E223","v":0},{"$f":"Site3!E224","v":0},{"$f":"Site3!E225","v":0},{"$f":"Site3!E227","v":0},{"$f":"Site3!E228","v":0},{"$f":"Site3!E229","v":0},{"$f":"Site3!E230","v":0},{"$f":"Site3!E231","v":0},{"$f":"Site3!E232","v":0},{"$f":"Site3!E233","v":0},{"$f":"Site3!E234","v":0},{"$f":"Site3!E235","v":0},{"$f":"Site3!E237","v":0},{"$f":"Site3!E238","v":0},{"$f":"Site3!E239","v":0},{"$f":"Site3!E240","v":0},{"$f":"Site3!F241","v":0},{"$f":"Site3!E243","v":0},{"$f":"Site3!E244","v":0},{"$f":"Site3!E245","v":0},{"$f":"Site3!E246","v":0},{"$f":"Site3!E247","v":0},{"$f":"Site3!E248","v":0},{"$f":"Site3!E249","v":0},{"$f":"Site3!E250","v":0},{"$f":"Site3!E251","v":0},{"$f":"Site3!E254","v":0},{"$f":"Site3!E255","v":0},{"$f":"Site3!E256","v":0},{"$f":"Site3!E257","v":0},{"$f":"Site3!E258","v":0},{"$f":"Site3!E259","v":0},{"$f":"Site3!E261","v":0},{"$f":"Site3!E262","v":0},{"$f":"Site3!E263","v":0},{"$f":"Site3!E265","v":0},{"$f":"Site3!E266","v":0},{"$f":"Site3!E267","v":0},{"$f":"Site3!E269","v":0},{"$f":"Site3!E270","v":0},{"$f":"Site3!E271","v":0},{"$f":"Site3!E273","v":0},{"$f":"Site3!E275","v":0},{"$f":"Site3!E276","v":0},{"$f":"Site3!E277","v":0},{"$f":"Site3!E279","v":0},{"$f":"Site3!E281","v":0},{"$f":"Site3!E282","v":0},{"$f":"Site3!E283","v":0},{"$f":"Site3!E286","v":0},{"$f":"Site3!E287","v":0},{"$f":"Site3!E288","v":0},{"$f":"Site3!E290","v":0},{"$f":"Site3!E292","v":0},{"$f":"Site3!E293","v":0},{"$f":"Site3!E294","v":0},{"$f":"Site3!E297","v":0},{"$f":"Site3!E298","v":0},{"$f":"Site3!E299","v":0},{"$f":"Site3!E300","v":0},{"$f":"Site3!E301","v":0},{"$f":"Site3!E302","v":0},{"$f":"Site3!E303","v":0},{"$f":"Site3!E304","v":0},{"$f":"Site3!E305","v":0},{"$f":"Site3!E306","v":0},{"$f":"Site3!E307","v":0},{"$f":"Site3!E308","v":0},{"$f":"Site3!E309","v":0},{"$f":"Site3!E310","v":0},{"$f":"Site3!E311","v":0},{"$f":"Site3!E312","v":0},{"$f":"Site3!E313","v":0},{"$f":"Site3!E317","v":0},{"$f":"Site3!E318","v":0},{"$f":"Site3!E319","v":0},{"$f":"Site3!E320","v":0},{"$f":"Site3!E321","v":0},{"$f":"Site3!I317","v":0},{"$f":"Site3!I318","v":0},{"$f":"Site3!I319","v":0},{"$f":"Site3!E324","v":0},{"$f":"Site3!E325","v":0},{"$f":"Site3!E326","v":0},{"$f":"Site3!E327","v":0},{"$f":"Site3!E328","v":0},{"$f":"Site3!I324","v":0},{"$f":"Site3!I325","v":0},{"$f":"Site3!I326","v":0},{"$f":"Site3!E331","v":0},{"$f":"Site3!E332","v":0},{"$f":"Site3!E333","v":0},{"$f":"Site3!E334","v":0},{"$f":"Site3!E335","v":0},{"$f":"Site3!I331","v":0},{"$f":"Site3!I332","v":0},{"$f":"Site3!I333","v":0},{"$f":"Site3!E338","v":0},{"$f":"Site3!E339","v":0},{"$f":"Site3!E340","v":0},{"$f":"Site3!E341","v":0},{"$f":"Site3!E342","v":0},{"$f":"Site3!I338","v":0},{"$f":"Site3!I339","v":0},{"$f":"Site3!I340","v":0},{"$f":"Site3!E344","v":0},{"$f":"Site3!E345","v":0},{"$f":"Site3!E346","v":0},{"$f":"Site3!E347","v":0},{"$f":"Site3!E348","v":0},{"$f":"Site3!I344","v":0},{"$f":"Site3!I345","v":0},{"$f":"Site3!I346","v":0},{"$f":"Site3!E350","v":0},{"$f":"Site3!E351","v":0},{"$f":"Site3!E352","v":0},{"$f":"Site3!E353","v":0},{"$f":"Site3!E354","v":0},{"$f":"Site3!I350","v":0},{"$f":"Site3!I351","v":0},{"$f":"Site3!I352","v":0},{"$f":"Site3!E356","v":0},{"$f":"Site3!E357","v":0},{"$f":"Site3!E358","v":0},{"$f":"Site3!E359","v":0},{"$f":"Site3!E360","v":0},{"$f":"Site3!I356","v":0},{"$f":"Site3!I357","v":0},{"$f":"Site3!I358","v":0},{"$f":"Site3!E362","v":0},{"$f":"Site3!E363","v":0},{"$f":"Site3!E364","v":0},{"$f":"Site3!E365","v":0},{"$f":"Site3!E366","v":0},{"$f":"Site3!I362","v":0},{"$f":"Site3!I363","v":0},{"$f":"Site3!I364","v":0},{"$f":"Site3!C369","v":0}]
[{"$f":"Site4!E3","v":0},{"$f":"Site4!E4","v":{"$error":"#N/A"}},{"$f":"Site4!E5","v":0},{"$f":"Site4!E6","v":0},{"$f":"Site4!E7","v":0},{"$f":"Site4!E8","v":"00:00:00"},{"$f":"Site4!E9","v":0},{"$f":"Site4!H9","v":{"$error":"#N/A"}},{"$f":"Site4!E10","v":0},{"$f":"Site4!H10","v":{"$error":"#N/A"}},{"$f":"Site4!E11","v":0},{"$f":"Site4!H11","v":{"$error":"#N/A"}},{"$f":"Site4!E12","v":0},{"$f":"Site4!H12","v":{"$error":"#N/A"}},{"$f":"Site4!E13","v":0},{"$f":"Site4!H13","v":{"$error":"#N/A"}},{"$f":"Site4!E14","v":0},{"$f":"Site4!E15","v":0},{"$f":"Site4!H15","v":0},{"$f":"Site4!E16","v":0},{"$f":"Site4!H16","v":0},{"$f":"Site4!E17","v":0},{"$f":"Site4!H17","v":0},{"$f":"Site4!E18","v":0},{"$f":"Site4!H18","v":0},{"$f":"Site4!E21","v":0},{"$f":"Site4!E22","v":0},{"$f":"Site4!E23","v":0},{"$f":"Site4!E24","v":0},{"$f":"Site4!E25","v":0},{"$f":"Site4!E26","v":0},{"$f":"Site4!E27","v":0},{"$f":"Site4!E29","v":0},{"$f":"Site4!E30","v":0},{"$f":"Site4!E31","v":0},{"$f":"Site4!E32","v":0},{"$f":"Site4!E33","v":0},{"$f":"Site4!E34","v":0},{"$f":"Site4!E35","v":0},{"$f":"Site4!E38","v":0},{"$f":"Site4!E39","v":0},{"$f":"Site4!E40","v":0},{"$f":"Site4!E41","v":0},{"$f":"Site4!E42","v":0},{"$f":"Site4!E43","v":0},{"$f":"Site4!E45","v":0},{"$f":"Site4!E46","v":0},{"$f":"Site4!E47","v":0},{"$f":"Site4!E48","v":0},{"$f":"Site4!E49","v":0},{"$f":"Site4!E50","v":0},{"$f":"Site4!E51","v":0},{"$f":"Site4!E53","v":0},{"$f":"Site4!E54","v":0},{"$f":"Site4!E55","v":0},{"$f":"Site4!E56","v":0},{"$f":"Site4!E57","v":0},{"$f":"Site4!E58","v":0},{"$f":"Site4!E59","v":0},{"$f":"Site4!E63","v":0},{"$f":"Site4!E64","v":0},{"$f":"Site4!E65","v":0},{"$f":"Site4!E66","v":0},{"$f":"Site4!E67","v":0},{"$f":"Site4!E68","v":0},{"$f":"Site4!E69","v":0},{"$f":"Site4!E70","v":0},{"$f":"Site4!E71","v":0},{"$f":"Site4!E72","v":0},{"$f":"Site4!E73","v":0},{"$f":"Site4!E74","v":0},{"$f":"Site4!E75","v":0},{"$f":"Site4!E76","v":0},{"$f":"Site4!E77","v":0},{"$f":"Site4!E78","v":0},{"$f":"Site4!E79","v":0},{"$f":"Site4!E80","v":0},{"$f":"Site4!E82","v":0},{"$f":"Site4!E83","v":0},{"$f":"Site4!E84","v":0},{"$f":"Site4!E85","v":0},{"$f":"Site4!E86","v":0},{"$f":"Site4!E87","v":0},{"$f":"Site4!E88","v":0},{"$f":"Site4!E89","v":0},{"$f":"Site4!E90","v":0},{"$f":"Site4!E91","v":0},{"$f":"Site4!E92","v":0},{"$f":"Site4!E93","v":0},{"$f":"Site4!E94","v":0},{"$f":"Site4!E95","v":0},{"$f":"Site4!E96","v":0},{"$f":"Site4!E97","v":0},{"$f":"Site4!E99","v":0},{"$f":"Site4!E100","v":0},{"$f":"Site4!E101","v":0},{"$f":"Site4!E102","v":0},{"$f":"Site4!E103","v":0},{"$f":"Site4!E104","v":0},{"$f":"Site4!E105","v":0},{"$f":"Site4!E106","v":0},{"$f":"Site4!E107","v":0},{"$f":"Site4!E108","v":0},{"$f":"Site4!E109","v":0},{"$f":"Site4!E110","v":0},{"$f":"Site4!E111","v":0},{"$f":"Site4!E112","v":0},{"$f":"Site4!E113","v":0},{"$f":"Site4!E114","v":0},{"$f":"Site4!E115","v":0},{"$f":"Site4!E116","v":0},{"$f":"Site4!E118","v":0},{"$f":"Site4!E119","v":0},{"$f":"Site4!E120","v":0},{"$f":"Site4!E121","v":0},{"$f":"Site4!E122","v":0},{"$f":"Site4!E123","v":0},{"$f":"Site4!E124","v":0},{"$f":"Site4!E125","v":0},{"$f":"Site4!E126","v":0},{"$f":"Site4!E127","v":0},{"$f":"Site4!E128","v":0},{"$f":"Site4!E129","v":0},{"$f":"Site4!E130","v":0},{"$f":"Site4!E131","v":0},{"$f":"Site4!E132","v":0},{"$f":"Site4!E133","v":0},{"$f":"Site4!E134","v":0},{"$f":"Site4!E135","v":0},{"$f":"Site4!E136","v":0},{"$f":"Site4!E137","v":0},{"$f":"Site4!E139","v":0},{"$f":"Site4!E140","v":0},{"$f":"Site4!E141","v":0},{"$f":"Site4!E142","v":0},{"$f":"Site4!E143","v":0},{"$f":"Site4!E144","v":0},{"$f":"Site4!E145","v":0},{"$f":"Site4!E146","v":0},{"$f":"Site4!E147","v":0},{"$f":"Site4!E148","v":0},{"$f":"Site4!E149","v":0},{"$f":"Site4!E150","v":0},{"$f":"Site4!E151","v":0},{"$f":"Site4!E152","v":0},{"$f":"Site4!E153","v":0},{"$f":"Site4!E154","v":0},{"$f":"Site4!E155","v":0},{"$f":"Site4!E156","v":0},{"$f":"Site4!E159","v":0},{"$f":"Site4!E160","v":0},{"$f":"Site4!E161","v":0},{"$f":"Site4!E162","v":0},{"$f":"Site4!E163","v":0},{"$f":"Site4!E164","v":0},{"$f":"Site4!E165","v":0},{"$f":"Site4!E166","v":0},{"$f":"Site4!E167","v":0},{"$f":"Site4!E168","v":0},{"$f":"Site4!E169","v":0},{"$f":"Site4!E170","v":0},{"$f":"Site4!E171","v":0},{"$f":"Site4!E172","v":0},{"$f":"Site4!E173","v":0},{"$f":"Site4!E174","v":0},{"$f":"Site4!E175","v":0},{"$f":"Site4!E176","v":0},{"$f":"Site4!E177","v":0},{"$f":"Site4!E178","v":0},{"$f":"Site4!E179","v":0},{"$f":"Site4!E181","v":0},{"$f":"Site4!E182","v":0},{"$f":"Site4!E183","v":0},{"$f":"Site4!E184","v":0},{"$f":"Site4!E185","v":0},{"$f":"Site4!E186","v":0},{"$f":"Site4!E187","v":0},{"$f":"Site4!E188","v":0},{"$f":"Site4!E189","v":0},{"$f":"Site4!E190","v":0},{"$f":"Site4!E191","v":0},{"$f":"Site4!E192","v":0},{"$f":"Site4!E194","v":0},{"$f":"Site4!E195","v":0},{"$f":"Site4!E196","v":0},{"$f":"Site4!E197","v":0},{"$f":"Site4!E198","v":0},{"$f":"Site4!E199","v":0},{"$f":"Site4!E200","v":0},{"$f":"Site4!E201","v":0},{"$f":"Site4!E202","v":0},{"$f":"Site4!E203","v":0},{"$f":"Site4!E204","v":0},{"$f":"Site4!E205","v":0},{"$f":"Site4!E206","v":0},{"$f":"Site4!E207","v":0},{"$f":"Site4!E208","v":0},{"$f":"Site4!E209","v":0},{"$f":"Site4!E210","v":0},{"$f":"Site4!E211","v":0},{"$f":"Site4!E212","v":0},{"$f":"Site4!E213","v":0},{"$f":"Site4!E214","v":0},{"$f":"Site4!E217","v":0},{"$f":"Site4!E218","v":0},{"$f":"Site4!E219","v":0},{"$f":"Site4!E220","v":0},{"$f":"Site4!E221","v":0},{"$f":"Site4!E222","v":0},{"$f":"Site4!E223","v":0},{"$f":"Site4!E224","v":0},{"$f":"Site4!E225","v":0},{"$f":"Site4!E227","v":0},{"$f":"Site4!E228","v":0},{"$f":"Site4!E229","v":0},{"$f":"Site4!E230","v":0},{"$f":"Site4!E231","v":0},{"$f":"Site4!E232","v":0},{"$f":"Site4!E233","v":0},{"$f":"Site4!E234","v":0},{"$f":"Site4!E235","v":0},{"$f":"Site4!E237","v":0},{"$f":"Site4!E238","v":0},{"$f":"Site4!E239","v":0},{"$f":"Site4!E240","v":0},{"$f":"Site4!F241","v":0},{"$f":"Site4!E243","v":0},{"$f":"Site4!E244","v":0},{"$f":"Site4!E245","v":0},{"$f":"Site4!E246","v":0},{"$f":"Site4!E247","v":0},{"$f":"Site4!E248","v":0},{"$f":"Site4!E249","v":0},{"$f":"Site4!E250","v":0},{"$f":"Site4!E251","v":0},{"$f":"Site4!E254","v":0},{"$f":"Site4!E255","v":0},{"$f":"Site4!E256","v":0},{"$f":"Site4!E257","v":0},{"$f":"Site4!E258","v":0},{"$f":"Site4!E259","v":0},{"$f":"Site4!E261","v":0},{"$f":"Site4!E262","v":0},{"$f":"Site4!E263","v":0},{"$f":"Site4!E265","v":0},{"$f":"Site4!E266","v":0},{"$f":"Site4!E267","v":0},{"$f":"Site4!E269","v":0},{"$f":"Site4!E270","v":0},{"$f":"Site4!E271","v":0},{"$f":"Site4!E273","v":0},{"$f":"Site4!E275","v":0},{"$f":"Site4!E276","v":0},{"$f":"Site4!E277","v":0},{"$f":"Site4!E279","v":0},{"$f":"Site4!E281","v":0},{"$f":"Site4!E282","v":0},{"$f":"Site4!E283","v":0},{"$f":"Site4!E286","v":0},{"$f":"Site4!E287","v":0},{"$f":"Site4!E288","v":0},{"$f":"Site4!E290","v":0},{"$f":"Site4!E292","v":0},{"$f":"Site4!E293","v":0},{"$f":"Site4!E294","v":0},{"$f":"Site4!E297","v":0},{"$f":"Site4!E298","v":0},{"$f":"Site4!E299","v":0},{"$f":"Site4!E300","v":0},{"$f":"Site4!E301","v":0},{"$f":"Site4!E302","v":0},{"$f":"Site4!E303","v":0},{"$f":"Site4!E304","v":0},{"$f":"Site4!E305","v":0},{"$f":"Site4!E306","v":0},{"$f":"Site4!E307","v":0},{"$f":"Site4!E308","v":0},{"$f":"Site4!E309","v":0},{"$f":"Site4!E310","v":0},{"$f":"Site4!E311","v":0},{"$f":"Site4!E312","v":0},{"$f":"Site4!E313","v":0},{"$f":"Site4!E317","v":0},{"$f":"Site4!E318","v":0},{"$f":"Site4!E319","v":0},{"$f":"Site4!E320","v":0},{"$f":"Site4!E321","v":0},{"$f":"Site4!I317","v":0},{"$f":"Site4!I318","v":0},{"$f":"Site4!I319","v":0},{"$f":"Site4!E324","v":0},{"$f":"Site4!E325","v":0},{"$f":"Site4!E326","v":0},{"$f":"Site4!E327","v":0},{"$f":"Site4!E328","v":0},{"$f":"Site4!I324","v":0},{"$f":"Site4!I325","v":0},{"$f":"Site4!I326","v":0},{"$f":"Site4!E331","v":0},{"$f":"Site4!E332","v":0},{"$f":"Site4!E333","v":0},{"$f":"Site4!E334","v":0},{"$f":"Site4!E335","v":0},{"$f":"Site4!I331","v":0},{"$f":"Site4!I332","v":0},{"$f":"Site4!I333","v":0},{"$f":"Site4!E338","v":0},{"$f":"Site4!E339","v":0},{"$f":"Site4!E340","v":0},{"$f":"Site4!E341","v":0},{"$f":"Site4!E342","v":0},{"$f":"Site4!I338","v":0},{"$f":"Site4!I339","v":0},{"$f":"Site4!I340","v":0},{"$f":"Site4!E344","v":0},{"$f":"Site4!E345","v":0},{"$f":"Site4!E346","v":0},{"$f":"Site4!E347","v":0},{"$f":"Site4!E348","v":0},{"$f":"Site4!I344","v":0},{"$f":"Site4!I345","v":0},{"$f":"Site4!I346","v":0},{"$f":"Site4!E350","v":0},{"$f":"Site4!E351","v":0},{"$f":"Site4!E352","v":0},{"$f":"Site4!E353","v":0},{"$f":"Site4!E354","v":0},{"$f":"Site4!I350","v":0},{"$f":"Site4!I351","v":0},{"$f":"Site4!I352","v":0},{"$f":"Site4!E356","v":0},{"$f":"Site4!E357","v":0},{"$f":"Site4!E358","v":0},{"$f":"Site4!E359","v":0},{"$f":"Site4!E360","v":0},{"$f":"Site4!I356","v":0},{"$f":"Site4!I357","v":0},{"$f":"Site4!I358","v":0},{"$f":"Site4!E362","v":0},{"$f":"Site4!E363","v":0},{"$f":"Site4!E364","v":0},{"$f":"Site4!E365","v":0},{"$f":"Site4!E366","v":0},{"$f":"Site4!I362","v":0},{"$f":"Site4!I363","v":0},{"$f":"Site4!I364","v":0},{"$f":"Site4!C369","v":0}]
[{"$f":"Site5!E3","v":0},{"$f":"Site5!E4","v":{"$error":"#N/A"}},{"$f":"Site5!E5","v":0},{"$f":"Site5!E6","v":0},{"$f":"Site5!E7","v":0},{"$f":"Site5!E8","v":"00:00:00"},{"$f":"Site5!E9","v":0},{"$f":"Site5!H9","v":{"$error":"#N/A"}},{"$f":"Site5!E10","v":0},{"$f":"Site5!H10","v":{"$error":"#N/A"}},{"$f":"Site5!E11","v":0},{"$f":"Site5!H11","v":{"$error":"#N/A"}},{"$f":"Site5!E12","v":0},{"$f":"Site5!H12","v":{"$error":"#N/A"}},{"$f":"Site5!E13","v":0},{"$f":"Site5!H13","v":{"$error":"#N/A"}},{"$f":"Site5!E14","v":0},{"$f":"Site5!E15","v":0},{"$f":"Site5!H15","v":0},{"$f":"Site5!E16","v":0},{"$f":"Site5!H16","v":0},{"$f":"Site5!E17","v":0},{"$f":"Site5!H17","v":0},{"$f":"Site5!E18","v":0},{"$f":"Site5!H18","v":0},{"$f":"Site5!E21","v":0},{"$f":"Site5!E22","v":0},{"$f":"Site5!E23","v":0},{"$f":"Site5!E24","v":0},{"$f":"Site5!E25","v":0},{"$f":"Site5!E26","v":0},{"$f":"Site5!E27","v":0},{"$f":"Site5!E29","v":0},{"$f":"Site5!E30","v":0},{"$f":"Site5!E31","v":0},{"$f":"Site5!E32","v":0},{"$f":"Site5!E33","v":0},{"$f":"Site5!E34","v":0},{"$f":"Site5!E35","v":0},{"$f":"Site5!E38","v":0},{"$f":"Site5!E39","v":0},{"$f":"Site5!E40","v":0},{"$f":"Site5!E41","v":0},{"$f":"Site5!E42","v":0},{"$f":"Site5!E43","v":0},{"$f":"Site5!E45","v":0},{"$f":"Site5!E46","v":0},{"$f":"Site5!E47","v":0},{"$f":"Site5!E48","v":0},{"$f":"Site5!E49","v":0},{"$f":"Site5!E50","v":0},{"$f":"Site5!E51","v":0},{"$f":"Site5!E53","v":0},{"$f":"Site5!E54","v":0},{"$f":"Site5!E55","v":0},{"$f":"Site5!E56","v":0},{"$f":"Site5!E57","v":0},{"$f":"Site5!E58","v":0},{"$f":"Site5!E59","v":0},{"$f":"Site5!E63","v":0},{"$f":"Site5!E64","v":0},{"$f":"Site5!E65","v":0},{"$f":"Site5!E66","v":0},{"$f":"Site5!E67","v":0},{"$f":"Site5!E68","v":0},{"$f":"Site5!E69","v":0},{"$f":"Site5!E70","v":0},{"$f":"Site5!E71","v":0},{"$f":"Site5!E72","v":0},{"$f":"Site5!E73","v":0},{"$f":"Site5!E74","v":0},{"$f":"Site5!E75","v":0},{"$f":"Site5!E76","v":0},{"$f":"Site5!E77","v":0},{"$f":"Site5!E78","v":0},{"$f":"Site5!E79","v":0},{"$f":"Site5!E80","v":0},{"$f":"Site5!E82","v":0},{"$f":"Site5!E83","v":0},{"$f":"Site5!E84","v":0},{"$f":"Site5!E85","v":0},{"$f":"Site5!E86","v":0},{"$f":"Site5!E87","v":0},{"$f":"Site5!E88","v":0},{"$f":"Site5!E89","v":0},{"$f":"Site5!E90","v":0},{"$f":"Site5!E91","v":0},{"$f":"Site5!E92","v":0},{"$f":"Site5!E93","v":0},{"$f":"Site5!E94","v":0},{"$f":"Site5!E95","v":0},{"$f":"Site5!E96","v":0},{"$f":"Site5!E97","v":0},{"$f":"Site5!E99","v":0},{"$f":"Site5!E100","v":0},{"$f":"Site5!E101","v":0},{"$f":"Site5!E102","v":0},{"$f":"Site5!E103","v":0},{"$f":"Site5!E104","v":0},{"$f":"Site5!E105","v":0},{"$f":"Site5!E106","v":0},{"$f":"Site5!E107","v":0},{"$f":"Site5!E108","v":0},{"$f":"Site5!E109","v":0},{"$f":"Site5!E110","v":0},{"$f":"Site5!E111","v":0},{"$f":"Site5!E112","v":0},{"$f":"Site5!E113","v":0},{"$f":"Site5!E114","v":0},{"$f":"Site5!E115","v":0},{"$f":"Site5!E116","v":0},{"$f":"Site5!E118","v":0},{"$f":"Site5!E119","v":0},{"$f":"Site5!E120","v":0},{"$f":"Site5!E121","v":0},{"$f":"Site5!E122","v":0},{"$f":"Site5!E123","v":0},{"$f":"Site5!E124","v":0},{"$f":"Site5!E125","v":0},{"$f":"Site5!E126","v":0},{"$f":"Site5!E127","v":0},{"$f":"Site5!E128","v":0},{"$f":"Site5!E129","v":0},{"$f":"Site5!E130","v":0},{"$f":"Site5!E131","v":0},{"$f":"Site5!E132","v":0},{"$f":"Site5!E133","v":0},{"$f":"Site5!E134","v":0},{"$f":"Site5!E135","v":0},{"$f":"Site5!E136","v":0},{"$f":"Site5!E137","v":0},{"$f":"Site5!E139","v":0},{"$f":"Site5!E140","v":0},{"$f":"Site5!E141","v":0},{"$f":"Site5!E142","v":0},{"$f":"Site5!E143","v":0},{"$f":"Site5!E144","v":0},{"$f":"Site5!E145","v":0},{"$f":"Site5!E146","v":0},{"$f":"Site5!E147","v":0},{"$f":"Site5!E148","v":0},{"$f":"Site5!E149","v":0},{"$f":"Site5!E150","v":0},{"$f":"Site5!E151","v":0},{"$f":"Site5!E152","v":0},{"$f":"Site5!E153","v":0},{"$f":"Site5!E154","v":0},{"$f":"Site5!E155","v":0},{"$f":"Site5!E156","v":0},{"$f":"Site5!E159","v":0},{"$f":"Site5!E160","v":0},{"$f":"Site5!E161","v":0},{"$f":"Site5!E162","v":0},{"$f":"Site5!E163","v":0},{"$f":"Site5!E164","v":0},{"$f":"Site5!E165","v":0},{"$f":"Site5!E166","v":0},{"$f":"Site5!E167","v":0},{"$f":"Site5!E168","v":0},{"$f":"Site5!E169","v":0},{"$f":"Site5!E170","v":0},{"$f":"Site5!E171","v":0},{"$f":"Site5!E172","v":0},{"$f":"Site5!E173","v":0},{"$f":"Site5!E174","v":0},{"$f":"Site5!E175","v":0},{"$f":"Site5!E176","v":0},{"$f":"Site5!E177","v":0},{"$f":"Site5!E178","v":0},{"$f":"Site5!E179","v":0},{"$f":"Site5!E181","v":0},{"$f":"Site5!E182","v":0},{"$f":"Site5!E183","v":0},{"$f":"Site5!E184","v":0},{"$f":"Site5!E185","v":0},{"$f":"Site5!E186","v":0},{"$f":"Site5!E187","v":0},{"$f":"Site5!E188","v":0},{"$f":"Site5!E189","v":0},{"$f":"Site5!E190","v":0},{"$f":"Site5!E191","v":0},{"$f":"Site5!E192","v":0},{"$f":"Site5!E194","v":0},{"$f":"Site5!E195","v":0},{"$f":"Site5!E196","v":0},{"$f":"Site5!E197","v":0},{"$f":"Site5!E198","v":0},{"$f":"Site5!E199","v":0},{"$f":"Site5!E200","v":0},{"$f":"Site5!E201","v":0},{"$f":"Site5!E202","v":0},{"$f":"Site5!E203","v":0},{"$f":"Site5!E204","v":0},{"$f":"Site5!E205","v":0},{"$f":"Site5!E206","v":0},{"$f":"Site5!E207","v":0},{"$f":"Site5!E208","v":0},{"$f":"Site5!E209","v":0},{"$f":"Site5!E210","v":0},{"$f":"Site5!E211","v":0},{"$f":"Site5!E212","v":0},{"$f":"Site5!E213","v":0},{"$f":"Site5!E214","v":0},{"$f":"Site5!E217","v":0},{"$f":"Site5!E218","v":0},{"$f":"Site5!E219","v":0},{"$f":"Site5!E220","v":0},{"$f":"Site5!E221","v":0},{"$f":"Site5!E222","v":0},{"$f":"Site5!E223","v":0},{"$f":"Site5!E224","v":0},{"$f":"Site5!E225","v":0},{"$f":"Site5!E227","v":0},{"$f":"Site5!E228","v":0},{"$f":"Site5!E229","v":0},{"$f":"Site5!E230","v":0},{"$f":"Site5!E231","v":0},{"$f":"Site5!E232","v":0},{"$f":"Site5!E233","v":0},{"$f":"Site5!E234","v":0},{"$f":"Site5!E235","v":0},{"$f":"Site5!E237","v":0},{"$f":"Site5!E238","v":0},{"$f":"Site5!E239","v":0},{"$f":"Site5!E240","v":0},{"$f":"Site5!F241","v":0},{"$f":"Site5!E243","v":0},{"$f":"Site5!E244","v":0},{"$f":"Site5!E245","v":0},{"$f":"Site5!E246","v":0},{"$f":"Site5!E247","v":0},{"$f":"Site5!E248","v":0},{"$f":"Site5!E249","v":0},{"$f":"Site5!E250","v":0},{"$f":"Site5!E251","v":0},{"$f":"Site5!E254","v":0},{"$f":"Site5!E255","v":0},{"$f":"Site5!E256","v":0},{"$f":"Site5!E257","v":0},{"$f":"Site5!E258","v":0},{"$f":"Site5!E259","v":0},{"$f":"Site5!E261","v":0},{"$f":"Site5!E262","v":0},{"$f":"Site5!E263","v":0},{"$f":"Site5!E265","v":0},{"$f":"Site5!E266","v":0},{"$f":"Site5!E267","v":0},{"$f":"Site5!E269","v":0},{"$f":"Site5!E270","v":0},{"$f":"Site5!E271","v":0},{"$f":"Site5!E273","v":0},{"$f":"Site5!E275","v":0},{"$f":"Site5!E276","v":0},{"$f":"Site5!E277","v":0},{"$f":"Site5!E279","v":0},{"$f":"Site5!E281","v":0},{"$f":"Site5!E282","v":0},{"$f":"Site5!E283","v":0},{"$f":"Site5!E286","v":0},{"$f":"Site5!E287","v":0},{"$f":"Site5!E288","v":0},{"$f":"Site5!E290","v":0},{"$f":"Site5!E292","v":0},{"$f":"Site5!E293","v":0},{"$f":"Site5!E294","v":0},{"$f":"Site5!E297","v":0},{"$f":"Site5!E298","v":0},{"$f":"Site5!E299","v":0},{"$f":"Site5!E300","v":0},{"$f":"Site5!E301","v":0},{"$f":"Site5!E302","v":0},{"$f":"Site5!E303","v":0},{"$f":"Site5!E304","v":0},{"$f":"Site5!E305","v":0},{"$f":"Site5!E306","v":0},{"$f":"Site5!E307","v":0},{"$f":"Site5!E308","v":0},{"$f":"Site5!E309","v":0},{"$f":"Site5!E310","v":0},{"$f":"Site5!E311","v":0},{"$f":"Site5!E312","v":0},{"$f":"Site5!E313","v":0},{"$f":"Site5!E317","v":0},{"$f":"Site5!E318","v":0},{"$f":"Site5!E319","v":0},{"$f":"Site5!E320","v":0},{"$f":"Site5!E321","v":0},{"$f":"Site5!I317","v":0},{"$f":"Site5!I318","v":0},{"$f":"Site5!I319","v":0},{"$f":"Site5!E324","v":0},{"$f":"Site5!E325","v":0},{"$f":"Site5!E326","v":0},{"$f":"Site5!E327","v":0},{"$f":"Site5!E328","v":0},{"$f":"Site5!I324","v":0},{"$f":"Site5!I325","v":0},{"$f":"Site5!I326","v":0},{"$f":"Site5!E331","v":0},{"$f":"Site5!E332","v":0},{"$f":"Site5!E333","v":0},{"$f":"Site5!E334","v":0},{"$f":"Site5!E335","v":0},{"$f":"Site5!I331","v":0},{"$f":"Site5!I332","v":0},{"$f":"Site5!I333","v":0},{"$f":"Site5!E338","v":0},{"$f":"Site5!E339","v":0},{"$f":"Site5!E340","v":0},{"$f":"Site5!E341","v":0},{"$f":"Site5!E342","v":0},{"$f":"Site5!I338","v":0},{"$f":"Site5!I339","v":0},{"$f":"Site5!I340","v":0},{"$f":"Site5!E344","v":0},{"$f":"Site5!E345","v":0},{"$f":"Site5!E346","v":0},{"$f":"Site5!E347","v":0},{"$f":"Site5!E348","v":0},{"$f":"Site5!I344","v":0},{"$f":"Site5!I345","v":0},{"$f":"Site5!I346","v":0},{"$f":"Site5!E350","v":0},{"$f":"Site5!E351","v":0},{"$f":"Site5!E352","v":0},{"$f":"Site5!E353","v":0},{"$f":"Site5!E354","v":0},{"$f":"Site5!I350","v":0},{"$f":"Site5!I351","v":0},{"$f":"Site5!I352","v":0},{"$f":"Site5!E356","v":0},{"$f":"Site5!E357","v":0},{"$f":"Site5!E358","v":0},{"$f":"Site5!E359","v":0},{"$f":"Site5!E360","v":0},{"$f":"Site5!I356","v":0},{"$f":"Site5!I357","v":0},{"$f":"Site5!I358","v":0},{"$f":"Site5!E362","v":0},{"$f":"Site5!E363","v":0},{"$f":"Site5!E364","v":0},{"$f":"Site5!E365","v":0},{"$f":"Site5!E366","v":0},{"$f":"Site5!I362","v":0},{"$f":"Site5!I363","v":0},{"$f":"Site5!I364","v":0},{"$f":"Site5!C369","v":0}]
[{"$f":"Site6!E3","v":0},{"$f":"Site6!E4","v":{"$error":"#N/A"}},{"$f":"Site6!E5","v":0},{"$f":"Site6!E6","v":0},{"$f":"Site6!E7","v":0},{"$f":"Site6!E8","v":"00:00:00"},{"$f":"Site6!E9","v":0},{"$f":"Site6!H9","v":{"$error":"#N/A"}},{"$f":"Site6!E10","v":0},{"$f":"Site6!H10","v":{"$error":"#N/A"}},{"$f":"Site6!E11","v":0},{"$f":"Site6!H11","v":{"$error":"#N/A"}},{"$f":"Site6!E12","v":0},{"$f":"Site6!H12","v":{"$error":"#N/A"}},{"$f":"Site6!E13","v":0},{"$f":"Site6!H13","v":{"$error":"#N/A"}},{"$f":"Site6!E14","v":0},{"$f":"Site6!E15","v":0},{"$f":"Site6!H15","v":0},{"$f":"Site6!E16","v":0},{"$f":"Site6!H16","v":0},{"$f":"Site6!E17","v":0},{"$f":"Site6!H17","v":0},{"$f":"Site6!E18","v":0},{"$f":"Site6!H18","v":0},{"$f":"Site6!E21","v":0},{"$f":"Site6!E22","v":0},{"$f":"Site6!E23","v":0},{"$f":"Site6!E24","v":0},{"$f":"Site6!E25","v":0},{"$f":"Site6!E26","v":0},{"$f":"Site6!E27","v":0},{"$f":"Site6!E29","v":0},{"$f":"Site6!E30","v":0},{"$f":"Site6!E31","v":0},{"$f":"Site6!E32","v":0},{"$f":"Site6!E33","v":0},{"$f":"Site6!E34","v":0},{"$f":"Site6!E35","v":0},{"$f":"Site6!E38","v":0},{"$f":"Site6!E39","v":0},{"$f":"Site6!E40","v":0},{"$f":"Site6!E41","v":0},{"$f":"Site6!E42","v":0},{"$f":"Site6!E43","v":0},{"$f":"Site6!E45","v":0},{"$f":"Site6!E46","v":0},{"$f":"Site6!E47","v":0},{"$f":"Site6!E48","v":0},{"$f":"Site6!E49","v":0},{"$f":"Site6!E50","v":0},{"$f":"Site6!E51","v":0},{"$f":"Site6!E53","v":0},{"$f":"Site6!E54","v":0},{"$f":"Site6!E55","v":0},{"$f":"Site6!E56","v":0},{"$f":"Site6!E57","v":0},{"$f":"Site6!E58","v":0},{"$f":"Site6!E59","v":0},{"$f":"Site6!E63","v":0},{"$f":"Site6!E64","v":0},{"$f":"Site6!E65","v":0},{"$f":"Site6!E66","v":0},{"$f":"Site6!E67","v":0},{"$f":"Site6!E68","v":0},{"$f":"Site6!E69","v":0},{"$f":"Site6!E70","v":0},{"$f":"Site6!E71","v":0},{"$f":"Site6!E72","v":0},{"$f":"Site6!E73","v":0},{"$f":"Site6!E74","v":0},{"$f":"Site6!E75","v":0},{"$f":"Site6!E76","v":0},{"$f":"Site6!E77","v":0},{"$f":"Site6!E78","v":0},{"$f":"Site6!E79","v":0},{"$f":"Site6!E80","v":0},{"$f":"Site6!E82","v":0},{"$f":"Site6!E83","v":0},{"$f":"Site6!E84","v":0},{"$f":"Site6!E85","v":0},{"$f":"Site6!E86","v":0},{"$f":"Site6!E87","v":0},{"$f":"Site6!E88","v":0},{"$f":"Site6!E89","v":0},{"$f":"Site6!E90","v":0},{"$f":"Site6!E91","v":0},{"$f":"Site6!E92","v":0},{"$f":"Site6!E93","v":0},{"$f":"Site6!E94","v":0},{"$f":"Site6!E95","v":0},{"$f":"Site6!E96","v":0},{"$f":"Site6!E97","v":0},{"$f":"Site6!E99","v":0},{"$f":"Site6!E100","v":0},{"$f":"Site6!E101","v":0},{"$f":"Site6!E102","v":0},{"$f":"Site6!E103","v":0},{"$f":"Site6!E104","v":0},{"$f":"Site6!E105","v":0},{"$f":"Site6!E106","v":0},{"$f":"Site6!E107","v":0},{"$f":"Site6!E108","v":0},{"$f":"Site6!E109","v":0},{"$f":"Site6!E110","v":0},{"$f":"Site6!E111","v":0},{"$f":"Site6!E112","v":0},{"$f":"Site6!E113","v":0},{"$f":"Site6!E114","v":0},{"$f":"Site6!E115","v":0},{"$f":"Site6!E116","v":0},{"$f":"Site6!E118","v":0},{"$f":"Site6!E119","v":0},{"$f":"Site6!E120","v":0},{"$f":"Site6!E121","v":0},{"$f":"Site6!E122","v":0},{"$f":"Site6!E123","v":0},{"$f":"Site6!E124","v":0},{"$f":"Site6!E125","v":0},{"$f":"Site6!E126","v":0},{"$f":"Site6!E127","v":0},{"$f":"Site6!E128","v":0},{"$f":"Site6!E129","v":0},{"$f":"Site6!E130","v":0},{"$f":"Site6!E131","v":0},{"$f":"Site6!E132","v":0},{"$f":"Site6!E133","v":0},{"$f":"Site6!E134","v":0},{"$f":"Site6!E135","v":0},{"$f":"Site6!E136","v":0},{"$f":"Site6!E137","v":0},{"$f":"Site6!E139","v":0},{"$f":"Site6!E140","v":0},{"$f":"Site6!E141","v":0},{"$f":"Site6!E142","v":0},{"$f":"Site6!E143","v":0},{"$f":"Site6!E144","v":0},{"$f":"Site6!E145","v":0},{"$f":"Site6!E146","v":0},{"$f":"Site6!E147","v":0},{"$f":"Site6!E148","v":0},{"$f":"Site6!E149","v":0},{"$f":"Site6!E150","v":0},{"$f":"Site6!E151","v":0},{"$f":"Site6!E152","v":0},{"$f":"Site6!E153","v":0},{"$f":"Site6!E154","v":0},{"$f":"Site6!E155","v":0},{"$f":"Site6!E156","v":0},{"$f":"Site6!E159","v":0},{"$f":"Site6!E160","v":0},{"$f":"Site6!E161","v":0},{"$f":"Site6!E162","v":0},{"$f":"Site6!E163","v":0},{"$f":"Site6!E164","v":0},{"$f":"Site6!E165","v":0},{"$f":"Site6!E166","v":0},{"$f":"Site6!E167","v":0},{"$f":"Site6!E168","v":0},{"$f":"Site6!E169","v":0},{"$f":"Site6!E170","v":0},{"$f":"Site6!E171","v":0},{"$f":"Site6!E172","v":0},{"$f":"Site6!E173","v":0},{"$f":"Site6!E174","v":0},{"$f":"Site6!E175","v":0},{"$f":"Site6!E176","v":0},{"$f":"Site6!E177","v":0},{"$f":"Site6!E178","v":0},{"$f":"Site6!E179","v":0},{"$f":"Site6!E181","v":0},{"$f":"Site6!E182","v":0},{"$f":"Site6!E183","v":0},{"$f":"Site6!E184","v":0},{"$f":"Site6!E185","v":0},{"$f":"Site6!E186","v":0},{"$f":"Site6!E187","v":0},{"$f":"Site6!E188","v":0},{"$f":"Site6!E189","v":0},{"$f":"Site6!E190","v":0},{"$f":"Site6!E191","v":0},{"$f":"Site6!E192","v":0},{"$f":"Site6!E194","v":0},{"$f":"Site6!E195","v":0},{"$f":"Site6!E196","v":0},{"$f":"Site6!E197","v":0},{"$f":"Site6!E198","v":0},{"$f":"Site6!E199","v":0},{"$f":"Site6!E200","v":0},{"$f":"Site6!E201","v":0},{"$f":"Site6!E202","v":0},{"$f":"Site6!E203","v":0},{"$f":"Site6!E204","v":0},{"$f":"Site6!E205","v":0},{"$f":"Site6!E206","v":0},{"$f":"Site6!E207","v":0},{"$f":"Site6!E208","v":0},{"$f":"Site6!E209","v":0},{"$f":"Site6!E210","v":0},{"$f":"Site6!E211","v":0},{"$f":"Site6!E212","v":0},{"$f":"Site6!E213","v":0},{"$f":"Site6!E214","v":0},{"$f":"Site6!E217","v":0},{"$f":"Site6!E218","v":0},{"$f":"Site6!E219","v":0},{"$f":"Site6!E220","v":0},{"$f":"Site6!E221","v":0},{"$f":"Site6!E222","v":0},{"$f":"Site6!E223","v":0},{"$f":"Site6!E224","v":0},{"$f":"Site6!E225","v":0},{"$f":"Site6!E227","v":0},{"$f":"Site6!E228","v":0},{"$f":"Site6!E229","v":0},{"$f":"Site6!E230","v":0},{"$f":"Site6!E231","v":0},{"$f":"Site6!E232","v":0},{"$f":"Site6!E233","v":0},{"$f":"Site6!E234","v":0},{"$f":"Site6!E235","v":0},{"$f":"Site6!E237","v":0},{"$f":"Site6!E238","v":0},{"$f":"Site6!E239","v":0},{"$f":"Site6!E240","v":0},{"$f":"Site6!F241","v":0},{"$f":"Site6!E243","v":0},{"$f":"Site6!E244","v":0},{"$f":"Site6!E245","v":0},{"$f":"Site6!E246","v":0},{"$f":"Site6!E247","v":0},{"$f":"Site6!E248","v":0},{"$f":"Site6!E249","v":0},{"$f":"Site6!E250","v":0},{"$f":"Site6!E251","v":0},{"$f":"Site6!E254","v":0},{"$f":"Site6!E255","v":0},{"$f":"Site6!E256","v":0},{"$f":"Site6!E257","v":0},{"$f":"Site6!E258","v":0},{"$f":"Site6!E259","v":0},{"$f":"Site6!E261","v":0},{"$f":"Site6!E262","v":0},{"$f":"Site6!E263","v":0},{"$f":"Site6!E265","v":0},{"$f":"Site6!E266","v":0},{"$f":"Site6!E267","v":0},{"$f":"Site6!E269","v":0},{"$f":"Site6!E270","v":0},{"$f":"Site6!E271","v":0},{"$f":"Site6!E273","v":0},{"$f":"Site6!E275","v":0},{"$f":"Site6!E276","v":0},{"$f":"Site6!E277","v":0},{"$f":"Site6!E279","v":0},{"$f":"Site6!E281","v":0},{"$f":"Site6!E282","v":0},{"$f":"Site6!E283","v":0},{"$f":"Site6!E286","v":0},{"$f":"Site6!E287","v":0},{"$f":"Site6!E288","v":0},{"$f":"Site6!E290","v":0},{"$f":"Site6!E292","v":0},{"$f":"Site6!E293","v":0},{"$f":"Site6!E294","v":0},{"$f":"Site6!E297","v":0},{"$f":"Site6!E298","v":0},{"$f":"Site6!E299","v":0},{"$f":"Site6!E300","v":0},{"$f":"Site6!E301","v":0},{"$f":"Site6!E302","v":0},{"$f":"Site6!E303","v":0},{"$f":"Site6!E304","v":0},{"$f":"Site6!E305","v":0},{"$f":"Site6!E306","v":0},{"$f":"Site6!E307","v":0},{"$f":"Site6!E308","v":0},{"$f":"Site6!E309","v":0},{"$f":"Site6!E310","v":0},{"$f":"Site6!E311","v":0},{"$f":"Site6!E312","v":0},{"$f":"Site6!E313","v":0},{"$f":"Site6!E317","v":0},{"$f":"Site6!E318","v":0},{"$f":"Site6!E319","v":0},{"$f":"Site6!E320","v":0},{"$f":"Site6!E321","v":0},{"$f":"Site6!I317","v":0},{"$f":"Site6!I318","v":0},{"$f":"Site6!I319","v":0},{"$f":"Site6!E324","v":0},{"$f":"Site6!E325","v":0},{"$f":"Site6!E326","v":0},{"$f":"Site6!E327","v":0},{"$f":"Site6!E328","v":0},{"$f":"Site6!I324","v":0},{"$f":"Site6!I325","v":0},{"$f":"Site6!I326","v":0},{"$f":"Site6!E331","v":0},{"$f":"Site6!E332","v":0},{"$f":"Site6!E333","v":0},{"$f":"Site6!E334","v":0},{"$f":"Site6!E335","v":0},{"$f":"Site6!I331","v":0},{"$f":"Site6!I332","v":0},{"$f":"Site6!I333","v":0},{"$f":"Site6!E338","v":0},{"$f":"Site6!E339","v":0},{"$f":"Site6!E340","v":0},{"$f":"Site6!E341","v":0},{"$f":"Site6!E342","v":0},{"$f":"Site6!I338","v":0},{"$f":"Site6!I339","v":0},{"$f":"Site6!I340","v":0},{"$f":"Site6!E344","v":0},{"$f":"Site6!E345","v":0},{"$f":"Site6!E346","v":0},{"$f":"Site6!E347","v":0},{"$f":"Site6!E348","v":0},{"$f":"Site6!I344","v":0},{"$f":"Site6!I345","v":0},{"$f":"Site6!I346","v":0},{"$f":"Site6!E350","v":0},{"$f":"Site6!E351","v":0},{"$f":"Site6!E352","v":0},{"$f":"Site6!E353","v":0},{"$f":"Site6!E354","v":0},{"$f":"Site6!I350","v":0},{"$f":"Site6!I351","v":0},{"$f":"Site6!I352","v":0},{"$f":"Site6!E356","v":0},{"$f":"Site6!E357","v":0},{"$f":"Site6!E358","v":0},{"$f":"Site6!E359","v":0},{"$f":"Site6!E360","v":0},{"$f":"Site6!I356","v":0},{"$f":"Site6!I357","v":0},{"$f":"Site6!I358","v":0},{"$f":"Site6!E362","v":0},{"$f":"Site6!E363","v":0},{"$f":"Site6!E364","v":0},{"$f":"Site6!E365","v":0},{"$f":"Site6!E366","v":0},{"$f":"Site6!I362","v":0},{"$f":"Site6!I363","v":0},{"$f":"Site6!I364","v":0},{"$f":"Site6!C369","v":0}]
[{"$f":"Site7!E3","v":0},{"$f":"Site7!E4","v":{"$error":"#N/A"}},{"$f":"Site7!E5","v":0},{"$f":"Site7!E6","v":0},{"$f":"Site7!E7","v":0},{"$f":"Site7!E8","v":"00:00:00"},{"$f":"Site7!E9","v":0},{"$f":"Site7!H9","v":{"$error":"#N/A"}},{"$f":"Site7!E10","v":0},{"$f":"Site7!H10","v":{"$error":"#N/A"}},{"$f":"Site7!E11","v":0},{"$f":"Site7!H11","v":{"$error":"#N/A"}},{"$f":"Site7!E12","v":0},{"$f":"Site7!H12","v":{"$error":"#N/A"}},{"$f":"Site7!E13","v":0},{"$f":"Site7!H13","v":{"$error":"#N/A"}},{"$f":"Site7!E14","v":0},{"$f":"Site7!E15","v":0},{"$f":"Site7!H15","v":0},{"$f":"Site7!E16","v":0},{"$f":"Site7!H16","v":0},{"$f":"Site7!E17","v":0},{"$f":"Site7!H17","v":0},{"$f":"Site7!E18","v":0},{"$f":"Site7!H18","v":0},{"$f":"Site7!E21","v":0},{"$f":"Site7!E22","v":0},{"$f":"Site7!E23","v":0},{"$f":"Site7!E24","v":0},{"$f":"Site7!E25","v":0},{"$f":"Site7!E26","v":0},{"$f":"Site7!E27","v":0},{"$f":"Site7!E29","v":0},{"$f":"Site7!E30","v":0},{"$f":"Site7!E31","v":0},{"$f":"Site7!E32","v":0},{"$f":"Site7!E33","v":0},{"$f":"Site7!E34","v":0},{"$f":"Site7!E35","v":0},{"$f":"Site7!E38","v":0},{"$f":"Site7!E39","v":0},{"$f":"Site7!E40","v":0},{"$f":"Site7!E41","v":0},{"$f":"Site7!E42","v":0},{"$f":"Site7!E43","v":0},{"$f":"Site7!E45","v":0},{"$f":"Site7!E46","v":0},{"$f":"Site7!E47","v":0},{"$f":"Site7!E48","v":0},{"$f":"Site7!E49","v":0},{"$f":"Site7!E50","v":0},{"$f":"Site7!E51","v":0},{"$f":"Site7!E53","v":0},{"$f":"Site7!E54","v":0},{"$f":"Site7!E55","v":0},{"$f":"Site7!E56","v":0},{"$f":"Site7!E57","v":0},{"$f":"Site7!E58","v":0},{"$f":"Site7!E59","v":0},{"$f":"Site7!E63","v":0},{"$f":"Site7!E64","v":0},{"$f":"Site7!E65","v":0},{"$f":"Site7!E66","v":0},{"$f":"Site7!E67","v":0},{"$f":"Site7!E68","v":0},{"$f":"Site7!E69","v":0},{"$f":"Site7!E70","v":0},{"$f":"Site7!E71","v":0},{"$f":"Site7!E72","v":0},{"$f":"Site7!E73","v":0},{"$f":"Site7!E74","v":0},{"$f":"Site7!E75","v":0},{"$f":"Site7!E76","v":0},{"$f":"Site7!E77","v":0},{"$f":"Site7!E78","v":0},{"$f":"Site7!E79","v":0},{"$f":"Site7!E80","v":0},{"$f":"Site7!E82","v":0},{"$f":"Site7!E83","v":0},{"$f":"Site7!E84","v":0},{"$f":"Site7!E85","v":0},{"$f":"Site7!E86","v":0},{"$f":"Site7!E87","v":0},{"$f":"Site7!E88","v":0},{"$f":"Site7!E89","v":0},{"$f":"Site7!E90","v":0},{"$f":"Site7!E91","v":0},{"$f":"Site7!E92","v":0},{"$f":"Site7!E93","v":0},{"$f":"Site7!E94","v":0},{"$f":"Site7!E95","v":0},{"$f":"Site7!E96","v":0},{"$f":"Site7!E97","v":0},{"$f":"Site7!E99","v":0},{"$f":"Site7!E100","v":0},{"$f":"Site7!E101","v":0},{"$f":"Site7!E102","v":0},{"$f":"Site7!E103","v":0},{"$f":"Site7!E104","v":0},{"$f":"Site7!E105","v":0},{"$f":"Site7!E106","v":0},{"$f":"Site7!E107","v":0},{"$f":"Site7!E108","v":0},{"$f":"Site7!E109","v":0},{"$f":"Site7!E110","v":0},{"$f":"Site7!E111","v":0},{"$f":"Site7!E112","v":0},{"$f":"Site7!E113","v":0},{"$f":"Site7!E114","v":0},{"$f":"Site7!E115","v":0},{"$f":"Site7!E116","v":0},{"$f":"Site7!E118","v":0},{"$f":"Site7!E119","v":0},{"$f":"Site7!E120","v":0},{"$f":"Site7!E121","v":0},{"$f":"Site7!E122","v":0},{"$f":"Site7!E123","v":0},{"$f":"Site7!E124","v":0},{"$f":"Site7!E125","v":0},{"$f":"Site7!E126","v":0},{"$f":"Site7!E127","v":0},{"$f":"Site7!E128","v":0},{"$f":"Site7!E129","v":0},{"$f":"Site7!E130","v":0},{"$f":"Site7!E131","v":0},{"$f":"Site7!E132","v":0},{"$f":"Site7!E133","v":0},{"$f":"Site7!E134","v":0},{"$f":"Site7!E135","v":0},{"$f":"Site7!E136","v":0},{"$f":"Site7!E137","v":0},{"$f":"Site7!E139","v":0},{"$f":"Site7!E140","v":0},{"$f":"Site7!E141","v":0},{"$f":"Site7!E142","v":0},{"$f":"Site7!E143","v":0},{"$f":"Site7!E144","v":0},{"$f":"Site7!E145","v":0},{"$f":"Site7!E146","v":0},{"$f":"Site7!E147","v":0},{"$f":"Site7!E148","v":0},{"$f":"Site7!E149","v":0},{"$f":"Site7!E150","v":0},{"$f":"Site7!E151","v":0},{"$f":"Site7!E152","v":0},{"$f":"Site7!E153","v":0},{"$f":"Site7!E154","v":0},{"$f":"Site7!E155","v":0},{"$f":"Site7!E156","v":0},{"$f":"Site7!E159","v":0},{"$f":"Site7!E160","v":0},{"$f":"Site7!E161","v":0},{"$f":"Site7!E162","v":0},{"$f":"Site7!E163","v":0},{"$f":"Site7!E164","v":0},{"$f":"Site7!E165","v":0},{"$f":"Site7!E166","v":0},{"$f":"Site7!E167","v":0},{"$f":"Site7!E168","v":0},{"$f":"Site7!E169","v":0},{"$f":"Site7!E170","v":0},{"$f":"Site7!E171","v":0},{"$f":"Site7!E172","v":0},{"$f":"Site7!E173","v":0},{"$f":"Site7!E174","v":0},{"$f":"Site7!E175","v":0},{"$f":"Site7!E176","v":0},{"$f":"Site7!E177","v":0},{"$f":"Site7!E178","v":0},{"$f":"Site7!E179","v":0},{"$f":"Site7!E181","v":0},{"$f":"Site7!E182","v":0},{"$f":"Site7!E183","v":0},{"$f":"Site7!E184","v":0},{"$f":"Site7!E185","v":0},{"$f":"Site7!E186","v":0},{"$f":"Site7!E187","v":0},{"$f":"Site7!E188","v":0},{"$f":"Site7!E189","v":0},{"$f":"Site7!E190","v":0},{"$f":"Site7!E191","v":0},{"$f":"Site7!E192","v":0},{"$f":"Site7!E194","v":0},{"$f":"Site7!E195","v":0},{"$f":"Site7!E196","v":0},{"$f":"Site7!E197","v":0},{"$f":"Site7!E198","v":0},{"$f":"Site7!E199","v":0},{"$f":"Site7!E200","v":0},{"$f":"Site7!E201","v":0},{"$f":"Site7!E202","v":0},{"$f":"Site7!E203","v":0},{"$f":"Site7!E204","v":0},{"$f":"Site7!E205","v":0},{"$f":"Site7!E206","v":0},{"$f":"Site7!E207","v":0},{"$f":"Site7!E208","v":0},{"$f":"Site7!E209","v":0},{"$f":"Site7!E210","v":0},{"$f":"Site7!E211","v":0},{"$f":"Site7!E212","v":0},{"$f":"Site7!E213","v":0},{"$f":"Site7!E214","v":0},{"$f":"Site7!E217","v":0},{"$f":"Site7!E218","v":0},{"$f":"Site7!E219","v":0},{"$f":"Site7!E220","v":0},{"$f":"Site7!E221","v":0},{"$f":"Site7!E222","v":0},{"$f":"Site7!E223","v":0},{"$f":"Site7!E224","v":0},{"$f":"Site7!E225","v":0},{"$f":"Site7!E227","v":0},{"$f":"Site7!E228","v":0},{"$f":"Site7!E229","v":0},{"$f":"Site7!E230","v":0},{"$f":"Site7!E231","v":0},{"$f":"Site7!E232","v":0},{"$f":"Site7!E233","v":0},{"$f":"Site7!E234","v":0},{"$f":"Site7!E235","v":0},{"$f":"Site7!E237","v":0},{"$f":"Site7!E238","v":0},{"$f":"Site7!E239","v":0},{"$f":"Site7!E240","v":0},{"$f":"Site7!F241","v":0},{"$f":"Site7!E243","v":0},{"$f":"Site7!E244","v":0},{"$f":"Site7!E245","v":0},{"$f":"Site7!E246","v":0},{"$f":"Site7!E247","v":0},{"$f":"Site7!E248","v":0},{"$f":"Site7!E249","v":0},{"$f":"Site7!E250","v":0},{"$f":"Site7!E251","v":0},{"$f":"Site7!E254","v":0},{"$f":"Site7!E255","v":0},{"$f":"Site7!E256","v":0},{"$f":"Site7!E257","v":0},{"$f":"Site7!E258","v":0},{"$f":"Site7!E259","v":0},{"$f":"Site7!E261","v":0},{"$f":"Site7!E262","v":0},{"$f":"Site7!E263","v":0},{"$f":"Site7!E265","v":0},{"$f":"Site7!E266","v":0},{"$f":"Site7!E267","v":0},{"$f":"Site7!E269","v":0},{"$f":"Site7!E270","v":0},{"$f":"Site7!E271","v":0},{"$f":"Site7!E273","v":0},{"$f":"Site7!E275","v":0},{"$f":"Site7!E276","v":0},{"$f":"Site7!E277","v":0},{"$f":"Site7!E279","v":0},{"$f":"Site7!E281","v":0},{"$f":"Site7!E282","v":0},{"$f":"Site7!E283","v":0},{"$f":"Site7!E286","v":0},{"$f":"Site7!E287","v":0},{"$f":"Site7!E288","v":0},{"$f":"Site7!E290","v":0},{"$f":"Site7!E292","v":0},{"$f":"Site7!E293","v":0},{"$f":"Site7!E294","v":0},{"$f":"Site7!E297","v":0},{"$f":"Site7!E298","v":0},{"$f":"Site7!E299","v":0},{"$f":"Site7!E300","v":0},{"$f":"Site7!E301","v":0},{"$f":"Site7!E302","v":0},{"$f":"Site7!E303","v":0},{"$f":"Site7!E304","v":0},{"$f":"Site7!E305","v":0},{"$f":"Site7!E306","v":0},{"$f":"Site7!E307","v":0},{"$f":"Site7!E308","v":0},{"$f":"Site7!E309","v":0},{"$f":"Site7!E310","v":0},{"$f":"Site7!E311","v":0},{"$f":"Site7!E312","v":0},{"$f":"Site7!E313","v":0},{"$f":"Site7!E317","v":0},{"$f":"Site7!E318","v":0},{"$f":"Site7!E319","v":0},{"$f":"Site7!E320","v":0},{"$f":"Site7!E321","v":0},{"$f":"Site7!I317","v":0},{"$f":"Site7!I318","v":0},{"$f":"Site7!I319","v":0},{"$f":"Site7!E324","v":0},{"$f":"Site7!E325","v":0},{"$f":"Site7!E326","v":0},{"$f":"Site7!E327","v":0},{"$f":"Site7!E328","v":0},{"$f":"Site7!I324","v":0},{"$f":"Site7!I325","v":0},{"$f":"Site7!I326","v":0},{"$f":"Site7!E331","v":0},{"$f":"Site7!E332","v":0},{"$f":"Site7!E333","v":0},{"$f":"Site7!E334","v":0},{"$f":"Site7!E335","v":0},{"$f":"Site7!I331","v":0},{"$f":"Site7!I332","v":0},{"$f":"Site7!I333","v":0},{"$f":"Site7!E338","v":0},{"$f":"Site7!E339","v":0},{"$f":"Site7!E340","v":0},{"$f":"Site7!E341","v":0},{"$f":"Site7!E342","v":0},{"$f":"Site7!I338","v":0},{"$f":"Site7!I339","v":0},{"$f":"Site7!I340","v":0},{"$f":"Site7!E344","v":0},{"$f":"Site7!E345","v":0},{"$f":"Site7!E346","v":0},{"$f":"Site7!E347","v":0},{"$f":"Site7!E348","v":0},{"$f":"Site7!I344","v":0},{"$f":"Site7!I345","v":0},{"$f":"Site7!I346","v":0},{"$f":"Site7!E350","v":0},{"$f":"Site7!E351","v":0},{"$f":"Site7!E352","v":0},{"$f":"Site7!E353","v":0},{"$f":"Site7!E354","v":0},{"$f":"Site7!I350","v":0},{"$f":"Site7!I351","v":0},{"$f":"Site7!I352","v":0},{"$f":"Site7!E356","v":0},{"$f":"Site7!E357","v":0},{"$f":"Site7!E358","v":0},{"$f":"Site7!E359","v":0},{"$f":"Site7!E360","v":0},{"$f":"Site7!I356","v":0},{"$f":"Site7!I357","v":0},{"$f":"Site7!I358","v":0},{"$f":"Site7!E362","v":0},{"$f":"Site7!E363","v":0},{"$f":"Site7!E364","v":0},{"$f":"Site7!E365","v":0},{"$f":"Site7!E366","v":0},{"$f":"Site7!I362","v":0},{"$f":"Site7!I363","v":0},{"$f":"Site7!I364","v":0},{"$f":"Site7!C369","v":0}]
[{"$f":"Site8!E3","v":0},{"$f":"Site8!E4","v":{"$error":"#N/A"}},{"$f":"Site8!E5","v":0},{"$f":"Site8!E6","v":0},{"$f":"Site8!E7","v":0},{"$f":"Site8!E8","v":"00:00:00"},{"$f":"Site8!E9","v":0},{"$f":"Site8!H9","v":{"$error":"#N/A"}},{"$f":"Site8!E10","v":0},{"$f":"Site8!H10","v":{"$error":"#N/A"}},{"$f":"Site8!E11","v":0},{"$f":"Site8!H11","v":{"$error":"#N/A"}},{"$f":"Site8!E12","v":0},{"$f":"Site8!H12","v":{"$error":"#N/A"}},{"$f":"Site8!E13","v":0},{"$f":"Site8!H13","v":{"$error":"#N/A"}},{"$f":"Site8!E14","v":0},{"$f":"Site8!E15","v":0},{"$f":"Site8!H15","v":0},{"$f":"Site8!E16","v":0},{"$f":"Site8!H16","v":0},{"$f":"Site8!E17","v":0},{"$f":"Site8!H17","v":0},{"$f":"Site8!E18","v":0},{"$f":"Site8!H18","v":0},{"$f":"Site8!E21","v":0},{"$f":"Site8!E22","v":0},{"$f":"Site8!E23","v":0},{"$f":"Site8!E24","v":0},{"$f":"Site8!E25","v":0},{"$f":"Site8!E26","v":0},{"$f":"Site8!E27","v":0},{"$f":"Site8!E29","v":0},{"$f":"Site8!E30","v":0},{"$f":"Site8!E31","v":0},{"$f":"Site8!E32","v":0},{"$f":"Site8!E33","v":0},{"$f":"Site8!E34","v":0},{"$f":"Site8!E35","v":0},{"$f":"Site8!E38","v":0},{"$f":"Site8!E39","v":0},{"$f":"Site8!E40","v":0},{"$f":"Site8!E41","v":0},{"$f":"Site8!E42","v":0},{"$f":"Site8!E43","v":0},{"$f":"Site8!E45","v":0},{"$f":"Site8!E46","v":0},{"$f":"Site8!E47","v":0},{"$f":"Site8!E48","v":0},{"$f":"Site8!E49","v":0},{"$f":"Site8!E50","v":0},{"$f":"Site8!E51","v":0},{"$f":"Site8!E53","v":0},{"$f":"Site8!E54","v":0},{"$f":"Site8!E55","v":0},{"$f":"Site8!E56","v":0},{"$f":"Site8!E57","v":0},{"$f":"Site8!E58","v":0},{"$f":"Site8!E59","v":0},{"$f":"Site8!E63","v":0},{"$f":"Site8!E64","v":0},{"$f":"Site8!E65","v":0},{"$f":"Site8!E66","v":0},{"$f":"Site8!E67","v":0},{"$f":"Site8!E68","v":0},{"$f":"Site8!E69","v":0},{"$f":"Site8!E70","v":0},{"$f":"Site8!E71","v":0},{"$f":"Site8!E72","v":0},{"$f":"Site8!E73","v":0},{"$f":"Site8!E74","v":0},{"$f":"Site8!E75","v":0},{"$f":"Site8!E76","v":0},{"$f":"Site8!E77","v":0},{"$f":"Site8!E78","v":0},{"$f":"Site8!E79","v":0},{"$f":"Site8!E80","v":0},{"$f":"Site8!E82","v":0},{"$f":"Site8!E83","v":0},{"$f":"Site8!E84","v":0},{"$f":"Site8!E85","v":0},{"$f":"Site8!E86","v":0},{"$f":"Site8!E87","v":0},{"$f":"Site8!E88","v":0},{"$f":"Site8!E89","v":0},{"$f":"Site8!E90","v":0},{"$f":"Site8!E91","v":0},{"$f":"Site8!E92","v":0},{"$f":"Site8!E93","v":0},{"$f":"Site8!E94","v":0},{"$f":"Site8!E95","v":0},{"$f":"Site8!E96","v":0},{"$f":"Site8!E97","v":0},{"$f":"Site8!E99","v":0},{"$f":"Site8!E100","v":0},{"$f":"Site8!E101","v":0},{"$f":"Site8!E102","v":0},{"$f":"Site8!E103","v":0},{"$f":"Site8!E104","v":0},{"$f":"Site8!E105","v":0},{"$f":"Site8!E106","v":0},{"$f":"Site8!E107","v":0},{"$f":"Site8!E108","v":0},{"$f":"Site8!E109","v":0},{"$f":"Site8!E110","v":0},{"$f":"Site8!E111","v":0},{"$f":"Site8!E112","v":0},{"$f":"Site8!E113","v":0},{"$f":"Site8!E114","v":0},{"$f":"Site8!E115","v":0},{"$f":"Site8!E116","v":0},{"$f":"Site8!E118","v":0},{"$f":"Site8!E119","v":0},{"$f":"Site8!E120","v":0},{"$f":"Site8!E121","v":0},{"$f":"Site8!E122","v":0},{"$f":"Site8!E123","v":0},{"$f":"Site8!E124","v":0},{"$f":"Site8!E125","v":0},{"$f":"Site8!E126","v":0},{"$f":"Site8!E127","v":0},{"$f":"Site8!E128","v":0},{"$f":"Site8!E129","v":0},{"$f":"Site8!E130","v":0},{"$f":"Site8!E131","v":0},{"$f":"Site8!E132","v":0},{"$f":"Site8!E133","v":0},{"$f":"Site8!E134","v":0},{"$f":"Site8!E135","v":0},{"$f":"Site8!E136","v":0},{"$f":"Site8!E137","v":0},{"$f":"Site8!E139","v":0},{"$f":"Site8!E140","v":0},{"$f":"Site8!E141","v":0},{"$f":"Site8!E142","v":0},{"$f":"Site8!E143","v":0},{"$f":"Site8!E144","v":0},{"$f":"Site8!E145","v":0},{"$f":"Site8!E146","v":0},{"$f":"Site8!E147","v":0},{"$f":"Site8!E148","v":0},{"$f":"Site8!E149","v":0},{"$f":"Site8!E150","v":0},{"$f":"Site8!E151","v":0},{"$f":"Site8!E152","v":0},{"$f":"Site8!E153","v":0},{"$f":"Site8!E154","v":0},{"$f":"Site8!E155","v":0},{"$f":"Site8!E156","v":0},{"$f":"Site8!E159","v":0},{"$f":"Site8!E160","v":0},{"$f":"Site8!E161","v":0},{"$f":"Site8!E162","v":0},{"$f":"Site8!E163","v":0},{"$f":"Site8!E164","v":0},{"$f":"Site8!E165","v":0},{"$f":"Site8!E166","v":0},{"$f":"Site8!E167","v":0},{"$f":"Site8!E168","v":0},{"$f":"Site8!E169","v":0},{"$f":"Site8!E170","v":0},{"$f":"Site8!E171","v":0},{"$f":"Site8!E172","v":0},{"$f":"Site8!E173","v":0},{"$f":"Site8!E174","v":0},{"$f":"Site8!E175","v":0},{"$f":"Site8!E176","v":0},{"$f":"Site8!E177","v":0},{"$f":"Site8!E178","v":0},{"$f":"Site8!E179","v":0},{"$f":"Site8!E181","v":0},{"$f":"Site8!E182","v":0},{"$f":"Site8!E183","v":0},{"$f":"Site8!E184","v":0},{"$f":"Site8!E185","v":0},{"$f":"Site8!E186","v":0},{"$f":"Site8!E187","v":0},{"$f":"Site8!E188","v":0},{"$f":"Site8!E189","v":0},{"$f":"Site8!E190","v":0},{"$f":"Site8!E191","v":0},{"$f":"Site8!E192","v":0},{"$f":"Site8!E194","v":0},{"$f":"Site8!E195","v":0},{"$f":"Site8!E196","v":0},{"$f":"Site8!E197","v":0},{"$f":"Site8!E198","v":0},{"$f":"Site8!E199","v":0},{"$f":"Site8!E200","v":0},{"$f":"Site8!E201","v":0},{"$f":"Site8!E202","v":0},{"$f":"Site8!E203","v":0},{"$f":"Site8!E204","v":0},{"$f":"Site8!E205","v":0},{"$f":"Site8!E206","v":0},{"$f":"Site8!E207","v":0},{"$f":"Site8!E208","v":0},{"$f":"Site8!E209","v":0},{"$f":"Site8!E210","v":0},{"$f":"Site8!E211","v":0},{"$f":"Site8!E212","v":0},{"$f":"Site8!E213","v":0},{"$f":"Site8!E214","v":0},{"$f":"Site8!E217","v":0},{"$f":"Site8!E218","v":0},{"$f":"Site8!E219","v":0},{"$f":"Site8!E220","v":0},{"$f":"Site8!E221","v":0},{"$f":"Site8!E222","v":0},{"$f":"Site8!E223","v":0},{"$f":"Site8!E224","v":0},{"$f":"Site8!E225","v":0},{"$f":"Site8!E227","v":0},{"$f":"Site8!E228","v":0},{"$f":"Site8!E229","v":0},{"$f":"Site8!E230","v":0},{"$f":"Site8!E231","v":0},{"$f":"Site8!E232","v":0},{"$f":"Site8!E233","v":0},{"$f":"Site8!E234","v":0},{"$f":"Site8!E235","v":0},{"$f":"Site8!E237","v":0},{"$f":"Site8!E238","v":0},{"$f":"Site8!E239","v":0},{"$f":"Site8!E240","v":0},{"$f":"Site8!F241","v":0},{"$f":"Site8!E243","v":0},{"$f":"Site8!E244","v":0},{"$f":"Site8!E245","v":0},{"$f":"Site8!E246","v":0},{"$f":"Site8!E247","v":0},{"$f":"Site8!E248","v":0},{"$f":"Site8!E249","v":0},{"$f":"Site8!E250","v":0},{"$f":"Site8!E251","v":0},{"$f":"Site8!E254","v":0},{"$f":"Site8!E255","v":0},{"$f":"Site8!E256","v":0},{"$f":"Site8!E257","v":0},{"$f":"Site8!E258","v":0},{"$f":"Site8!E259","v":0},{"$f":"Site8!E261","v":0},{"$f":"Site8!E262","v":0},{"$f":"Site8!E263","v":0},{"$f":"Site8!E265","v":0},{"$f":"Site8!E266","v":0},{"$f":"Site8!E267","v":0},{"$f":"Site8!E269","v":0},{"$f":"Site8!E270","v":0},{"$f":"Site8!E271","v":0},{"$f":"Site8!E273","v":0},{"$f":"Site8!E275","v":0},{"$f":"Site8!E276","v":0},{"$f":"Site8!E277","v":0},{"$f":"Site8!E279","v":0},{"$f":"Site8!E281","v":0},{"$f":"Site8!E282","v":0},{"$f":"Site8!E283","v":0},{"$f":"Site8!E286","v":0},{"$f":"Site8!E287","v":0},{"$f":"Site8!E288","v":0},{"$f":"Site8!E290","v":0},{"$f":"Site8!E292","v":0},{"$f":"Site8!E293","v":0},{"$f":"Site8!E294","v":0},{"$f":"Site8!E297","v":0},{"$f":"Site8!E298","v":0},{"$f":"Site8!E299","v":0},{"$f":"Site8!E300","v":0},{"$f":"Site8!E301","v":0},{"$f":"Site8!E302","v":0},{"$f":"Site8!E303","v":0},{"$f":"Site8!E304","v":0},{"$f":"Site8!E305","v":0},{"$f":"Site8!E306","v":0},{"$f":"Site8!E307","v":0},{"$f":"Site8!E308","v":0},{"$f":"Site8!E309","v":0},{"$f":"Site8!E310","v":0},{"$f":"Site8!E311","v":0},{"$f":"Site8!E312","v":0},{"$f":"Site8!E313","v":0},{"$f":"Site8!E317","v":0},{"$f":"Site8!E318","v":0},{"$f":"Site8!E319","v":0},{"$f":"Site8!E320","v":0},{"$f":"Site8!E321","v":0},{"$f":"Site8!I317","v":0},{"$f":"Site8!I318","v":0},{"$f":"Site8!I319","v":0},{"$f":"Site8!E324","v":0},{"$f":"Site8!E325","v":0},{"$f":"Site8!E326","v":0},{"$f":"Site8!E327","v":0},{"$f":"Site8!E328","v":0},{"$f":"Site8!I324","v":0},{"$f":"Site8!I325","v":0},{"$f":"Site8!I326","v":0},{"$f":"Site8!E331","v":0},{"$f":"Site8!E332","v":0},{"$f":"Site8!E333","v":0},{"$f":"Site8!E334","v":0},{"$f":"Site8!E335","v":0},{"$f":"Site8!I331","v":0},{"$f":"Site8!I332","v":0},{"$f":"Site8!I333","v":0},{"$f":"Site8!E338","v":0},{"$f":"Site8!E339","v":0},{"$f":"Site8!E340","v":0},{"$f":"Site8!E341","v":0},{"$f":"Site8!E342","v":0},{"$f":"Site8!I338","v":0},{"$f":"Site8!I339","v":0},{"$f":"Site8!I340","v":0},{"$f":"Site8!E344","v":0},{"$f":"Site8!E345","v":0},{"$f":"Site8!E346","v":0},{"$f":"Site8!E347","v":0},{"$f":"Site8!E348","v":0},{"$f":"Site8!I344","v":0},{"$f":"Site8!I345","v":0},{"$f":"Site8!I346","v":0},{"$f":"Site8!E350","v":0},{"$f":"Site8!E351","v":0},{"$f":"Site8!E352","v":0},{"$f":"Site8!E353","v":0},{"$f":"Site8!E354","v":0},{"$f":"Site8!I350","v":0},{"$f":"Site8!I351","v":0},{"$f":"Site8!I352","v":0},{"$f":"Site8!E356","v":0},{"$f":"Site8!E357","v":0},{"$f":"Site8!E358","v":0},{"$f":"Site8!E359","v":0},{"$f":"Site8!E360","v":0},{"$f":"Site8!I356","v":0},{"$f":"Site8!I357","v":0},{"$f":"Site8!I358","v":0},{"$f":"Site8!E362","v":0},{"$f":"Site8!E363","v":0},{"$f":"Site8!E364","v":0},{"$f":"Site8!E365","v":0},{"$f":"Site8!E366","v":0},{"$f":"Site8!I362","v":0},{"$f":"Site8!I363","v":0},{"$f":"Site8!I364","v":0},{"$f":"Site8!C369","v":0}]
[{"$f":"Site9!E3","v":0},{"$f":"Site9!E4","v":{"$error":"#N/A"}},{"$f":"Site9!E5","v":0},{"$f":"Site9!E6","v":0},{"$f":"Site9!E7","v":0},{"$f":"Site9!E8","v":"00:00:00"},{"$f":"Site9!E9","v":0},{"$f":"Site9!H9","v":{"$error":"#N/A"}},{"$f":"Site9!E10","v":0},{"$f":"Site9!H10","v":{"$error":"#N/A"}},{"$f":"Site9!E11","v":0},{"$f":"Site9!H11","v":{"$error":"#N/A"}},{"$f":"Site9!E12","v":0},{"$f":"Site9!H12","v":{"$error":"#N/A"}},{"$f":"Site9!E13","v":0},{"$f":"Site9!H13","v":{"$error":"#N/A"}},{"$f":"Site9!E14","v":0},{"$f":"Site9!E15","v":0},{"$f":"Site9!H15","v":0},{"$f":"Site9!E16","v":0},{"$f":"Site9!H16","v":0},{"$f":"Site9!E17","v":0},{"$f":"Site9!H17","v":0},{"$f":"Site9!E18","v":0},{"$f":"Site9!H18","v":0},{"$f":"Site9!E21","v":0},{"$f":"Site9!E22","v":0},{"$f":"Site9!E23","v":0},{"$f":"Site9!E24","v":0},{"$f":"Site9!E25","v":0},{"$f":"Site9!E26","v":0},{"$f":"Site9!E27","v":0},{"$f":"Site9!E29","v":0},{"$f":"Site9!E30","v":0},{"$f":"Site9!E31","v":0},{"$f":"Site9!E32","v":0},{"$f":"Site9!E33","v":0},{"$f":"Site9!E34","v":0},{"$f":"Site9!E35","v":0},{"$f":"Site9!E38","v":0},{"$f":"Site9!E39","v":0},{"$f":"Site9!E40","v":0},{"$f":"Site9!E41","v":0},{"$f":"Site9!E42","v":0},{"$f":"Site9!E43","v":0},{"$f":"Site9!E45","v":0},{"$f":"Site9!E46","v":0},{"$f":"Site9!E47","v":0},{"$f":"Site9!E48","v":0},{"$f":"Site9!E49","v":0},{"$f":"Site9!E50","v":0},{"$f":"Site9!E51","v":0},{"$f":"Site9!E53","v":0},{"$f":"Site9!E54","v":0},{"$f":"Site9!E55","v":0},{"$f":"Site9!E56","v":0},{"$f":"Site9!E57","v":0},{"$f":"Site9!E58","v":0},{"$f":"Site9!E59","v":0},{"$f":"Site9!E63","v":0},{"$f":"Site9!E64","v":0},{"$f":"Site9!E65","v":0},{"$f":"Site9!E66","v":0},{"$f":"Site9!E67","v":0},{"$f":"Site9!E68","v":0},{"$f":"Site9!E69","v":0},{"$f":"Site9!E70","v":0},{"$f":"Site9!E71","v":0},{"$f":"Site9!E72","v":0},{"$f":"Site9!E73","v":0},{"$f":"Site9!E74","v":0},{"$f":"Site9!E75","v":0},{"$f":"Site9!E76","v":0},{"$f":"Site9!E77","v":0},{"$f":"Site9!E78","v":0},{"$f":"Site9!E79","v":0},{"$f":"Site9!E80","v":0},{"$f":"Site9!E82","v":0},{"$f":"Site9!E83","v":0},{"$f":"Site9!E84","v":0},{"$f":"Site9!E85","v":0},{"$f":"Site9!E86","v":0},{"$f":"Site9!E87","v":0},{"$f":"Site9!E88","v":0},{"$f":"Site9!E89","v":0},{"$f":"Site9!E90","v":0},{"$f":"Site9!E91","v":0},{"$f":"Site9!E92","v":0},{"$f":"Site9!E93","v":0},{"$f":"Site9!E94","v":0},{"$f":"Site9!E95","v":0},{"$f":"Site9!E96","v":0},{"$f":"Site9!E97","v":0},{"$f":"Site9!E99","v":0},{"$f":"Site9!E100","v":0},{"$f":"Site9!E101","v":0},{"$f":"Site9!E102","v":0},{"$f":"Site9!E103","v":0},{"$f":"Site9!E104","v":0},{"$f":"Site9!E105","v":0},{"$f":"Site9!E106","v":0},{"$f":"Site9!E107","v":0},{"$f":"Site9!E108","v":0},{"$f":"Site9!E109","v":0},{"$f":"Site9!E110","v":0},{"$f":"Site9!E111","v":0},{"$f":"Site9!E112","v":0},{"$f":"Site9!E113","v":0},{"$f":"Site9!E114","v":0},{"$f":"Site9!E115","v":0},{"$f":"Site9!E116","v":0},{"$f":"Site9!E118","v":0},{"$f":"Site9!E119","v":0},{"$f":"Site9!E120","v":0},{"$f":"Site9!E121","v":0},{"$f":"Site9!E122","v":0},{"$f":"Site9!E123","v":0},{"$f":"Site9!E124","v":0},{"$f":"Site9!E125","v":0},{"$f":"Site9!E126","v":0},{"$f":"Site9!E127","v":0},{"$f":"Site9!E128","v":0},{"$f":"Site9!E129","v":0},{"$f":"Site9!E130","v":0},{"$f":"Site9!E131","v":0},{"$f":"Site9!E132","v":0},{"$f":"Site9!E133","v":0},{"$f":"Site9!E134","v":0},{"$f":"Site9!E135","v":0},{"$f":"Site9!E136","v":0},{"$f":"Site9!E137","v":0},{"$f":"Site9!E139","v":0},{"$f":"Site9!E140","v":0},{"$f":"Site9!E141","v":0},{"$f":"Site9!E142","v":0},{"$f":"Site9!E143","v":0},{"$f":"Site9!E144","v":0},{"$f":"Site9!E145","v":0},{"$f":"Site9!E146","v":0},{"$f":"Site9!E147","v":0},{"$f":"Site9!E148","v":0},{"$f":"Site9!E149","v":0},{"$f":"Site9!E150","v":0},{"$f":"Site9!E151","v":0},{"$f":"Site9!E152","v":0},{"$f":"Site9!E153","v":0},{"$f":"Site9!E154","v":0},{"$f":"Site9!E155","v":0},{"$f":"Site9!E156","v":0},{"$f":"Site9!E159","v":0},{"$f":"Site9!E160","v":0},{"$f":"Site9!E161","v":0},{"$f":"Site9!E162","v":0},{"$f":"Site9!E163","v":0},{"$f":"Site9!E164","v":0},{"$f":"Site9!E165","v":0},{"$f":"Site9!E166","v":0},{"$f":"Site9!E167","v":0},{"$f":"Site9!E168","v":0},{"$f":"Site9!E169","v":0},{"$f":"Site9!E170","v":0},{"$f":"Site9!E171","v":0},{"$f":"Site9!E172","v":0},{"$f":"Site9!E173","v":0},{"$f":"Site9!E174","v":0},{"$f":"Site9!E175","v":0},{"$f":"Site9!E176","v":0},{"$f":"Site9!E177","v":0},{"$f":"Site9!E178","v":0},{"$f":"Site9!E179","v":0},{"$f":"Site9!E181","v":0},{"$f":"Site9!E182","v":0},{"$f":"Site9!E183","v":0},{"$f":"Site9!E184","v":0},{"$f":"Site9!E185","v":0},{"$f":"Site9!E186","v":0},{"$f":"Site9!E187","v":0},{"$f":"Site9!E188","v":0},{"$f":"Site9!E189","v":0},{"$f":"Site9!E190","v":0},{"$f":"Site9!E191","v":0},{"$f":"Site9!E192","v":0},{"$f":"Site9!E194","v":0},{"$f":"Site9!E195","v":0},{"$f":"Site9!E196","v":0},{"$f":"Site9!E197","v":0},{"$f":"Site9!E198","v":0},{"$f":"Site9!E199","v":0},{"$f":"Site9!E200","v":0},{"$f":"Site9!E201","v":0},{"$f":"Site9!E202","v":0},{"$f":"Site9!E203","v":0},{"$f":"Site9!E204","v":0},{"$f":"Site9!E205","v":0},{"$f":"Site9!E206","v":0},{"$f":"Site9!E207","v":0},{"$f":"Site9!E208","v":0},{"$f":"Site9!E209","v":0},{"$f":"Site9!E210","v":0},{"$f":"Site9!E211","v":0},{"$f":"Site9!E212","v":0},{"$f":"Site9!E213","v":0},{"$f":"Site9!E214","v":0},{"$f":"Site9!E217","v":0},{"$f":"Site9!E218","v":0},{"$f":"Site9!E219","v":0},{"$f":"Site9!E220","v":0},{"$f":"Site9!E221","v":0},{"$f":"Site9!E222","v":0},{"$f":"Site9!E223","v":0},{"$f":"Site9!E224","v":0},{"$f":"Site9!E225","v":0},{"$f":"Site9!E227","v":0},{"$f":"Site9!E228","v":0},{"$f":"Site9!E229","v":0},{"$f":"Site9!E230","v":0},{"$f":"Site9!E231","v":0},{"$f":"Site9!E232","v":0},{"$f":"Site9!E233","v":0},{"$f":"Site9!E234","v":0},{"$f":"Site9!E235","v":0},{"$f":"Site9!E237","v":0},{"$f":"Site9!E238","v":0},{"$f":"Site9!E239","v":0},{"$f":"Site9!E240","v":0},{"$f":"Site9!F241","v":0},{"$f":"Site9!E243","v":0},{"$f":"Site9!E244","v":0},{"$f":"Site9!E245","v":0},{"$f":"Site9!E246","v":0},{"$f":"Site9!E247","v":0},{"$f":"Site9!E248","v":0},{"$f":"Site9!E249","v":0},{"$f":"Site9!E250","v":0},{"$f":"Site9!E251","v":0},{"$f":"Site9!E254","v":0},{"$f":"Site9!E255","v":0},{"$f":"Site9!E256","v":0},{"$f":"Site9!E257","v":0},{"$f":"Site9!E258","v":0},{"$f":"Site9!E259","v":0},{"$f":"Site9!E261","v":0},{"$f":"Site9!E262","v":0},{"$f":"Site9!E263","v":0},{"$f":"Site9!E265","v":0},{"$f":"Site9!E266","v":0},{"$f":"Site9!E267","v":0},{"$f":"Site9!E269","v":0},{"$f":"Site9!E270","v":0},{"$f":"Site9!E271","v":0},{"$f":"Site9!E273","v":0},{"$f":"Site9!E275","v":0},{"$f":"Site9!E276","v":0},{"$f":"Site9!E277","v":0},{"$f":"Site9!E279","v":0},{"$f":"Site9!E281","v":0},{"$f":"Site9!E282","v":0},{"$f":"Site9!E283","v":0},{"$f":"Site9!E286","v":0},{"$f":"Site9!E287","v":0},{"$f":"Site9!E288","v":0},{"$f":"Site9!E290","v":0},{"$f":"Site9!E292","v":0},{"$f":"Site9!E293","v":0},{"$f":"Site9!E294","v":0},{"$f":"Site9!E297","v":0},{"$f":"Site9!E298","v":0},{"$f":"Site9!E299","v":0},{"$f":"Site9!E300","v":0},{"$f":"Site9!E301","v":0},{"$f":"Site9!E302","v":0},{"$f":"Site9!E303","v":0},{"$f":"Site9!E304","v":0},{"$f":"Site9!E305","v":0},{"$f":"Site9!E306","v":0},{"$f":"Site9!E307","v":0},{"$f":"Site9!E308","v":0},{"$f":"Site9!E309","v":0},{"$f":"Site9!E310","v":0},{"$f":"Site9!E311","v":0},{"$f":"Site9!E312","v":0},{"$f":"Site9!E313","v":0},{"$f":"Site9!E317","v":0},{"$f":"Site9!E318","v":0},{"$f":"Site9!E319","v":0},{"$f":"Site9!E320","v":0},{"$f":"Site9!E321","v":0},{"$f":"Site9!I317","v":0},{"$f":"Site9!I318","v":0},{"$f":"Site9!I319","v":0},{"$f":"Site9!E324","v":0},{"$f":"Site9!E325","v":0},{"$f":"Site9!E326","v":0},{"$f":"Site9!E327","v":0},{"$f":"Site9!E328","v":0},{"$f":"Site9!I324","v":0},{"$f":"Site9!I325","v":0},{"$f":"Site9!I326","v":0},{"$f":"Site9!E331","v":0},{"$f":"Site9!E332","v":0},{"$f":"Site9!E333","v":0},{"$f":"Site9!E334","v":0},{"$f":"Site9!E335","v":0},{"$f":"Site9!I331","v":0},{"$f":"Site9!I332","v":0},{"$f":"Site9!I333","v":0},{"$f":"Site9!E338","v":0},{"$f":"Site9!E339","v":0},{"$f":"Site9!E340","v":0},{"$f":"Site9!E341","v":0},{"$f":"Site9!E342","v":0},{"$f":"Site9!I338","v":0},{"$f":"Site9!I339","v":0},{"$f":"Site9!I340","v":0},{"$f":"Site9!E344","v":0},{"$f":"Site9!E345","v":0},{"$f":"Site9!E346","v":0},{"$f":"Site9!E347","v":0},{"$f":"Site9!E348","v":0},{"$f":"Site9!I344","v":0},{"$f":"Site9!I345","v":0},{"$f":"Site9!I346","v":0},{"$f":"Site9!E350","v":0},{"$f":"Site9!E351","v":0},{"$f":"Site9!E352","v":0},{"$f":"Site9!E353","v":0},{"$f":"Site9!E354","v":0},{"$f":"Site9!I350","v":0},{"$f":"Site9!I351","v":0},{"$f":"Site9!I352","v":0},{"$f":"Site9!E356","v":0},{"$f":"Site9!E357","v":0},{"$f":"Site9!E358","v":0},{"$f":"Site9!E359","v":0},{"$f":"Site9!E360","v":0},{"$f":"Site9!I356","v":0},{"$f":"Site9!I357","v":0},{"$f":"Site9!I358","v":0},{"$f":"Site9!E362","v":0},{"$f":"Site9!E363","v":0},{"$f":"Site9!E364","v":0},{"$f":"Site9!E365","v":0},{"$f":"Site9!E366","v":0},{"$f":"Site9!I362","v":0},{"$f":"Site9!I363","v":0},{"$f":"Site9!I364","v":0},{"$f":"Site9!C369","v":0}]
[{"$f":"Site10!E3","v":0},{"$f":"Site10!E4","v":{"$error":"#N/A"}},{"$f":"Site10!E5","v":0},{"$f":"Site10!E6","v":0},{"$f":"Site10!E7","v":0},{"$f":"Site10!E8","v":"00:00:00"},{"$f":"Site10!E9","v":0},{"$f":"Site10!H9","v":{"$error":"#N/A"}},{"$f":"Site10!E10","v":0},{"$f":"Site10!H10","v":{"$error":"#N/A"}},{"$f":"Site10!E11","v":0},{"$f":"Site10!H11","v":{"$error":"#N/A"}},{"$f":"Site10!E12","v":0},{"$f":"Site10!H12","v":{"$error":"#N/A"}},{"$f":"Site10!E13","v":0},{"$f":"Site10!H13","v":{"$error":"#N/A"}},{"$f":"Site10!E14","v":0},{"$f":"Site10!E15","v":0},{"$f":"Site10!H15","v":0},{"$f":"Site10!E16","v":0},{"$f":"Site10!H16","v":0},{"$f":"Site10!E17","v":0},{"$f":"Site10!H17","v":0},{"$f":"Site10!E18","v":0},{"$f":"Site10!H18","v":0},{"$f":"Site10!E21","v":0},{"$f":"Site10!E22","v":0},{"$f":"Site10!E23","v":0},{"$f":"Site10!E24","v":0},{"$f":"Site10!E25","v":0},{"$f":"Site10!E26","v":0},{"$f":"Site10!E27","v":0},{"$f":"Site10!E29","v":0},{"$f":"Site10!E30","v":0},{"$f":"Site10!E31","v":0},{"$f":"Site10!E32","v":0},{"$f":"Site10!E33","v":0},{"$f":"Site10!E34","v":0},{"$f":"Site10!E35","v":0},{"$f":"Site10!E38","v":0},{"$f":"Site10!E39","v":0},{"$f":"Site10!E40","v":0},{"$f":"Site10!E41","v":0},{"$f":"Site10!E42","v":0},{"$f":"Site10!E43","v":0},{"$f":"Site10!E45","v":0},{"$f":"Site10!E46","v":0},{"$f":"Site10!E47","v":0},{"$f":"Site10!E48","v":0},{"$f":"Site10!E49","v":0},{"$f":"Site10!E50","v":0},{"$f":"Site10!E51","v":0},{"$f":"Site10!E53","v":0},{"$f":"Site10!E54","v":0},{"$f":"Site10!E55","v":0},{"$f":"Site10!E56","v":0},{"$f":"Site10!E57","v":0},{"$f":"Site10!E58","v":0},{"$f":"Site10!E59","v":0},{"$f":"Site10!E63","v":0},{"$f":"Site10!E64","v":0},{"$f":"Site10!E65","v":0},{"$f":"Site10!E66","v":0},{"$f":"Site10!E67","v":0},{"$f":"Site10!E68","v":0},{"$f":"Site10!E69","v":0},{"$f":"Site10!E70","v":0},{"$f":"Site10!E71","v":0},{"$f":"Site10!E72","v":0},{"$f":"Site10!E73","v":0},{"$f":"Site10!E74","v":0},{"$f":"Site10!E75","v":0},{"$f":"Site10!E76","v":0},{"$f":"Site10!E77","v":0},{"$f":"Site10!E78","v":0},{"$f":"Site10!E79","v":0},{"$f":"Site10!E80","v":0},{"$f":"Site10!E82","v":0},{"$f":"Site10!E83","v":0},{"$f":"Site10!E84","v":0},{"$f":"Site10!E85","v":0},{"$f":"Site10!E86","v":0},{"$f":"Site10!E87","v":0},{"$f":"Site10!E88","v":0},{"$f":"Site10!E89","v":0},{"$f":"Site10!E90","v":0},{"$f":"Site10!E91","v":0},{"$f":"Site10!E92","v":0},{"$f":"Site10!E93","v":0},{"$f":"Site10!E94","v":0},{"$f":"Site10!E95","v":0},{"$f":"Site10!E96","v":0},{"$f":"Site10!E97","v":0},{"$f":"Site10!E99","v":0},{"$f":"Site10!E100","v":0},{"$f":"Site10!E101","v":0},{"$f":"Site10!E102","v":0},{"$f":"Site10!E103","v":0},{"$f":"Site10!E104","v":0},{"$f":"Site10!E105","v":0},{"$f":"Site10!E106","v":0},{"$f":"Site10!E107","v":0},{"$f":"Site10!E108","v":0},{"$f":"Site10!E109","v":0},{"$f":"Site10!E110","v":0},{"$f":"Site10!E111","v":0},{"$f":"Site10!E112","v":0},{"$f":"Site10!E113","v":0},{"$f":"Site10!E114","v":0},{"$f":"Site10!E115","v":0},{"$f":"Site10!E116","v":0},{"$f":"Site10!E118","v":0},{"$f":"Site10!E119","v":0},{"$f":"Site10!E120","v":0},{"$f":"Site10!E121","v":0},{"$f":"Site10!E122","v":0},{"$f":"Site10!E123","v":0},{"$f":"Site10!E124","v":0},{"$f":"Site10!E125","v":0},{"$f":"Site10!E126","v":0},{"$f":"Site10!E127","v":0},{"$f":"Site10!E128","v":0},{"$f":"Site10!E129","v":0},{"$f":"Site10!E130","v":0},{"$f":"Site10!E131","v":0},{"$f":"Site10!E132","v":0},{"$f":"Site10!E133","v":0},{"$f":"Site10!E134","v":0},{"$f":"Site10!E135","v":0},{"$f":"Site10!E136","v":0},{"$f":"Site10!E137","v":0},{"$f":"Site10!E139","v":0},{"$f":"Site10!E140","v":0},{"$f":"Site10!E141","v":0},{"$f":"Site10!E142","v":0},{"$f":"Site10!E143","v":0},{"$f":"Site10!E144","v":0},{"$f":"Site10!E145","v":0},{"$f":"Site10!E146","v":0},{"$f":"Site10!E147","v":0},{"$f":"Site10!E148","v":0},{"$f":"Site10!E149","v":0},{"$f":"Site10!E150","v":0},{"$f":"Site10!E151","v":0},{"$f":"Site10!E152","v":0},{"$f":"Site10!E153","v":0},{"$f":"Site10!E154","v":0},{"$f":"Site10!E155","v":0},{"$f":"Site10!E156","v":0},{"$f":"Site10!E159","v":0},{"$f":"Site10!E160","v":0},{"$f":"Site10!E161","v":0},{"$f":"Site10!E162","v":0},{"$f":"Site10!E163","v":0},{"$f":"Site10!E164","v":0},{"$f":"Site10!E165","v":0},{"$f":"Site10!E166","v":0},{"$f":"Site10!E167","v":0},{"$f":"Site10!E168","v":0},{"$f":"Site10!E169","v":0},{"$f":"Site10!E170","v":0},{"$f":"Site10!E171","v":0},{"$f":"Site10!E172","v":0},{"$f":"Site10!E173","v":0},{"$f":"Site10!E174","v":0},{"$f":"Site10!E175","v":0},{"$f":"Site10!E176","v":0},{"$f":"Site10!E177","v":0},{"$f":"Site10!E178","v":0},{"$f":"Site10!E179","v":0},{"$f":"Site10!E181","v":0},{"$f":"Site10!E182","v":0},{"$f":"Site10!E183","v":0},{"$f":"Site10!E184","v":0},{"$f":"Site10!E185","v":0},{"$f":"Site10!E186","v":0},{"$f":"Site10!E187","v":0},{"$f":"Site10!E188","v":0},{"$f":"Site10!E189","v":0},{"$f":"Site10!E190","v":0},{"$f":"Site10!E191","v":0},{"$f":"Site10!E192","v":0},{"$f":"Site10!E194","v":0},{"$f":"Site10!E195","v":0},{"$f":"Site10!E196","v":0},{"$f":"Site10!E197","v":0},{"$f":"Site10!E198","v":0},{"$f":"Site10!E199","v":0},{"$f":"Site10!E200","v":0},{"$f":"Site10!E201","v":0},{"$f":"Site10!E202","v":0},{"$f":"Site10!E203","v":0},{"$f":"Site10!E204","v":0},{"$f":"Site10!E205","v":0},{"$f":"Site10!E206","v":0},{"$f":"Site10!E207","v":0},{"$f":"Site10!E208","v":0},{"$f":"Site10!E209","v":0},{"$f":"Site10!E210","v":0},{"$f":"Site10!E211","v":0},{"$f":"Site10!E212","v":0},{"$f":"Site10!E213","v":0},{"$f":"Site10!E214","v":0},{"$f":"Site10!E217","v":0},{"$f":"Site10!E218","v":0},{"$f":"Site10!E219","v":0},{"$f":"Site10!E220","v":0},{"$f":"Site10!E221","v":0},{"$f":"Site10!E222","v":0},{"$f":"Site10!E223","v":0},{"$f":"Site10!E224","v":0},{"$f":"Site10!E225","v":0},{"$f":"Site10!E227","v":0},{"$f":"Site10!E228","v":0},{"$f":"Site10!E229","v":0},{"$f":"Site10!E230","v":0},{"$f":"Site10!E231","v":0},{"$f":"Site10!E232","v":0},{"$f":"Site10!E233","v":0},{"$f":"Site10!E234","v":0},{"$f":"Site10!E235","v":0},{"$f":"Site10!E237","v":0},{"$f":"Site10!E238","v":0},{"$f":"Site10!E239","v":0},{"$f":"Site10!E240","v":0},{"$f":"Site10!F241","v":0},{"$f":"Site10!E243","v":0},{"$f":"Site10!E244","v":0},{"$f":"Site10!E245","v":0},{"$f":"Site10!E246","v":0},{"$f":"Site10!E247","v":0},{"$f":"Site10!E248","v":0},{"$f":"Site10!E249","v":0},{"$f":"Site10!E250","v":0},{"$f":"Site10!E251","v":0},{"$f":"Site10!E254","v":0},{"$f":"Site10!E255","v":0},{"$f":"Site10!E256","v":0},{"$f":"Site10!E257","v":0},{"$f":"Site10!E258","v":0},{"$f":"Site10!E259","v":0},{"$f":"Site10!E261","v":0},{"$f":"Site10!E262","v":0},{"$f":"Site10!E263","v":0},{"$f":"Site10!E265","v":0},{"$f":"Site10!E266","v":0},{"$f":"Site10!E267","v":0},{"$f":"Site10!E269","v":0},{"$f":"Site10!E270","v":0},{"$f":"Site10!E271","v":0},{"$f":"Site10!E273","v":0},{"$f":"Site10!E275","v":0},{"$f":"Site10!E276","v":0},{"$f":"Site10!E277","v":0},{"$f":"Site10!E279","v":0},{"$f":"Site10!E281","v":0},{"$f":"Site10!E282","v":0},{"$f":"Site10!E283","v":0},{"$f":"Site10!E286","v":0},{"$f":"Site10!E287","v":0},{"$f":"Site10!E288","v":0},{"$f":"Site10!E290","v":0},{"$f":"Site10!E292","v":0},{"$f":"Site10!E293","v":0},{"$f":"Site10!E294","v":0},{"$f":"Site10!E297","v":0},{"$f":"Site10!E298","v":0},{"$f":"Site10!E299","v":0},{"$f":"Site10!E300","v":0},{"$f":"Site10!E301","v":0},{"$f":"Site10!E302","v":0},{"$f":"Site10!E303","v":0},{"$f":"Site10!E304","v":0},{"$f":"Site10!E305","v":0},{"$f":"Site10!E306","v":0},{"$f":"Site10!E307","v":0},{"$f":"Site10!E308","v":0},{"$f":"Site10!E309","v":0},{"$f":"Site10!E310","v":0},{"$f":"Site10!E311","v":0},{"$f":"Site10!E312","v":0},{"$f":"Site10!E313","v":0},{"$f":"Site10!E317","v":0},{"$f":"Site10!E318","v":0},{"$f":"Site10!E319","v":0},{"$f":"Site10!E320","v":0},{"$f":"Site10!E321","v":0},{"$f":"Site10!I317","v":0},{"$f":"Site10!I318","v":0},{"$f":"Site10!I319","v":0},{"$f":"Site10!E324","v":0},{"$f":"Site10!E325","v":0},{"$f":"Site10!E326","v":0},{"$f":"Site10!E327","v":0},{"$f":"Site10!E328","v":0},{"$f":"Site10!I324","v":0},{"$f":"Site10!I325","v":0},{"$f":"Site10!I326","v":0},{"$f":"Site10!E331","v":0},{"$f":"Site10!E332","v":0},{"$f":"Site10!E333","v":0},{"$f":"Site10!E334","v":0},{"$f":"Site10!E335","v":0},{"$f":"Site10!I331","v":0},{"$f":"Site10!I332","v":0},{"$f":"Site10!I333","v":0},{"$f":"Site10!E338","v":0},{"$f":"Site10!E339","v":0},{"$f":"Site10!E340","v":0},{"$f":"Site10!E341","v":0},{"$f":"Site10!E342","v":0},{"$f":"Site10!I338","v":0},{"$f":"Site10!I339","v":0},{"$f":"Site10!I340","v":0},{"$f":"Site10!E344","v":0},{"$f":"Site10!E345","v":0},{"$f":"Site10!E346","v":0},{"$f":"Site10!E347","v":0},{"$f":"Site10!E348","v":0},{"$f":"Site10!I344","v":0},{"$f":"Site10!I345","v":0},{"$f":"Site10!I346","v":0},{"$f":"Site10!E350","v":0},{"$f":"Site10!E351","v":0},{"$f":"Site10!E352","v":0},{"$f":"Site10!E353","v":0},{"$f":"Site10!E354","v":0},{"$f":"Site10!I350","v":0},{"$f":"Site10!I351","v":0},{"$f":"Site10!I352","v":0},{"$f":"Site10!E356","v":0},{"$f":"Site10!E357","v":0},{"$f":"Site10!E358","v":0},{"$f":"Site10!E359","v":0},{"$f":"Site10!E360","v":0},{"$f":"Site10!I356","v":0},{"$f":"Site10!I357","v":0},{"$f":"Site10!I358","v":0},{"$f":"Site10!E362","v":0},{"$f":"Site10!E363","v":0},{"$f":"Site10!E364","v":0},{"$f":"Site10!E365","v":0},{"$f":"Site10!E366","v":0},{"$f":"Site10!I362","v":0},{"$f":"Site10!I363","v":0},{"$f":"Site10!I364","v":0},{"$f":"Site10!C369","v":0}]